{"text_format":"1","workbook":"xlsx","n_sheets":33,"sheets":["Resoluciones","MENU","1","2","3","G1","4","G2","5","6","7","8","9","10","G3","G4 y G5 ","11","12","13","G6 ","14","G7 ","15","G8","16","17","18","19","20","21","IL ANUAL CIVIL","IL ANUAL ELECT.","22"],"not_rendered":{"charts":8,"images":5,"macros":1,"external_links":1,"defined_names":21,"comments":0,"pivot_tables":0},"unopened":[],"bounds":{"document_bytes":16777216,"sheet_cells":100000,"rows_first":2000,"rows_last":500,"rows_between":2000,"halvings":0,"cell_chars":16384,"cell_head_chars":4096},"cells_cut":0,"cells_raw":0,"read":"whole","date_system":"1900"}

{"sheet":"Resoluciones","index":0,"n_rows":233,"n_cols":12,"rows_kept":233,"cut":false,"hidden":true,"merged":[]}
[]
[]
[]
["NÚMERO DE RESOLUCIÓN","FECHA","TIPO DE RESOLUCIÓN","TIPO MUNICIPAL O LEGISLATIVO","CAUSA DE CANCELACIÓN O SUSPENSIÓN","CARGO, ORGANO, INSTITUCION , RESOLUCION","PARTIDO, ORGANO INSTITUCIONAL, DELEGACION POLICIAL, JUNTA ELECTORAL","RESUELTO","MES","MES1","TIPORES","AÑO"]
["0063-E7-2010","2010-01-07","Denuncias",null,null,null,null,"Sin lugar",{"$f":"MONTH(B5)","v":1},"Enero",{"$f":"MID(A5,6,1)","v":"E"},{"$f":"YEAR(B5)","v":2010}]
["0078-E1-2010","2010-01-07","Amparo",null,null,"Artículo 41 del Código Electoral",null,"Sin lugar",{"$f":"MONTH(B6)","v":1},"Enero",{"$f":"MID(A6,6,1)","v":"E"},{"$f":"YEAR(B6)","v":2010}]
["0157-E1-2010","2010-01-11","Amparo",null,null,"Junta Cantonal de Escazú",null,"Rechazo de plano y archivo de exp.",1,"Enero","E",2010]
["0158-E1-2010","2010-01-11","Amparo",null,null,"TSE",null,"Rechazo de plano y archivo de exp.",1,"Enero","E",2010]
["0159-E1-2010","2010-01-11","Amparo",null,null,"Junta Cantonal de Escazú",null,"Rechazo de plano y archivo de exp.",1,"Enero","E",2010]
["0160-E7-2010","2010-01-12","Denuncias",null,null,null,null,"Sin Lugar",1,"Enero","E",2010]
["0161-E3-2010","2010-01-12","Apelación electoral",null,null,"Resolución de Inscripcción de club político","Delegación Policial de Parrita","Rechazo de plano y archivo de exp.",1,"Enero","E",2010]
["0162-E1-2010","2010-01-12","Amparo",null,null,"Artículo 197 del Código Electoral",null,"Rechazo de plano y archivo de exp.",1,"Enero","E",2010]
["0163-E1-2010","2010-01-12","Amparo",null,null,"Dirección General del Registro Electoral",null,"Rechazo de plano y archivo de exp.",1,"Enero","E",2010]
["0181-E1-2010","2010-01-12","Amparo",null,null,"Acuerdo Junta Cantonal de Escazú",null,"Rechazo de plano y archivo de exp.",1,"Enero","E",2010]
["0182-E6-2010","2010-01-12","Denuncia beligerancia Política",null,null,"Ministro de Gobernación, Seg y Policia a.i",null,"Sin Lugar",1,"Enero","E",2010]
["0183-E8-2010","2010-01-12","Hermenéutica Electoral",null,null,null,null,"No se evacua consulta",1,"Enero","E",2010]
["0184-E3-2010","2010-01-12","Apelación electoral",null,null,"TSE",null,"Rechazo de plano y archivo de exp.",1,"Enero","E",2010]
["0185-E8-2010","2010-01-13","Hermenéutica Electoral",null,null,null,null,"Evacua consulta",1,"Enero","E",2010]
["0186-E1-2010","2010-01-13","Amparo",null,null,"Artículos 33,37 y 41 del Código Electoral",null,"Rechazo de plano y archivo de exp.",1,"Enero","E",2010]
["0219-E6-2010","2010-01-18","Denuncia beligerancia Política",null,null,"Funcionario de Municip. de Alajuela",null,"Sin Lugar",1,"Enero","E",2010]
["0222-E6-2010","2010-01-19","Denuncia beligerancia Política",null,null,"Regidor Municip. de Cartago",null,"Sin Lugar",1,"Enero","E",2010]
["0223-E8-2010","2010-01-19","Hermenéutica Electoral",null,null,null,null,"Evacua consulta",1,"Enero","E",2010]
["0259-E7-2010","2010-01-20","Denuncias",null,null,null,null,"Rechazo de plano y archivo de exp.",1,"Enero","E",2010]
["0260-E1-2010","2010-01-20","Amparo",null,null,"Concejo Municipal de Alajuela",null,"Rechazo de plano y archivo de exp.",1,"Enero","E",2010]
["0261-E3-2010","2010-01-20","Apelación electoral",null,null,"Acuerdo Junta Cantonal de Montes de Oro",null,"Sin Lugar",1,"Enero","E",2010]
["0305-E8-2010","2010-01-21","Hermenéutica Electoral",null,null,null,null,"Evacua consulta",1,"Enero","E",2010]
["0322-E7-2010","2010-01-22","Denuncias",null,null,null,null,"Sin Lugar",1,"Enero","E",2010]
["0323-E1-2010","2010-01-22","Amparo",null,null,"Artículo 197 del Código Electoral y resolución 5721-E8-2009",null,"Rechazo de plano y archivo de exp.",1,"Enero","E",2010]
["0406-E8-2010","2010-01-26","Hermenéutica Electoral",null,null,null,null,"Evacua consulta",1,"Enero","E",2010]
["0428-E8-2010","2010-01-26","Hermenéutica Electoral",null,null,null,null,"Evacua consulta",1,"Enero","E",2010]
["0429-E8-2010","2010-01-26","Hermenéutica Electoral",null,null,null,null,"Evacua consulta",1,"Enero","E",2010]
["0444-E6-2010","2010-01-27","Denuncia beligerancia Política",null,null,"Alcaldesa suplente e intendente",null,"Sin Lugar",1,"Enero","E",2010]
["0517-E1-2010","2010-01-29","Apelación electoral",null,null,"Resolución N° D55-1016-2009 ","Policia de Proximidad de Belén","Rechazo de plano y archivo de exp.",1,"Enero","E",2010]
["0541-E7-2010","2010-01-29","Denuncias",null,null,null,null,"Rechazo de plano y archivo de exp.",1,"Enero","E",2010]
["0542-E6-2010","2010-01-29","Denuncia beligerancia Política",null,null,"Funcionaria de Policia Penitenciaria",null,"Sin Lugar",1,"Enero","E",2010]
["0543-E1-2010","2010-01-29","Amparo",null,null,"Tribunal de Elecciones Internas","Partido Liberación Nacional","Con Lugar",1,"Enero","E",2010]
["0591-E8-2010","2010-02-01","Hermenéutica Electoral",null,null,null,null,"Evacua consulta",2,"Febrero","E",2010]
["0612-E7-2010","2010-02-01","Denuncias",null,null,null,null,"Sin Lugar",2,"Febrero","E",2010]
["0663-E5-2010","2010-02-03","Cancel. Cred. Elec. Popular",null,null,"Recusación contra Magistrado",null,"Sin Lugar",2,"Febrero","E",2010]
["0716-E3-2010","2010-02-04","Apelación electoral",null,null,"Resolución N° D55-1016-2009 ","Policia de Proximidad de Escazú","Sin Lugar",2,"Febrero","E",2010]
["0735-E8-2010","2010-02-05","Hermenéutica Electoral",null,null,null,null,"Evacua consulta",2,"Febrero","E",2010]
["0758-E1-2010","2010-02-05","Amparo",null,null,"Inscripción de candidaturas de regidores","Movimiento Libertario","Rechazo de plano y archivo de exp.",2,"Febrero","E",2010]
["0759-E8-2010","2010-02-05","Hermenéutica Electoral",null,null,null,null,"Evacua consulta parcialmente",2,"Febrero","E",2010]
["0760-E3-2010","2010-02-05","Apelación electoral",null,null,"Decisión de Juntas Cantonales",null,"Rechazo de plano y archivo de exp.",2,"Febrero","E",2010]
["0761-E3-2010","2010-02-06","Apelación electoral",null,null,"Resolución 002-2010 del Programa de Acreditación de Fiscales",null,"Parcialmente con Lugar",2,"Febrero","E",2010]
["0762-E8-2010","2010-02-06","Hermenéutica Electoral",null,null,null,null,"Evacua consulta",2,"Febrero","E",2010]
["0763-E1-2010","2010-02-07","Amparo",null,null,"Laura Chinchilla, Otto Guevara y Luis Fishman",null,"Rechazo de plano y archivo de exp.",2,"Febrero","E",2010]
["0764-E1-2010","2010-02-07","Amparo",null,null,"Resolución de Fuerza Pública y MINAET",null,"Rechazo de plano y archivo de exp.",2,"Febrero","E",2010]
["0888-E8-2010","2010-02-09","Hermenéutica Electoral",null,null,null,null,"Evacua consulta",2,"Febrero","E",2010]
["0890-E6-2010","2010-02-09","Denuncia beligerancia Política",null,null,"Gobierno de la Repúblia",null,"Sin Lugar",2,"Febrero","E",2010]
["0893-E6-2010","2010-02-09","Denuncia beligerancia Política",null,null,"Alcalde de Carrillo",null,"Sin Lugar",2,"Febrero","E",2010]
["0894-E7-2010","2010-02-10","Denuncias",null,null,null,null,"Sin Lugar",2,"Febrero","E",2010]
["1105-E7-2010","2010-02-18","Incidente en proceso de Denuncia",null,null,"Recusación conrtra Magistrado Instructor",null,"Sin Lugar",2,"Febrero","E",2010]
["1226-E7-2010","2010-02-22","Denuncias",null,null,null,null,"Sin Lugar",2,"Febrero","E",2010]
["1227-E4-2010","2010-02-22","Demanda de Nulidad",null,null,"Junta Receptora N° 1739",null,"Sin Lugar",2,"Febrero","E",2010]
["1228-E8-2010","2010-02-23","Hermenéutica Electoral",null,null,null,null,"No se evacua consulta",2,"Febrero","E",2010]
["1234-E8-2010","2010-02-23","Hermenéutica Electoral",null,null,null,null,"Evacua consulta",2,"Febrero","E",2010]
["1235-E6-2010","2010-02-23","Denuncia beligerancia Política",null,null,"Alcalde y Funcionario Municipal",null,"Sin Lugar",2,"Febrero","E",2010]
["1253-E6-2010","2010-02-23","Denuncia beligerancia Política",null,null,"Miembro de Junta Directiva de Racsa",null,"Rechazo de plano y archivo de exp.",2,"Febrero","E",2010]
["1254-E4-2010","2010-02-24","Demanda de Nulidad",null,null,"Decisión de no contar firmas",null,"Sin Lugar",2,"Febrero","E",2010]
["1304-E3-2010","2010-02-25","Apelación electoral",null,null,"Contra DGRE por rechazo de nómina de miembros de Juntas ",null,"Sin Lugar",2,"Febrero","E",2010]
["1306-E6-2010","2010-02-25","Denuncia beligerancia Política",null,null,"Alcalde de Goicoechea",null,"Sin Lugar",2,"Febrero","E",2010]
["1307-E3-2010","2010-02-26","Apelación electoral",null,null,"Resolución 002-DGRE-2010",null,"Sin Lugar",2,"Febrero","E",2010]
["1308-E3-2010","2010-02-26","Apelación electoral",null,null,"Junta Receptora N° 1985 por anular voto",null,"Sin Lugar",2,"Febrero","E",2010]
["1449-E7-2010","2010-03-04","Denuncias",null,null,null,null,"Sin Lugar",3,"Marzo","E",2010]
["1550-E8-2010","2010-03-09","Hermenéutica Electoral",null,null,null,null,"Evacua consulta",3,"Marzo","E",2010]
["1580-E3-2010","2010-03-09","Apelación electoral",null,null,"Certificación de votos Junta 4439",null,"Sin Lugar",3,"Marzo","E",2010]
["1581-E1-2010","2010-03-09","Amparo",null,null,"Jefe de Servicios Generales del TSE",null,"Sin Lugar",3,"Marzo","E",2010]
["1582-E9-2010","2010-03-09","Democracia Semidirecta",null,null,"Archivar petición",null,"Con Lugar",3,"Marzo","E",2010]
["1583-E6-2010","2010-03-09","Denuncia beligerancia Política",null,null,"Municip de Mts de Oca",null,"Sin Lugar",{"$f":"MONTH(B70)","v":3},"Marzo",{"$f":"MID(A70,6,1)","v":"E"},{"$f":"YEAR(B70)","v":2010}]
["1787-E1-2010","2010-03-16","Amparo",null,null,"Interpretación de art 205 del Cod Elec por parte del TSE",null,"Rechazo de plano ",3,"Marzo","E",2010]
["1796-E8-2010","2010-03-17","Hermenéutica Electoral",null,null,null,null,"Evacua consulta",3,"Marzo","E",2010]
["1802-E7-2010","2010-03-17","Denuncias",null,null,null,null,"Sin Lugar",3,"Marzo","E",2010]
["1809-E6-2010","2010-03-17","Denuncia beligerancia Política",null,null,"Presidente de la República",null,"Sin Lugar",3,"Marzo","E",2010]
["1821-E7-2010","2010-03-17","Denuncias",null,null,null,null,"Sin Lugar",3,"Marzo","E",2010]
["1853-E4-2010","2010-03-18","Demanda de Nulidad",null,null,"Certificación de votos de Junta 5535",null,"Sin Lugar",3,"Marzo","E",2010]
["1854-E3-2010","2010-03-18","Apelación electoral",null,null,"Decisión de Junta 243",null,"Sin Lugar",3,"Marzo","E",2010]
["1855-E6-2010","2010-03-18","Denuncia beligerancia Política",null,null,"Presidente Ejecutivo y Jefe de Servicios Generales del AyA",null,"Sin Lugar",3,"Marzo","E",2010]
["1876-E1-2010","2010-03-18","Amparo",null,null,"Decisión del TSE",null,"Rechazo de plano ",3,"Marzo","E",2010]
["1887-E1-2010","2010-03-18","Amparo",null,null,"Tribunal de Elecciones Internas","Movimiento Libertario","Sin Lugar",3,"Marzo","E",2010]
["1933-E6-2010","2010-03-22","Denuncia beligerancia Política",null,null,"Presidente de la República",null,"Sin Lugar",3,"Marzo","E",2010]
["1957-E3-2010","2010-03-22","Apelación electoral",null,null,"Oficio DRPP-041-2010",null,"Sin Lugar",3,"Marzo","E",2010]
["1958-E8-2010","2010-03-22","Hermenéutica Electoral",null,null,null,null,"Evacua consulta",3,"Marzo","E",2010]
["2095-E1-2010","2010-03-26","Amparo",null,null,"TSE",null,"Rechazo de plano ",3,"Marzo","E",2010]
["2124-E10-2010","2010-03-26","Liquidación gastos part políticos",null,null,"TSE","Partidos con derecho a recibir contribución estatal.","Se liquidan los montos respectivos",3,"Marzo","E",2010]
["2225-E1-2010","2010-04-06","Amparo",null,null,"TSE",null,"Rechazo de plano y archivo de exp.",4,"Abril","E",2010]
["2399-E6-2010","2010-04-09","Denuncia beligerancia Política",null,null,"Alcaldesa de Puntarenas",null,"Sin Lugar",4,"Abril","E",2010]
["2447-E7-2010","2010-04-09","Denuncias",null,null,null,null,"Sin Lugar",4,"Abril","E",2010]
["2448-E8-2010","2010-04-09","Hermenéutica Electoral",null,null,null,null,"Evacua consulta",4,"Abril","E",2010]
["2547-E7-2010","2010-04-16","Denuncias",null,null,null,null,"Sin Lugar",4,"Abril","E",2010]
["2551-E7-2010","2010-04-16","Denuncias",null,null,null,null,"Sin Lugar",4,"Abril","E",2010]
["2761-E8-2010","2010-04-20","Hermenéutica Electoral",null,null,null,null,"Evacua consulta",4,"Abril","E",2010]
["2785-E1-2010","2010-04-21","Amparo",null,null,"Resolución del TSE",null,"Rechazo de plano y archivo de exp.",4,"Abril","E",2010]
["2812-E8-2010","2010-04-21","Hermenéutica Electoral",null,null,null,null,"Evacua consulta",4,"Abril","E",2010]
["2899-E3-2010","2010-04-23","Apelación electoral",null,null,"Resolución DGRE-040-RPP-2010",null,"Sin Lugar",4,"Abril","E",2010]
["3169-E1-2010","2010-04-27","Amparo",null,null,"Radio UCR",null,"Rechazo de plano y archivo de exp.",4,"Abril","E",2010]
["3170-E8-2010","2010-04-27","Hermenéutica Electoral",null,null,null,null,"Evacua consulta",4,"Abril","E",2010]
["3265-E7-2010","2010-04-29","Denuncias",null,null,null,null,"Sin Lugar",4,"Abril","E",2010]
["3267-E3-2010","2010-04-29","Apelación electoral",null,null,"Resolución Delegación Policial de Aserrí",null,"Rechazo de plano y archivo de exp.",4,"Abril","E",2010]
["3271-E7-2010","2010-04-29","Denuncias",null,null,null,null,"Con Lugar",4,"Abril","E",2010]
["3275-E8-2010","2010-04-30","Hermenéutica Electoral",null,null,null,null,"Evacua consulta",4,"Abril","E",2010]
["3277-E1-2010","2010-04-30","Amparo",null,null,"Concejo Municipal de Turrialba",null,"Con Lugar",4,"Abril","E",2010]
["3281-E1-2010","2010-05-03","Amparo",null,null,"Opispo de Cartago",null,"Con Lugar",5,"Mayo","E",2010]
["3413-E7-2010","2010-05-07","Denuncias",null,null,null,null," Archivo de exp.",5,"Mayo","E",2010]
["3414-E7-2010","2010-05-07","Denuncias",null,null,null,null,"Sin Lugar",5,"Mayo","E",2010]
["3671-E8-2010","2010-05-13","Hermenéutica Electoral",null,null,null,null,"Evacua consulta",5,"Mayo","E",2010]
["3676-E1-2010","2010-05-14","Amparo",null,null,"Presidente Provisional del Concejo Munic. De Alajuela.",null,"Rechazo de plano y archivo de exp.",5,"Mayo","E",2010]
["3686-E7-2010","2010-05-17","Denuncias",null,null,null,null,"Rechazo de plano y archivo de exp.",5,"Mayo","E",2010]
["3831-E7-2010","2010-05-21","Denuncias",null,null,null,null,"Sin Lugar",5,"Mayo","E",2010]
["3837-E1-2010","2010-05-21","Amparo",null,null,"Concejo Muncipal de Turrialba",null,"Rechazo de plano y archivo de exp.",5,"Mayo","E",2010]
["3953-E8-2010","2010-05-31","Hermenéutica Electoral",null,null,null,null,"Evacua consulta",5,"Mayo","E",2010]
["3978-E1-2010","2010-06-02","Amparo",null,null,"Artículo 205 del Código Electoral",null,"Rechazo de plano y archivo de exp.",6,"Junio","E",2010]
["3980-E8-2010","2010-06-02","Hermenéutica Electoral",null,null,null,null,"Evacua consulta",6,"Junio","E",2010]
["3982-E1-2010","2010-06-02","Amparo",null,null,"Partido ","Partido Liberación Nacional","Sin Lugar",6,"Junio","E",2010]
["4129-E1-2010","2010-06-04","Amparo",null,null,"Partido ","Movimiento Libertario","Rechazo de plano y archivo de exp.",6,"Junio","E",2010]
["4165-E7-2010","2010-06-04","Denuncias",null,null,null,null,"Sin Lugar",6,"Junio","E",2010]
["4291-E6-2010","2010-06-09","Denuncia beligerancia Política",null,null,"Alcalde Propietario de Osa",null,"Sin Lugar",6,"Junio","E",2010]
["4302-E8-2010","2010-06-11","Hermenéutica Electoral",null,null,null,null,"No se evacua consulta",6,"Junio","E",2010]
["4303-E8-2010","2010-06-11","Hermenéutica Electoral",null,null,null,null,"Evacua consulta",6,"Junio","E",2010]
["4388-E7-2010","2010-06-15","Denuncia beligerancia Política",null,null,"Regidor de Turrialba",null,"Sin Lugar",6,"Junio","E",2010]
["4389-E1-2010","2010-06-15","Amparo",null,null,"Comité Ejecutivo","Movimiento Libertario","Rechazo de plano y archivo de exp.",6,"Junio","E",2010]
["4391-E8-2010","2010-06-15","Hermenéutica Electoral",null,null,null,null,"Evacua consulta",6,"Junio","E",2010]
["4479-E1-2010","2010-06-17","Amparo",null,null,"Partido","Unidad Social Cristiana","Sin Lugar",6,"Junio","E",2010]
["4480-E7-2010","2010-06-17","Denuncias",null,null,null,null,"Sin Lugar",6,"Junio","E",2010]
["4482-E8-2010","2010-06-17","Hermenéutica Electoral",null,null,null,null,"Evacua consulta",6,"Junio","E",2010]
["4555-E8-2010","2010-06-24","Hermenéutica Electoral",null,null,null,null,"Evacua consulta",6,"Junio","E",2010]
["4587-E7-2010","2010-06-25","Denuncias",null,null,null,null,"Sin Lugar",6,"Junio","E",2010]
["4648-E8-2010","2010-06-30","Hermenéutica Electoral",null,null,null,null,"Evacua consulta",6,"Junio","E",2010]
["4652-E8-2010","2010-06-30","Hermenéutica Electoral",null,null,null,null,"Evacua consulta",6,"Junio","E",2010]
["4660-E7-2010","2010-06-30","Denuncias",null,null,null,null,"Sin Lugar",6,"Junio","E",2010]
["0324-M-2010","2010-01-22","Cancel. Cred. Municipal","Canceladas","Renuncia","Concejal","Yunta Progresista Escazuceña",null,{"$f":"MONTH(B131)","v":1},"Enero","M",2010]
["0474-M-2010","2010-01-27","Cancel. Cred. Municipal","Canceladas","Renuncia","Regidor(a)","Unidad Social Cristiana",null,{"$f":"MONTH(B132)","v":1},"Enero","M",2010]
["0544-M-2010","2010-01-29","Cancel. Cred. Municipal","Sin lugar","Ausencia","Regidor(a)","Movimiento Libertario",null,1,"Enero","M",2010]
["0590-M-2010","2010-02-01","Cancel. Cred. Municipal","Sin lugar","Presunta cesión de terrenos ilícita","Alcalde(sa) y Regidores",null,null,2,"Febrero",{"$f":"MID(A134,6,1)","v":"M"},{"$f":"YEAR(B134)","v":2010}]
["0593-M-2010","2010-02-01","Cancel. Cred. Municipal","Rechazo de plano","Presunta comisión de Delitos Penales","Alcalde y Alcaldesa Sup.",null,null,2,"Febrero","M",2010]
["0889-M-2010","2010-02-09","Cancel. Cred. Municipal","Canceladas","No declaración anual de bienes","Concejal","Liberación Nacional",null,2,"Febrero","M",2010]
["0891-M-2010","2010-02-09","Cancel. Cred. Municipal","Sin lugar","Ausencia","Regidor(a)",null,null,2,"Febrero","M",2010]
["0892-M-2010","2010-02-09","Cancel. Cred. Municipal","Canceladas","Ausencia","Regidor(a)","Unidad Social Cristiana",null,2,"Febrero","M",2010]
["1305-M-2010","2010-02-25","Cancel. Cred. Municipal","Suspensión sin goce de salario","Varias disposiciones en el ejercicio de su cargo","Alcalde(sa)",null,null,2,"Febrero","M",2010]
["1369-M-2010","2010-03-02","Cancel. Cred. Municipal","Sin lugar","Enriq Ilícito y Corrupción","Regidor(a)",null,null,3,"Marzo","M",2010]
["1943-M-2010","2010-03-22","Cancel. Cred. Municipal","Canceladas","Renuncia","Regidor(a)","Unidad Social Cristiana",null,3,"Marzo","M",2010]
["2042-M-2010","2010-03-24","Cancel. Cred. Municipal","Canceladas","Renuncia","Alcalde(sa) Suplente","Liberación Nacional",null,3,"Marzo","M",2010]
["2043-M-2010","2010-03-24","Cancel. Cred. Municipal","Canceladas","Ausencia","Regidor(a)","Liberación Nacional",null,3,"Marzo","M",2010]
["2147-M-2010","2010-04-05","Cancel. Cred. Municipal","Suspensión sin goce de salario","Hacienda Pública","Alcalde(sa)",null,null,4,"Abril","M",2010]
["2365-M-2010","2010-04-09","Cancel. Cred. Municipal","Canceladas","Renuncia","Regidor(a)","Acción Ciudadana",null,4,"Abril","M",2010]
["2557-M-2010","2010-04-16","Cancel. Cred. Municipal","Canceladas","No declaración anual de bienes","Regidor(a)","Del Sol",null,4,"Abril","M",2010]
["2898-M-2010","2010-04-23","Cancel. Cred. Municipal","Canceladas","Renuncia","Alcalde(sa)","Liberación Nacional",null,4,"Abril","M",2010]
["3171-M-2010","2010-04-27","Apelación  en proceso de cancelación de credenciales","Sin lugar","Contratación irregular de servidores","Alcalde(sa)",null,null,4,"Abril","M",2010]
["3185-M-2010","2010-04-27","Cancel. Cred. Municipal","Sin lugar","Presunto traspaso ilícito de terreno","Regidor(a)",null,null,4,"Abril","M",2010]
["3268-M-2010","2010-04-29","Cancel. Cred. Municipal","Canceladas","No declaración anual de bienes","Regidor(a)","Acción Ciudadana",null,4,"Abril","M",2010]
["3278-M-2010","2010-04-30","Cancel. Cred. Municipal","Canceladas","Renuncia","Síndico(a)","Acción Ciudadana",null,4,"Abril","M",2010]
["3279-M-2010","2010-04-30","Cancel. Cred. Municipal","Canceladas","Renuncia","Síndico(a)","Acción Ciudadana",null,4,"Abril","M",2010]
["3321-M-2010","2010-05-03","Cancel. Cred. Municipal","Canceladas","Renuncia","Síndico(a) Suplente","Liberación Nacional",null,5,"Mayo","M",2010]
["3323-M-2010","2010-05-03","Cancel. Cred. Municipal","Canceladas","Renuncia","Síndico(a) Propietario(a)","Liberación Nacional",null,5,"Mayo","M",2010]
["3324-M-2010","2010-05-03","Cancel. Cred. Municipal","Canceladas","Renuncia","Síndico(a) Suplente","Liberación Nacional",null,5,"Mayo","M",2010]
["3408-M-2010","2010-05-07","Cancel. Cred. Municipal","Canceladas","Renuncia","Síndico(a) Suplente","Liberación Nacional",null,5,"Mayo","M",2010]
["3409-M-2010","2010-05-07","Cancel. Cred. Municipal","Canceladas","Renuncia","Síndico(a) Propietario(a)","Unión para el Cambio",null,5,"Mayo","M",2010]
["3410-M-2010","2010-05-07","Cancel. Cred. Municipal","Archivadas","Renuncia","Regidor(a) Suplente","Acción Ciudadana",null,5,"Mayo","M",2010]
["3411-M-2010","2010-05-07","Cancel. Cred. Municipal","Sin lugar","Ausencia","Síndico(a) Propietario(a)",null,null,5,"Mayo","M",2010]
["3412-M-2010","2010-05-07","Cancel. Cred. Municipal","Rechazo de plano","Rendición de cuentas","Alcalde(sa)",null,null,5,"Mayo","M",2010]
["3580-M-2010","2010-05-11","Cancel. Cred. Municipal","Canceladas","Renuncia","Concejal Propietario(a)","Liberación Nacional",null,5,"Mayo","M",2010]
["3604-M-2010","2010-05-11","Cancel. Cred. Municipal","Archivadas","Renuncia","Regidor(a) Suplente",null,null,5,"Mayo","M",2010]
["3605-M-2010","2010-05-11","Cancel. Cred. Municipal","Archivadas","Ausencia","Regidor(a) Propietario(a)",null,null,5,"Mayo","M",2010]
["3606-M-2010","2010-05-11","Cancel. Cred. Municipal","Archivadas","Ausencia","Regidor(a) Propietario(a)",null,null,5,"Mayo","M",2010]
["3607-M-2010","2010-05-11","Cancel. Cred. Municipal","Canceladas","Renuncia","Síndico(a) Propietario(a)","Liberación Nacional",null,5,"Mayo","M",2010]
["3609-M-2010","2010-05-11","Cancel. Cred. Municipal","Canceladas","Renuncia","Síndico(a) Propietario(a)","Liberación Nacional",null,5,"Mayo","M",2010]
["3610-M-2010","2010-05-11","Cancel. Cred. Municipal","Archivadas","Zona Marítimo Terrestre","Regidores Propietarios y Suplentes",null,null,5,"Mayo","M",2010]
["3672-M-2010","2010-05-13","Cancel. Cred. Municipal","Archivadas","Cambio de residencia habitual","Regidor(a) Propietario(a)",null,null,5,"Mayo","M",2010]
["3673-M-2010","2010-05-14","Cancel. Cred. Municipal","Canceladas","Renuncia","Síndico(a) Propietario(a)","Liberación Nacional",null,5,"Mayo","M",2010]
["3674-M-2010","2010-05-14","Cancel. Cred. Municipal","Canceladas","Renuncia","Concejal Propietario(a)","Acción Ciudadana",null,5,"Mayo","M",2010]
["3675-M-2010","2010-05-14","Cancel. Cred. Municipal","Canceladas","Renuncia","Síndico(a) Propietario(a)","Liberación Nacional",null,5,"Mayo","M",2010]
["3677-M-2010","2010-05-14","Cancel. Cred. Municipal","Canceladas","Renuncia","Concejal Propietario(a)","Liberación Nacional",null,5,"Mayo","M",2010]
["3678-M-2010","2010-05-14","Cancel. Cred. Municipal","Canceladas","Renuncia","Síndico(a) Suplente","Liberación Nacional",null,5,"Mayo","M",2010]
["3681-M-2010","2010-05-17","Cancel. Cred. Municipal","Archivadas","Fallecimiento","Regidor(a) Propietario(a)",null,null,5,"Mayo","M",2010]
["3682-M-2010","2010-05-17","Cancel. Cred. Municipal","Archivadas","Renuncia","Regidor(a) Suplente",null,null,5,"Mayo","M",2010]
["3683-M-2010","2010-05-17","Cancel. Cred. Municipal","Archivadas","Renuncia","Regidor(a) Propietario(a)",null,null,5,"Mayo","M",2010]
["3684-M-2010","2010-05-17","Cancel. Cred. Municipal","Canceladas","Renuncia","Síndico(a) Propietario(a)","Liberación Nacional",null,5,"Mayo","M",2010]
["3688-M-2010","2010-05-17","Cancel. Cred. Municipal","Canceladas","Renuncia","Síndico(a) Suplente","Unidad Social Cristiana",null,5,"Mayo","M",2010]
["3714-M-2010","2010-05-18","Cancel. Cred. Municipal","Archivadas","Renuncia","Regidor(a) Propietario(a)",null,null,5,"Mayo","M",2010]
["3755-M-2010","2010-05-20","Cancel. Cred. Municipal","Archivadas","Zona Marítimo Terrestre","Regidor(a) Propietario(a)",null,null,5,"Mayo","M",2010]
["3756-M-2010","2010-05-20","Cancel. Cred. Municipal","Archivadas","Incumplimiento de deberes","Regidor(a) Propietario(a)",null,null,5,"Mayo","M",2010]
["3833-M-2010","2010-05-21","Cancel. Cred. Municipal","Archivadas","Deber de probidad","Regidor(a) Propietario(a)",null,null,5,"Mayo","M",2010]
["3884-M-2010","2010-05-21","Cancel. Cred. Municipal","Archivadas","Enriq Ilícito y Corrupción","Regidor(a) Propietario(a)",null,null,5,"Mayo","M",2010]
["3835-M-2010","2010-05-21","Cancel. Cred. Municipal","Archivadas","Hacienda Pública","Regidor(a) Propietario(a)",null,null,5,"Mayo","M",2010]
["3836-M-2010","2010-05-21","Cancel. Cred. Municipal","Archivadas","Cambio de residencia habitual","Regidor(a) Propietario(a)",null,null,5,"Mayo","M",2010]
["3838-M-2010","2010-05-21","Cancel. Cred. Municipal","Canceladas","Renuncia","Síndico(a) Propietario(a)","Liberación Nacional",null,5,"Mayo","M",2010]
["3839-M-2010","2010-05-21","Cancel. Cred. Municipal","Canceladas","Renuncia","Concejal Propietario(a)","Unidad Social Cristiana",null,5,"Mayo","M",2010]
["3884-M-2010","2010-05-25","Cancel. Cred. Municipal","Canceladas","Renuncia","Síndico(a) Propietario(a) y Suplente","Liberación Nacional",null,5,"Mayo","M",2010]
["3885-M-2010","2010-05-25","Cancel. Cred. Municipal","Canceladas","Renuncia","Síndico(a) Propietario(a)","Unidad Social Cristiana",null,5,"Mayo","M",2010]
["3887-M-2010","2010-05-25","Cancel. Cred. Municipal","Canceladas","Renuncia","Síndico(a) Suplente","Liberación Nacional",null,5,"Mayo","M",2010]
["3888-M-2010","2010-05-25","Cancel. Cred. Municipal","Canceladas","Renuncia","Síndico(a) Suplente","Liberación Nacional",null,5,"Mayo","M",2010]
["3889-M-2010","2010-05-25","Cancel. Cred. Municipal","Canceladas","Renuncia","Concejal Propietario(a)","Liberación Nacional",null,5,"Mayo","M",2010]
["3890-M-2010","2010-05-25","Cancel. Cred. Municipal","Archivadas","Otros Motivos","Regidor(a) Propietario(a)",null,null,5,"Mayo","M",2010]
["3911-M-2010","2010-05-26","Cancel. Cred. Municipal","Canceladas","Renuncia","Alcalde(sa)","Liberación Nacional",null,5,"Mayo","M",2010]
["3930-M-2010","2010-05-28","Cancel. Cred. Municipal","Canceladas","Renuncia","Síndico(a) Suplente","Liberación Nacional",null,5,"Mayo","M",2010]
["3934-M-2010","2010-05-28","Cancel. Cred. Municipal","Canceladas","Renuncia","Síndico(a) Propietario(a)","Liberación Nacional",null,{"$f":"MONTH(B196)","v":5},"Mayo","M",2010]
["3935-M-2010","2010-05-28","Cancel. Cred. Municipal","Canceladas","Renuncia","Síndico(a) Propietario(a)","Liberación Nacional",null,5,"Mayo","M",2010]
["3936-M-2010","2010-05-28","Cancel. Cred. Municipal","Archivadas","Cambio de residencia habitual","Síndico(a) Propietario(a)",null,null,5,"Mayo",{"$f":"MID(A198,6,1)","v":"M"},{"$f":"YEAR(B198)","v":2010}]
["3973-M-2010","2010-06-01","Cancel. Cred. Municipal","Canceladas","Renuncia","Síndico(a) Propietario(a)","Liberación Nacional",null,6,"Junio","M",2010]
["3974-M-2010","2010-06-01","Cancel. Cred. Municipal","Canceladas","Renuncia","Síndico(a) Propietario(a)","Unidad Social Cristiana",null,6,"Junio","M",2010]
["3975-M-2010","2010-06-01","Cancel. Cred. Municipal","Canceladas","Renuncia","Síndico(a) Suplente","Curridabat Siglo XXI",null,6,"Junio","M",2010]
["3976-M-2010","2010-06-01","Cancel. Cred. Municipal","Canceladas","Renuncia","Síndico(a) Suplente","Liberación Nacional",null,6,"Junio","M",2010]
["3977-M-2010","2010-06-02","Cancel. Cred. Municipal","Canceladas","Renuncia","Síndico(a) Propietario(a)","Liberación Nacional",null,6,"Junio","M",2010]
["3979-M-2010","2010-06-02","Cancel. Cred. Municipal","Canceladas","Renuncia","Concejal Propietario(a)","Liberación Nacional",null,6,"Junio","M",2010]
["3981-M-2010","2010-06-02","Cancel. Cred. Municipal","Archivadas","Hacienda Pública","Síndico(a) Propietario(a)",null,null,6,"Junio","M",2010]
["4046-M-2010","2010-06-03","Cancel. Cred. Municipal","Archivadas","Hacienda Pública","Regidor(a) Propietario(a)",null,null,6,"Junio","M",2010]
["4047-M-2010","2010-06-03","Cancel. Cred. Municipal","Canceladas","Renuncia","Síndico(a) Propietario(a)","Liberación Nacional",null,6,"Junio","M",2010]
["4133-M-2010","2010-06-04","Cancel. Cred. Municipal","Canceladas","Renuncia","Concejal Suplente","Acción Ciudadana",null,6,"Junio","M",2010]
["4167-M-2010","2010-06-04","Cancel. Cred. Municipal","Archivadas","Hacienda Pública","Regidor(a) Propietario(a)",null,null,6,"Junio","M",2010]
["4207-M-2010","2010-06-04","Cancel. Cred. Municipal","Archivadas","Ausencia","Regidor(a) Suplente",null,null,6,"Junio","M",2010]
["4289-M-2010","2010-06-09","Cancel. Cred. Municipal","Archivadas","Ausencia","Regidor(a) Suplente",null,null,6,"Junio","M",2010]
["4290-M-2010","2010-06-09","Cancel. Cred. Municipal","Canceladas","Renuncia","Síndico(a) Suplente","Liberación Nacional",null,6,"Junio","M",2010]
["4294-M-2010","2010-06-10","Cancel. Cred. Municipal","Canceladas","Renuncia","Síndico(a) Propietario(a) y Concejal Propietario(a)","Movimiento Libertario",null,6,"Junio","M",2010]
["4298-M-2010","2010-06-10","Cancel. Cred. Municipal","Canceladas","Renuncia","Síndico(a) Propietario(a)","Liberación Nacional",null,6,"Junio","M",2010]
["4300-M-2010","2010-06-11","Cancel. Cred. Municipal","Canceladas","Renuncia","Síndico(a) Propietario(a)","Unidad Social Cristiana",null,6,"Junio","M",2010]
["4301-M-2010","2010-06-11","Cancel. Cred. Municipal","Canceladas","Renuncia","Alcalde(sa) Suplente","Liberación Nacional",null,6,"Junio","M",2010]
["4476-M-2010","2010-06-17","Cancel. Cred. Municipal","Canceladas","Renuncia","Síndico(a) Suplente","Liberación Nacional",null,6,"Junio","M",2010]
["4477-M-2010","2010-06-17","Cancel. Cred. Municipal","Canceladas","Renuncia","Concejal Propietario(a)","Goicoechea en Acción",null,6,"Junio","M",2010]
["4481-M-2010","2010-06-17","Cancel. Cred. Municipal","Canceladas","Renuncia","Concejal Propietario(a)","Goicoechea en Acción",null,6,"Junio","M",2010]
["4546-M-2010","2010-06-22","Cancel. Cred. Municipal","Canceladas","Renuncia","Síndico(a) Suplente","Liberación Nacional",null,6,"Junio","M",2010]
["4548-M-2010","2010-06-22","Cancel. Cred. Municipal","Canceladas","Renuncia","Síndico(a) Propietario(a)","Liberación Nacional",null,6,"Junio","M",2010]
["4549-M-2010","2010-06-22","Cancel. Cred. Municipal","Canceladas","Renuncia","Regidor(a) Propietario(a)","Liberación Nacional",null,6,"Junio","M",2010]
["4570-M-2010","2010-06-25","Cancel. Cred. Municipal","Archivadas","Renuncia","Regidor(a) Suplente","Accesibilidad Sin Exclusión",null,6,"Junio","M",2010]
["4647-M-2010","2010-06-30","Cancel. Cred. Municipal","Canceladas","Renuncia","Síndico(a) Propietario(a)","Liberación Nacional",null,6,"Junio","M",2010]
["4650-M-2010","2010-06-30","Cancel. Cred. Municipal","Canceladas","Renuncia","Alcalde(sa)","Liberación Nacional",null,6,"Junio","M",2010]
["4651-M-2010","2010-06-30","Cancel. Cred. Municipal","Canceladas","Renuncia","Síndico(a) Suplente","Liberación Nacional",null,6,"Junio","M",2010]
["4655-M-2010","2010-06-30","Cancel. Cred. Municipal","Canceladas","Renuncia","Síndico(a) Propietario(a)","Liberación Nacional",null,6,"Junio","M",2010]
[null,null,null,null,null,null,null,null,7,"Julio"]
[null,null,null,null,null,null,null,null,8,"Agosto"]
[null,null,null,null,null,null,null,null,9,"Setiembre"]
[null,null,null,null,null,null,null,null,10,"Octubre"]
[null,null,null,null,null,null,null,null,11,"Noviembre"]
[null,null,null,null,null,null,null,null,12,"Diciembre"]

{"sheet":"MENU","index":1,"n_rows":26,"n_cols":3,"rows_kept":26,"cut":false,"hidden":false,"merged":[]}
[]
[]
[]
[]
[]
["C1"]
[{"$f":"LEFT(C7,4)","v":""}]
[""]
[""]
[""]
[""]
[""]
[""]
[""]
[""]
[""]
[""]
[""]
[""]
[""]
[""]
[""]
[]
[null,null,"Observaciones al "]
[null,null,"correo electrónico: dejecutiva@tse.go.cr"]
[{"$f":"LEFT(C26,4)","v":""}]

{"sheet":"1","index":2,"n_rows":53,"n_cols":9,"rows_kept":53,"cut":false,"hidden":false,"merged":[[50,0,50,9],[8,0,9,0],[9,1,9,2],[9,3,9,4],[9,8,9,9],[49,0,49,9],[9,6,9,7],[0,0,0,9],[2,0,2,9],[3,0,3,9],[4,0,4,9],[8,6,8,9],[8,1,8,4]]}
["CUADRO 1"]
[]
["COSTA RICA: TOTAL Y VARIACIÓN DEL ELECTORADO"]
["ENTRE FEBRERO DE 2010 Y DICIEMBRE DE 2010"]
[" SEGÚN PROVINCIA Y SEXO"]
[]
[]
[]
["Provincia y sexo","Padrón Nacional Electoral",null,null,null,null,"Variación"]
[null,"Febrero 2010 1/",null,"Diciembre 2010 2/",null,null,"Absoluto",null,"Porcentaje"]
[]
["Costa Rica",2822491,null,2866217,null,null,43726,null,1.5491989168433131]
["Hombres",1409411,null,1430857,null,null,21446,null,1.5216285384462021]
["Mujeres",1413080,null,1435360,null,null,22280,null,1.5766977099668809]
[]
["San José",1008177,null,1016678,null,null,8501,null,0.84320511180080493]
["Hombres",491462,null,495505,null,null,4043,null,0.82264752920876894]
["Mujeres",516715,null,521173,null,null,4458,null,0.86275800005805903]
[]
["Alajuela",524215,null,533285,null,null,9070,null,1.730206117718875]
["Hombres",264559,null,269128,null,null,4569,null,1.7270249736353704]
["Mujeres",259656,null,264157,null,null,4501,null,1.7334473303139537]
[]
["Cartago",328782,null,334473,null,null,5691,null,1.7309341752285707]
["Hombres",164137,null,167036,null,null,2899,null,1.7662074973954685]
["Mujeres",164645,null,167437,null,null,2792,null,1.6957696862947556]
[]
["Heredia",278544,null,283771,null,null,5227,null,1.8765437417427768]
["Hombres",137417,null,139912,null,null,2495,null,1.815641441743016]
["Mujeres",141127,null,143859,null,null,2732,null,1.9358450190254168]
[]
["Guanacaste",199237,null,203614,null,null,4377,null,2.1968811014018481]
["Hombres",101106,null,103249,null,null,2143,null,2.1195576919272843]
["Mujeres",98131,null,100365,null,null,2234,null,2.2765486951116363]
[]
["Puntarenas",259408,null,265197,null,null,5789,null,2.2316196879047681]
["Hombres",134213,null,136989,null,null,2776,null,2.0683540342589763]
["Mujeres",125195,null,128208,null,null,3013,null,2.4066456328128121]
[]
["Limón",224128,null,228491,null,null,4363,null,1.946655482581382]
["Hombres",116517,null,118700,null,null,2183,null,1.8735463494597353]
["Mujeres",107611,null,109791,null,null,2180,null,2.0258152047653124]
[]
["En el extranjero 3/","NA",null,708,null,null,"NA",null,"NA"]
["Hombres","NA",null,338,null,null,"NA",null,"NA"]
["Mujeres","NA",null,370,null,null,"NA",null,"NA"]
[]
[]
["1/ El Padrón Electoral se cerró en setiembre 2009 para las elecciones presidenciales de febrero 2010."]
["2/ Incluye las personas menores que tramitaron su cédula y cumplirán 18 años hasta el 5 de diciembre de 2010. \n   Según el artículo 76 de la Ley 3504: \"Ley Orgánica del Tribunal Supremo de Elecciones y del Registro Civil\"."]
["3/ Costarricenses inscritos que pueden ejercer el voto en extranjero para designar los puestos de presidencia y vicepresidencias, así como en consultas populares de orden nacional, según el artículo 187 del Código Electoral."]
["NA: No Aplica."]
["Fuente: Sección Padrón Electoral del Tribunal Supremo de Elecciones."]

{"sheet":"2","index":3,"n_rows":154,"n_cols":14,"rows_kept":154,"cut":false,"hidden":false,"merged":[[151,0,151,12],[6,1,6,13],[6,0,8,0],[8,1,8,2],[7,1,7,6],[7,8,7,13],[8,3,8,4],[8,5,8,6],[8,8,8,9],[8,10,8,11],[110,0,112,0],[110,1,110,13],[111,1,111,6],[111,8,111,13],[112,1,112,2],[112,3,112,4],[112,5,112,6],[49,0,49,13],[56,8,56,13],[53,0,53,13],[51,0,51,13],[52,0,52,13],[112,12,112,13],[108,0,108,13],[112,8,112,9],[112,10,112,11],[104,0,104,13],[8,12,8,13],[107,0,107,13],[57,5,57,6],[57,8,57,9],[0,0,0,13],[2,0,2,13],[3,0,3,13],[4,0,4,13],[56,1,56,6],[57,1,57,2],[57,3,57,4],[106,0,106,13],[55,0,57,0],[55,1,55,13],[57,10,57,11],[57,12,57,13]]}
["CUADRO 2"]
[]
["COSTA RICA: TOTAL DE ELECTORES EN EL PADRÓN PARA LAS ELECCIONES"]
["DE FEBRERO DE 2010 Y EN EL PADRÓN AL 31 DE DICIEMBRE DE 2010"]
["POR SEXO,  SEGÚN PROVINCIA Y CANTÓN"]
[]
["Provincia y cantón","Padrón Nacional Electoral"]
[null,"Febrero 2010",null,null,null,null,null,null,"Diciembre 20101/"]
[null,"Total",null,"Hombres",null,"Mujeres",null,null,"Total",null,"Hombres",null,"Mujeres"]
[]
["Costa Rica",2822491,null,1409411,null,1413080,0,null,2866217,0,1430857,0,1435360,{"$f":"N21+N60+N77+N87+N115+N128+N141","v":0}]
["San José",1008177,null,491462,null,516715,0,null,1016678,null,495505,null,521173,{"$f":"N21","v":0}]
["Alajuela",524215,null,264559,null,259656,0,null,533285,null,269128,null,264157,{"$f":"N60","v":0}]
["Cartago",328782,null,164137,null,164645,0,null,334473,null,167036,null,167437,{"$f":"N77","v":0}]
["Heredia",278544,null,137417,null,141127,0,null,283771,null,139912,null,143859,{"$f":"N87","v":0}]
["Guanacaste",199237,null,101106,null,98131,0,null,203614,null,103249,null,100365,{"$f":"N115","v":0}]
["Puntarenas",259408,null,134213,null,125195,0,null,265197,null,136989,null,128208,{"$f":"N128","v":0}]
["Limón",224128,null,116517,null,107611,0,null,228491,null,118700,null,109791,{"$f":"N141","v":0}]
["En el extranjero 1/","NA",null,"NA",null,"NA",null,null,708,0,338,0,370]
[]
["San José",1008177,null,491462,null,516715,null,null,1016678,null,495505,null,521173]
["San José",226027,null,108419,null,117608,null,null,225542,null,108215,null,117327]
["Escazú",39855,null,19409,null,20446,null,null,40526,null,19736,null,20790]
["Desamparados",143636,null,70487,null,73149,null,null,144901,null,71011,null,73890]
["Puriscal",24260,null,12227,null,12033,null,null,24663,null,12429,null,12234]
["Tarrazú",10376,null,5328,null,5048,null,null,10616,null,5449,null,5167]
["Aserrí",36900,null,18456,null,18444,null,null,37616,null,18801,null,18815]
["Mora",17043,null,8457,null,8586,null,null,17413,null,8641,null,8772]
["Goicoechea",85706,null,41135,null,44571,null,null,85797,null,41130,null,44667]
["Santa Ana",27313,null,13439,null,13874,null,null,27941,null,13729,null,14212]
["Alajuelita",44270,null,21997,null,22273,null,null,44907,null,22315,null,22592]
["Vázquez de Coronado",44773,null,21667,null,23106,null,null,45831,null,22200,null,23631]
["Acosta",14081,null,7371,null,6710,null,null,14354,null,7482,null,6872]
["Tibás",55673,null,26245,null,29428,null,null,55315,null,26064,null,29251]
["Moravia",39778,null,18992,null,20786,null,null,40392,null,19306,null,21086]
["Montes de Oca",41139,null,19137,null,22002,null,null,41135,null,19190,null,21945]
["Turrubares",3963,null,2078,null,1885,null,null,4187,null,2195,null,1992]
["Dota",4789,null,2424,null,2365,null,null,4836,null,2437,null,2399]
["Curridabat",43957,null,21209,null,22748,null,null,44286,null,21313,null,22973]
["Pérez Zeledón",96629,null,48893,null,47736,null,null,98271,null,49699,null,48572]
["León Cortés",8009,null,4092,null,3917,null,null,8149,null,4163,null,3986]
[]
[null,null,null,null,null,null,null,null,null,null,null,null,null,"continúa…"]
[]
[]
[]
[]
[]
[]
["CUADRO 2"]
[]
["COSTA RICA: TOTAL DE ELECTORES EN EL PADRÓN PARA LAS ELECCIONES"]
["DE FEBRERO DE 2010 Y EN EL PADRÓN AL 31 DE DICIEMBRE DE 2010"]
["POR SEXO,  SEGÚN PROVINCIA Y CANTÓN"]
[]
["Provincia y cantón","Padrón Nacional Electoral"]
[null,"Febrero 2010",null,null,null,null,null,null,"Diciembre 20101/"]
[null,"Total",null,"Hombres",null,"Mujeres",null,null,"Total",null,"Hombres",null,"Mujeres"]
[]
["Alajuela",524215,null,264559,null,259656,null,null,533285,null,269128,null,264157]
["Alajuela",170966,null,85994,null,84972,null,null,173149,null,87161,null,85988]
["San Ramón",52853,null,26319,null,26534,null,null,53851,null,26770,null,27081]
["Grecia",50109,null,25111,null,24998,null,null,50974,null,25480,null,25494]
["San Mateo",3798,null,1981,null,1817,null,null,3822,null,1984,null,1838]
["Atenas",17379,null,8753,null,8626,null,null,17658,null,8873,null,8785]
["Naranjo",27740,null,13786,null,13954,null,null,28029,null,13921,null,14108]
["Palmares",24911,null,12331,null,12580,null,null,25315,null,12541,null,12774]
["Poás",17866,null,8989,null,8877,null,null,18233,null,9174,null,9059]
["Orotina",12685,null,6363,null,6322,null,null,12953,null,6479,null,6474]
["San Carlos",86525,null,44203,null,42322,null,null,88519,null,45250,null,43269]
["Alfaro Ruiz",7844,null,3918,null,3926,null,null,7973,null,3999,null,3974]
["Valverde Vega",12623,null,6283,null,6340,null,null,12819,null,6382,null,6437]
["Upala",21183,null,11122,null,10061,null,null,21797,null,11432,null,10365]
["Los Chiles",9004,null,4838,null,4166,null,null,9243,null,4991,null,4252]
["Guatuso",8729,null,4568,null,4161,null,null,8950,null,4691,null,4259]
[]
["Cartago",328782,null,164137,null,164645,null,null,334473,null,167036,null,167437]
["Cartago",104564,null,51703,null,52861,null,null,106013,null,52424,null,53589]
["Paraíso",39163,null,19609,null,19554,null,null,39836,null,19941,null,19895]
["La Unión",57841,null,28779,null,29062,null,null,59152,null,29511,null,29641]
["Jiménez",10397,null,5405,null,4992,null,null,10600,null,5498,null,5102]
["Turrialba",51433,null,25846,null,25587,null,null,51904,null,26079,null,25825]
["Alvarado",8510,null,4307,null,4203,null,null,8697,null,4396,null,4301]
["Oreamuno",30006,null,14809,null,15197,null,null,30700,null,15159,null,15541]
["El Guarco",26868,null,13679,null,13189,null,null,27571,null,14028,null,13543]
[]
["Heredia",278544,null,137417,null,141127,null,null,283771,null,139912,null,143859]
["Heredia",84511,null,40527,null,43984,null,null,85356,null,40946,null,44410]
["Barva",26982,null,13248,null,13734,null,null,27552,null,13533,null,14019]
["Santo Domingo",30208,null,14973,null,15235,null,null,30722,null,15184,null,15538]
["Santa Bárbara",22277,null,11091,null,11186,null,null,22788,null,11356,null,11432]
["San Rafael",29077,null,14460,null,14617,null,null,29538,null,14634,null,14904]
["San Isidro",12800,null,6407,null,6393,null,null,13112,null,6576,null,6536]
["Belén",15687,null,7769,null,7918,null,null,15982,null,7880,null,8102]
["Flores",13404,null,6525,null,6879,null,null,13761,null,6731,null,7030]
["San Pablo",17791,null,8586,null,9205,null,null,18343,null,8855,null,9488]
["Sarapiquí",25807,null,13831,null,11976,null,null,26617,null,14217,null,12400]
[]
[]
[]
[null,null,null,null,null,null,null,null,null,null,null,null,null,"continúa…"]
[]
[]
[]
["CUADRO 2"]
[]
["COSTA RICA: TOTAL DE ELECTORES EN EL PADRÓN PARA LAS ELECCIONES"]
["DE FEBRERO DE 2010 Y EN EL PADRÓN AL 31 DE DICIEMBRE DE 2010"]
["POR SEXO,  SEGÚN PROVINCIA Y CANTÓN"]
[]
["Provincia y cantón","Padrón Nacional Electoral"]
[null,"Febrero 2010",null,null,null,null,null,null,"Diciembre 20101/"]
[null,"Total",null,"Hombres",null,"Mujeres",null,null,"Total",null,"Hombres",null,"Mujeres"]
[]
["Guanacaste",199237,null,101106,null,98131,null,null,203614,null,103249,null,100365]
["Liberia",36952,null,18465,null,18487,null,null,37797,null,18911,null,18886]
["Nicoya",34993,null,17705,null,17288,null,null,35669,null,18012,null,17657]
["Santa Cruz",33780,null,17303,null,16477,null,null,34567,null,17669,null,16898]
["Bagaces",10928,null,5566,null,5362,null,null,11245,null,5717,null,5528]
["Carrillo",19540,null,9955,null,9585,null,null,20050,null,10219,null,9831]
["Cañas",17069,null,8576,null,8493,null,null,17344,null,8696,null,8648]
["Abangares",11481,null,5910,null,5571,null,null,11763,null,6040,null,5723]
["Tilarán",13144,null,6609,null,6535,null,null,13309,null,6702,null,6607]
["Nandayure",7390,null,3861,null,3529,null,null,7489,null,3909,null,3580]
["La Cruz",9025,null,4627,null,4398,null,null,9262,null,4732,null,4530]
["Hojancha",4935,null,2529,null,2406,null,null,5119,null,2642,null,2477]
[]
["Puntarenas",259408,null,134213,null,125195,null,null,265197,null,136989,null,128208]
["Puntarenas",76163,null,39160,null,37003,null,null,77238,null,39656,null,37582]
["Esparza",18283,null,9077,null,9206,null,null,18825,null,9370,null,9455]
["Buenos Aires",26649,null,14146,null,12503,null,null,27392,null,14450,null,12942]
["Montes de Oro",8556,null,4251,null,4305,null,null,8750,null,4337,null,4413]
["Osa",18252,null,9729,null,8523,null,null,18664,null,9964,null,8700]
["Aguirre",16283,null,8703,null,7580,null,null,16693,null,8909,null,7784]
["Golfito",24375,null,12707,null,11668,null,null,25019,null,13054,null,11965]
["Coto Brus",25753,null,13080,null,12673,null,null,26188,null,13291,null,12897]
["Parrita",9503,null,4985,null,4518,null,null,9776,null,5118,null,4658]
["Corredores",27134,null,13839,null,13295,null,null,27936,null,14168,null,13768]
["Garabito",8457,null,4536,null,3921,null,null,8716,null,4672,null,4044]
[]
["Limón",224128,null,116517,null,107611,null,null,228491,null,118700,null,109791]
["Limón",61180,null,30994,null,30186,null,null,61603,null,31186,null,30417]
["Pococí",73072,null,38274,null,34798,null,null,75016,null,39302,null,35714]
["Siquirres",33841,null,17811,null,16030,null,null,34544,null,18170,null,16374]
["Talamanca",15029,null,8009,null,7020,null,null,15458,null,8212,null,7246]
["Matina",17995,null,9507,null,8488,null,null,18313,null,9640,null,8673]
["Guácimo",23011,null,11922,null,11089,null,null,23557,null,12190,null,11367]
[]
["En el extranjero","NA",null,"NA",null,"NA",null,null,708,null,338,null,370]
[]
[]
["1/ Costarricenses inscritos que pueden ejercer el voto en extranjero para designar los puestos de presidencia y vicepresidencias, así como en consultas populares de orden nacional, según el artículo 187 del Código Electoral."]
["NA: No Aplica."]
["Fuente: Sección Padrón Electoral del Tribunal Supremo de Elecciones."]

{"sheet":"3","index":4,"n_rows":62,"n_cols":10,"rows_kept":62,"cut":false,"hidden":false,"merged":[[59,0,59,8],[60,0,60,9],[0,0,0,9],[2,0,2,9],[3,0,3,9]]}
["CUADRO 3"]
[]
["COSTA RICA: TOTAL DE ELECTORES POR PROVINCIA, SEGÚN SEXO Y"]
["GRUPO DE EDAD, AL 31 DE DICIEMBRE DE 20101/"]
[]
["Sexo y grupo de edad","Total","San José","Alajuela","Cartago","Heredia","Guanacaste","Puntarenas","Limón","En el extranjero 2/"]
[]
["Costa Rica",2866217,1016678,533285,334473,283771,203614,265197,228491,708]
["17 - 19",128710,41390,24825,15625,12016,9659,13143,12029,23]
["20 - 24        ",396175,132595,76573,47516,37050,28674,38671,35030,66]
["25 - 29        ",366983,128466,67942,42006,36493,26072,35181,30722,101]
["30 - 34        ",314091,111647,56716,37020,32405,22048,28898,25233,124]
["35 - 39        ",272748,93639,49666,32899,27808,19325,26051,23272,88]
["40 - 44        ",274689,94543,51767,33438,27328,19166,25819,22537,91]
["45 - 49        ",269952,95926,51319,31934,27220,18619,24138,20723,73]
["50 - 54        ",230727,84465,42988,26593,23502,15736,20150,17246,47]
["55 - 59        ",181082,68161,32313,20202,18661,12327,15760,13620,38]
["60 - 64        ",132513,50769,23854,14366,13241,9301,11453,9502,27]
["65 - 69        ",99191,37488,18647,11298,9469,7052,8707,6518,12]
["70 - 74        ",75336,28488,14137,8406,6939,5724,6741,4892,9]
["75 - 79        ",54646,21241,10006,6032,5079,4221,4782,3282,3]
["80 - 84        ",38574,15670,6831,4124,3644,2965,3193,2142,5]
["85 y más",30800,12190,5701,3014,2916,2725,2510,1743,1]
[]
["Hombres",1430857,495505,269128,167036,139912,103249,136989,118700,338]
["17 - 19",65515,20938,12753,8042,6120,4882,6648,6124,8]
["20 - 24",202588,67328,39541,24419,18890,14693,19853,17832,32]
["25 - 29        ",186618,64943,34846,21450,18380,13394,18034,15523,48]
["30 - 34        ",158757,56528,28971,18599,16348,11007,14549,12693,62]
["35 - 39        ",137179,46795,24961,16315,13985,9694,13443,11945,41]
["40 - 44        ",137611,46804,26004,16636,13458,9770,13260,11638,41]
["45 - 49        ",134743,46842,25658,15944,13316,9540,12568,10837,38]
["50 - 54        ",114274,40288,21651,13177,11509,8002,10450,9176,21]
["55 - 59        ",88925,31921,16287,9859,8965,6267,8232,7373,21]
["60 - 64        ",64728,23539,11804,6978,6343,4629,6105,5317,13]
["65 - 69        ",48111,17131,9211,5543,4444,3580,4567,3629,6]
["70 - 74        ",36135,12679,6897,4051,3185,2931,3668,2720,4]
["75 - 79        ",25278,8953,4813,2831,2213,2107,2538,1822,1]
["80 - 84        ",17549,6392,3188,1962,1603,1476,1765,1161,2]
["85 y más",12846,4424,2543,1230,1153,1277,1309,910,0]
[]
["Mujeres",1435360,521173,264157,167437,143859,100365,128208,109791,370]
["17 - 19",63195,20452,12072,7583,5896,4777,6495,5905,15]
["20 - 24",193587,65267,37032,23097,18160,13981,18818,17198,34]
["25 - 29        ",180365,63523,33096,20556,18113,12678,17147,15199,53]
["30 - 34        ",155334,55119,27745,18421,16057,11041,14349,12540,62]
["35 - 39        ",135569,46844,24705,16584,13823,9631,12608,11327,47]
["40 - 44        ",137078,47739,25763,16802,13870,9396,12559,10899,50]
["45 - 49        ",135209,49084,25661,15990,13904,9079,11570,9886,35]
["50 - 54        ",116453,44177,21337,13416,11993,7734,9700,8070,26]
["55 - 59        ",92157,36240,16026,10343,9696,6060,7528,6247,17]
["60 - 64        ",67785,27230,12050,7388,6898,4672,5348,4185,14]
["65 - 69        ",51080,20357,9436,5755,5025,3472,4140,2889,6]
["70 - 74        ",39201,15809,7240,4355,3754,2793,3073,2172,5]
["75 - 79        ",29368,12288,5193,3201,2866,2114,2244,1460,2]
["80 - 84        ",21025,9278,3643,2162,2041,1489,1428,981,3]
["85 y más",17954,7766,3158,1784,1763,1448,1201,833,1]
[]
[]
["1/ Incluye las personas menores que tramitarán su cédula y cumplierán 18 años hasta el 5 de diciembre de 2010. Según el artículo 76 de la Ley 3504: \"Ley Orgánica del Tribunal Supremo de Elecciones y del Registro Civil\"."]
["2/ Costarricenses inscritos que pueden ejercer el voto en extranjero para designar los puestos de presidencia y vicepresidencias, así como en consultas populares de orden nacional, según el artículo 187 del Código Electoral."]
["Fuente: Sección Padrón Electoral del Tribunal Supremo de Elecciones."]

{"sheet":"G1","index":5,"n_rows":32,"n_cols":9,"rows_kept":32,"cut":false,"hidden":false,"merged":[[1,8,1,16],[3,8,3,16],[4,8,4,16],[6,0,7,0],[6,5,6,6],[6,1,6,3],[3,0,4,6]]}
[]
[null,null,null,null,null,null,null,null,"GRÁFICO 1"]
[]
["DISTRIBUCIÓN DEL TOTAL DE ELECTORES POR SEXO Y GRUPOS QUINQUENALES DE EDAD,  DICIEMBRE DE 2010",null,null,null,null,null,null,null,"COSTA RICA: PORCENTAJE DE ELECTORES POR SEXO Y GRUPO DE EDAD"]
[null,null,null,null,null,null,null,null,"AL 31 DE DICIEMBRE DE 2010"]
[]
["GRUPOS DE EDAD","ELECTORES",null,null,null,"PORCENTAJE"]
[null,"Total","Hombres","Mujeres",null,"Hombres","Mujeres"]
[]
[null,2866217,1430857,1435360]
[]
["Menos de 20",128710,65515,63195,null,-4.5787244986745703,4.4165839074065403]
["20 a 24 ",396175,202588,193587,null,-14.158507803365394,13.529444242156973]
["25 a 29 ",366983,186618,180365,null,-13.042393474679859,12.605382648300983]
["30 a 34 ",314091,158757,155334,null,-11.095238727559776,10.856011467253541]
["35 a 39 ",272748,137179,135569,null,-9.587191452395313,9.4746714731101722]
["40 a 44 ",274689,137611,137078,null,-9.6173831487003945,9.5801327456202809]
["45 a 49 ",269952,134743,135209,null,-9.4169438315638807,9.4495117261892698]
["50 a 54 ",230727,114274,116453,null,-7.9864025545529707,8.1386889116103145]
["55 a 59 ",181082,88925,92157,null,-6.2148069303920659,6.4406855471930449]
["60 a 64 ",132513,64728,67785,null,-4.5237224963780447,4.7373706806480316]
["65 a 69 ",99191,48111,51080,null,-3.3623905114207777,3.5698885353323218]
["70 a 74 ",75336,36135,39201,null,-2.5254095971854627,2.7396867751284719]
["75 a 79",54646,25278,29368,null,-1.7666335629626162,2.0524762432584112]
["80 a 84",38574,17549,21025,null,-1.2264677742080445,1.4693991083665243]
["85 y más",30800,12846,17954,null,-0.89778363596082622,1.2547724894940584]
[]
[]
[]
[]
[]
[null,null,null,null,null,null,null,null,"     Fuente: Cuadro 3"]

{"sheet":"4","index":6,"n_rows":62,"n_cols":10,"rows_kept":62,"cut":false,"hidden":false,"merged":[[60,0,60,9],[0,0,0,9],[2,0,2,9],[3,0,3,9],[5,0,6,0],[5,1,5,9]]}
["CUADRO 4"]
[]
["COSTA RICA: TOTAL DE ELECTORES NATURALIZADOS, POR PAÍS DE ORIGEN"]
["SEGÚN SEXO Y GRUPO DE EDAD, AL 31 DE DICIEMBRE DE 20101/"]
[]
["SEXO Y GRUPO DE EDAD","País de origen"]
[null,"Total","Nicaragua","El Salvador","Colombia","Cuba","China","Panamá","Perú","Resto de países"]
[]
["Costa Rica",40464,21457,3211,3179,1747,1598,1294,1185,6793]
["17 - 19",143,59,4,40,17,2,0,1,20]
["20 - 24        ",564,233,6,107,60,18,4,32,104]
["25 - 29        ",1411,819,35,212,55,55,8,52,175]
["30 - 34        ",3096,1624,268,443,104,156,20,96,385]
["35 - 39        ",4418,2327,368,462,190,189,98,143,641]
["40 - 44        ",5119,2719,389,525,227,160,159,141,799]
["45 - 49        ",4758,2340,402,465,251,168,189,175,768]
["50 - 54        ",4173,2078,436,305,203,153,155,160,683]
["55 - 59        ",3963,1883,447,222,183,156,163,149,760]
["60 - 64        ",3234,1557,321,155,121,158,154,103,665]
["65 - 69        ",2624,1431,227,84,93,118,110,52,509]
["70 - 74        ",2187,1252,134,65,84,98,75,42,437]
["75 - 79        ",1834,1131,88,48,54,62,72,17,362]
["80 - 84        ",1525,994,51,30,54,63,51,14,268]
["85 y más      ",1415,1010,35,16,51,42,36,8,217]
[]
["Hombres",18746,9554,1386,1505,945,831,575,665,3285]
["17 - 19",72,33,2,22,7,0,0,0,8]
["20 - 24        ",291,122,3,51,36,12,2,10,55]
["25 - 29        ",614,320,22,103,22,36,2,36,73]
["30 - 34        ",1318,670,126,182,48,84,8,49,151]
["35 - 39        ",2000,1027,163,221,91,105,50,73,270]
["40 - 44        ",2428,1303,173,245,125,72,71,72,367]
["45 - 49        ",2133,975,168,230,144,90,80,93,353]
["50 - 54        ",1705,726,164,143,124,73,68,86,321]
["55 - 59        ",1738,759,165,109,111,79,63,89,363]
["60 - 64        ",1556,700,142,77,66,79,62,68,362]
["65 - 69        ",1361,704,114,49,55,61,56,35,287]
["70 - 74        ",1104,603,69,34,48,48,38,28,236]
["75 - 79        ",896,544,41,22,24,38,29,11,187]
["80 - 84        ",804,540,19,12,19,30,28,9,147]
["85 y más      ",726,528,15,5,25,24,18,6,105]
[]
["Mujeres",21718,11903,1825,1674,802,767,719,520,3508]
["17 - 19",71,26,2,18,10,2,0,1,12]
["20 - 24        ",273,111,3,56,24,6,2,22,49]
["25 - 29        ",797,499,13,109,33,19,6,16,102]
["30 - 34        ",1778,954,142,261,56,72,12,47,234]
["35 - 39        ",2418,1300,205,241,99,84,48,70,371]
["40 - 44        ",2691,1416,216,280,102,88,88,69,432]
["45 - 49        ",2625,1365,234,235,107,78,109,82,415]
["50 - 54        ",2468,1352,272,162,79,80,87,74,362]
["55 - 59        ",2225,1124,282,113,72,77,100,60,397]
["60 - 64        ",1678,857,179,78,55,79,92,35,303]
["65 - 69        ",1263,727,113,35,38,57,54,17,222]
["70 - 74        ",1083,649,65,31,36,50,37,14,201]
["75 - 79        ",938,587,47,26,30,24,43,6,175]
["80 - 84        ",721,454,32,18,35,33,23,5,121]
["85 y más      ",689,482,20,11,26,18,18,2,112]
[]
[]
["1/ Incluye las personas menores que tramitarán su cédula y cumplirán 18 años hasta el 5 de diciembre de 2010. Según el artículo 76 de la Ley 3504: \"Ley Orgánica del Tribunal Supremo de Elecciones y del Registro Civil\"."]
["Fuente: Sección Padrón Electoral del Tribunal Supremo de Elecciones."]

{"sheet":"G2","index":7,"n_rows":32,"n_cols":5,"rows_kept":32,"cut":false,"hidden":false,"merged":[[34,0,35,0],[26,0,27,0],[28,0,29,0],[30,0,31,0],[32,0,33,0],[20,0,21,0],[22,0,23,0],[24,0,25,0],[14,0,14,3],[15,0,15,3],[1,4,1,10],[3,4,3,10],[4,4,4,10],[13,0,13,3],[18,0,19,0]]}
[]
["Costa Rica",2866217,null,null,"GRÁFICO 2"]
[]
["Resto de países",6793,16.787761961249505,null,"COSTA RICA: PORCENTAJE DE ELECTORES NATURALIZADOS, POR PAÍS DE ORIGEN"]
["Perú",1185,2.9285290628706999,null,"AL 31 DE DICIEMBRE DE 2010"]
["Panamá",1294,3.1979043100039544]
["China",1598,3.9491894029260579]
["Cuba",1747,4.3174179517595892]
["Colombia",3179,7.856366152629497]
["El Salvador",3211,7.9354487939897194]
["Nicaragua",21457,53.027382364570975]
[null,40464]
[]
[]
[]
[]
[null,null,0]
[null,null," "]
[null,null,0]
[null,null," "]
[null,null,0]
[null,null," "]
[null,null,0]
[null,null," "]
[null,null,0]
[null,null," "]
[null,null,0]
[null,null," "]
[null,null,0]
[null,null," "]
[null,null,0]
[null,null," ",null,"Fuente:  Cuadro 4"]

{"sheet":"5","index":8,"n_rows":53,"n_cols":14,"rows_kept":53,"cut":false,"hidden":false,"merged":[[0,0,0,13],[2,0,2,13],[3,0,3,13],[50,0,50,10]]}
["CUADRO 5"]
[]
["COSTA RICA: NUEVOS ELECTORES1/ EMPADRONADOS DURANTE EL AÑO "]
["POR MES, SEGÚN PROVINCIA Y SEXO, AL 31 DE  DICIEMBRE DE 2010"]
[]
["Provincia y sexo","Total","Enero","Febrero","Marzo","Abril","Mayo","Junio","Julio","Agosto","Setiembre","Octubre","Noviembre","Diciembre"]
[]
["Costa Rica",56707,null,0,0,0,38267,8031,7278,3091,40,{"$f":"SUM(L9:L10)","v":0},{"$f":"#REF!-#REF!","v":{"$error":"#REF!"}},{"$f":"#REF!-#REF!","v":{"$error":"#REF!"}}]
["Hombres",29105,null,0,0,0,19815,4109,3660,1498,23,0,{"$f":"#REF!-#REF!","v":{"$error":"#REF!"}},{"$f":"#REF!-#REF!","v":{"$error":"#REF!"}}]
["Mujeres",27602,null,0,0,0,18452,3922,3618,1593,17,0,{"$f":"#REF!-#REF!","v":{"$error":"#REF!"}},{"$f":"#REF!-#REF!","v":{"$error":"#REF!"}}]
[]
["San José",23912,null,0,0,0,16488,3059,3297,1056,12,{"$f":"SUM(L13:L14)","v":0},{"$f":"#REF!-#REF!","v":{"$error":"#REF!"}},{"$f":"#REF!-#REF!","v":{"$error":"#REF!"}}]
["Hombres",12318,null,0,0,0,8607,1513,1659,532,7,0,{"$f":"#REF!-#REF!","v":{"$error":"#REF!"}},{"$f":"#REF!-#REF!","v":{"$error":"#REF!"}}]
["Mujeres",11594,null,0,0,0,7881,1546,1638,524,5,0,{"$f":"#REF!-#REF!","v":{"$error":"#REF!"}},{"$f":"#REF!-#REF!","v":{"$error":"#REF!"}}]
[]
["Alajuela",9145,null,0,0,0,6139,1306,1020,672,8,{"$f":"SUM(L17:L18)","v":0},{"$f":"#REF!-#REF!","v":{"$error":"#REF!"}},{"$f":"#REF!-#REF!","v":{"$error":"#REF!"}}]
["Hombres",4698,null,0,0,0,3171,710,508,303,6,0,{"$f":"#REF!-#REF!","v":{"$error":"#REF!"}},{"$f":"#REF!-#REF!","v":{"$error":"#REF!"}}]
["Mujeres",4447,null,0,0,0,2968,596,512,369,2,0,{"$f":"#REF!-#REF!","v":{"$error":"#REF!"}},{"$f":"#REF!-#REF!","v":{"$error":"#REF!"}}]
[]
["Cartago",5779,null,0,0,0,3901,832,814,231,1,{"$f":"SUM(L21:L22)","v":0},{"$f":"#REF!-#REF!","v":{"$error":"#REF!"}},{"$f":"#REF!-#REF!","v":{"$error":"#REF!"}}]
["Hombres",2993,null,0,0,0,2048,431,397,117,0,0,{"$f":"#REF!-#REF!","v":{"$error":"#REF!"}},{"$f":"#REF!-#REF!","v":{"$error":"#REF!"}}]
["Mujeres",2786,null,0,0,0,1853,401,417,114,1,0,{"$f":"#REF!-#REF!","v":{"$error":"#REF!"}},{"$f":"#REF!-#REF!","v":{"$error":"#REF!"}}]
[]
["Heredia",2859,null,0,0,0,1948,404,373,134,0,{"$f":"SUM(L25:L26)","v":0},{"$f":"#REF!-#REF!","v":{"$error":"#REF!"}},{"$f":"#REF!-#REF!","v":{"$error":"#REF!"}}]
["Hombres",1498,null,0,0,0,1021,217,193,67,0,0,{"$f":"#REF!-#REF!","v":{"$error":"#REF!"}},{"$f":"#REF!-#REF!","v":{"$error":"#REF!"}}]
["Mujeres",1361,null,0,0,0,927,187,180,67,0,0,{"$f":"#REF!-#REF!","v":{"$error":"#REF!"}},{"$f":"#REF!-#REF!","v":{"$error":"#REF!"}}]
[]
["Guanacaste",4005,null,0,0,0,2617,644,489,249,6,{"$f":"SUM(L29:L30)","v":0},{"$f":"#REF!-#REF!","v":{"$error":"#REF!"}},{"$f":"#REF!-#REF!","v":{"$error":"#REF!"}}]
["Hombres",2036,null,0,0,0,1316,328,259,130,3,0,{"$f":"#REF!-#REF!","v":{"$error":"#REF!"}},{"$f":"#REF!-#REF!","v":{"$error":"#REF!"}}]
["Mujeres",1969,null,0,0,0,1301,316,230,119,3,0,{"$f":"#REF!-#REF!","v":{"$error":"#REF!"}},{"$f":"#REF!-#REF!","v":{"$error":"#REF!"}}]
[]
["Puntarenas ",5266,null,0,0,0,3445,898,603,317,3,{"$f":"SUM(L33:L34)","v":0},{"$f":"#REF!-#REF!","v":{"$error":"#REF!"}},{"$f":"#REF!-#REF!","v":{"$error":"#REF!"}}]
["Hombres",2665,null,0,0,0,1779,459,302,124,1,0,{"$f":"#REF!-#REF!","v":{"$error":"#REF!"}},{"$f":"#REF!-#REF!","v":{"$error":"#REF!"}}]
["Mujeres",2601,null,0,0,0,1666,439,301,193,2,0,{"$f":"#REF!-#REF!","v":{"$error":"#REF!"}},{"$f":"#REF!-#REF!","v":{"$error":"#REF!"}}]
[]
["Limón",5119,null,0,0,0,3413,812,609,279,6,{"$f":"SUM(L37:L38)","v":0},{"$f":"#REF!-#REF!","v":{"$error":"#REF!"}},{"$f":"#REF!-#REF!","v":{"$error":"#REF!"}}]
["Hombres",2587,null,0,0,0,1723,407,301,151,5,0,{"$f":"#REF!-#REF!","v":{"$error":"#REF!"}},{"$f":"#REF!-#REF!","v":{"$error":"#REF!"}}]
["Mujeres",2532,null,0,0,0,1690,405,308,128,1,0,{"$f":"#REF!-#REF!","v":{"$error":"#REF!"}},{"$f":"#REF!-#REF!","v":{"$error":"#REF!"}}]
[]
["Partido especial",419,null,0,0,0,252,69,52,42,4,{"$f":"SUM(L41:L42)","v":0},{"$f":"#REF!-#REF!","v":{"$error":"#REF!"}},{"$f":"#REF!-#REF!","v":{"$error":"#REF!"}}]
["Hombres",215,null,0,0,0,123,38,28,25,1,0,{"$f":"#REF!-#REF!","v":{"$error":"#REF!"}},{"$f":"#REF!-#REF!","v":{"$error":"#REF!"}}]
["Mujeres",204,null,0,0,0,129,31,24,17,3,0,{"$f":"#REF!-#REF!","v":{"$error":"#REF!"}},{"$f":"#REF!-#REF!","v":{"$error":"#REF!"}}]
[]
["Naturalizados",203,null,0,0,0,64,7,21,111,0,{"$f":"SUM(L45:L46)","v":0},{"$f":"#REF!-#REF!","v":{"$error":"#REF!"}},{"$f":"#REF!-#REF!","v":{"$error":"#REF!"}}]
["Hombres",95,null,0,0,0,27,6,13,49,0,0,{"$f":"#REF!-#REF!","v":{"$error":"#REF!"}},{"$f":"#REF!-#REF!","v":{"$error":"#REF!"}}]
["Mujeres",108,null,0,0,0,37,1,8,62,0,0,{"$f":"#REF!-#REF!","v":{"$error":"#REF!"}},{"$f":"#REF!-#REF!","v":{"$error":"#REF!"}}]
[]
[]
["1/ Incluye  personas que nacieron del 02/12/1984 al 05/12/1992 de las diferentes provincias, el partido especial "]
["  y los naturalizados que no se han empadronado en anteriores procesos electorales."]
["Nota: El padrón estuvo cerrado por las elecciones presidenciales hasta marzo inclusive, a partir de mayo se aplicó la contabilidad de nuevos electores, sin embargo se volvió a cerrar en setiembre debido al proceso electoral Municipal. "]
[]
["Fuente: Sección Padrón Electoral del Tribunal Supremo de Elecciones."]

{"sheet":"6","index":9,"n_rows":29,"n_cols":15,"rows_kept":29,"cut":false,"hidden":false,"merged":[[0,0,0,14],[4,0,4,14],[2,0,2,14],[3,0,3,14],[8,8,8,9],[8,12,8,13],[6,3,6,13],[6,14,8,14],[7,3,7,6],[7,8,7,13],[8,10,8,11],[6,0,8,0],[6,1,8,2],[8,3,8,4],[8,5,8,6]]}
["CUADRO 6"]
[]
["COSTA RICA: MOVIMIENTOS AL PADRÓN NACIONAL ELECTORAL"]
["POR TIPO DE MOVIMIENTO, SEGÚN MES"]
["AL 31 DE DICIEMBRE DE 2010"]
[]
["Mes","Padrón Nacional Electoral anterior",null,"Tipo de movimiento",null,null,null,null,null,null,null,null,null,null,"Padrón Nacional Electoral actual"]
[null,null,null,"Inclusiones",null,null,null,null,"Exclusiones"]
[null,null,null,"Cédulas Primera vez1/",null,"Cédulas renovadas",null,null,"Defunción",null,"Cédulas vencidas2/",null,"Otras"]
[]
["Enero",2822491,null,0,null,0,null,null,0,null,0,null,0,null,2822491]
["Febrero",2822491,null,0,null,0,null,null,0,null,0,null,0,null,2822491]
["Marzo",2822491,null,0,null,0,null,null,0,null,0,null,0,null,2822491]
["Abril",2822491,null,32889,null,6474,null,null,6540,null,15243,null,89,null,2839982]
["Mayo",2839982,null,6236,null,2098,null,null,1285,null,0,null,34,null,2846997]
["Junio",2846997,null,8384,null,1939,null,null,1403,null,0,null,54,null,2855863]
["Julio",2855863,null,7615,null,1684,null,null,1459,null,0,null,46,null,2863657]
["Agosto",2863657,null,4476,null,768,null,null,1953,null,0,null,27,null,2866921]
["Setiembre",2866921,null,66,null,22,null,null,786,null,0,null,6,null,2866217]
["Octubre",2866217,null,0,null,0,null,null,0,null,0,null,0,null,2866217]
["Noviembre",2866217,null,0,null,0,null,null,0,null,0,null,0,null,2866217]
["Diciembre",2866217,null,0,null,0,null,null,0,null,0,null,0,null,2866217]
[]
[]
["1/ Incluye nuevos electores, inclusión condicional de nuevos electores y otras inclusiones."]
["2/ No se aplican exclusiones por caducidad durante el año anterior a una elección. (Ley Orgánica del TSE, Art. 94) "]
[]
["Nota: El padrón estuvo cerrado por las elecciones hasta marzo inclusive, nuevamente se cerró en setiembre. "]
["Fuente: Sección Padrón Electoral del Tribunal Supremo de Elecciones."]

{"sheet":"7","index":10,"n_rows":27,"n_cols":8,"rows_kept":27,"cut":false,"hidden":false,"merged":[[0,0,0,7],[2,0,2,7],[3,0,3,7],[5,0,6,0],[5,1,6,1]]}
["CUADRO 7"]
[]
["COSTA RICA: TOTAL DE PRODUCTOS Y SERVICIOS BRINDADOS,  POR TIPO DE SERVICIO"]
[" SEGÚN MES, AL 31 DE DICIEMBRE DE 2010"]
[]
["Mes","Total","Productos y Sevicios"]
[null,null,"Cédulas de identidad impresas","Tarjetas identidad de menores impresas","Certificaciones y constancias expedidas","Asambleas de partidos políticos fiscalizadas","Atención de consultas en materia electoral 1/","Movimientos y actualizaciones al Padrón Electoral"]
[]
["Total",{"$f":"SUM(B11:B22)","v":4409854},{"$f":"SUM(C11:C22)","v":677492},173206,2938204,915,27507,592530]
[]
["Enero",{"$f":"SUM(C11:H11)","v":351202},79452,15241,254957,0,1552,0]
["Febrero",{"$f":"SUM(C12:H12)","v":391020},44612,15598,329940,0,870,0]
["Marzo",332571,56605,10173,264976,9,808,0]
["Abril",675618,54858,11685,245904,30,1051,362090]
["Mayo",354599,55399,11415,229582,37,1020,57146]
["Junio",368227,62340,12818,220476,124,1757,70712]
["Julio",381056,59846,17883,233210,593,1996,67528]
["Agosto",358777,61596,14190,246492,105,2654,33740]
["Setiembre",267791,47127,13250,202633,2,3465,1314]
["Octubre",314675,57956,17812,235104,3,3800,0]
["Noviembre",346889,60695,16397,264994,9,4794,0]
["Diciembre",267429,37006,16744,209936,3,3740,0]
[]
[]
["1/ A Partidos Políticos, Municipalidades, Asamblea Legislativa y otros."]
[]
["Fuente: Oficinas del Tribunal Supremo de Elecciones."]

{"sheet":"8","index":11,"n_rows":26,"n_cols":6,"rows_kept":26,"cut":false,"hidden":false,"merged":[[6,2,6,5],[6,0,7,0],[6,1,7,1],[0,0,0,5],[2,0,2,5],[3,0,3,5],[4,0,4,5]]}
["CUADRO 8"]
[]
["COSTA RICA: TOTAL DE CERTIFICACIONES SOLICITADAS VÍA"]
["INTERNET, POR TIPO DE SOLICITUD, SEGÚN MES"]
["AL 31 DE DICIEMBRE DE 2010"]
[]
["Mes","Total","Tipo de solicitud"]
[null,null,"Nacimiento","Matrimonio","Defunción","No aparece matrimonio"]
[]
["Total",{"$f":"SUM(C10:F10)","v":86830},{"$f":"SUM(C12:C23)","v":44122},{"$f":"SUM(D12:D23)","v":16314},{"$f":"SUM(E12:E23)","v":5128},{"$f":"SUM(F12:F23)","v":21266}]
[]
["Enero",{"$f":"SUM(C12:F12)","v":8736},4274,1433,399,2630]
["Febrero",10018,5597,1619,550,2252]
["Marzo",9576,4776,1627,472,2701]
["Abril",8866,4721,1530,441,2174]
["Mayo",8604,4358,1644,471,2131]
["Junio",5420,2008,1465,460,1487]
["Julio",5385,1914,1386,601,1484]
["Agosto",7823,4278,1493,429,1623]
["Setiembre",7211,3866,1383,445,1517]
["Octubre",5792,3118,1039,384,1251]
["Noviembre",6329,3304,1282,305,1438]
["Diciembre",3070,1908,413,171,578]
[]
[]
["Fuente: Departamento Civil, Tribunal Supremo de Elecciones."]

{"sheet":"9","index":12,"n_rows":25,"n_cols":9,"rows_kept":25,"cut":false,"hidden":false,"merged":[[5,1,6,1],[0,0,0,8],[2,0,2,8],[3,0,3,8],[5,2,5,8],[5,0,6,0]]}
["CUADRO 9"]
[]
["COSTA RICA: TARJETAS DE IDENTIDAD DE MENORES IMPRESAS"]
["POR PROVINCIA, SEGÚN MES, AL 31 DEDICIEMBRE DE 2010"]
[]
["Mes","Total","Provincia"]
[null,null,"San José","Alajuela","Cartago","Heredia","Guanacaste","Puntarenas","Limón"]
[]
["Total",{"$f":"SUM(C9:I9)","v":173206},{"$f":"SUM(C11:C22)","v":65546},30590,18022,13502,12634,12455,20457]
[]
["Enero",{"$f":"SUM(C11:I11)","v":15241},6838,2520,1120,966,1456,664,1677]
["Febrero",{"$f":"SUM(C12:I12)","v":15598},6658,2935,599,1303,850,982,2271]
["Marzo",10173,4112,1536,1280,817,875,118,1435]
["Abril ",11685,4538,1512,1579,858,852,752,1594]
["Mayo",11415,4281,1768,1488,969,857,613,1439]
["Junio",12818,4956,2332,1494,1031,1006,320,1679]
["Julio",17883,7058,3771,1995,1426,1349,372,1912]
["Agosto",14190,4865,2562,1610,1147,873,1763,1370]
["Setiembre",13250,4617,2393,1458,1049,756,1543,1434]
["Octubre",17812,6814,3189,2020,1504,1190,1222,1873]
["Noviembre",16397,5556,3038,1679,1289,1248,1748,1839]
["Diciembre",16744,5253,3034,1700,1143,1322,2358,1934]
[]
[]
["Fuente: Departamento Civil y Coordinación de Servicios Regionales del Tribunal Supremo de Elecciones."]

{"sheet":"10","index":13,"n_rows":32,"n_cols":14,"rows_kept":32,"cut":false,"hidden":false,"merged":[[0,0,0,13],[5,2,5,13],[5,0,6,0],[5,1,6,1],[2,0,2,13],[3,0,3,13]]}
["CUADRO 10"]
[]
["COSTA RICA: INSCRIPCIONES CIVILES POR MES, SEGÚN CLASE DE INSCRIPCIÓN"]
["AL 31 DE DICIEMBRE DE 2010"]
[]
["Clase de inscripción 1/","Total","Mes"]
[null,null,"Enero","Febrero","Marzo","Abril","Mayo","Junio","Julio","Agosto","Setiembre","Octubre","Noviembre","Diciembre"]
[]
["Nacimientos",72701,5741,5829,6606,7753,4579,6273,4312,7939,6413,5976,6721,4559]
["Matrimonios:",24049,2038,2259,3040,2670,2250,2236,1470,2111,1753,1286,1674,1262]
["    Católicos",6682,561,755,932,511,612,565,322,712,716,217,463,316]
["    Civiles",16799,1454,1484,2020,2118,1603,1624,1113,1338,962,1016,1159,908]
["    Extranjeros2/",568,23,20,88,41,35,47,35,61,75,53,52,38]
["Defunciones",19828,2264,1334,1192,2251,1169,1676,1749,2839,1165,1461,1655,1073]
["Divorcios",11556,934,972,649,1628,1130,942,709,840,747,1469,737,799]
["Separaciones Judiciales",62,9,8,1,3,12,11,5,4,3,4,1,1]
["Reconocimientos",21223,1545,325,2025,1337,4094,985,942,3088,1511,1874,2486,1011]
["Legitimaciones",80,9,13,8,1,11,9,5,0,10,6,7,1]
["Adopciones",205,9,35,10,24,11,24,13,12,12,20,31,4]
["Impugnación de paternidad",340,13,26,26,45,27,20,52,14,21,50,18,28]
["Investigación de paternidad",724,53,50,35,129,49,72,70,72,36,76,48,34]
["Opciones 3/",558,141,59,43,42,23,53,54,60,33,15,35,0]
["Naturalizaciones",3358,129,0,278,331,299,958,124,336,19,426,454,4]
[]
[]
["1/ Todos los datos se refieren a hechos inscritos en el mes respectivo, no así a los ocurridos."]
[]
["2/ Matrimonios inscritos, pero realilzados en el extranjero."]
[]
["3/ Trámite realizado en Actos Jurídicos."]
[]
["Fuente: Sección de Inscripciones, Oficina de Actos Jurídicos, Sección de Opciones y Naturalizaciones del Tribunal Supremo de Elecciones."]

{"sheet":"G3","index":14,"n_rows":27,"n_cols":12,"rows_kept":27,"cut":false,"hidden":false,"merged":[]}
[]
["GRÁFICO 3",null,null,null,null,null,null,null,null,null,"Nacimientos","Defunciones"]
[null,null,null,null,null,null,null,null,null,null,72701,19828]
["COSTA RICA: NACIMIENTOS Y DEFUNCIONES INSCRITAS",null,null,null,null,null,null,null,null,"ENE",5741,2264]
["POR MES, AL 31 DE DICIEMBRE DE 2010",null,null,null,null,null,null,null,null,"FEB",5829,1334]
[null,null,null,null,null,null,null,null,null,"MAR",6606,1192]
[null,null,null,null,null,null,null,null,null,"ABR",7753,2251]
[null,null,null,null,null,null,null,null,null,"MAY",4579,1169]
[null,null,null,null,null,null,null,null,null,"JUN",6273,1676]
[null,null,null,null,null,null,null,null,null,"JUL",4312,1749]
[null,null,null,null,null,null,null,null,null,"AGO",7939,2839]
[null,null,null,null,null,null,null,null,null,"SET",6413,1165]
[null,null,null,null,null,null,null,null,null,"OCT",5976,1461]
[null,null,null,null,null,null,null,null,null,"NOV",6721,1655]
[null,null,null,null,null,null,null,null,null,"DIC",4559,1073]
[]
[]
[]
[]
[]
[]
[]
[]
[]
[]
[]
["Fuente: Cuadro 10"]

{"sheet":"G4 y G5 ","index":15,"n_rows":62,"n_cols":13,"rows_kept":62,"cut":false,"hidden":false,"merged":[[1,0,1,7],[3,0,3,7],[4,0,4,7],[32,0,32,7],[32,10,32,12],[34,0,34,7],[35,0,35,7],[2,0,2,7],[33,0,33,7]]}
[]
["GRÁFICO 4",null,null,null,null,null,null,null,null,null,null,null," "]
[]
["COSTA RICA: MATRIMONIOS INSCRITOS, SEGÚN CLASE DE INSCRIPCIÓN",null,null,null,null,null,null,null,null,null,"MATRIMONIOS INSCRITOS"]
["AL 31 DE DICIEMBRE DE 2010",null,null,null,null,null,null,null,null,null,"Civiles",16799,69.853216349952191]
[null,null,null,null,null,null,null,null,null,null,"Católicos",6682,27.784939082706138]
[null,null,null,null,null,null,null,null,null,null,"Extranjeros",568,2.3618445673416777]
[null,null,null,null,null,null,null,null,null,null,"Total",24049]
[]
[]
[]
[]
[]
[]
[]
[]
[]
[]
[]
[]
[]
[]
[]
[]
[]
[]
[]
[]
[]
["Fuente: Cuadro 10"]
[]
[]
["GRÁFICO 5"]
[]
["COSTA RICA: MATRIMONIOS Y DIVORCIOS INSCRITOS ",null,null,null,null,null,null,null,null,null,null,"Matrimonios","Divorcios"]
["POR MES, AL 31 DE DICIEMBRE DE 2010",null,null,null,null,null,null,null,null,null,"ENE",2038,934]
[null,null,null,null,null,null,null,null,null,null,"FEB",2259,972]
[null,null,null,null,null,null,null,null,null,null,"MAR",3040,649]
[null,null,null,null,null,null,null,null,null,null,"ABR",2670,1628]
[null,null,null,null,null,null,null,null,null,null,"MAY",2250,1130]
[null,null,null,null,null,null,null,null,null,null,"JUN",2236,942]
[null,null,null,null,null,null,null,null,null,null,"JUL",1470,709]
[null,null,null,null,null,null,null,null,null,null,"AGO",2111,840]
[null,null,null,null,null,null,null,null,null,null,"SET",1753,747]
[null,null,null,null,null,null,null,null,null,null,"OCT",1286,1469]
[null,null,null,null,null,null,null,null,null,null,"NOV",1674,737]
[null,null,null,null,null,null,null,null,null,null,"DIC",1262,799]
[null,null,null,null,null,null,null,null,null,null,null,24049,11556]
[]
[]
[]
[]
[]
[]
[]
[]
[]
[]
[]
[]
[]
["Fuente: Cuadro 10"]

{"sheet":"11","index":16,"n_rows":26,"n_cols":10,"rows_kept":26,"cut":false,"hidden":false,"merged":[[0,0,0,9],[2,0,2,9],[3,0,3,9]]}
["CUADRO 11"]
[]
["COSTA RICA: NACIMIENTOS INSCRITOS, POR PROVINCIA Y PARTIDO ESPECIAL"]
["SEGÚN MES,  AL 31 DE DICIEMBRE DE 2010"]
[]
["Mes","Total","San José","Alajuela","Cartago","Heredia","Guanacaste","Puntarenas","Limón","Partido especial 1/"]
[]
["Costa Rica",72701,28419,12848,6590,4401,5823,5684,6774,2162]
[]
["Enero",5741,2768,811,401,403,396,256,600,106]
["Febrero",5829,2128,1170,694,283,338,697,365,154]
["Marzo",6606,2532,1387,537,442,574,437,549,148]
["Abril",7753,2828,1376,790,505,738,735,629,152]
["Mayo",4579,1864,627,379,163,343,447,432,324]
["Junio",6273,2651,1015,496,258,465,531,515,342]
["Julio",4312,1965,612,392,245,156,368,316,258]
["Agosto",7939,2995,1629,635,568,711,498,783,120]
["Setiembre",6413,2017,1017,735,461,613,573,864,133]
["Octubre",5976,2222,1087,547,396,595,387,560,182]
["Noviembre",6721,2692,1311,620,416,479,361,679,163]
["Diciembre",4559,1757,806,364,261,415,394,482,80]
[]
[]
["1/ Inscripción de nacimientos de costarricenses nacidos en el extranjero."]
[]
["Fuente: Sección de Inscripciones del Tribunal Supremo de Elecciones."]

{"sheet":"12","index":17,"n_rows":24,"n_cols":9,"rows_kept":24,"cut":false,"hidden":false,"merged":[[0,0,0,8],[2,0,2,8],[3,0,3,8]]}
["CUADRO 12"]
[]
["COSTA RICA: DEFUNCIONES INSCRITAS, POR PROVINCIA, SEGÚN MES"]
["AL 31 DE DICIEMBRE DE 2010"]
[]
["Mes","Total","San José","Alajuela","Cartago","Heredia","Guanacaste","Puntarenas","Limón"]
[]
["Costa Rica",19828,8957,3293,1792,1386,1496,1639,1265]
[]
["Enero",2264,1013,348,212,153,203,150,185]
["Febrero",1334,704,191,92,73,79,107,88]
["Marzo",1192,424,223,183,97,88,116,61]
["Abril",2251,991,453,136,137,188,176,170]
["Mayo",1169,523,192,127,71,114,115,27]
["Junio",1676,766,267,143,98,126,140,136]
["Julio",1749,868,257,200,92,91,171,70]
["Agosto",2839,1279,471,246,208,185,264,186]
["Setiembre",1165,532,220,100,116,79,57,61]
["Octubre",1461,705,166,102,143,120,122,103]
["Noviembre",1655,673,327,165,128,133,125,104]
["Diciembre",1073,479,178,86,70,90,96,74]
[]
[]
["Fuente: Sección de Inscripciones del Tribunal Supremo de Elecciones."]

{"sheet":"13","index":18,"n_rows":27,"n_cols":9,"rows_kept":27,"cut":false,"hidden":false,"merged":[[7,1,7,4],[4,0,4,8],[0,0,0,8],[2,0,2,8],[3,0,3,8],[6,0,8,0],[7,5,7,8],[6,1,6,8]]}
["CUADRO 13"]
[]
["COSTA RICA: SOLICITUDES  DE CÉDULA RECIBIDAS, POR CLASE DE SOLICITUD"]
[" SEGÚN MES, AL 31 DE DICIEMBRE DE 2010"]
["(Absoluto y Porcentaje)"]
[]
["Mes","Clase de solicitud"]
[null,"Absoluto",null,null,null,"Porcentaje"]
[null,"Total","Primera vez","Duplicado","Traslado","Total","Primera vez","Duplicado","Traslado"]
[]
["TOTAL",664334,80265,580886,3183,100.00000000000001,12.082025005494225,87.438848531010009,0.47912646349577176]
[]
["Enero",60078,4704,55355,19,99.999999999999986,7.8298212323978822,92.138553214154925,3.1625553447185324E-2]
["Febrero",54766,6480,48259,27,100,11.832158638571375,88.118540700434579,4.9300660994047403E-2]
["Marzo",54488,6677,47756,55,100.00000000000001,12.254074291587139,87.644986051974755,0.10093965643811482]
["Abril",57643,7611,49995,37,100,13.203684749232345,86.73212705792551,6.4188192842149092E-2]
["Mayo",56978,6596,50181,201,100,11.576397907964479,88.07083435712029,0.35276773491523039]
["Junio",53690,6974,46605,111,99.999999999999986,12.989383497858073,86.803874092009679,0.20674241013224062]
["Julio",71646,9024,61269,1353,99.999999999999986,12.595260028473326,85.516288418055439,1.8884515534712334]
["Agosto",56950,6992,48902,1056,100,12.277436347673397,85.868305531167692,1.8542581211589113]
["Setiembre",50898,6274,44435,189,100,12.326614012338402,87.302055090573305,0.37133089708829425]
["Octubre",52311,6692,45526,93,100,12.792720460323833,87.029496664181522,0.17778287549463784]
["Noviembre",57261,6210,51035,16,100,10.845077801645099,89.12697996891427,2.7942229440631496E-2]
["Diciembre",37625,6031,31568,26,100.00000000000001,16.029235880398669,83.901661129568112,6.9102990033222594E-2]
[]
[]
["Fuente: Sección Solicitudes Cedulares y Coordinación de Servicios Regionales del Tribunal Supremo de Elecciones."]

{"sheet":"G6 ","index":19,"n_rows":31,"n_cols":14,"rows_kept":31,"cut":false,"hidden":false,"merged":[[1,0,1,7],[3,0,3,7],[4,0,4,7],[2,0,2,7]]}
[]
["GRÁFICO 6",null,null,null,null,null,null,null,null,null,null," "]
[]
["COSTA RICA: PORCENTAJE DE SOLICITUDES DE CÉDULA RECIBIDAS ",null,null,null,null,null,null,null,null,"SOLICITUDES CEDULARES RECIBIDAS",null,null,null," "]
["POR CLASE DE SOLICITUD, AL 31 DE DICIEMBRE DE 2010",null,null,null,null,null,null,null,null,"TOTAL",664334]
[null,null,null,null,null,null,null,null,null,"Duplicado",580886,87.438848531010009]
[null,null,null,null,null,null,null,null,null,"Primera vez",80265,12.082025005494225]
[null,null,null,null,null,null,null,null,null,"Traslado",3183,0.47912646349577176]
[]
[]
[]
[]
[]
[]
[]
[]
[]
[]
[]
[]
[]
[]
[]
[]
[]
[]
[]
[]
[]
[]
["Fuente: Cuadro 13"]

{"sheet":"14","index":20,"n_rows":28,"n_cols":7,"rows_kept":28,"cut":false,"hidden":false,"merged":[[6,1,6,6],[0,0,0,6],[2,0,2,6],[3,0,3,6],[4,0,4,6],[6,0,7,0]]}
["CUADRO 14"]
[]
["COSTA RICA: SOLICITUDES DE CÉDULA RECIBIDAS  "]
["POR FUENTE DE INGRESO, SEGÚN MES"]
["AL 31 DE DICIEMBRE DE 2010"]
[]
["Mes","Fuente de ingreso"]
[null,"Total","Oficina central","Oficinas regionales 1/","Consulados","Cedulación a domicilio","Cedulación ambulante"]
[]
["TOTAL",664334,236247,399942,5489,4032,18624]
[]
["Enero",60078,21742,37631,316,389,0]
["Febrero",54766,20600,33551,159,158,298]
["Marzo",54488,19397,32048,479,313,2251]
["Abril",57643,20016,34250,483,382,2512]
["Mayo",56978,19906,33494,296,424,2858]
["Junio",53690,19635,32920,578,338,219]
["Julio",71646,21779,38792,303,515,10257]
["Agosto",56950,20657,35141,878,274,0]
["Setiembre",50898,18338,31894,399,267,0]
["Octubre",52311,19341,31984,736,250,0]
["Noviembre",57261,21108,35167,347,617,22]
["Diciembre",37625,13728,23070,515,105,207]
[]
[]
["1/ El Tribunal Supremo de Elecciones cuenta con 32 Oficinas Regionales."]
[]
["Fuente: Sección Solicitudes Cedulares y Coordinación de Servicios Regionales del Tribunal Supremo de Elecciones."]

{"sheet":"G7 ","index":21,"n_rows":30,"n_cols":12,"rows_kept":30,"cut":false,"hidden":false,"merged":[[29,0,29,6],[1,0,1,7],[3,0,3,7],[4,0,4,7],[2,0,2,7]]}
[]
["GRÁFICO 7",null,null,null,null,null,null,null,null,null,null," "]
[]
["COSTA RICA: PORCENTAJE DE SOLICITUDES DE CÉDULA RECIBIDAS",null,null,null,null,null,null,null,null,"SOLICITUDES CEDULARES RECIBIDAS"]
["POR FUENTE DE INGRESO, AL 31 DE DICIEMBRE DE 2010",null,null,null,null,null,null,null,null,"TOTAL",664334]
[null,null,null,null,null,null,null,null,null,"Oficinas Regionales",399942,60.201946611192561]
[null,null,null,null,null,null,null,null,null,"Oficina Central",236247,35.561479617180517]
[null,null,null,null,null,null,null,null,null,"Cedulación Ambulante",18624,2.8034091285407641]
[null,null,null,null,null,null,null,null,null,"Consulados y domicilio",9521,1.4331646430861584]
[]
[]
[]
[]
[]
[]
[]
[]
[]
[]
[]
[]
[]
[]
[]
[]
[]
[]
[]
[]
["Fuente: Cuadro 14"]

{"sheet":"15","index":22,"n_rows":22,"n_cols":9,"rows_kept":22,"cut":false,"hidden":false,"merged":[[6,0,8,0],[7,5,7,8],[6,1,6,8],[0,0,0,8],[2,0,2,8],[3,0,3,8],[4,0,4,8]]}
["CUADRO 15"]
[]
["COSTA RICA: SOLICITUDES DE CÉDULA RECIBIDAS, POR CLASE DE SOLICITUD"]
["SEGÚN PROVINCIA, AL 31 DE DICIEMBRE DE 2010"]
["(Absoluto y Porcentaje)"]
[]
["Provincia","Clase de solicitud"]
[null,"Absoluto",null,null,null,"Porcentaje"]
[null,"Total","Primera vez","Duplicado","Traslado","Total","Primera vez","Duplicado","Traslado"]
[]
["Costa Rica",664334,80265,580886,3183,100,99.999999999999986,100,100]
[]
["San José",281345,30666,249021,1658,42.349932413514892,38.20594281442721,42.86916882142107,52.089224002513355]
["Alajuela",106605,14683,91357,565,16.046898096439442,18.293153927614775,15.727182269842965,17.750549795790135]
["Cartago",54048,7582,46339,127,8.1356666977755161,9.4462094312589553,7.9772967501368601,3.9899465912661012]
["Heredia",50064,6347,43502,215,7.5359683532680855,7.9075562200211795,7.4889048797870839,6.7546339930882811]
["Guanacaste",44682,6065,38485,132,6.7258336920886173,7.5562200211798425,6.6252242264403005,4.1470311027332709]
["Puntarenas",67026,7596,58989,441,10.089202118211622,9.4636516538964681,10.155004596426839,13.854853911404335]
["Limón",60564,7326,53193,45,9.1164986287018266,9.1272659316015687,9.1572184559448839,1.413760603204524]
[]
[]
["Fuente: Sección Solicitudes Cedulares y Coordinación de Servicios Regionales del Tribunal Supremo de Elecciones."]

{"sheet":"G8","index":23,"n_rows":30,"n_cols":15,"rows_kept":30,"cut":false,"hidden":false,"merged":[[10,10,10,13],[1,0,1,8],[3,0,3,8],[4,0,4,8]]}
[]
["GRÁFICO 8 ",null,null,null,null,null,null,null,null,null,null,"PV","DUP","TRASL"]
[null,null,null,null,null,null,null,null,null,null,"San José",30666,249021,1658]
["COSTA RICA: SOLICITUDES DE CÉDULA RECIBIDAS, POR CLASE DE SOLICITUD",null,null,null,null,null,null,null,null,null,"Alajuela",14683,91357,565]
["SEGÚN PROVINCIA, AL 31 DE DICIEMBRE DE 2010",null,null,null,null,null,null,null,null,null,"Puntarenas",7596,58989,441]
[null,null,null,null,null,null,null,null,null,null,"Limón",7326,53193,45]
[null,null,null,null,null,null,null,null,null,null,"Cartago",7582,46339,127]
[null,null,null,null,null,null,null,null,null,null,"Heredia",6347,43502,215]
[null,null,null,null,null,null,null,null,null,null,"Guanacaste",6065,38485,132]
[null,null,null,null,null,null,null,null,null,null,"Total",80265,580886,3183,664334]
[]
[null,null,null,null,null,null,null,null,null,null,null,"Duplicado","Primera vez","Traslado"]
[null,null,null,null,null,null,null,null,null,null,"Guanacaste",38.484999999999999,6.0650000000000004,0.13200000000000001]
[null,null,null,null,null,null,null,null,null,null,"Heredia",43.502000000000002,6.3470000000000004,0.215]
[null,null,null,null,null,null,null,null,null,null,"Cartago",46.338999999999999,7.5819999999999999,0.127]
[null,null,null,null,null,null,null,null,null,null,"Limón",53.192999999999998,7.3259999999999996,4.4999999999999998E-2]
[null,null,null,null,null,null,null,null,null,null,"Puntarenas",58.988999999999997,7.5960000000000001,0.441]
[null,null,null,null,null,null,null,null,null,null,"Alajuela",91.356999999999999,14.683,0.56499999999999995]
[null,null,null,null,null,null,null,null,null,null,"San José",249.02099999999999,30.666,1.6579999999999999]
[null,null,null,null,null,null,null,null,null,null,"Total",580.88599999999997,80.265000000000001,3.1829999999999998]
[]
[]
[]
[]
[]
[]
[]
[]
[]
["Fuente: Cuadro 15"]

{"sheet":"16","index":24,"n_rows":25,"n_cols":8,"rows_kept":25,"cut":false,"hidden":false,"merged":[[0,0,0,7],[2,0,2,7],[3,0,3,7],[5,0,6,0],[5,1,6,1],[5,2,5,7]]}
["CUADRO 16"]
[]
["COSTA RICA: CANTIDAD DE RESOLUCIONES, POR TIPO DE RESOLUCIÓN, SEGÚN MES"]
["AL 31 DE DICIEMBRE DE 2010"]
[]
["Mes","Total","Tipo de resolución"]
[null,null,"Electorales","Inscripciones","Municipales","Naturalizaciones","Ocursos y otros","Procedimientos"]
[]
["Total",8079,299,645,153,6528,35,419]
[]
["Enero",586,35,50,3,480,0,18]
["Febrero",729,31,50,6,615,3,24]
["Marzo",833,23,86,4,679,13,28]
["Abril",832,19,8,9,749,2,45]
["Mayo",679,10,146,47,440,5,31]
["Junio",716,21,25,29,599,1,41]
["Julio",474,24,78,12,307,1,52]
["Agosto",671,37,67,5,543,1,18]
["Setiembre",594,35,74,23,438,3,21]
["Octubre",406,23,14,2,301,5,61]
["Noviembre",601,14,7,10,536,1,33]
["Diciembre",958,27,40,3,841,0,47]
[]
[]
["Fuente: Secretaría del Tribunal Supremo de Elecciones."]

{"sheet":"17","index":25,"n_rows":26,"n_cols":10,"rows_kept":26,"cut":false,"hidden":false,"merged":[[0,0,0,9],[2,0,2,9],[3,0,3,9],[4,0,4,9],[6,0,7,0],[6,1,6,9]]}
["CUADRO 17"]
[]
["COSTA RICA: CANTIDAD DE RESOLUCIONES ELECTORALES"]
["POR ACCIÓN TRAMITADA, SEGÚN MES"]
["AL 31 DE DICIEMBRE DE 2010"]
[]
["Mes","Acción Tramitada"]
[null,"Total","Amparo Electoral","Hermenéutica Electoral","Apelación electoral","Denuncia Electoral","Denuncia beligerancia Política","Demanda de Nulidad","Liquidación gastos partidos políticos","Otras"]
[]
["Total",299,91,58,42,41,20,15,11,21]
[]
["Enero",34,12,7,4,1,5,0,0,5]
["Febrero",30,3,7,6,4,5,2,0,3]
["Marzo",24,6,3,3,4,4,1,1,2]
["Abril",18,4,5,2,6,1,0,0,0]
["Mayo",10,3,2,0,5,0,0,0,0]
["Junio",22,6,9,0,5,2,0,0,0]
["Julio",24,15,8,0,1,0,0,0,0]
["Agosto",38,22,5,2,1,1,0,0,7]
["Setiembre",35,14,3,11,3,1,0,0,3]
["Octubre",23,2,3,9,6,1,0,1,1]
["Noviembre",14,1,4,2,2,0,0,5,0]
["Diciembre",27,3,2,3,3,0,12,4,0]
[]
[]
["Fuente: Secretaría del Tribunal Supremo de Elecciones."]

{"sheet":"18","index":26,"n_rows":26,"n_cols":9,"rows_kept":26,"cut":false,"hidden":false,"merged":[[0,0,0,8],[2,0,2,8],[3,0,3,8],[4,0,4,8],[6,0,7,0],[6,1,6,8]]}
["CUADRO 18"]
[]
["COSTA RICA: CANTIDAD DE RESOLUCIONES MUNICIPALES"]
["POR RESULTADO DE LA GESTIÓN, SEGÚN MES"]
["AL 31 DE DICIEMBRE DE 2010"]
[]
["Mes","Resultado de la Gestión"]
[null,"Total","Cancelación de credenciales","Archivo de Expediente","Sin Lugar","Suspensión sin goce de salario","Rechazo de plano y archivo de exp.","Rechazo de plano","Otras"]
[]
["Total",153,100,29,14,3,3,2,2]
[]
["Enero",3,2,0,1,0,0,0,0]
["Febrero",6,2,0,2,1,0,1,0]
["Marzo",4,3,0,1,0,0,0,0]
["Abril",9,6,0,2,1,0,0,0]
["Mayo",47,26,19,1,0,0,1,0]
["Junio",29,23,6,0,0,0,0,0]
["Julio",12,10,2,0,0,0,0,0]
["Agosto",5,4,0,0,0,0,0,1]
["Setiembre",23,16,1,4,1,1,0,0]
["Octubre",2,0,0,1,0,0,0,1]
["Noviembre",10,5,1,2,0,2,0,0]
["Diciembre",3,3,0,0,0,0,0,0]
[]
[]
["Fuente: Secretaría del Tribunal Supremo de Elecciones."]

{"sheet":"19","index":27,"n_rows":39,"n_cols":14,"rows_kept":39,"cut":false,"hidden":false,"merged":[[0,0,0,14],[2,0,2,14],[3,0,3,14],[4,0,4,14],[6,0,7,0],[6,1,6,14],[7,11,7,12],[7,13,7,14],[7,3,7,4],[7,1,7,2],[7,5,7,6],[7,7,7,8],[7,9,7,10]]}
["CUADRO 19"]
[]
["COSTA RICA: TRÁMITES RELACIONADOS CON EL INGRESO DE SOLICITUDES DE"]
["DETERMINACIÓN DE PATERNIDAD1/,  POR TIPO, SEGÚN MES"]
["AL 31 DE DICIEMBRE DE 2010"]
[]
["Mes","Ingreso de solicitudes de determinación de paternidad"]
[null,"Total",null,"Paternidad de oficio 2/",null,"Declaración voluntaria 3/",null,"Casos enviados a notificar 4/",null,"Solicitudes prueba de ADN 5/",null,"Devueltas por el correo 6/",null,"Información incompleta 7/"]
[]
["Enero",38963,null,204,null,16071,null,2920,null,12690,null,3521,null,3557]
["Febrero",39326,null,218,null,16155,null,3004,null,12852,null,3526,null,3571]
["Marzo",39906,null,218,null,16227,null,3192,null,13122,null,3550,null,3597]
["Abril",40164,null,243,null,16251,null,3152,null,13354,null,3566,null,3598]
["Mayo",40651,null,244,null,16384,null,3224,null,13626,null,3585,null,3588]
["Junio",40942,null,244,null,16523,null,3041,null,14032,null,3569,null,3533]
["Julio",41514,null,275,null,16583,null,3304,null,14245,null,3536,null,3571]
["Agosto",41952,null,284,null,16667,null,3390,null,14512,null,3588,null,3511]
["Setiembre",42474,null,284,null,16749,null,3359,null,14798,null,3701,null,3583]
["Octubre",42868,null,284,null,16836,null,3355,null,15059,null,3738,null,3596]
["Noviembre",43213,null,302,null,16924,null,3291,null,15289,null,3818,null,3589]
["Diciembre",43470,null,316,null,16979,null,3269,null,15467,null,3858,null,3581]
[]
[]
["1/ Datos acumulados desde que se promulgó la Ley 8101 DE Paternidad Responsable, en abril de 2001."]
[]
["2/ Presuntos padres notificados que no se presentan en el término de 10 días y como consecuencia se aplica la paternidad"]
["por presunción."]
[]
["3/ Padres que se presentan a firmar, aceptando la paternidad."]
[]
["4/ Expedientes ingresados que aún no han sido notificados."]
[]
["5/ Casos enviados al laboratorio para realizar la prueba de ADN."]
[]
["6/ Citatorios enviados al padre que han sido devueltos por el correo por dirección inexacta."]
[]
["7/ Casos de solicitudes en los que no se puede enviar citatorio al padre por no tener nombre y apellidos o dirección inexacta."]
[]
["Fuente: Sección de Inscripciones del Tribunal Supremo de Elecciones."]

{"sheet":"20","index":28,"n_rows":26,"n_cols":22,"rows_kept":26,"cut":false,"hidden":false,"merged":[[6,3,6,8],[7,10,7,11],[7,14,7,15],[0,0,0,22],[2,0,2,22],[3,0,3,22],[6,19,7,20],[6,21,7,22],[5,1,7,2],[7,5,7,6],[7,12,7,13],[5,3,5,22],[7,3,7,4],[7,16,7,17],[5,0,7,0],[6,10,6,17],[7,7,7,8]]}
["CUADRO 20"]
[]
["COSTA RICA: TRÁMITES DE SOLICITUD DE PRUEBAS DE ADN 1/ POR TIPO DE RESULTADO"]
["DE LA GESTIÓN, SEGÚN MES, AL 31 DE DICIEMBRE DE 2010"]
[]
["Mes","Total de trámites",null,"Resultado de la gestión"]
[null,null,null,"Resultado",null,null,null,null,null,null,"Pendiente de realizar prueba",null,null,null,null,null,null,null,null,"Cita pendiente de asignar",null,"Resultados pendientes de entrega"]
[null,null,null,"Total",null,"Positivo",null,"Negativo",null,null,"Total",null,"Padre no se presentó",null,"Madre no se presentó",null,"Ninguno se presentó"]
[]
["Enero",12690,null,8712,null,6951,null,1761,null,null,3031,null,1208,null,934,null,889,null,null,33,null,914]
["Febrero",12852,null,8833,null,7043,null,1790,null,null,3095,null,1234,null,952,null,909,null,null,33,null,891]
["Marzo",13122,null,9006,null,7176,null,1830,null,null,3143,null,1262,null,953,null,928,null,null,142,null,831]
["Abril",13354,null,9145,null,7274,null,1871,null,null,3215,null,1282,null,979,null,954,null,null,55,null,939]
["Mayo",13626,null,9370,null,7446,null,1924,null,null,3273,null,1311,null,992,null,970,null,null,56,null,927]
["Junio",14032,null,9641,null,7648,null,1993,null,null,3339,null,1326,null,1014,null,999,null,null,194,null,858]
["Julio",14245,null,9980,null,7921,null,2059,null,null,3323,null,1302,null,1010,null,1011,null,null,172,null,770]
["Agosto",14512,null,10203,null,8098,null,2105,null,null,3359,null,1311,null,1023,null,1025,null,null,135,null,815]
["Setiembre",14798,null,10351,null,8219,null,2132,null,null,3382,null,1318,null,1032,null,1032,null,null,219,null,846]
["Octubre",15059,null,10566,null,8383,null,2183,null,null,3450,null,1338,null,1065,null,1047,null,null,160,null,883]
["Noviembre",15289,null,10704,null,8491,null,2213,null,null,3572,null,1380,null,1096,null,1096,null,null,169,null,844]
["Diciembre",15467,null,10906,null,8656,null,2250,null,null,3604,null,1391,null,1113,null,1100,null,null,134,null,823]
[]
[]
["1/ Casos registrados desde que se promulgó la ley en abril de 2001."]
[]
["Fuente: Sección de Inscripciones del Tribunal Supremo de Elecciones."]

{"sheet":"21","index":29,"n_rows":25,"n_cols":11,"rows_kept":25,"cut":false,"hidden":false,"merged":[[6,3,6,4],[6,5,6,6],[6,8,6,9],[0,0,0,11],[2,0,2,11],[3,0,3,11],[6,10,6,11],[5,8,5,11],[5,0,6,0],[5,3,5,5],[5,1,6,2]]}
["CUADRO 21"]
[]
["COSTA RICA: RESULTADO DE PRUEBAS DE ADN REALIZADAS 1/ "]
["SEGÚN MES, AL 31 DE DICIEMBRE DE 2010"]
[]
["Mes","Total",null,"Absoluto",null,null,null,null,"Porcentaje"]
[null,null,null,"Positivo",null,"Negativo",null,null,"Positivo",null,"Negativo"]
[]
["Enero",8712,null,6951,null,1761,null,null,79.786501377410474,null,20.213498622589533]
["Febrero",8833,null,7043,null,1790,null,null,79.735084342805379,null,20.26491565719461]
["Marzo",9006,null,7176,null,1830,null,null,79.680213191205866,null,20.319786808794138]
["Abril",9145,null,7274,null,1871,null,null,79.540732640787311,null,20.459267359212685]
["Mayo",9370,null,7446,null,1924,null,null,79.466382070437575,null,20.533617929562435]
["Junio",9641,null,7648,null,1993,null,null,79.327870552847216,null,20.672129447152784]
["Julio",9980,null,7921,null,2059,null,null,79.368737474949896,null,20.631262525050101]
["Agosto",10203,null,8098,null,2105,null,null,79.368813094187985,null,20.631186905812015]
["Setiembre",10351,null,8219,null,2132,null,null,79.402956236112459,null,20.597043763887545]
["Octubre",10566,null,8383,null,2183,null,null,79.339390497823203,null,20.660609502176793]
["Noviembre",10704,null,8491,null,2213,null,null,79.325485799701042,null,20.674514200298955]
["Diciembre",10906,null,8656,null,2250,null,null,79.369154593801568,null,20.630845406198421]
[]
[]
["1/ Casos registrados desde que se promulgó la ley en abril de 2001."]
[]
["Fuente: Sección de Inscripciones del Tribunal Supremo de Elecciones."]

{"sheet":"IL ANUAL CIVIL","index":30,"n_rows":51,"n_cols":26,"rows_kept":51,"cut":false,"hidden":true,"merged":[[5,23,5,24],[5,25,5,26],[3,0,3,25],[5,1,5,2],[5,3,5,4],[5,5,5,6],[5,7,5,8],[5,9,5,10],[5,11,5,12],[5,13,5,14],[5,15,5,16],[5,17,5,18],[5,19,5,20],[5,21,5,22]]}
["PARA INFORME DE LABORES ANUAL DEL TSE"]
["ESTADISTICAS CIVILES"]
[]
["Cuadro Nº 7: ESTADÍSTICAS CIVILES 2010"]
[null,null,null,null,null,null,null,null,null,null,null,null,null,null,null,null,null,null,null,1,null,2,null,3,null,4]
["INDICADORES","   TOTAL",null,"  ENERO",null,"  FEBRERO",null,"  MARZO",null,"  ABRIL",null,"  MAYO",null,"  JUNIO",null,"  JULIO",null,"  AGOSTO",null,"  SETIEMBRE",null,"  OCTUBRE",null,"  NOVIEMBRE",null,"  DICIEMBRE"]
[]
["CERTIFICACIONES Y CONSTANCIAS EXPEDIDAS ",{"$f":"#REF!","v":{"$error":"#REF!"}},null,{"$f":"#REF!","v":{"$error":"#REF!"}},null,{"$f":"#REF!","v":{"$error":"#REF!"}},null,{"$f":"#REF!","v":{"$error":"#REF!"}},null,{"$f":"#REF!","v":{"$error":"#REF!"}},null,{"$f":"#REF!","v":{"$error":"#REF!"}},null,{"$f":"#REF!","v":{"$error":"#REF!"}},null,{"$f":"#REF!","v":{"$error":"#REF!"}},null,{"$f":"#REF!","v":{"$error":"#REF!"}},null,{"$f":"#REF!","v":{"$error":"#REF!"}},null,{"$f":"#REF!","v":{"$error":"#REF!"}},null,{"$f":"#REF!","v":{"$error":"#REF!"}},null,{"$f":"#REF!","v":{"$error":"#REF!"}}]
["  OFICINAS CENTRALES",{"$f":"#REF!","v":{"$error":"#REF!"}},null,{"$f":"#REF!","v":{"$error":"#REF!"}},null,{"$f":"#REF!","v":{"$error":"#REF!"}},null,{"$f":"#REF!","v":{"$error":"#REF!"}},null,{"$f":"#REF!","v":{"$error":"#REF!"}},null,{"$f":"#REF!","v":{"$error":"#REF!"}},null,{"$f":"#REF!","v":{"$error":"#REF!"}},null,{"$f":"#REF!","v":{"$error":"#REF!"}},null,{"$f":"#REF!","v":{"$error":"#REF!"}},null,{"$f":"#REF!","v":{"$error":"#REF!"}},null,{"$f":"#REF!","v":{"$error":"#REF!"}},null,{"$f":"#REF!","v":{"$error":"#REF!"}},null,{"$f":"#REF!","v":{"$error":"#REF!"}}]
["Certificaciones",{"$f":"#REF!","v":{"$error":"#REF!"}},null,{"$f":"#REF!","v":{"$error":"#REF!"}},null,{"$f":"#REF!","v":{"$error":"#REF!"}},null,{"$f":"#REF!","v":{"$error":"#REF!"}},null,{"$f":"#REF!","v":{"$error":"#REF!"}},null,{"$f":"#REF!","v":{"$error":"#REF!"}},null,{"$f":"#REF!","v":{"$error":"#REF!"}},null,{"$f":"#REF!","v":{"$error":"#REF!"}},null,{"$f":"#REF!","v":{"$error":"#REF!"}},null,{"$f":"#REF!","v":{"$error":"#REF!"}},null,{"$f":"#REF!","v":{"$error":"#REF!"}},null,{"$f":"#REF!","v":{"$error":"#REF!"}},null,{"$f":"#REF!","v":{"$error":"#REF!"}}]
["Constancias",{"$f":"#REF!","v":{"$error":"#REF!"}},null,{"$f":"#REF!","v":{"$error":"#REF!"}},null,{"$f":"#REF!","v":{"$error":"#REF!"}},null,{"$f":"#REF!","v":{"$error":"#REF!"}},null,{"$f":"#REF!","v":{"$error":"#REF!"}},null,{"$f":"#REF!","v":{"$error":"#REF!"}},null,{"$f":"#REF!","v":{"$error":"#REF!"}},null,{"$f":"#REF!","v":{"$error":"#REF!"}},null,{"$f":"#REF!","v":{"$error":"#REF!"}},null,{"$f":"#REF!","v":{"$error":"#REF!"}},null,{"$f":"#REF!","v":{"$error":"#REF!"}},null,{"$f":"#REF!","v":{"$error":"#REF!"}},null,{"$f":"#REF!","v":{"$error":"#REF!"}}]
["  OFICINAS REGIONALES",{"$f":"#REF!","v":{"$error":"#REF!"}},null,{"$f":"#REF!","v":{"$error":"#REF!"}},null,{"$f":"#REF!","v":{"$error":"#REF!"}},null,{"$f":"#REF!","v":{"$error":"#REF!"}},null,{"$f":"#REF!","v":{"$error":"#REF!"}},null,{"$f":"#REF!","v":{"$error":"#REF!"}},null,{"$f":"#REF!","v":{"$error":"#REF!"}},null,{"$f":"#REF!","v":{"$error":"#REF!"}},null,{"$f":"#REF!","v":{"$error":"#REF!"}},null,{"$f":"#REF!","v":{"$error":"#REF!"}},null,{"$f":"#REF!","v":{"$error":"#REF!"}},null,{"$f":"#REF!","v":{"$error":"#REF!"}},null,{"$f":"#REF!","v":{"$error":"#REF!"}}]
["Certificaciones",{"$f":"#REF!","v":{"$error":"#REF!"}},null,{"$f":"#REF!","v":{"$error":"#REF!"}},null,{"$f":"#REF!","v":{"$error":"#REF!"}},null,{"$f":"#REF!","v":{"$error":"#REF!"}},null,{"$f":"#REF!","v":{"$error":"#REF!"}},null,{"$f":"#REF!","v":{"$error":"#REF!"}},null,{"$f":"#REF!","v":{"$error":"#REF!"}},null,{"$f":"#REF!","v":{"$error":"#REF!"}},null,{"$f":"#REF!","v":{"$error":"#REF!"}},null,{"$f":"#REF!","v":{"$error":"#REF!"}},null,{"$f":"#REF!","v":{"$error":"#REF!"}},null,{"$f":"#REF!","v":{"$error":"#REF!"}},null,{"$f":"#REF!","v":{"$error":"#REF!"}}]
["Constancias",{"$f":"#REF!","v":{"$error":"#REF!"}},null,{"$f":"#REF!","v":{"$error":"#REF!"}},null,{"$f":"#REF!","v":{"$error":"#REF!"}},null,{"$f":"#REF!","v":{"$error":"#REF!"}},null,{"$f":"#REF!","v":{"$error":"#REF!"}},null,{"$f":"#REF!","v":{"$error":"#REF!"}},null,{"$f":"#REF!","v":{"$error":"#REF!"}},null,{"$f":"#REF!","v":{"$error":"#REF!"}},null,{"$f":"#REF!","v":{"$error":"#REF!"}},null,{"$f":"#REF!","v":{"$error":"#REF!"}},null,{"$f":"#REF!","v":{"$error":"#REF!"}},null,{"$f":"#REF!","v":{"$error":"#REF!"}},null,{"$f":"#REF!","v":{"$error":"#REF!"}}]
[]
["TIM EXPEDIDAS",{"$f":"#REF!","v":{"$error":"#REF!"}},null,{"$f":"#REF!","v":{"$error":"#REF!"}},null,{"$f":"#REF!","v":{"$error":"#REF!"}},null,{"$f":"#REF!","v":{"$error":"#REF!"}},null,{"$f":"#REF!","v":{"$error":"#REF!"}},null,{"$f":"#REF!","v":{"$error":"#REF!"}},null,{"$f":"#REF!","v":{"$error":"#REF!"}},null,{"$f":"#REF!","v":{"$error":"#REF!"}},null,{"$f":"#REF!","v":{"$error":"#REF!"}},null,{"$f":"#REF!","v":{"$error":"#REF!"}},null,{"$f":"#REF!","v":{"$error":"#REF!"}},null,{"$f":"#REF!","v":{"$error":"#REF!"}},null,{"$f":"#REF!","v":{"$error":"#REF!"}}]
["OFICIALÍA MAYOR CIVIL",{"$f":"#REF!","v":{"$error":"#REF!"}},null,{"$f":"#REF!","v":{"$error":"#REF!"}},null,{"$f":"#REF!","v":{"$error":"#REF!"}},null,{"$f":"#REF!","v":{"$error":"#REF!"}},null,{"$f":"#REF!","v":{"$error":"#REF!"}},null,{"$f":"#REF!","v":{"$error":"#REF!"}},null,{"$f":"#REF!","v":{"$error":"#REF!"}},null,{"$f":"#REF!","v":{"$error":"#REF!"}},null,{"$f":"#REF!","v":{"$error":"#REF!"}},null,{"$f":"#REF!","v":{"$error":"#REF!"}},null,{"$f":"#REF!","v":{"$error":"#REF!"}},null,{"$f":"#REF!","v":{"$error":"#REF!"}},null,{"$f":"#REF!","v":{"$error":"#REF!"}}]
["Emitidas por primera vez",{"$f":"#REF!","v":{"$error":"#REF!"}},null,{"$f":"#REF!","v":{"$error":"#REF!"}},null,{"$f":"#REF!","v":{"$error":"#REF!"}},null,{"$f":"#REF!","v":{"$error":"#REF!"}},null,{"$f":"#REF!","v":{"$error":"#REF!"}},null,{"$f":"#REF!","v":{"$error":"#REF!"}},null,{"$f":"#REF!","v":{"$error":"#REF!"}},null,{"$f":"#REF!","v":{"$error":"#REF!"}},null,{"$f":"#REF!","v":{"$error":"#REF!"}},null,{"$f":"#REF!","v":{"$error":"#REF!"}},null,{"$f":"#REF!","v":{"$error":"#REF!"}},null,{"$f":"#REF!","v":{"$error":"#REF!"}},null,{"$f":"#REF!","v":{"$error":"#REF!"}}]
["Duplicadas",{"$f":"#REF!","v":{"$error":"#REF!"}},null,{"$f":"#REF!","v":{"$error":"#REF!"}},null,{"$f":"#REF!","v":{"$error":"#REF!"}},null,{"$f":"#REF!","v":{"$error":"#REF!"}},null,{"$f":"#REF!","v":{"$error":"#REF!"}},null,{"$f":"#REF!","v":{"$error":"#REF!"}},null,{"$f":"#REF!","v":{"$error":"#REF!"}},null,{"$f":"#REF!","v":{"$error":"#REF!"}},null,{"$f":"#REF!","v":{"$error":"#REF!"}},null,{"$f":"#REF!","v":{"$error":"#REF!"}},null,{"$f":"#REF!","v":{"$error":"#REF!"}},null,{"$f":"#REF!","v":{"$error":"#REF!"}},null,{"$f":"#REF!","v":{"$error":"#REF!"}}]
["OFICINAS REGIONALES",{"$f":"#REF!","v":{"$error":"#REF!"}},null,{"$f":"#REF!","v":{"$error":"#REF!"}},null,{"$f":"#REF!","v":{"$error":"#REF!"}},null,{"$f":"#REF!","v":{"$error":"#REF!"}},null,{"$f":"#REF!","v":{"$error":"#REF!"}},null,{"$f":"#REF!","v":{"$error":"#REF!"}},null,{"$f":"#REF!","v":{"$error":"#REF!"}},null,{"$f":"#REF!","v":{"$error":"#REF!"}},null,{"$f":"#REF!","v":{"$error":"#REF!"}},null,{"$f":"#REF!","v":{"$error":"#REF!"}},null,{"$f":"#REF!","v":{"$error":"#REF!"}},null,{"$f":"#REF!","v":{"$error":"#REF!"}},null,{"$f":"#REF!","v":{"$error":"#REF!"}}]
[]
["HECHOS VITALES Y CIVILES INSCRITOS",{"$f":"#REF!","v":{"$error":"#REF!"}},null,{"$f":"#REF!+#REF!","v":{"$error":"#REF!"}},null,{"$f":"#REF!+#REF!","v":{"$error":"#REF!"}},null,{"$f":"#REF!+#REF!","v":{"$error":"#REF!"}},null,{"$f":"#REF!+#REF!","v":{"$error":"#REF!"}},null,{"$f":"#REF!+#REF!","v":{"$error":"#REF!"}},null,{"$f":"#REF!+#REF!","v":{"$error":"#REF!"}},null,{"$f":"#REF!+#REF!","v":{"$error":"#REF!"}},null,{"$f":"#REF!+#REF!","v":{"$error":"#REF!"}},null,{"$f":"#REF!+#REF!","v":{"$error":"#REF!"}},null,{"$f":"#REF!+#REF!","v":{"$error":"#REF!"}},null,{"$f":"#REF!+#REF!","v":{"$error":"#REF!"}},null,{"$f":"#REF!+#REF!","v":{"$error":"#REF!"}}]
["Nacimientos   ",{"$f":"#REF!","v":{"$error":"#REF!"}},null,{"$f":"#REF!","v":{"$error":"#REF!"}},null,{"$f":"#REF!","v":{"$error":"#REF!"}},null,{"$f":"#REF!","v":{"$error":"#REF!"}},null,{"$f":"#REF!","v":{"$error":"#REF!"}},null,{"$f":"#REF!","v":{"$error":"#REF!"}},null,{"$f":"#REF!","v":{"$error":"#REF!"}},null,{"$f":"#REF!","v":{"$error":"#REF!"}},null,{"$f":"#REF!","v":{"$error":"#REF!"}},null,{"$f":"#REF!","v":{"$error":"#REF!"}},null,{"$f":"#REF!","v":{"$error":"#REF!"}},null,{"$f":"#REF!","v":{"$error":"#REF!"}},null,{"$f":"#REF!","v":{"$error":"#REF!"}}]
["Defunciones   ",{"$f":"#REF!","v":{"$error":"#REF!"}},null,{"$f":"#REF!","v":{"$error":"#REF!"}},null,{"$f":"#REF!","v":{"$error":"#REF!"}},null,{"$f":"#REF!","v":{"$error":"#REF!"}},null,{"$f":"#REF!","v":{"$error":"#REF!"}},null,{"$f":"#REF!","v":{"$error":"#REF!"}},null,{"$f":"#REF!","v":{"$error":"#REF!"}},null,{"$f":"#REF!","v":{"$error":"#REF!"}},null,{"$f":"#REF!","v":{"$error":"#REF!"}},null,{"$f":"#REF!","v":{"$error":"#REF!"}},null,{"$f":"#REF!","v":{"$error":"#REF!"}},null,{"$f":"#REF!","v":{"$error":"#REF!"}},null,{"$f":"#REF!","v":{"$error":"#REF!"}}]
["Matrimonios   ",{"$f":"#REF!","v":{"$error":"#REF!"}},null,{"$f":"#REF!","v":{"$error":"#REF!"}},null,{"$f":"#REF!","v":{"$error":"#REF!"}},null,{"$f":"#REF!","v":{"$error":"#REF!"}},null,{"$f":"#REF!","v":{"$error":"#REF!"}},null,{"$f":"#REF!","v":{"$error":"#REF!"}},null,{"$f":"#REF!","v":{"$error":"#REF!"}},null,{"$f":"#REF!","v":{"$error":"#REF!"}},null,{"$f":"#REF!","v":{"$error":"#REF!"}},null,{"$f":"#REF!","v":{"$error":"#REF!"}},null,{"$f":"#REF!","v":{"$error":"#REF!"}},null,{"$f":"#REF!","v":{"$error":"#REF!"}},null,{"$f":"#REF!","v":{"$error":"#REF!"}}]
["Católicos",{"$f":"#REF!","v":{"$error":"#REF!"}},null,{"$f":"#REF!","v":{"$error":"#REF!"}},null,{"$f":"#REF!","v":{"$error":"#REF!"}},null,{"$f":"#REF!","v":{"$error":"#REF!"}},null,{"$f":"#REF!","v":{"$error":"#REF!"}},null,{"$f":"#REF!","v":{"$error":"#REF!"}},null,{"$f":"#REF!","v":{"$error":"#REF!"}},null,{"$f":"#REF!","v":{"$error":"#REF!"}},null,{"$f":"#REF!","v":{"$error":"#REF!"}},null,{"$f":"#REF!","v":{"$error":"#REF!"}},null,{"$f":"#REF!","v":{"$error":"#REF!"}},null,{"$f":"#REF!","v":{"$error":"#REF!"}},null,{"$f":"#REF!","v":{"$error":"#REF!"}}]
["Civiles",{"$f":"#REF!","v":{"$error":"#REF!"}},null,{"$f":"#REF!","v":{"$error":"#REF!"}},null,{"$f":"#REF!","v":{"$error":"#REF!"}},null,{"$f":"#REF!","v":{"$error":"#REF!"}},null,{"$f":"#REF!","v":{"$error":"#REF!"}},null,{"$f":"#REF!","v":{"$error":"#REF!"}},null,{"$f":"#REF!","v":{"$error":"#REF!"}},null,{"$f":"#REF!","v":{"$error":"#REF!"}},null,{"$f":"#REF!","v":{"$error":"#REF!"}},null,{"$f":"#REF!","v":{"$error":"#REF!"}},null,{"$f":"#REF!","v":{"$error":"#REF!"}},null,{"$f":"#REF!","v":{"$error":"#REF!"}},null,{"$f":"#REF!","v":{"$error":"#REF!"}}]
["Extranjeros",{"$f":"#REF!","v":{"$error":"#REF!"}},null,{"$f":"#REF!","v":{"$error":"#REF!"}},null,{"$f":"#REF!","v":{"$error":"#REF!"}},null,{"$f":"#REF!","v":{"$error":"#REF!"}},null,{"$f":"#REF!","v":{"$error":"#REF!"}},null,{"$f":"#REF!","v":{"$error":"#REF!"}},null,{"$f":"#REF!","v":{"$error":"#REF!"}},null,{"$f":"#REF!","v":{"$error":"#REF!"}},null,{"$f":"#REF!","v":{"$error":"#REF!"}},null,{"$f":"#REF!","v":{"$error":"#REF!"}},null,{"$f":"#REF!","v":{"$error":"#REF!"}},null,{"$f":"#REF!","v":{"$error":"#REF!"}},null,{"$f":"#REF!","v":{"$error":"#REF!"}}]
["Actos Jurídicos (tramitados)",{"$f":"#REF!","v":{"$error":"#REF!"}},null,{"$f":"#REF!","v":{"$error":"#REF!"}},null,{"$f":"#REF!","v":{"$error":"#REF!"}},null,{"$f":"#REF!","v":{"$error":"#REF!"}},null,{"$f":"#REF!","v":{"$error":"#REF!"}},null,{"$f":"#REF!","v":{"$error":"#REF!"}},null,{"$f":"#REF!","v":{"$error":"#REF!"}},null,{"$f":"#REF!","v":{"$error":"#REF!"}},null,{"$f":"#REF!","v":{"$error":"#REF!"}},null,{"$f":"#REF!","v":{"$error":"#REF!"}},null,{"$f":"#REF!","v":{"$error":"#REF!"}},null,{"$f":"#REF!","v":{"$error":"#REF!"}},null,{"$f":"#REF!","v":{"$error":"#REF!"}}]
["Adopciones",{"$f":"#REF!","v":{"$error":"#REF!"}},null,{"$f":"#REF!","v":{"$error":"#REF!"}},null,{"$f":"#REF!","v":{"$error":"#REF!"}},null,{"$f":"#REF!","v":{"$error":"#REF!"}},null,{"$f":"#REF!","v":{"$error":"#REF!"}},null,{"$f":"#REF!","v":{"$error":"#REF!"}},null,{"$f":"#REF!","v":{"$error":"#REF!"}},null,{"$f":"#REF!","v":{"$error":"#REF!"}},null,{"$f":"#REF!","v":{"$error":"#REF!"}},null,{"$f":"#REF!","v":{"$error":"#REF!"}},null,{"$f":"#REF!","v":{"$error":"#REF!"}},null,{"$f":"#REF!","v":{"$error":"#REF!"}},null,{"$f":"#REF!","v":{"$error":"#REF!"}}]
["Divorcios",{"$f":"#REF!","v":{"$error":"#REF!"}},null,{"$f":"#REF!","v":{"$error":"#REF!"}},null,{"$f":"#REF!","v":{"$error":"#REF!"}},null,{"$f":"#REF!","v":{"$error":"#REF!"}},null,{"$f":"#REF!","v":{"$error":"#REF!"}},null,{"$f":"#REF!","v":{"$error":"#REF!"}},null,{"$f":"#REF!","v":{"$error":"#REF!"}},null,{"$f":"#REF!","v":{"$error":"#REF!"}},null,{"$f":"#REF!","v":{"$error":"#REF!"}},null,{"$f":"#REF!","v":{"$error":"#REF!"}},null,{"$f":"#REF!","v":{"$error":"#REF!"}},null,{"$f":"#REF!","v":{"$error":"#REF!"}},null,{"$f":"#REF!","v":{"$error":"#REF!"}}]
["Ocursos",{"$f":"#REF!","v":{"$error":"#REF!"}},null,{"$f":"#REF!","v":{"$error":"#REF!"}},null,{"$f":"#REF!","v":{"$error":"#REF!"}},null,{"$f":"#REF!","v":{"$error":"#REF!"}},null,{"$f":"#REF!","v":{"$error":"#REF!"}},null,{"$f":"#REF!","v":{"$error":"#REF!"}},null,{"$f":"#REF!","v":{"$error":"#REF!"}},null,{"$f":"#REF!","v":{"$error":"#REF!"}},null,{"$f":"#REF!","v":{"$error":"#REF!"}},null,{"$f":"#REF!","v":{"$error":"#REF!"}},null,{"$f":"#REF!","v":{"$error":"#REF!"}},null,{"$f":"#REF!","v":{"$error":"#REF!"}},null,{"$f":"#REF!","v":{"$error":"#REF!"}}]
["Reconocimientos",{"$f":"#REF!","v":{"$error":"#REF!"}},null,{"$f":"#REF!","v":{"$error":"#REF!"}},null,{"$f":"#REF!","v":{"$error":"#REF!"}},null,{"$f":"#REF!","v":{"$error":"#REF!"}},null,{"$f":"#REF!","v":{"$error":"#REF!"}},null,{"$f":"#REF!","v":{"$error":"#REF!"}},null,{"$f":"#REF!","v":{"$error":"#REF!"}},null,{"$f":"#REF!","v":{"$error":"#REF!"}},null,{"$f":"#REF!","v":{"$error":"#REF!"}},null,{"$f":"#REF!","v":{"$error":"#REF!"}},null,{"$f":"#REF!","v":{"$error":"#REF!"}},null,{"$f":"#REF!","v":{"$error":"#REF!"}},null,{"$f":"#REF!","v":{"$error":"#REF!"}}]
["Otros",{"$f":"#REF!","v":{"$error":"#REF!"}},null,{"$f":"#REF!+#REF!+#REF!+#REF!+#REF!+#REF!","v":{"$error":"#REF!"}},null,{"$f":"#REF!+#REF!+#REF!+#REF!+#REF!+#REF!","v":{"$error":"#REF!"}},{"$f":"#REF!+#REF!+#REF!+#REF!+#REF!+#REF!","v":{"$error":"#REF!"}},{"$f":"#REF!+#REF!+#REF!+#REF!+#REF!+#REF!","v":{"$error":"#REF!"}},{"$f":"#REF!+#REF!+#REF!+#REF!+#REF!+#REF!","v":{"$error":"#REF!"}},{"$f":"#REF!+#REF!+#REF!+#REF!+#REF!+#REF!","v":{"$error":"#REF!"}},{"$f":"#REF!+#REF!+#REF!+#REF!+#REF!+#REF!","v":{"$error":"#REF!"}},{"$f":"#REF!+#REF!+#REF!+#REF!+#REF!+#REF!","v":{"$error":"#REF!"}},{"$f":"#REF!+#REF!+#REF!+#REF!+#REF!+#REF!","v":{"$error":"#REF!"}},{"$f":"#REF!+#REF!+#REF!+#REF!+#REF!+#REF!","v":{"$error":"#REF!"}}," ",{"$f":"#REF!+#REF!+#REF!+#REF!+#REF!+#REF!","v":{"$error":"#REF!"}}," ",{"$f":"#REF!+#REF!+#REF!+#REF!+#REF!+#REF!","v":{"$error":"#REF!"}}," ",{"$f":"#REF!+#REF!+#REF!+#REF!+#REF!+#REF!","v":{"$error":"#REF!"}}," ",{"$f":"#REF!+#REF!+#REF!+#REF!+#REF!+#REF!","v":{"$error":"#REF!"}}," ",{"$f":"#REF!+#REF!+#REF!+#REF!+#REF!+#REF!","v":{"$error":"#REF!"}}," ",{"$f":"#REF!+#REF!+#REF!+#REF!+#REF!+#REF!","v":{"$error":"#REF!"}}]
[]
["NATURALIZADOS (Cartas entregadas)",{"$f":"#REF!","v":{"$error":"#REF!"}},null,{"$f":"#REF!","v":{"$error":"#REF!"}},null,{"$f":"#REF!","v":{"$error":"#REF!"}},null,{"$f":"#REF!","v":{"$error":"#REF!"}},null,{"$f":"#REF!","v":{"$error":"#REF!"}},null,{"$f":"#REF!","v":{"$error":"#REF!"}},null,{"$f":"#REF!","v":{"$error":"#REF!"}},null,{"$f":"#REF!","v":{"$error":"#REF!"}},null,{"$f":"#REF!","v":{"$error":"#REF!"}},null,{"$f":"#REF!","v":{"$error":"#REF!"}},null,{"$f":"#REF!","v":{"$error":"#REF!"}},null,{"$f":"#REF!","v":{"$error":"#REF!"}},null,{"$f":"#REF!","v":{"$error":"#REF!"}}]
[]
["PATERNIDAD RESPONSABLE1/"," "]
["INGRESO DE SOLICITUDES",{"$f":"SUM(D39:Z39)","v":{"$error":"#REF!"}},null,{"$f":"#REF!-#REF!","v":{"$error":"#REF!"}},null,{"$f":"#REF!-#REF!","v":{"$error":"#REF!"}},null,{"$f":"#REF!-#REF!","v":{"$error":"#REF!"}},null,{"$f":"#REF!-#REF!","v":{"$error":"#REF!"}},null,{"$f":"#REF!-#REF!","v":{"$error":"#REF!"}},null,{"$f":"#REF!-#REF!","v":{"$error":"#REF!"}},null,{"$f":"#REF!-#REF!","v":{"$error":"#REF!"}},null,{"$f":"#REF!-#REF!","v":{"$error":"#REF!"}},null,{"$f":"#REF!-#REF!","v":{"$error":"#REF!"}},null,{"$f":"#REF!-#REF!","v":{"$error":"#REF!"}},null,{"$f":"#REF!-#REF!","v":{"$error":"#REF!"}},null,{"$f":"#REF!-#REF!","v":{"$error":"#REF!"}}]
["PRUEBAS REALIZADAS",{"$error":"#REF!"},null,{"$f":"+D41+D42","v":{"$error":"#REF!"}},null,{"$f":"+F41+F42","v":{"$error":"#REF!"}},null,{"$f":"+H41+H42","v":{"$error":"#REF!"}},null,{"$f":"+J41+J42","v":{"$error":"#REF!"}},null,{"$f":"+L41+L42","v":{"$error":"#REF!"}},null,{"$f":"+N41+N42","v":{"$error":"#REF!"}},null,{"$f":"+P41+P42","v":{"$error":"#REF!"}},null,{"$f":"+R41+R42","v":{"$error":"#REF!"}},null,{"$f":"+T41+T42","v":{"$error":"#REF!"}},null,{"$f":"+V41+V42","v":{"$error":"#REF!"}},null,{"$f":"+X41+X42","v":{"$error":"#REF!"}},null,{"$f":"+Z41+Z42","v":{"$error":"#REF!"}}]
[" ADN Positivo",{"$error":"#REF!"},null,{"$f":"#REF!-#REF!","v":{"$error":"#REF!"}},null,{"$f":"#REF!-#REF!","v":{"$error":"#REF!"}},null,{"$f":"#REF!-#REF!","v":{"$error":"#REF!"}},null,{"$f":"#REF!-#REF!","v":{"$error":"#REF!"}},null,{"$f":"#REF!-#REF!","v":{"$error":"#REF!"}},null,{"$f":"#REF!-#REF!","v":{"$error":"#REF!"}},null,{"$f":"#REF!-#REF!","v":{"$error":"#REF!"}},null,{"$f":"#REF!-#REF!","v":{"$error":"#REF!"}},null,{"$f":"#REF!-#REF!","v":{"$error":"#REF!"}},null,{"$f":"#REF!-#REF!","v":{"$error":"#REF!"}},null,{"$f":"#REF!-#REF!","v":{"$error":"#REF!"}},null,{"$f":"#REF!-#REF!","v":{"$error":"#REF!"}}]
["ADN Negativo",{"$error":"#REF!"},null,{"$f":"#REF!-#REF!","v":{"$error":"#REF!"}},null,{"$f":"#REF!-#REF!","v":{"$error":"#REF!"}},null,{"$f":"#REF!-#REF!","v":{"$error":"#REF!"}},null,{"$f":"#REF!-#REF!","v":{"$error":"#REF!"}},null,{"$f":"#REF!-#REF!","v":{"$error":"#REF!"}},null,{"$f":"#REF!-#REF!","v":{"$error":"#REF!"}},null,{"$f":"#REF!-#REF!","v":{"$error":"#REF!"}},null,{"$f":"#REF!-#REF!","v":{"$error":"#REF!"}},null,{"$f":"#REF!-#REF!","v":{"$error":"#REF!"}},null,{"$f":"#REF!-#REF!","v":{"$error":"#REF!"}},null,{"$f":"#REF!-#REF!","v":{"$error":"#REF!"}},null,{"$f":"#REF!-#REF!","v":{"$error":"#REF!"}}]
["PRUEBAS NO REALIZADAS",{"$error":"#REF!"},null,{"$f":"+D44+D45+D46","v":{"$error":"#REF!"}},null,{"$f":"#REF!-#REF!","v":{"$error":"#REF!"}},null,{"$f":"#REF!-#REF!","v":{"$error":"#REF!"}},null,{"$f":"+J44+J45+J46","v":{"$error":"#REF!"}},null,{"$f":"+L44+L45+L46","v":{"$error":"#REF!"}},null,{"$f":"+N44+N45+N46","v":{"$error":"#REF!"}},null,{"$f":"+P44+P45+P46","v":{"$error":"#REF!"}},null,{"$f":"+R44+R45+R46","v":{"$error":"#REF!"}},null,{"$f":"+T44+T45+T46","v":{"$error":"#REF!"}},null,{"$f":"+V44+V45+V46","v":{"$error":"#REF!"}},null,{"$f":"+X44+X45+X46","v":{"$error":"#REF!"}},null,{"$f":"+Z44+Z45+Z46","v":{"$error":"#REF!"}}]
["Padre no se presentó",{"$error":"#REF!"},null,{"$f":"#REF!-#REF!","v":{"$error":"#REF!"}},null,{"$f":"#REF!-#REF!","v":{"$error":"#REF!"}},null,{"$f":"#REF!-#REF!","v":{"$error":"#REF!"}},null,{"$f":"#REF!-#REF!","v":{"$error":"#REF!"}},null,{"$f":"#REF!-#REF!","v":{"$error":"#REF!"}},null,{"$f":"#REF!-#REF!","v":{"$error":"#REF!"}},null,{"$f":"#REF!-#REF!","v":{"$error":"#REF!"}},null,{"$f":"#REF!-#REF!","v":{"$error":"#REF!"}},null,{"$f":"#REF!-#REF!","v":{"$error":"#REF!"}},null,{"$f":"#REF!-#REF!","v":{"$error":"#REF!"}},null,{"$f":"#REF!-#REF!","v":{"$error":"#REF!"}},null,{"$f":"#REF!-#REF!","v":{"$error":"#REF!"}}]
["Madre no se presentó",{"$error":"#REF!"},null,{"$f":"#REF!-#REF!","v":{"$error":"#REF!"}},null,{"$f":"#REF!-#REF!","v":{"$error":"#REF!"}},null,{"$f":"#REF!-#REF!","v":{"$error":"#REF!"}},null,{"$f":"#REF!-#REF!","v":{"$error":"#REF!"}},null,{"$f":"#REF!-#REF!","v":{"$error":"#REF!"}},null,{"$f":"#REF!-#REF!","v":{"$error":"#REF!"}},null,{"$f":"#REF!-#REF!","v":{"$error":"#REF!"}},null,{"$f":"#REF!-#REF!","v":{"$error":"#REF!"}},null,{"$f":"#REF!-#REF!","v":{"$error":"#REF!"}},null,{"$f":"#REF!-#REF!","v":{"$error":"#REF!"}},null,{"$f":"#REF!-#REF!","v":{"$error":"#REF!"}},null,{"$f":"#REF!-#REF!","v":{"$error":"#REF!"}}]
["Ninguno se presentó",{"$error":"#REF!"},null,{"$f":"#REF!-#REF!","v":{"$error":"#REF!"}},null,{"$f":"#REF!-#REF!","v":{"$error":"#REF!"}},null,{"$f":"#REF!-#REF!","v":{"$error":"#REF!"}},null,{"$f":"#REF!-#REF!","v":{"$error":"#REF!"}},null,{"$f":"#REF!-#REF!","v":{"$error":"#REF!"}},null,{"$f":"#REF!-#REF!","v":{"$error":"#REF!"}},null,{"$f":"#REF!-#REF!","v":{"$error":"#REF!"}},null,{"$f":"#REF!-#REF!","v":{"$error":"#REF!"}},null,{"$f":"#REF!-#REF!","v":{"$error":"#REF!"}},null,{"$f":"#REF!-#REF!","v":{"$error":"#REF!"}},null,{"$f":"#REF!-#REF!","v":{"$error":"#REF!"}},null,{"$f":"#REF!-#REF!","v":{"$error":"#REF!"}}]
[]
[null,null,null,null,null,null,null,null,null,136,null,262]
[]
["1/ Durante algunos meses a principio del año el laboratorio  de pruebas de ADN estuvo cerrado."]
["Fuente: Informe de labores mensual de las diversas oficinas del Tribunal Supremo de Elecciones."]

{"sheet":"IL ANUAL ELECT.","index":31,"n_rows":43,"n_cols":26,"rows_kept":43,"cut":false,"hidden":true,"merged":[[3,0,3,26]]}
["PARA INFORME DE LABORES ANUAL DEL TSE"]
["ESTADISTICAS ELECTORALES"]
[]
["Cuadro Nº 8: ESTADÍSTICAS ELECTORALES 2010"]
[null,null,null,null,null,null,null,null,null,null,null,null,null,null,null,null,null,null,null,1,null,2,null,3,null,4]
["INDICADORES","TOTAL",null,"ENERO",null,"FEBRERO",null,"MARZO",null,"ABRIL",null,"MAYO",null,"JUNIO",null,"JULIO",null,"AGOSTO",null,"SETIEMBRE",null,"OCTUBRE",null,"NOVIEMBRE",null,"DICIEMBRE"]
[]
["SOLICITUDES CEDULARES RECIBIDAS ",{"$f":"#REF!","v":{"$error":"#REF!"}},null,{"$f":"#REF!","v":{"$error":"#REF!"}},null,{"$f":"#REF!","v":{"$error":"#REF!"}},null,{"$f":"#REF!","v":{"$error":"#REF!"}},null,{"$f":"#REF!","v":{"$error":"#REF!"}},null,{"$f":"#REF!","v":{"$error":"#REF!"}},null,{"$f":"#REF!","v":{"$error":"#REF!"}},null,{"$f":"#REF!","v":{"$error":"#REF!"}},null,{"$f":"#REF!","v":{"$error":"#REF!"}},null,{"$f":"#REF!","v":{"$error":"#REF!"}},null,{"$f":"#REF!","v":{"$error":"#REF!"}},null,{"$f":"#REF!","v":{"$error":"#REF!"}},null,{"$f":"#REF!","v":{"$error":"#REF!"}}]
["Primera vez",{"$f":"#REF!","v":{"$error":"#REF!"}},null,{"$f":"#REF!","v":{"$error":"#REF!"}},null,{"$f":"#REF!","v":{"$error":"#REF!"}},null,{"$f":"#REF!","v":{"$error":"#REF!"}},null,{"$f":"#REF!","v":{"$error":"#REF!"}},null,{"$f":"#REF!","v":{"$error":"#REF!"}},null,{"$f":"#REF!","v":{"$error":"#REF!"}},null,{"$f":"#REF!","v":{"$error":"#REF!"}},null,{"$f":"#REF!","v":{"$error":"#REF!"}},null,{"$f":"#REF!","v":{"$error":"#REF!"}},null,{"$f":"#REF!","v":{"$error":"#REF!"}},null,{"$f":"#REF!","v":{"$error":"#REF!"}},null,{"$f":"#REF!","v":{"$error":"#REF!"}}]
["Duplicado",{"$f":"#REF!","v":{"$error":"#REF!"}},null,{"$f":"#REF!","v":{"$error":"#REF!"}},null,{"$f":"#REF!","v":{"$error":"#REF!"}},null,{"$f":"#REF!","v":{"$error":"#REF!"}},null,{"$f":"#REF!","v":{"$error":"#REF!"}},null,{"$f":"#REF!","v":{"$error":"#REF!"}},null,{"$f":"#REF!","v":{"$error":"#REF!"}},null,{"$f":"#REF!","v":{"$error":"#REF!"}},null,{"$f":"#REF!","v":{"$error":"#REF!"}},null,{"$f":"#REF!","v":{"$error":"#REF!"}},null,{"$f":"#REF!","v":{"$error":"#REF!"}},null,{"$f":"#REF!","v":{"$error":"#REF!"}},null,{"$f":"#REF!","v":{"$error":"#REF!"}}]
["Traslado",{"$f":"#REF!","v":{"$error":"#REF!"}},null,{"$f":"#REF!","v":{"$error":"#REF!"}},null,{"$f":"#REF!","v":{"$error":"#REF!"}},null,{"$f":"#REF!","v":{"$error":"#REF!"}},null,{"$f":"#REF!","v":{"$error":"#REF!"}},null,{"$f":"#REF!","v":{"$error":"#REF!"}},null,{"$f":"#REF!","v":{"$error":"#REF!"}},null,{"$f":"#REF!","v":{"$error":"#REF!"}},null,{"$f":"#REF!","v":{"$error":"#REF!"}},null,{"$f":"#REF!","v":{"$error":"#REF!"}},null,{"$f":"#REF!","v":{"$error":"#REF!"}},null,{"$f":"#REF!","v":{"$error":"#REF!"}},null,{"$f":"#REF!","v":{"$error":"#REF!"}}]
[]
["CÉDULAS DE IDENTIDAD IMPRESAS",{"$f":"#REF!","v":{"$error":"#REF!"}},null,{"$f":"#REF!","v":{"$error":"#REF!"}},null,{"$f":"#REF!","v":{"$error":"#REF!"}},null,{"$f":"#REF!","v":{"$error":"#REF!"}},null,{"$f":"#REF!","v":{"$error":"#REF!"}},null,{"$f":"#REF!","v":{"$error":"#REF!"}},null,{"$f":"#REF!","v":{"$error":"#REF!"}},null,{"$f":"#REF!","v":{"$error":"#REF!"}},null,{"$f":"#REF!","v":{"$error":"#REF!"}},null,{"$f":"#REF!","v":{"$error":"#REF!"}},null,{"$f":"#REF!","v":{"$error":"#REF!"}},null,{"$f":"#REF!","v":{"$error":"#REF!"}},null,{"$f":"#REF!","v":{"$error":"#REF!"}}]
[]
["MOVIMIENTOS Y MODIFICACIONES AL PADRÓN",{"$f":"#REF!","v":{"$error":"#REF!"}},null,{"$f":"#REF!","v":{"$error":"#REF!"}},null,{"$f":"#REF!","v":{"$error":"#REF!"}},null,{"$f":"#REF!","v":{"$error":"#REF!"}},null,{"$f":"#REF!","v":{"$error":"#REF!"}},null,{"$f":"#REF!","v":{"$error":"#REF!"}},null,{"$f":"#REF!","v":{"$error":"#REF!"}},null,{"$f":"#REF!","v":{"$error":"#REF!"}},null,{"$f":"#REF!","v":{"$error":"#REF!"}},null,{"$f":"#REF!","v":{"$error":"#REF!"}},null,{"$f":"#REF!","v":{"$error":"#REF!"}},null,{"$f":"#REF!","v":{"$error":"#REF!"}},null,{"$f":"#REF!","v":{"$error":"#REF!"}}]
["INCLUSIONES",{"$f":"SUM(D16:Z16)","v":{"$error":"#REF!"}},null,{"$f":"#REF!","v":{"$error":"#REF!"}},null,{"$f":"#REF!","v":{"$error":"#REF!"}},null,{"$f":"#REF!","v":{"$error":"#REF!"}},null,{"$f":"#REF!","v":{"$error":"#REF!"}},null,{"$f":"#REF!","v":{"$error":"#REF!"}},null,{"$f":"#REF!","v":{"$error":"#REF!"}},null,{"$f":"#REF!","v":{"$error":"#REF!"}},null,{"$f":"#REF!","v":{"$error":"#REF!"}},null,{"$f":"#REF!","v":{"$error":"#REF!"}},null,{"$f":"#REF!","v":{"$error":"#REF!"}},null,{"$f":"#REF!","v":{"$error":"#REF!"}},null,{"$f":"#REF!","v":{"$error":"#REF!"}}]
["EXCLUSIONES",{"$f":"SUM(D17:Z17)","v":{"$error":"#REF!"}},null,{"$f":"#REF!","v":{"$error":"#REF!"}},null,{"$f":"#REF!","v":{"$error":"#REF!"}},null,{"$f":"#REF!","v":{"$error":"#REF!"}},null,{"$f":"#REF!","v":{"$error":"#REF!"}},null,{"$f":"#REF!","v":{"$error":"#REF!"}},null,{"$f":"#REF!","v":{"$error":"#REF!"}},null,{"$f":"#REF!","v":{"$error":"#REF!"}},null,{"$f":"#REF!","v":{"$error":"#REF!"}},null,{"$f":"#REF!","v":{"$error":"#REF!"}},null,{"$f":"#REF!","v":{"$error":"#REF!"}},null,{"$f":"#REF!","v":{"$error":"#REF!"}},null,{"$f":"#REF!","v":{"$error":"#REF!"}}]
["OTROS MOVIMIENTOS",{"$f":"SUM(D18:Z18)","v":{"$error":"#REF!"}},null,{"$f":"+D15-D16-D17","v":{"$error":"#REF!"}},null,{"$error":"#REF!"},null,{"$error":"#REF!"},null,{"$error":"#REF!"},null,{"$error":"#REF!"},null,{"$error":"#REF!"},null,{"$error":"#REF!"},null,{"$error":"#REF!"},null,{"$error":"#REF!"},null,{"$error":"#REF!"},null,{"$error":"#REF!"},null,{"$error":"#REF!"}]
[]
["FISCALIZACIÓN DE ASAMBLEAS DE PARTIDOS POLÍTICOS",{"$f":"#REF!","v":{"$error":"#REF!"}},null,{"$f":"#REF!","v":{"$error":"#REF!"}},null,{"$f":"#REF!","v":{"$error":"#REF!"}},null,{"$f":"#REF!","v":{"$error":"#REF!"}},null,{"$f":"#REF!","v":{"$error":"#REF!"}},null,{"$f":"#REF!","v":{"$error":"#REF!"}},null,{"$f":"#REF!","v":{"$error":"#REF!"}},null,{"$f":"#REF!","v":{"$error":"#REF!"}},null,{"$f":"#REF!","v":{"$error":"#REF!"}},null,{"$f":"#REF!","v":{"$error":"#REF!"}},null,{"$f":"#REF!","v":{"$error":"#REF!"}},null,{"$f":"#REF!","v":{"$error":"#REF!"}},null,{"$f":"#REF!","v":{"$error":"#REF!"}}]
["Distritales",{"$f":"#REF!","v":{"$error":"#REF!"}},null,{"$f":"#REF!","v":{"$error":"#REF!"}},null,{"$f":"#REF!","v":{"$error":"#REF!"}},null,{"$f":"#REF!","v":{"$error":"#REF!"}},null,{"$f":"#REF!","v":{"$error":"#REF!"}},null,{"$f":"#REF!","v":{"$error":"#REF!"}},null,{"$f":"#REF!","v":{"$error":"#REF!"}},null,{"$f":"#REF!","v":{"$error":"#REF!"}},null,{"$f":"#REF!","v":{"$error":"#REF!"}},null,{"$f":"#REF!","v":{"$error":"#REF!"}},null,{"$f":"#REF!","v":{"$error":"#REF!"}},null,{"$f":"#REF!","v":{"$error":"#REF!"}},null,{"$f":"#REF!","v":{"$error":"#REF!"}}]
["Cantonales",{"$f":"#REF!","v":{"$error":"#REF!"}},null,{"$f":"#REF!","v":{"$error":"#REF!"}},null,{"$f":"#REF!","v":{"$error":"#REF!"}},null,{"$f":"#REF!","v":{"$error":"#REF!"}},null,{"$f":"#REF!","v":{"$error":"#REF!"}},null,{"$f":"#REF!","v":{"$error":"#REF!"}},null,{"$f":"#REF!","v":{"$error":"#REF!"}},null,{"$f":"#REF!","v":{"$error":"#REF!"}},null,{"$f":"#REF!","v":{"$error":"#REF!"}},null,{"$f":"#REF!","v":{"$error":"#REF!"}},null,{"$f":"#REF!","v":{"$error":"#REF!"}},null,{"$f":"#REF!","v":{"$error":"#REF!"}},null,{"$f":"#REF!","v":{"$error":"#REF!"}}]
["Provinciales",{"$f":"#REF!","v":{"$error":"#REF!"}},null,{"$f":"#REF!","v":{"$error":"#REF!"}},null,{"$f":"#REF!","v":{"$error":"#REF!"}},null,{"$f":"#REF!","v":{"$error":"#REF!"}},null,{"$f":"#REF!","v":{"$error":"#REF!"}},null,{"$f":"#REF!","v":{"$error":"#REF!"}},null,{"$f":"#REF!","v":{"$error":"#REF!"}},null,{"$f":"#REF!","v":{"$error":"#REF!"}},null,{"$f":"#REF!","v":{"$error":"#REF!"}},null,{"$f":"#REF!","v":{"$error":"#REF!"}},null,{"$f":"#REF!","v":{"$error":"#REF!"}},null,{"$f":"#REF!","v":{"$error":"#REF!"}},null,{"$f":"#REF!","v":{"$error":"#REF!"}}]
["Nacionales",{"$f":"#REF!","v":{"$error":"#REF!"}},null,{"$f":"#REF!","v":{"$error":"#REF!"}},null,{"$f":"#REF!","v":{"$error":"#REF!"}},null,{"$f":"#REF!","v":{"$error":"#REF!"}},null,{"$f":"#REF!","v":{"$error":"#REF!"}},null,{"$f":"#REF!","v":{"$error":"#REF!"}},null,{"$f":"#REF!","v":{"$error":"#REF!"}},null,{"$f":"#REF!","v":{"$error":"#REF!"}},null,{"$f":"#REF!","v":{"$error":"#REF!"}},null,{"$f":"#REF!","v":{"$error":"#REF!"}},null,{"$f":"#REF!","v":{"$error":"#REF!"}},null,{"$f":"#REF!","v":{"$error":"#REF!"}},null,{"$f":"#REF!","v":{"$error":"#REF!"}}]
[]
["ATENCIÓN DE CONSULTAS EN MATERIA ELECTORAL 2/",{"$f":"#REF!","v":{"$error":"#REF!"}},null,{"$f":"#REF!","v":{"$error":"#REF!"}},null,{"$f":"#REF!","v":{"$error":"#REF!"}},null,{"$f":"#REF!","v":{"$error":"#REF!"}},null,{"$f":"#REF!","v":{"$error":"#REF!"}},null,{"$f":"#REF!","v":{"$error":"#REF!"}},null,{"$f":"#REF!","v":{"$error":"#REF!"}},null,{"$f":"#REF!","v":{"$error":"#REF!"}},null,{"$f":"#REF!","v":{"$error":"#REF!"}},null,{"$f":"#REF!","v":{"$error":"#REF!"}},null,{"$f":"#REF!","v":{"$error":"#REF!"}},null,{"$f":"#REF!","v":{"$error":"#REF!"}},null,{"$f":"#REF!","v":{"$error":"#REF!"}}]
["Partidos políticos",{"$f":"#REF!","v":{"$error":"#REF!"}},null,{"$f":"#REF!","v":{"$error":"#REF!"}},null,{"$f":"#REF!","v":{"$error":"#REF!"}},null,{"$f":"#REF!","v":{"$error":"#REF!"}},null,{"$f":"#REF!","v":{"$error":"#REF!"}},null,{"$f":"#REF!","v":{"$error":"#REF!"}},null,{"$f":"#REF!","v":{"$error":"#REF!"}},null,{"$f":"#REF!","v":{"$error":"#REF!"}},null,{"$f":"#REF!","v":{"$error":"#REF!"}},null,{"$f":"#REF!","v":{"$error":"#REF!"}},null,{"$f":"#REF!","v":{"$error":"#REF!"}},null,{"$f":"#REF!","v":{"$error":"#REF!"}},null,{"$f":"#REF!","v":{"$error":"#REF!"}}]
["Asamblea legislativa",{"$f":"#REF!","v":{"$error":"#REF!"}},null,{"$f":"#REF!","v":{"$error":"#REF!"}},null,{"$f":"#REF!","v":{"$error":"#REF!"}},null,{"$f":"#REF!","v":{"$error":"#REF!"}},null,{"$f":"#REF!","v":{"$error":"#REF!"}},null,{"$f":"#REF!","v":{"$error":"#REF!"}},null,{"$f":"#REF!","v":{"$error":"#REF!"}},null,{"$f":"#REF!","v":{"$error":"#REF!"}},null,{"$f":"#REF!","v":{"$error":"#REF!"}},null,{"$f":"#REF!","v":{"$error":"#REF!"}},null,{"$f":"#REF!","v":{"$error":"#REF!"}},null,{"$f":"#REF!","v":{"$error":"#REF!"}},null,{"$f":"#REF!","v":{"$error":"#REF!"}}]
["Municipalidades",{"$f":"#REF!","v":{"$error":"#REF!"}},null,{"$f":"#REF!","v":{"$error":"#REF!"}},null,{"$f":"#REF!","v":{"$error":"#REF!"}},null,{"$f":"#REF!","v":{"$error":"#REF!"}},null,{"$f":"#REF!","v":{"$error":"#REF!"}},null,{"$f":"#REF!","v":{"$error":"#REF!"}},null,{"$f":"#REF!","v":{"$error":"#REF!"}},null,{"$f":"#REF!","v":{"$error":"#REF!"}},null,{"$f":"#REF!","v":{"$error":"#REF!"}},null,{"$f":"#REF!","v":{"$error":"#REF!"}},null,{"$f":"#REF!","v":{"$error":"#REF!"}},null,{"$f":"#REF!","v":{"$error":"#REF!"}},null,{"$f":"#REF!","v":{"$error":"#REF!"}}]
["Delegado ad honorem",{"$f":"#REF!","v":{"$error":"#REF!"}},null,{"$f":"#REF!","v":{"$error":"#REF!"}},null,{"$f":"#REF!","v":{"$error":"#REF!"}},null,{"$f":"#REF!","v":{"$error":"#REF!"}},null,{"$f":"#REF!","v":{"$error":"#REF!"}},null,{"$f":"#REF!","v":{"$error":"#REF!"}},null,{"$f":"#REF!","v":{"$error":"#REF!"}},null,{"$f":"#REF!","v":{"$error":"#REF!"}},null,{"$f":"#REF!","v":{"$error":"#REF!"}},null,{"$f":"#REF!","v":{"$error":"#REF!"}},null,{"$f":"#REF!","v":{"$error":"#REF!"}},null,{"$f":"#REF!","v":{"$error":"#REF!"}},null,{"$f":"#REF!","v":{"$error":"#REF!"}}]
["Centros educativos, asociaciones  y ciudadanos en general",{"$f":"#REF!","v":{"$error":"#REF!"}},null,{"$f":"#REF!","v":{"$error":"#REF!"}},null,{"$f":"#REF!","v":{"$error":"#REF!"}},null,{"$f":"#REF!","v":{"$error":"#REF!"}},null,{"$f":"#REF!","v":{"$error":"#REF!"}},null,{"$f":"#REF!","v":{"$error":"#REF!"}},null,{"$f":"#REF!","v":{"$error":"#REF!"}},null,{"$f":"#REF!","v":{"$error":"#REF!"}},null,{"$f":"#REF!","v":{"$error":"#REF!"}},null,{"$f":"#REF!","v":{"$error":"#REF!"}},null,{"$f":"#REF!","v":{"$error":"#REF!"}},null,{"$f":"#REF!","v":{"$error":"#REF!"}},null,{"$f":"#REF!","v":{"$error":"#REF!"}}]
["Fuerza pública",{"$f":"#REF!","v":{"$error":"#REF!"}},null,{"$f":"#REF!","v":{"$error":"#REF!"}},null,{"$f":"#REF!","v":{"$error":"#REF!"}},null,{"$f":"#REF!","v":{"$error":"#REF!"}},null,{"$f":"#REF!","v":{"$error":"#REF!"}},null,{"$f":"#REF!","v":{"$error":"#REF!"}},null,{"$f":"#REF!","v":{"$error":"#REF!"}},null,{"$f":"#REF!","v":{"$error":"#REF!"}},null,{"$f":"#REF!","v":{"$error":"#REF!"}},null,{"$f":"#REF!","v":{"$error":"#REF!"}},null,{"$f":"#REF!","v":{"$error":"#REF!"}},null,{"$f":"#REF!","v":{"$error":"#REF!"}},null,{"$f":"#REF!","v":{"$error":"#REF!"}}]
["Otros(auxiliares electorales)",{"$f":"#REF!","v":{"$error":"#REF!"}},null,{"$f":"#REF!","v":{"$error":"#REF!"}},null,{"$f":"#REF!","v":{"$error":"#REF!"}},null,{"$f":"#REF!","v":{"$error":"#REF!"}},null,{"$f":"#REF!","v":{"$error":"#REF!"}},null,{"$f":"#REF!","v":{"$error":"#REF!"}},null,{"$f":"#REF!","v":{"$error":"#REF!"}},null,{"$f":"#REF!","v":{"$error":"#REF!"}},null,{"$f":"#REF!","v":{"$error":"#REF!"}},null,{"$f":"#REF!","v":{"$error":"#REF!"}},null,{"$f":"#REF!","v":{"$error":"#REF!"}},null,{"$f":"#REF!","v":{"$error":"#REF!"}},null,{"$f":"#REF!","v":{"$error":"#REF!"}}]
[]
["PADRÓN ELECTORAL",null,null,{"$f":"#REF!","v":{"$error":"#REF!"}},null,{"$f":"#REF!","v":{"$error":"#REF!"}},null,{"$f":"#REF!","v":{"$error":"#REF!"}},null,{"$f":"#REF!","v":{"$error":"#REF!"}},null,{"$f":"#REF!","v":{"$error":"#REF!"}},null,{"$f":"#REF!","v":{"$error":"#REF!"}},null,{"$f":"#REF!","v":{"$error":"#REF!"}},null,{"$f":"#REF!","v":{"$error":"#REF!"}},null,{"$f":"#REF!","v":{"$error":"#REF!"}},null,{"$f":"#REF!","v":{"$error":"#REF!"}},null,{"$f":"#REF!","v":{"$error":"#REF!"}},null,{"$f":"#REF!","v":{"$error":"#REF!"}}]
["Hombres",null,null,{"$f":"#REF!","v":{"$error":"#REF!"}},null,{"$f":"#REF!","v":{"$error":"#REF!"}},null,{"$f":"#REF!","v":{"$error":"#REF!"}},null,{"$f":"#REF!","v":{"$error":"#REF!"}},null,{"$f":"#REF!","v":{"$error":"#REF!"}},null,{"$f":"#REF!","v":{"$error":"#REF!"}},null,{"$f":"#REF!","v":{"$error":"#REF!"}},null,{"$f":"#REF!","v":{"$error":"#REF!"}},null,{"$f":"#REF!","v":{"$error":"#REF!"}},null,{"$f":"#REF!","v":{"$error":"#REF!"}},null,{"$f":"#REF!","v":{"$error":"#REF!"}},null,{"$f":"#REF!","v":{"$error":"#REF!"}}]
["Mujeres",null,null,{"$f":"#REF!","v":{"$error":"#REF!"}},null,{"$f":"#REF!","v":{"$error":"#REF!"}},null,{"$f":"#REF!","v":{"$error":"#REF!"}},null,{"$f":"#REF!","v":{"$error":"#REF!"}},null,{"$f":"#REF!","v":{"$error":"#REF!"}},null,{"$f":"#REF!","v":{"$error":"#REF!"}},null,{"$f":"#REF!","v":{"$error":"#REF!"}},null,{"$f":"#REF!","v":{"$error":"#REF!"}},null,{"$f":"#REF!","v":{"$error":"#REF!"}},null,{"$f":"#REF!","v":{"$error":"#REF!"}},null,{"$f":"#REF!","v":{"$error":"#REF!"}},null,{"$f":"#REF!","v":{"$error":"#REF!"}}]
[]
[]
[null,null,null,null,null,null,null,null,null,136,null,262]
["1/ Consultas atendidas por el Departamento de Coordinación de Programas Electorales"]
[]
["Fuente: Informe de labores mensual de las diversas oficinas del Tribunal Supremo de Elecciones."]

{"sheet":"22","index":32,"n_rows":46,"n_cols":3,"rows_kept":46,"cut":false,"hidden":false,"merged":[[41,0,41,2],[0,0,0,2],[2,0,2,2],[3,0,3,2],[5,0,6,0],[5,1,6,1],[5,2,6,2]]}
["CUADRO 22"]
[]
["COSTA RICA: DONACIONES REPORTADAS PARA EL PROCESO ELECTORAL 2010-20141/ "]
["SEGÚN PARTIDO POLÍTICO 2/, AL 31 DE DICIEMBRE DE 2010"]
[]
["PARTIDO POLÍTICO ","MONTO EN COLONES","PORCENTAJE"]
[]
[]
["TOTAL ",519169313.79999995,99.999999999999986]
[]
["ACCESIBILIDAD SIN EXCLUSIÓN",7670000,1.4773600434625689]
["ACCIÓN CANTONAL SIQUIRRES INDEPENDIENTE",470000,9.0529233432517259E-2]
["ACCIÓN CIUDADANA",17343617.899999999,3.3406477307095415]
["ACCIÓN NARANJEÑA",48000,9.2455387335336776E-3]
["ACCIÓN QUEPEÑA",220000,4.2375385862029352E-2]
["BARVA UNIDA (COALICIÓN)",570000,0.10979077246071242]
["CARTAGO UNIDO (COALICIÓN)",14436469.27,2.780686162734451]
["CÍVICO TIBÁS FUENTEOVEJUNA",10000,1.9261539028195161E-3]
["CURRIDABAT SIGLO XXI",970000,0.18683692857349307]
["DEL SOL",4906800,0.94512519703548026]
["EL PUENTE Y LOS CAMINOS DE MORA",2071330,0.39897003635271483]
["FRENTE AMPLIO",33050627.870000001,6.3660595862435967]
["INDEPENDIENTE BELEMITA",314835,6.0642066399418229E-2]
["INTEGRACIÓN BARBAREÑA",581601.94999999995,0.11202548658799411]
["INTEGRACIÓN NACIONAL",6198000,1.1938301889675362]
["LIBERACIÓN NACIONAL",171090162,32.954598327032322]
["MONTES DE OCA UNIDA (COALICIÓN)",864000,0.16641969720360619]
["MOVIMIENTO AVANCE SANTO DOMINGO",5253480,1.0119011005384271]
["MOVIMIENTO LIBERTARIO",226154811.78999999,43.560897337072163]
["ORGANIZACIÓN LABORISTA DE AGUIRRE",367000,7.0689848233476252E-2]
["RENOVACIÓN COSTARRICENSE",502000,9.6692925921539719E-2]
["RESTAURACIÓN HEREDIANA",19096,3.678183492824148E-3]
["RESTAURACIÓN NACIONAL",3479405,0.67018695202397383]
["UNIDAD SOCIAL CRISTIANA",7993769.25,1.5397229839126136]
["UNIDOS POR SAN CARLOS (COALICIÓN)",950000,0.18298462076785404]
["UNIÓN ATENIENSE",165000,3.1781539396522021E-2]
["UNIÓN PALMAREÑA",874427.77,0.16842824619192664]
["YUNTA PROGRESISTA ESCAZUCEÑA",12594880,2.4259677267543465]
[" "]
[]
["1/ Donaciones recibidas, reportadas por los partidos políticos de marzo a diciembre de 2010.  "]
["2/ Las agrupaciones Tarrazú Primero y Unión Poaseña no remitieron el reporte de contribuyentes durante el año. \nLos siguientes Partidos Políticos reportaron no haber recibido donaciones durante el año: Alianza Mayor, Alianza Patriótica, Autónomo Oromontano, Comunal Pro Curri, Goicoechea en Acción, Humanista de Heredia, Humanista de Montes de Oca, Movimiento de Trabajadores y Campesinos, Organización Social Activa, Restauración Alajuelense, Talamanca Unida, Transparencia Cartaginés, Único Abangareño, Unión Agrícola Cartaginés y Viva Buenos Aires."]
[]
["Nota: El detalle de los contribuyentes se puede consultar en  www.tse.go.cr"]
[]
["Fuente: Departamento de Financiamiento de Partidos Políticos."]