{"text_format":"1","workbook":"xlsx","n_sheets":31,"sheets":["MENU","1","2","3","G1","4","5","G2","6","7","8","9","10","11","G3","G4 y G5 ","12","13","14","G6","15","G7","16","G8","17","18","19","20","21","22","23"],"not_rendered":{"charts":8,"images":0,"macros":1,"external_links":3,"defined_names":22,"comments":0,"pivot_tables":0},"unopened":[],"bounds":{"document_bytes":16777216,"sheet_cells":100000,"rows_first":2000,"rows_last":500,"rows_between":2000,"halvings":0,"cell_chars":16384,"cell_head_chars":4096},"cells_cut":0,"cells_raw":0,"read":"whole","date_system":"1900"}

{"sheet":"MENU","index":0,"n_rows":27,"n_cols":3,"rows_kept":27,"cut":false,"hidden":false,"merged":[]}
["      "]
[]
[]
[]
[]
["C1"]
[{"$f":"LEFT(C7,4)","v":""}]
[""]
[""]
["C5. ",null,"C5.  ELECTORES POR PAÍS DE ORIGEN "]
[""]
[""]
[""]
[""]
[""]
[""]
[""]
[""]
[""]
[""]
[""]
[""]
[]
[]
[null,null,"Observaciones al "]
[null,null,"correo electrónico: dejecutiva@tse.go.cr"]
[{"$f":"LEFT(C27,4)","v":""}]

{"sheet":"1","index":1,"n_rows":48,"n_cols":6,"rows_kept":48,"cut":false,"hidden":false,"merged":[[45,0,45,5],[0,0,0,5],[1,0,1,5],[2,0,2,5],[3,0,3,5],[5,0,6,0],[5,1,5,2],[5,4,5,5]]}
["CUADRO 1"]
["COSTA RICA: TOTAL Y VARIACIÓN DEL ELECTORADO"]
["ENTRE DICIEMBRE 2010 Y DICIEMBRE 2012"]
[" SEGÚN PROVINCIA Y SEXO"]
[]
["Provincia y sexo","Padrón Nacional Electoral",null,null,"Variación"]
[null,"Diciembre 2010","Diciembre 2012",null,"Absoluto","Porcentaje"]
[]
["Costa Rica",{"$f":"B13+B17+B21+B25+B29+B33+B37+B41","v":2866217},3003922,null,{"$f":"C9-B9","v":137705},{"$f":"E9/B9*100","v":4.8044164136909382}]
["Hombres",1430857,1500951,null,{"$f":"C10-B10","v":70094},{"$f":"E10/B10*100","v":4.898742501871256}]
["Mujeres",1435360,1502971,null,{"$f":"C11-B11","v":67611},{"$f":"E11/B11*100","v":4.7103862445658233}]
[]
["San José",{"$f":"SUM(B14:B15)","v":1016678},{"$f":"+C14+C15","v":1046343},null,{"$f":"C13-B13","v":29665},{"$f":"E13/B13*100","v":2.9178363257589917}]
["Hombres",495505,510843,null,{"$f":"C14-B14","v":15338},{"$f":"E14/B14*100","v":3.0954278967921618}]
["Mujeres",521173,535500,null,{"$f":"C15-B15","v":14327},{"$f":"E15/B15*100","v":2.7489912178873426}]
[]
["Alajuela",{"$f":"+B18+B19","v":533285},{"$f":"+C18+C19","v":562017},null,{"$f":"C17-B17","v":28732},{"$f":"E17/B17*100","v":5.3877382637801547}]
["Hombres",269128,283790,null,{"$f":"C18-B18","v":14662},{"$f":"E18/B18*100","v":5.4479652804613421}]
["Mujeres",264157,278227,null,{"$f":"C19-B19","v":14070},{"$f":"E19/B19*100","v":5.326377873764466}]
[]
["Cartago",{"$f":"+B22+B23","v":334473},{"$f":"+C22+C23","v":351153},null,{"$f":"C21-B21","v":16680},{"$f":"E21/B21*100","v":4.9869496192517779}]
["Hombres",167036,175432,null,{"$f":"C22-B22","v":8396},{"$f":"E22/B22*100","v":5.0264613616226441}]
["Mujeres",167437,175721,null,{"$f":"C23-B23","v":8284},{"$f":"E23/B23*100","v":4.947532504762985}]
[]
["Heredia",{"$f":"+B26+B27","v":283771},{"$f":"+C26+C27","v":299166},null,{"$f":"C25-B25","v":15395},{"$f":"E25/B25*100","v":5.4251491519570356}]
["Hombres",139912,147640,null,{"$f":"C26-B26","v":7728},{"$f":"E26/B26*100","v":5.523471896620733}]
["Mujeres",143859,151526,null,{"$f":"C27-B27","v":7667},{"$f":"E27/B27*100","v":5.3295240478524111}]
[]
["Guanacaste",{"$f":"+B30+B31","v":203614},{"$f":"+C30+C31","v":215449},null,{"$f":"C29-B29","v":11835},{"$f":"E29/B29*100","v":5.8124686907580028}]
["Hombres",103249,109215,null,{"$f":"C30-B30","v":5966},{"$f":"E30/B30*100","v":5.778264196263402}]
["Mujeres",100365,106234,null,{"$f":"C31-B31","v":5869},{"$f":"E31/B31*100","v":5.8476560553977981}]
[]
["Puntarenas",{"$f":"+B34+B35","v":265197},{"$f":"+C34+C35","v":280534},null,{"$f":"C33-B33","v":15337},{"$f":"E33/B33*100","v":5.7832479251273581}]
["Hombres",136989,144745,null,{"$f":"C34-B34","v":7756},{"$f":"E34/B34*100","v":5.6617684631612759}]
["Mujeres",128208,135789,null,{"$f":"C35-B35","v":7581},{"$f":"E35/B35*100","v":5.9130475477349309}]
[]
["Limón",{"$f":"+B38+B39","v":228491},{"$f":"+C38+C39","v":243146},null,{"$f":"C37-B37","v":14655},{"$f":"E37/B37*100","v":6.4138193626882458}]
["Hombres",118700,126180,null,{"$f":"C38-B38","v":7480},{"$f":"E38/B38*100","v":6.301600673967986}]
["Mujeres",109791,116966,null,{"$f":"C39-B39","v":7175},{"$f":"E39/B39*100","v":6.5351440464154615}]
[]
["En el extranjero 1/",{"$f":"+B42+B43","v":708},{"$f":"+C42+C43","v":6114},null,{"$f":"C41-B41","v":5406},{"$f":"E41/B41*100","v":763.5593220338983}]
["Hombres",338,3106,null,{"$f":"C42-B42","v":2768},{"$f":"E42/B42*100","v":818.93491124260345}]
["Mujeres",370,3008,null,{"$f":"C43-B43","v":2638},{"$f":"E43/B43*100","v":712.97297297297291}]
[]
[]
["1/ Costarricenses inscritos(as) que pueden ejercer el voto en extranjero para designar los puestos de Presidencia y Vicepresidencias, así como en consultas populares de orden nacional, según el artículo 187 del Código Electoral."]
[]
["Fuente: Sección Padrón Electoral del Tribunal Supremo de Elecciones."]

{"sheet":"2","index":2,"n_rows":110,"n_cols":8,"rows_kept":110,"cut":false,"hidden":false,"merged":[[108,0,108,7],[18,9,18,13],[19,9,19,13],[20,9,21,10],[20,11,20,12],[20,13,21,13],[22,9,110,9],[0,0,0,7],[1,0,1,7],[2,0,2,7],[3,0,3,7],[5,0,7,0],[5,1,5,7],[6,1,6,4],[6,5,6,7],[7,3,7,4]]}
["CUADRO 2"]
["COSTA RICA: ELECTORADO EN EL PADRÓN PARA LAS ELECCIONES DE"]
["DICIEMBRE 2010 Y EN EL PADRÓN AL 31 DE DICIEMBRE DE 2012"]
["POR SEXO,  SEGÚN PROVINCIA Y CANTÓN"]
[]
["Provincia y cantón","Padrón Nacional Electoral"]
[null,"Diciembre 2010",null,null,null,"Diciembre 2012"]
[null,"Total","Hombres","Mujeres",null,"Total","Hombres","Mujeres"]
["Costa Rica",{"$f":"SUM(B10:B17)","v":2866217},{"$f":"SUM(C10:C17)","v":1430857},{"$f":"SUM(D10:D17)","v":1435360},{"$f":"E18+E39+E55+E64+E75+E87+E99","v":0},{"$f":"F18+F39+F55+F64+F75+F87+F99+F106","v":3003922},{"$f":"G18+G39+G55+G64+G75+G87+G99+G106","v":1500951},{"$f":"H18+H39+H55+H64+H75+H87+H99+H106","v":1502971}]
["San José",{"$f":"B18","v":1016678},495505,521173,0,1046343,510843,535500]
["Alajuela",{"$f":"B39","v":533285},269128,264157,0,562017,283790,278227]
["Cartago",{"$f":"B55","v":334473},167036,167437,0,351153,175432,175721]
["Heredia",{"$f":"B64","v":283771},139912,143859,0,299166,147640,151526]
["Guanacaste",{"$f":"B75","v":203614},103249,100365,0,215449,109215,106234]
["Puntarenas",{"$f":"B87","v":265197},136989,128208,0,280534,144745,135789]
["Limón",{"$f":"B99","v":228491},118700,109791,0,243146,126180,116966]
["En el extranjero 1/",{"$f":"B106","v":708},{"$f":"C106","v":338},{"$f":"D106","v":370},null,{"$f":"F106","v":6114},{"$f":"G106","v":3106},{"$f":"H106","v":3008}]
["San José",{"$f":"SUM(C18:D18)","v":1016678},{"$f":"SUM(C19:C38)","v":495505},{"$f":"SUM(D19:D38)","v":521173},null,{"$f":"SUM(F19:F38)","v":1046343},{"$f":"SUM(G19:G38)","v":510843},{"$f":"SUM(H19:H38)","v":535500}]
["San José",{"$f":"+C19+D19","v":225542},108215,117327,null,{"$f":"SUM(G19:H19)","v":226533},108963,117570]
["Escazú",40526,19736,20790,null,42366,20723,21643]
["Desamparados",144901,71011,73890,null,149597,73508,76089]
["Puriscal",24663,12429,12234,null,25871,13048,12823]
["Tarrazú",10616,5449,5167,null,11217,5699,5518]
["Aserrí",37616,18801,18815,null,39450,19711,19739]
["Mora",17413,8641,8772,null,18601,9233,9368]
["Goicoechea",85797,41130,44667,null,86760,41585,45175]
["Santa Ana",27941,13729,14212,null,30066,14821,15245]
["Alajuelita",44907,22315,22592,null,46714,23127,23587]
["Vázquez de Coronado",45831,22200,23631,null,48565,23503,25062]
["Acosta",14354,7482,6872,null,15278,7938,7340]
["Tibás",55315,26064,29251,null,55230,26073,29157]
["Moravia",40392,19306,21086,null,41654,19999,21655]
["Montes de Oca",41135,19190,21945,null,41219,19349,21870]
["Turrubares",4187,2195,1992,null,4324,2264,2060]
["Dota",4836,2437,2399,null,5081,2551,2530]
["Curridabat",44286,21313,22973,null,45573,21971,23602]
["Pérez Zeledón",98271,49699,48572,null,103668,52377,51291]
["León Cortés",8149,4163,3986,null,8576,4400,4176]
["Alajuela",{"$f":"SUM(B40:B54)","v":533285},{"$f":"SUM(C40:C54)","v":269128},{"$f":"SUM(D40:D54)","v":264157},null,562017,{"$f":"SUM(G40:G54)","v":283790},{"$f":"SUM(H40:H54)","v":278227}]
["Alajuela",{"$f":"+C40+D40","v":173149},87161,85988,null,180977,91057,89920]
["San Ramón",53851,26770,27081,null,56654,28288,28366]
["Grecia",50974,25480,25494,null,53644,26819,26825]
["San Mateo",3822,1984,1838,null,3933,2048,1885]
["Atenas",17658,8873,8785,null,18422,9259,9163]
["Naranjo",28029,13921,14108,null,29204,14468,14736]
["Palmares",25315,12541,12774,null,26608,13198,13410]
["Poás",18233,9174,9059,null,19229,9702,9527]
["Orotina",12953,6479,6474,null,13716,6841,6875]
["San Carlos",88519,45250,43269,null,94614,48487,46127]
["Zarcero",7973,3999,3974,null,8264,4150,4114]
["Valverde Vega",12819,6382,6437,null,13325,6644,6681]
["Upala",21797,11432,10365,null,23709,12373,11336]
["Los Chiles",9243,4991,4252,null,10090,5441,4649]
["Guatuso",8950,4691,4259,null,9628,5015,4613]
["Cartago",{"$f":"SUM(B56:B63)","v":334473},{"$f":"SUM(C56:C63)","v":167036},{"$f":"SUM(D56:D63)","v":167437},null,351153,{"$f":"SUM(G56:G63)","v":175432},{"$f":"SUM(H56:H63)","v":175721}]
["Cartago",{"$f":"+C56+D56","v":106013},52424,53589,null,110767,55008,55759]
["Paraíso",39836,19941,19895,null,41975,20982,20993]
["La Unión",59152,29511,29641,null,62741,31235,31506]
["Jiménez",10600,5498,5102,null,11036,5717,5319]
["Turrialba",51904,26079,25825,null,53585,26968,26617]
["Alvarado",8697,4396,4301,null,9203,4660,4543]
["Oreamuno",30700,15159,15541,null,32496,15952,16544]
["El Guarco",27571,14028,13543,null,29350,14910,14440]
["Heredia",{"$f":"SUM(B65:B74)","v":283771},{"$f":"SUM(C65:C74)","v":139912},{"$f":"SUM(D65:D74)","v":143859},null,{"$f":"SUM(G64:H64)","v":299166},{"$f":"SUM(G65:G74)","v":147640},{"$f":"SUM(H65:H74)","v":151526}]
["Heredia",{"$f":"+C65+D65","v":85356},40946,44410,null,88780,42602,46178]
["Barva",27552,13533,14019,null,29225,14370,14855]
["Santo Domingo",30722,15184,15538,null,31927,15773,16154]
["Santa Bárbara",22788,11356,11432,null,24044,11985,12059]
["San Rafael",29538,14634,14904,null,31201,15518,15683]
["San Isidro",13112,6576,6536,null,14079,7075,7004]
["Belén",15982,7880,8102,null,16831,8324,8507]
["Flores",13761,6731,7030,null,14701,7199,7502]
["San Pablo",18343,8855,9488,null,19518,9473,10045]
["Sarapiquí",26617,14217,12400,null,28860,15321,13539]
["Guanacaste",{"$f":"SUM(B76:B86)","v":203614},{"$f":"SUM(C76:C86)","v":103249},{"$f":"SUM(D76:D86)","v":100365},null,215449,{"$f":"SUM(G76:G86)","v":109215},{"$f":"SUM(H76:H86)","v":106234}]
["Liberia",{"$f":"+C76+D76","v":37797},18911,18886,null,40132,20178,19954]
["Nicoya",35669,18012,17657,null,37353,18802,18551]
["Santa Cruz",34567,17669,16898,null,36784,18804,17980]
["Bagaces",11245,5717,5528,null,12127,6189,5938]
["Carrillo",20050,10219,9831,null,21466,10947,10519]
["Cañas",17344,8696,8648,null,18107,9118,8989]
["Abangares",11763,6040,5723,null,12350,6273,6077]
["Tilarán",13309,6702,6607,null,13769,6904,6865]
["Nandayure",7489,3909,3580,null,7834,4077,3757]
["La Cruz",9262,4732,4530,null,10188,5164,5024]
["Hojancha",5119,2642,2477,null,5339,2759,2580]
["Puntarenas",{"$f":"SUM(B88:B98)","v":265197},{"$f":"SUM(C88:C98)","v":136989},{"$f":"SUM(D88:D98)","v":128208},null,280534,{"$f":"SUM(G88:G98)","v":144745},{"$f":"SUM(H88:H98)","v":135789}]
["Puntarenas",{"$f":"+C88+D88","v":77238},39656,37582,null,80674,41509,39165]
["Esparza",18825,9370,9455,null,19955,9915,10040]
["Buenos Aires",27392,14450,12942,null,29377,15413,13964]
["Montes de Oro",8750,4337,4413,null,9297,4651,4646]
["Osa",18664,9964,8700,null,19675,10438,9237]
["Aguirre",16693,8909,7784,null,17592,9356,8236]
["Golfito",25019,13054,11965,null,26405,13807,12598]
["Coto Brus",26188,13291,12897,null,27222,13792,13430]
["Parrita",9776,5118,4658,null,10614,5505,5109]
["Corredores",27936,14168,13768,null,30157,15248,14909]
["Garabito",8716,4672,4044,null,9566,5111,4455]
["Limón",{"$f":"SUM(B100:B105)","v":228491},{"$f":"SUM(C100:C105)","v":118700},{"$f":"SUM(D100:D105)","v":109791},null,243146,{"$f":"SUM(G100:G105)","v":126180},{"$f":"SUM(H100:H105)","v":116966}]
["Limón",{"$f":"+C100+D100","v":61603},31186,30417,null,63740,32241,31499]
["Pococí",75016,39302,35714,null,80952,42367,38585]
["Siquirres",34544,18170,16374,null,36572,19215,17357]
["Talamanca",15458,8212,7246,null,16950,8988,7962]
["Matina",18313,9640,8673,null,19433,10209,9224]
["Guácimo",23557,12190,11367,null,25499,13160,12339]
["En el extranjero 1/",{"$f":"SUM(C106:D106)","v":708},338,370,null,{"$f":"SUM(G106:H106)","v":6114},3106,3008]
[]
[]
["1/ Costarricenses inscritos(as) que pueden ejercer el voto en extranjero para designar los puestos de Presidencia y Vicepresidencias, así como en consultas populares de orden nacional, según el artículo 187 del Código Electoral."]
["Fuente: Sección Padrón Electoral del Tribunal Supremo de Elecciones."]

{"sheet":"3","index":3,"n_rows":61,"n_cols":10,"rows_kept":61,"cut":false,"hidden":false,"merged":[[0,0,0,9],[1,0,1,9],[2,0,2,9],[58,0,58,9],[59,0,59,9]]}
["CUADRO 3"]
["COSTA RICA: ELECTORADO POR PROVINCIA, SEGÚN SEXO Y"]
["GRUPO DE EDAD 1/, AL 31 DE DICIEMBRE DE 2012"]
[]
["Sexo y grupo de edad","Total","San José","Alajuela","Cartago","Heredia","Guanacaste","Puntarenas","Limón","En el extranjero 2/"]
[]
["Costa Rica",{"$f":"B24+B41","v":3003922},1046343,562017,351153,299166,215449,280534,243146,6114]
["16 - 19",152673,47967,29660,18027,14436,11461,15792,15013,317]
["20 - 24        ",395002,130151,76434,47208,37110,29157,38836,35517,589]
["25 - 29        ",383862,{"$f":"C27+C45","v":124096},72780,45061,37503,27287,36898,33285,654]
["30 - 34        ",335475,106990,60968,39169,34985,23891,31189,26809,876]
["35 - 39        ",280689,93931,50832,33662,29184,20047,26785,23563,799]
["40 - 44        ",269578,93027,50454,32846,27226,19240,25721,22791,728]
["45 - 49        ",275024,92529,52638,32946,27738,19363,25248,21678,679]
["50 - 54        ",246388,81037,46414,28519,25096,16980,21827,18630,519]
["55 - 59        ",198898,64567,36065,22413,20508,13781,17635,14977,392]
["60 - 64        ",147447,47897,26448,16106,15002,10224,12949,10784,241]
["65 - 69        ",108560,35166,20232,12068,10599,7727,9351,7311,139]
["70 - 74        ",79241,25865,15156,8892,7472,5979,7139,5171,78]
["75 - 79        ",57606,18720,10607,6451,5360,4308,5106,3575,48]
["80 - 84        ",39779,15006,7149,4397,3769,3072,3320,2172,28]
["85 y más",33700,{"$f":"C39+C56","v":13387},6180,3388,3178,2932,2738,1870,27]
[]
["Hombres",{"$f":"SUM(C24:J24)","v":1500951},{"$f":"SUM(C25:C39)","v":510843},283790,175432,147640,109215,144745,126180,{"$f":"SUM(J25:J39)","v":3106}]
["16 - 19",{"$f":"SUM(C25:J25)","v":77837},24341,15238,9139,7364,5853,8119,7634,149]
["20 - 24",{"$f":"SUM(C26:J26)","v":202005},66162,39442,24321,19039,14833,19745,18174,289]
["25 - 29        ",195574,65901,37558,23057,18964,13950,18857,16915,372]
["30 - 34        ",169577,59393,31261,19750,17499,11998,15789,13399,488]
["35 - 39        ",141643,48220,25602,16875,14640,10110,13710,12064,422]
["40 - 44        ",135206,44861,25385,16237,13537,9786,13263,11772,365]
["45 - 49        ",137414,46568,26281,16416,13591,9800,13046,11357,355]
["50 - 54        ",122307,42442,23267,14187,12258,8671,11420,9807,255]
["55 - 59        ",98009,34532,18114,10979,9901,7042,9184,8082,175]
["60 - 64        ",71907,25658,13191,7805,7135,5197,6857,5956,108]
["65 - 69        ",52725,18894,9960,5868,5042,3837,4996,4066,62]
["70 - 74        ",38016,13082,7380,4316,3437,3070,3833,2866,32]
["75 - 79        ",26692,9368,5051,3026,2383,2154,2722,1973,15]
["80 - 84        ",17883,6520,3286,2059,1600,1514,1736,1159,9]
["85 y más",14156,4901,2774,1397,1250,1400,1468,956,10]
[]
["Mujeres",{"$f":"SUM(C41:J41)","v":1502971},{"$f":"SUM(C42:C56)","v":535500},{"$f":"SUM(D42:D56)","v":278227},175721,151526,106234,135789,116966,{"$f":"SUM(J42:J56)","v":3008}]
["16 - 19",{"$f":"SUM(C42:J42)","v":74836},23626,14422,8888,7072,5608,7673,7379,168]
["20 - 24",{"$f":"SUM(C43:J43)","v":192997},63989,36992,22887,18071,14324,19091,17343,300]
["25 - 29        ",188288,64493,35222,22004,18539,13337,18041,16370,282]
["30 - 34        ",165898,58195,29707,19419,17486,11893,15400,13410,388]
["35 - 39        ",139046,47597,25230,16787,14544,9937,13075,11499,377]
["40 - 44        ",134372,45711,25069,16609,13689,9454,12458,11019,363]
["45 - 49        ",137610,48166,26357,16530,14147,9563,12202,10321,324]
["50 - 54        ",124081,45961,23147,14332,12838,8309,10407,8823,264]
["55 - 59        ",100889,38595,17951,11434,10607,6739,8451,6895,217]
["60 - 64        ",75540,30035,13257,8301,7867,5027,6092,4828,133]
["65 - 69        ",55835,22239,10272,6200,5557,3890,4355,3245,77]
["70 - 74        ",41225,16272,7776,4576,4035,2909,3306,2305,46]
["75 - 79        ",30914,12783,5556,3425,2977,2154,2384,1602,33]
["80 - 84        ",21896,9352,3863,2338,2169,1558,1584,1013,19]
["85 y más",{"$f":"SUM(C56:J56)","v":19544},8486,3406,1991,1928,1532,1270,914,17]
[]
[]
["1/ Incluye las personas menores que tramitaron su cédula y cumplirán 18 años de edad a la fecha de la próxima elección de Presidente y Vicepresidentes de la República, según el artículo 76 de la Ley 3504: \"Ley Orgánica del Tribunal Supremo de Elecciones y del Registro Civil\"."]
["2/ Costarricenses inscritos(as) que pueden ejercer el voto en extranjero para designar los puestos de Presidencia y Vicepresidencias, así como en consultas populares de orden nacional, según el artículo 187 del Código Electoral."]
["Fuente: Sección Padrón Electoral del Tribunal Supremo de Elecciones."]

{"sheet":"G1","index":4,"n_rows":31,"n_cols":9,"rows_kept":31,"cut":false,"hidden":false,"merged":[[1,8,1,16],[2,0,3,6],[2,8,2,16],[3,8,3,16],[5,0,6,0],[5,1,5,3],[5,5,5,6]]}
[]
[null,null,null,null,null,null,null,null,"GRÁFICO 1"]
["DISTRIBUCIÓN DEL TOTAL DE ELECTORES POR SEXO Y GRUPOS QUINQUENALES DE EDAD, DICIEMBRE 2012",null,null,null,null,null,null,null,"COSTA RICA: PORCENTAJE DEL ELECTORADO, POR SEXO Y GRUPO DE EDAD"]
[null,null,null,null,null,null,null,null,"AL 31 DE DICIEMBRE DE 2012"]
[]
["GRUPOS DE EDAD","ELECTORES",null,null,null,"PORCENTAJE"]
[null,"Total","Hombres","Mujeres",null,"Hombres","Mujeres"]
[]
[null,{"$f":"SUM(B11:B25)","v":3003922},{"$f":"SUM(C11:C25)","v":1500951},{"$f":"SUM(D11:D25)","v":1502971}]
[]
["Menos de 20",{"$f":"SUM(C11:D11)","v":152673},{"$f":"'3'!B25","v":77837},{"$f":"'3'!B42","v":74836},null,{"$f":"(C11/($C$9))*-100","v":-5.1858455072817167},{"$f":"(D11/($C$9))*100","v":4.9859056025146726}]
["20 a 24 ",{"$f":"SUM(C12:D12)","v":395002},{"$f":"'3'!B26","v":202005},{"$f":"'3'!B43","v":192997},null,{"$f":"(C12/($C$9))*-100","v":-13.458467331711695},{"$f":"(D12/($C$9))*100","v":12.858314495276662}]
["25 a 29 ",383862,{"$f":"'3'!B27","v":195574},{"$f":"'3'!B44","v":188288},null,{"$f":"(C13/($C$9))*-100","v":-13.030005643088948},12.544580069569228]
["30 a 34 ",335475,{"$f":"'3'!B28","v":169577},{"$f":"'3'!B45","v":165898},null,-11.297970420086999,11.052859153963054]
["35 a 39 ",280689,{"$f":"'3'!B29","v":141643},{"$f":"'3'!B46","v":139046},null,-9.4368836824120166,9.2638600460641296]
["40 a 44 ",269578,{"$f":"'3'!B30","v":135206},{"$f":"'3'!B47","v":134372},null,-9.00802224722859,8.9524574752939969]
["45 a 49 ",275024,{"$f":"'3'!B31","v":137414},{"$f":"'3'!B48","v":137610},null,-9.1551289815590255,9.1681873692079225]
["50 a 54 ",246388,{"$f":"'3'!B32","v":122307},{"$f":"'3'!B49","v":124081},null,-8.1486337661922335,8.2668254993001113]
["55 a 59 ",198898,{"$f":"'3'!B33","v":98009},{"$f":"'3'!B50","v":100889},null,-6.5297934442896537,6.7216717934163075]
["60 a 64 ",147447,{"$f":"'3'!B34","v":71907},{"$f":"'3'!B51","v":75540},null,-4.7907626564757946,5.0328091989678549]
["65 a 69 ",108560,{"$f":"'3'!B35","v":52725},{"$f":"'3'!B52","v":55835},null,-3.5127729019801448,3.7199748692662182]
["70 a 74 ",79241,{"$f":"'3'!B36","v":38016},{"$f":"'3'!B53","v":41225},null,-2.5327942084718287,2.7465919940091315]
["75 a 79",57606,{"$f":"'3'!B37","v":26692},{"$f":"'3'!B54","v":30914},null,-1.7783391996141114,2.0596275294796431]
["80 a 84",39779,{"$f":"'3'!B38","v":17883},{"$f":"'3'!B55","v":21896},null,-1.1914446241083154,1.4588084487768087]
["85 y más",33700,{"$f":"'3'!B39","v":14156},{"$f":"'3'!B56","v":19544},null,-0.94313538549892706,1.3021077969900416]
[]
[]
["Al pasar a imprenta y web, se debe pegar como valores para"]
["romper el vinculo con la tabla de datos"]
[]
[null,null,null,null,null,null,null,null,"     Fuente: Cuadro 3."]

{"sheet":"4","index":5,"n_rows":61,"n_cols":7,"rows_kept":61,"cut":false,"hidden":false,"merged":[[5,0,6,0],[59,0,59,6]]}
["CUADRO 4"]
["ELECTORADO EN EL PADRÓN INSCRITO EN EL EXTRANJERO1/"]
["POR SEXO, SEGÚN CONTINENTE Y PAÍS"]
["AL 31 DE DICIEMBRE 2012 "]
[]
["Continente y país","Total",null,"Hombres",null,"Mujeres"]
[null,"Absoluto","%","Absoluto","%","Absoluto","%"]
[]
["Total",{"$f":"B11+B34+B47+B56","v":6114},{"$f":"B9/B$9*100","v":100},{"$f":"D11+D34+D47+D56","v":3106},{"$f":"D9/D$9*100","v":100},{"$f":"F11+F34+F47+F56","v":3008},{"$f":"F9/F$9*100","v":100}]
[]
["América",{"$f":"D11+F11","v":5453},{"$f":"B11/B$9*100","v":89.188747137716717},{"$f":"SUM(D12:D32)","v":2813},{"$f":"D11/D$9*100","v":90.566645202833229},{"$f":"SUM(F12:F32)","v":2640},{"$f":"F11/F$9*100","v":87.7659574468085}]
["Estados Unidos",4110,67.222767419038277,2147,69.12427559562137,1963,65.259308510638306]
["Canadá",263,4.3016028786391889,152,4.8937540244687705,111,3.6901595744680855]
["México",224,3.6637226038599939,93,2.9942047649710242,131,4.355053191489362]
["Guatemala",115,1.8809290153745502,49,1.5775917578879588,66,2.1941489361702127]
["Venezuela",104,1.7010140660778539,43,1.3844172569220863,61,2.0279255319148937]
["Honduras",93,1.5210991167811581,51,1.6419832582099163,42,1.3962765957446808]
["El Salvador",88,1.4393195943735688,42,1.3522215067611076,46,1.5292553191489362]
["Panamá",83,1.3575400719659796,42,1.3522215067611076,41,1.3630319148936172]
["Colombia",70,1.1449133137062479,34,1.0946555054732776,36,1.196808510638298]
["Nicaragua",63,1.0304219823356231,25,0.80489375402446883,38,1.2632978723404253]
["Argentina",58,0.94864245992803409,33,1.0624597553122987,25,0.8311170212765957]
["Chile",45,0.73601570166830232,23,0.74050225370251122,22,0.7313829787234043]
["República Dominicana",45,0.73601570166830232,27,0.86928525434642623,18,0.59840425531914898]
["Perú",30,0.49067713444553485,18,0.57952350289761745,12,0.39893617021276595]
["Ecuador",20,0.32711808963035655,10,0.32195750160978748,10,0.33244680851063829]
["Cuba",13,0.21262675825973174,8,0.25756600128783003,5,0.16622340425531915]
["Brasil",11,0.1799149492966961,8,0.25756600128783003,3,9.9734042553191488E-2]
["Uruguay",8,0.13084723585214264,4,0.12878300064391501,4,0.13297872340425532]
["Bolivia",7,0.11449133137062481,4,0.12878300064391501,3,9.9734042553191488E-2]
["Trinidad y Tobago",2,3.271180896303566E-2,0,0,2,6.6489361702127658E-2]
["Belice",1,1.635590448151783E-2,0,0,1,3.3244680851063829E-2]
[]
["Europa",{"$f":"D34+F34","v":581},{"$f":"B34/B$9*100","v":9.5027805037618585},{"$f":"SUM(D35:D45)","v":263},{"$f":"D34/D$9*100","v":8.4674822923374116},{"$f":"SUM(F35:F45)","v":318},{"$f":"F34/F$9*100","v":10.571808510638297}]
["España",189,3.0912659470068693,106,3.4127495170637476,83,2.7593085106382977]
["Francia",100,1.6355904481517827,39,1.2556342562781713,61,2.0279255319148937]
["Alemania",63,1.0304219823356231,31,0.99806825499034124,32,1.0638297872340425]
["Suiza",57,0.93228655544651629,14,0.45074050225370249,43,1.4295212765957446]
["Reino Unido",36,0.58881256133464177,19,0.61171925305859631,17,0.56515957446808518]
["Holanda",32,0.52338894340857056,9,0.28976175144880872,23,0.7646276595744681]
["Italia",30,0.49067713444553485,9,0.28976175144880872,21,0.69813829787234039]
["Bélgica",26,0.42525351651946347,13,0.41854475209272374,13,0.43218085106382981]
["Austria",20,0.32711808963035655,10,0.32195750160978748,10,0.33244680851063829]
["Rusia",16,0.26169447170428528,9,0.28976175144880872,7,0.2327127659574468]
["Noruega",12,0.19627085377821393,4,0.12878300064391501,8,0.26595744680851063]
[]
["Asia",{"$f":"D47+F47","v":75},{"$f":"B47/B$9*100","v":1.2266928361138372},{"$f":"SUM(D48:D54)","v":28},{"$f":"D47/D$9*100","v":0.90148100450740498},{"$f":"SUM(F48:F54)","v":47},{"$f":"F47/F$9*100","v":1.5625}]
["Israel",27,0.44160942100098138,10,0.32195750160978748,17,0.56515957446808518]
["China",17,0.27805037618580308,9,0.28976175144880872,8,0.26595744680851063]
["Japón",17,0.27805037618580308,5,0.16097875080489374,12,0.39893617021276595]
["Singapur",10,0.16355904481517827,4,0.12878300064391501,6,0.19946808510638298]
["Qatar",2,3.271180896303566E-2,0,0,2,6.6489361702127658E-2]
["India",1,1.635590448151783E-2,0,0,1,3.3244680851063829E-2]
["Corea",1,1.635590448151783E-2,0,0,1,3.3244680851063829E-2]
[]
["Oceanía",{"$f":"D56+F56","v":5},{"$f":"B56/B$9*100","v":8.1779522407589136E-2},{"$f":"SUM(D57)","v":2},{"$f":"D56/D$9*100","v":6.4391500321957507E-2},{"$f":"SUM(F57)","v":3},{"$f":"F56/F$9*100","v":9.9734042553191488E-2}]
["Australia",{"$f":"D57+F57","v":5},{"$f":"B57/B$9*100","v":8.1779522407589136E-2},2,{"$f":"D57/D$9*100","v":6.4391500321957507E-2},3,{"$f":"F57/F$9*100","v":9.9734042553191488E-2}]
[]
[]
["1/ Costarricenses inscritos(as) que pueden ejercer el voto en extranjero para designar los puestos de Presidencia y Vicepresidencias, así como en consultas populares de orden nacional, según el artículo 187 del Código Electoral."]
["Fuente: Sección Padrón Electoral del Tribunal Supremo de Elecciones."]

{"sheet":"5","index":6,"n_rows":61,"n_cols":10,"rows_kept":61,"cut":false,"hidden":false,"merged":[[0,0,0,9],[1,0,1,9],[2,0,2,9],[4,0,5,0],[4,1,4,9],[59,0,59,9]]}
["CUADRO 5"]
["COSTA RICA: TOTAL DE ELECTORES(AS)  NATURALIZADOS(AS), POR PAÍS DE ORIGEN"]
["SEGÚN SEXO Y GRUPO DE EDAD, AL 31 DE DICIEMBRE DE 2012 1/"]
[]
["SEXO Y GRUPO DE EDAD","País de origen"]
[null,"Total","Nicaragua","Colombia","El Salvador","Cuba","China","Perú","Panamá","Resto de países"]
[]
["Costa Rica",{"$f":"SUM(B9:B23)","v":46810},{"$f":"SUM(C9:C23)","v":23660},4506,3366,2104,1787,1471,1334,{"$f":"SUM(J9:J23)","v":8582}]
["16 - 19",{"$f":"SUM(C9:J9)","v":285},{"$f":"+C26+C43","v":99},{"$f":"+D26+D43","v":105},3,25,7,5,0,41]
["20 - 24        ",{"$f":"SUM(C10:J10)","v":810},{"$f":"+C27+C44","v":334},166,12,73,16,28,5,176]
["25 - 29        ",1744,919,286,21,79,82,70,18,269]
["30 - 34        ",3831,1951,626,213,125,184,123,23,586]
["35 - 39        ",5329,2690,672,360,225,199,192,78,913]
["40 - 44        ",6050,3090,661,442,277,224,194,162,1000]
["45 - 49        ",5767,2763,660,414,306,194,194,201,1035]
["50 - 54        ",4870,2230,496,432,258,160,205,177,912]
["55 - 59        ",4373,2058,309,487,201,164,163,157,834]
["60 - 64        ",3654,1687,217,360,148,174,129,139,800]
["65 - 69        ",2968,1499,123,267,124,120,78,131,626]
["70 - 74        ",2261,1237,78,143,93,92,42,75,501]
["75 - 79        ",1881,1128,57,107,62,63,24,66,374]
["80 - 84        ",1509,944,32,63,45,66,13,65,281]
["85 y más      ",1478,1031,18,42,63,42,11,37,234]
[]
["Hombres",{"$f":"SUM(B26:B40)","v":21495},{"$f":"SUM(C26:C40)","v":10230},{"$f":"SUM(D26:D40)","v":2109},1450,1163,950,811,594,4188]
["16 - 19",{"$f":"SUM(C26:J26)","v":153},49,58,1,19,3,3,0,20]
["20 - 24        ",{"$f":"SUM(C27:J27)","v":397},159,82,7,39,8,13,3,86]
["25 - 29        ",727,329,128,13,39,50,33,4,131]
["30 - 34        ",1630,753,283,108,58,115,61,9,243]
["35 - 39        ",2287,1113,278,150,104,104,101,34,403]
["40 - 44        ",2885,1442,320,206,159,122,94,79,463]
["45 - 49        ",2663,1225,308,173,179,96,103,91,488]
["50 - 54        ",2059,812,249,171,150,79,110,72,416]
["55 - 59        ",1859,760,135,178,125,91,101,65,404]
["60 - 64        ",1747,741,106,154,89,92,78,54,433]
["65 - 69        ",1519,706,70,118,76,62,54,68,365]
["70 - 74        ",1158,600,42,79,55,36,29,38,279]
["75 - 79        ",902,526,30,44,28,38,14,32,190]
["80 - 84        ",764,478,14,34,16,33,11,25,153]
["85 y más      ",745,537,6,14,27,21,6,20,114]
[]
["Mujeres",{"$f":"SUM(B43:B57)","v":25315},13430,2397,1916,941,837,660,740,4394]
["16 - 19",{"$f":"SUM(C43:J43)","v":132},50,47,2,6,4,2,0,21]
["20 - 24        ",413,175,84,5,34,8,15,2,90]
["25 - 29        ",1017,590,158,8,40,32,37,14,138]
["30 - 34        ",2201,1198,343,105,67,69,62,14,343]
["35 - 39        ",3042,1577,394,210,121,95,91,44,510]
["40 - 44        ",3165,1648,341,236,118,102,100,83,537]
["45 - 49        ",3104,1538,352,241,127,98,91,110,547]
["50 - 54        ",2811,1418,247,261,108,81,95,105,496]
["55 - 59        ",2514,1298,174,309,76,73,62,92,430]
["60 - 64        ",1907,946,111,206,59,82,51,85,367]
["65 - 69        ",1449,793,53,149,48,58,24,63,261]
["70 - 74        ",1103,637,36,64,38,56,13,37,222]
["75 - 79        ",979,602,27,63,34,25,10,34,184]
["80 - 84        ",745,466,18,29,29,33,2,40,128]
["85 y más      ",733,494,12,28,36,21,5,17,120]
[]
[]
["1/ Incluye las personas menores que tramitaron su cédula y cumplirán 18 años años de edad a la fecha de la próxima elección de Presidente y Vicepresidentes de la República, según el artículo 76 de la Ley 3504: \"Ley Orgánica del Tribunal Supremo de Elecciones y del Registro Civil\"."]
["Fuente: Sección Padrón Electoral del Tribunal Supremo de Elecciones."]

{"sheet":"G2","index":7,"n_rows":31,"n_cols":5,"rows_kept":31,"cut":false,"hidden":false,"merged":[[29,0,30,0],[31,0,32,0],[33,0,34,0],[17,0,18,0],[19,0,20,0],[21,0,22,0],[23,0,24,0],[25,0,26,0],[27,0,28,0],[1,4,1,10],[2,4,2,10],[3,4,3,10],[12,0,12,3],[13,0,13,3],[14,0,14,3]]}
[]
["Costa Rica",{"$f":"'3'!B7","v":3003922},null,null,"GRÁFICO 2"]
["Resto de países",{"$f":"'5'!J8","v":8582},{"$f":"+B3/$B$11*100","v":18.333689382610554},null,"COSTA RICA: PORCENTAJE DE ELECTORES(AS) NATURALIZADOS(AS)"]
["Panamá",{"$f":"'5'!I8","v":1334},2.8498184148686176,null,"POR PAÍS DE ORIGEN, AL 31 DE DICIEMBRE DE 2012"]
["Perú",{"$f":"'5'!H8","v":1471},3.1424909207434308]
["China",{"$f":"'5'!G8","v":1787},3.8175603503524891]
["Cuba",{"$f":"'5'!F8","v":2104},4.4947660756248666]
["El Salvador",{"$f":"'5'!E8","v":3366},7.1907712027344584]
["Colombia",{"$f":"'5'!D8","v":4506},9.6261482589190344]
["Nicaragua",{"$f":"'5'!C8","v":23660},{"$f":"+B10/$B$11*100","v":50.544755394146549}]
[null,{"$f":"SUM(B3:B10)","v":46810}]
[]
["Los datos se copian del cuadro respectivo"]
["ya que el total de cada país puede variar ",null,{"$f":"SUM(D14:R14)","v":0}]
["y por tanto la posición dentros del gráfico",null," "]
[null,null,{"$f":"SUM(D16:R16)","v":0}]
[null,null," "]
[null,null,{"$f":"SUM(D18:R18)","v":0}]
[null,null," "]
[null,null,{"$f":"SUM(D20:R20)","v":0}]
[null,null," "]
[null,null,{"$f":"SUM(D22:R22)","v":0}]
[null,null," "]
[null,null,{"$f":"SUM(D24:R24)","v":0}]
[null,null," "]
[null,null,{"$f":"SUM(D26:R26)","v":0}]
[null,null," "]
[null,null,{"$f":"SUM(D28:R28)","v":0}]
[null,null," "]
[null,null,{"$f":"SUM(D30:R30)","v":0}]
[null,null," ",null,"Fuente:  Cuadro 5."]

{"sheet":"6","index":8,"n_rows":49,"n_cols":14,"rows_kept":49,"cut":false,"hidden":false,"merged":[[0,0,0,13],[1,0,1,13],[2,0,2,13]]}
["CUADRO 6"]
["COSTA RICA: NUEVOS ELECTORES1/ EMPADRONADOS DURANTE EL AÑO "]
["POR MES, SEGÚN PROVINCIA Y SEXO, AL 31 DE DICIEMBRE DE 2012"]
[]
["Provincia y sexo","Total","Enero","Febrero","Marzo","Abril","Mayo","Junio","Julio","Agosto","Setiembre","Octubre","Noviembre","Diciembre"]
[]
["Costa Rica",{"$f":"B11+B15+B19+B23+B27+B31+B35+B39+B43","v":78232},{"$f":"'[1]D (3-14)'!C11-'[1]D (3-14)'!B11","v":8294},{"$f":"'[1]D (3-14)'!D11-'[1]D (3-14)'!C11","v":5377},{"$f":"'[1]D (3-14)'!E11-'[1]D (3-14)'!D11","v":6283},{"$f":"'[1]D (3-14)'!F11-'[1]D (3-14)'!E11","v":5370},{"$f":"'[1]D (3-14)'!G11-'[1]D (3-14)'!F11","v":6734},{"$f":"'[1]D (3-14)'!H11-'[1]D (3-14)'!G11","v":6082},{"$f":"'[1]D (3-14)'!I11-'[1]D (3-14)'!H11","v":6882},{"$f":"'[1]D (3-14)'!J11-'[1]D (3-14)'!I11","v":6835},{"$f":"'[1]D (3-14)'!K11-'[1]D (3-14)'!J11","v":6668},{"$f":"'[1]D (3-14)'!L11-'[1]D (3-14)'!K11","v":7429},{"$f":"'[1]D (3-14)'!M11-'[1]D (3-14)'!L11","v":7583},{"$f":"'[1]D (3-14)'!N11-'[1]D (3-14)'!M11","v":4695}]
["Hombres",{"$f":"B12+B16+B20+B24+B28+B32+B36+B40+B44","v":39787},{"$f":"'[1]D (3-14)'!C12-'[1]D (3-14)'!B12","v":4242},{"$f":"'[1]D (3-14)'!D12-'[1]D (3-14)'!C12","v":2863},{"$f":"'[1]D (3-14)'!E12-'[1]D (3-14)'!D12","v":3169},{"$f":"'[1]D (3-14)'!F12-'[1]D (3-14)'!E12","v":2673},{"$f":"'[1]D (3-14)'!G12-'[1]D (3-14)'!F12","v":3411},{"$f":"'[1]D (3-14)'!H12-'[1]D (3-14)'!G12","v":3077},{"$f":"'[1]D (3-14)'!I12-'[1]D (3-14)'!H12","v":3487},{"$f":"'[1]D (3-14)'!J12-'[1]D (3-14)'!I12","v":3422},{"$f":"'[1]D (3-14)'!K12-'[1]D (3-14)'!J12","v":3384},{"$f":"'[1]D (3-14)'!L12-'[1]D (3-14)'!K12","v":3747},{"$f":"'[1]D (3-14)'!M12-'[1]D (3-14)'!L12","v":3874},{"$f":"'[1]D (3-14)'!N12-'[1]D (3-14)'!M12","v":2438}]
["Mujeres",{"$f":"B13+B17+B21+B25+B29+B33+B37+B41+B45","v":38445},{"$f":"'[1]D (3-14)'!C13-'[1]D (3-14)'!B13","v":4052},{"$f":"'[1]D (3-14)'!D13-'[1]D (3-14)'!C13","v":2514},{"$f":"'[1]D (3-14)'!E13-'[1]D (3-14)'!D13","v":3114},{"$f":"'[1]D (3-14)'!F13-'[1]D (3-14)'!E13","v":2697},{"$f":"'[1]D (3-14)'!G13-'[1]D (3-14)'!F13","v":3323},{"$f":"'[1]D (3-14)'!H13-'[1]D (3-14)'!G13","v":3005},{"$f":"'[1]D (3-14)'!I13-'[1]D (3-14)'!H13","v":3395},{"$f":"'[1]D (3-14)'!J13-'[1]D (3-14)'!I13","v":3413},{"$f":"'[1]D (3-14)'!K13-'[1]D (3-14)'!J13","v":3284},{"$f":"'[1]D (3-14)'!L13-'[1]D (3-14)'!K13","v":3682},{"$f":"'[1]D (3-14)'!M13-'[1]D (3-14)'!L13","v":3709},{"$f":"'[1]D (3-14)'!N13-'[1]D (3-14)'!M13","v":2257}]
[]
["San José",{"$f":"SUM(C11:N11)","v":32573},{"$f":"'[1]D (3-14)'!C15-'[1]D (3-14)'!B15","v":3356},{"$f":"'[1]D (3-14)'!D15-'[1]D (3-14)'!C15","v":2267},{"$f":"'[1]D (3-14)'!E15-'[1]D (3-14)'!D15","v":2656},{"$f":"'[1]D (3-14)'!F15-'[1]D (3-14)'!E15","v":2310},{"$f":"'[1]D (3-14)'!G15-'[1]D (3-14)'!F15","v":2828},{"$f":"'[1]D (3-14)'!H15-'[1]D (3-14)'!G15","v":2538},{"$f":"'[1]D (3-14)'!I15-'[1]D (3-14)'!H15","v":2889},{"$f":"'[1]D (3-14)'!J15-'[1]D (3-14)'!I15","v":2889},{"$f":"'[1]D (3-14)'!K15-'[1]D (3-14)'!J15","v":2767},{"$f":"'[1]D (3-14)'!L15-'[1]D (3-14)'!K15","v":3027},{"$f":"'[1]D (3-14)'!M15-'[1]D (3-14)'!L15","v":3073},{"$f":"'[1]D (3-14)'!N15-'[1]D (3-14)'!M15","v":1973}]
["Hombres",{"$f":"SUM(C12:N12)","v":16460},{"$f":"'[1]D (3-14)'!C16-'[1]D (3-14)'!B16","v":1702},{"$f":"'[1]D (3-14)'!D16-'[1]D (3-14)'!C16","v":1187},{"$f":"'[1]D (3-14)'!E16-'[1]D (3-14)'!D16","v":1335},{"$f":"'[1]D (3-14)'!F16-'[1]D (3-14)'!E16","v":1151},{"$f":"'[1]D (3-14)'!G16-'[1]D (3-14)'!F16","v":1374},{"$f":"'[1]D (3-14)'!H16-'[1]D (3-14)'!G16","v":1284},{"$f":"'[1]D (3-14)'!I16-'[1]D (3-14)'!H16","v":1458},{"$f":"'[1]D (3-14)'!J16-'[1]D (3-14)'!I16","v":1418},{"$f":"'[1]D (3-14)'!K16-'[1]D (3-14)'!J16","v":1394},{"$f":"'[1]D (3-14)'!L16-'[1]D (3-14)'!K16","v":1526},{"$f":"'[1]D (3-14)'!M16-'[1]D (3-14)'!L16","v":1580},{"$f":"'[1]D (3-14)'!N16-'[1]D (3-14)'!M16","v":1051}]
["Mujeres",16113,{"$f":"'[1]D (3-14)'!C17-'[1]D (3-14)'!B17","v":1654},{"$f":"'[1]D (3-14)'!D17-'[1]D (3-14)'!C17","v":1080},{"$f":"'[1]D (3-14)'!E17-'[1]D (3-14)'!D17","v":1321},{"$f":"'[1]D (3-14)'!F17-'[1]D (3-14)'!E17","v":1159},{"$f":"'[1]D (3-14)'!G17-'[1]D (3-14)'!F17","v":1454},{"$f":"'[1]D (3-14)'!H17-'[1]D (3-14)'!G17","v":1254},{"$f":"'[1]D (3-14)'!I17-'[1]D (3-14)'!H17","v":1431},{"$f":"'[1]D (3-14)'!J17-'[1]D (3-14)'!I17","v":1471},{"$f":"'[1]D (3-14)'!K17-'[1]D (3-14)'!J17","v":1373},{"$f":"'[1]D (3-14)'!L17-'[1]D (3-14)'!K17","v":1501},{"$f":"'[1]D (3-14)'!M17-'[1]D (3-14)'!L17","v":1493},{"$f":"'[1]D (3-14)'!N17-'[1]D (3-14)'!M17","v":922}]
[]
["Alajuela",12661,{"$f":"'[1]D (3-14)'!C19-'[1]D (3-14)'!B19","v":1419},{"$f":"'[1]D (3-14)'!D19-'[1]D (3-14)'!C19","v":891},{"$f":"'[1]D (3-14)'!E19-'[1]D (3-14)'!D19","v":994},{"$f":"'[1]D (3-14)'!F19-'[1]D (3-14)'!E19","v":859},{"$f":"'[1]D (3-14)'!G19-'[1]D (3-14)'!F19","v":1044},{"$f":"'[1]D (3-14)'!H19-'[1]D (3-14)'!G19","v":978},{"$f":"'[1]D (3-14)'!I19-'[1]D (3-14)'!H19","v":1085},{"$f":"'[1]D (3-14)'!J19-'[1]D (3-14)'!I19","v":1123},{"$f":"'[1]D (3-14)'!K19-'[1]D (3-14)'!J19","v":1035},{"$f":"'[1]D (3-14)'!L19-'[1]D (3-14)'!K19","v":1230},{"$f":"'[1]D (3-14)'!M19-'[1]D (3-14)'!L19","v":1240},{"$f":"'[1]D (3-14)'!N19-'[1]D (3-14)'!M19","v":763}]
["Hombres",6465,{"$f":"'[1]D (3-14)'!C20-'[1]D (3-14)'!B20","v":755},{"$f":"'[1]D (3-14)'!D20-'[1]D (3-14)'!C20","v":481},{"$f":"'[1]D (3-14)'!E20-'[1]D (3-14)'!D20","v":514},{"$f":"'[1]D (3-14)'!F20-'[1]D (3-14)'!E20","v":417},{"$f":"'[1]D (3-14)'!G20-'[1]D (3-14)'!F20","v":536},{"$f":"'[1]D (3-14)'!H20-'[1]D (3-14)'!G20","v":494},{"$f":"'[1]D (3-14)'!I20-'[1]D (3-14)'!H20","v":540},{"$f":"'[1]D (3-14)'!J20-'[1]D (3-14)'!I20","v":573},{"$f":"'[1]D (3-14)'!K20-'[1]D (3-14)'!J20","v":535},{"$f":"'[1]D (3-14)'!L20-'[1]D (3-14)'!K20","v":613},{"$f":"'[1]D (3-14)'!M20-'[1]D (3-14)'!L20","v":644},{"$f":"'[1]D (3-14)'!N20-'[1]D (3-14)'!M20","v":363}]
["Mujeres",6196,{"$f":"'[1]D (3-14)'!C21-'[1]D (3-14)'!B21","v":664},{"$f":"'[1]D (3-14)'!D21-'[1]D (3-14)'!C21","v":410},{"$f":"'[1]D (3-14)'!E21-'[1]D (3-14)'!D21","v":480},{"$f":"'[1]D (3-14)'!F21-'[1]D (3-14)'!E21","v":442},{"$f":"'[1]D (3-14)'!G21-'[1]D (3-14)'!F21","v":508},{"$f":"'[1]D (3-14)'!H21-'[1]D (3-14)'!G21","v":484},{"$f":"'[1]D (3-14)'!I21-'[1]D (3-14)'!H21","v":545},{"$f":"'[1]D (3-14)'!J21-'[1]D (3-14)'!I21","v":550},{"$f":"'[1]D (3-14)'!K21-'[1]D (3-14)'!J21","v":500},{"$f":"'[1]D (3-14)'!L21-'[1]D (3-14)'!K21","v":617},{"$f":"'[1]D (3-14)'!M21-'[1]D (3-14)'!L21","v":596},{"$f":"'[1]D (3-14)'!N21-'[1]D (3-14)'!M21","v":400}]
[]
["Cartago",7769,{"$f":"'[1]D (3-14)'!C23-'[1]D (3-14)'!B23","v":796},{"$f":"'[1]D (3-14)'!D23-'[1]D (3-14)'!C23","v":561},{"$f":"'[1]D (3-14)'!E23-'[1]D (3-14)'!D23","v":658},{"$f":"'[1]D (3-14)'!F23-'[1]D (3-14)'!E23","v":516},{"$f":"'[1]D (3-14)'!G23-'[1]D (3-14)'!F23","v":696},{"$f":"'[1]D (3-14)'!H23-'[1]D (3-14)'!G23","v":626},{"$f":"'[1]D (3-14)'!I23-'[1]D (3-14)'!H23","v":694},{"$f":"'[1]D (3-14)'!J23-'[1]D (3-14)'!I23","v":591},{"$f":"'[1]D (3-14)'!K23-'[1]D (3-14)'!J23","v":671},{"$f":"'[1]D (3-14)'!L23-'[1]D (3-14)'!K23","v":755},{"$f":"'[1]D (3-14)'!M23-'[1]D (3-14)'!L23","v":760},{"$f":"'[1]D (3-14)'!N23-'[1]D (3-14)'!M23","v":445}]
["Hombres",4019,{"$f":"'[1]D (3-14)'!C24-'[1]D (3-14)'!B24","v":410},{"$f":"'[1]D (3-14)'!D24-'[1]D (3-14)'!C24","v":299},{"$f":"'[1]D (3-14)'!E24-'[1]D (3-14)'!D24","v":339},{"$f":"'[1]D (3-14)'!F24-'[1]D (3-14)'!E24","v":282},{"$f":"'[1]D (3-14)'!G24-'[1]D (3-14)'!F24","v":373},{"$f":"'[1]D (3-14)'!H24-'[1]D (3-14)'!G24","v":311},{"$f":"'[1]D (3-14)'!I24-'[1]D (3-14)'!H24","v":353},{"$f":"'[1]D (3-14)'!J24-'[1]D (3-14)'!I24","v":310},{"$f":"'[1]D (3-14)'!K24-'[1]D (3-14)'!J24","v":338},{"$f":"'[1]D (3-14)'!L24-'[1]D (3-14)'!K24","v":384},{"$f":"'[1]D (3-14)'!M24-'[1]D (3-14)'!L24","v":379},{"$f":"'[1]D (3-14)'!N24-'[1]D (3-14)'!M24","v":241}]
["Mujeres",3750,{"$f":"'[1]D (3-14)'!C25-'[1]D (3-14)'!B25","v":386},{"$f":"'[1]D (3-14)'!D25-'[1]D (3-14)'!C25","v":262},{"$f":"'[1]D (3-14)'!E25-'[1]D (3-14)'!D25","v":319},{"$f":"'[1]D (3-14)'!F25-'[1]D (3-14)'!E25","v":234},{"$f":"'[1]D (3-14)'!G25-'[1]D (3-14)'!F25","v":323},{"$f":"'[1]D (3-14)'!H25-'[1]D (3-14)'!G25","v":315},{"$f":"'[1]D (3-14)'!I25-'[1]D (3-14)'!H25","v":341},{"$f":"'[1]D (3-14)'!J25-'[1]D (3-14)'!I25","v":281},{"$f":"'[1]D (3-14)'!K25-'[1]D (3-14)'!J25","v":333},{"$f":"'[1]D (3-14)'!L25-'[1]D (3-14)'!K25","v":371},{"$f":"'[1]D (3-14)'!M25-'[1]D (3-14)'!L25","v":381},{"$f":"'[1]D (3-14)'!N25-'[1]D (3-14)'!M25","v":204}]
[]
["Heredia",{"$f":"SUM(C23:N23)","v":3813},{"$f":"'[1]D (3-14)'!C27-'[1]D (3-14)'!B27","v":419},{"$f":"'[1]D (3-14)'!D27-'[1]D (3-14)'!C27","v":237},{"$f":"'[1]D (3-14)'!E27-'[1]D (3-14)'!D27","v":340},{"$f":"'[1]D (3-14)'!F27-'[1]D (3-14)'!E27","v":301},{"$f":"'[1]D (3-14)'!G27-'[1]D (3-14)'!F27","v":344},{"$f":"'[1]D (3-14)'!H27-'[1]D (3-14)'!G27","v":287},{"$f":"'[1]D (3-14)'!I27-'[1]D (3-14)'!H27","v":316},{"$f":"'[1]D (3-14)'!J27-'[1]D (3-14)'!I27","v":325},{"$f":"'[1]D (3-14)'!K27-'[1]D (3-14)'!J27","v":350},{"$f":"'[1]D (3-14)'!L27-'[1]D (3-14)'!K27","v":345},{"$f":"'[1]D (3-14)'!M27-'[1]D (3-14)'!L27","v":341},{"$f":"'[1]D (3-14)'!N27-'[1]D (3-14)'!M27","v":208}]
["Hombres",1954,{"$f":"'[1]D (3-14)'!C28-'[1]D (3-14)'!B28","v":219},{"$f":"'[1]D (3-14)'!D28-'[1]D (3-14)'!C28","v":135},{"$f":"'[1]D (3-14)'!E28-'[1]D (3-14)'!D28","v":168},{"$f":"'[1]D (3-14)'!F28-'[1]D (3-14)'!E28","v":147},{"$f":"'[1]D (3-14)'!G28-'[1]D (3-14)'!F28","v":176},{"$f":"'[1]D (3-14)'!H28-'[1]D (3-14)'!G28","v":145},{"$f":"'[1]D (3-14)'!I28-'[1]D (3-14)'!H28","v":165},{"$f":"'[1]D (3-14)'!J28-'[1]D (3-14)'!I28","v":162},{"$f":"'[1]D (3-14)'!K28-'[1]D (3-14)'!J28","v":173},{"$f":"'[1]D (3-14)'!L28-'[1]D (3-14)'!K28","v":177},{"$f":"'[1]D (3-14)'!M28-'[1]D (3-14)'!L28","v":175},{"$f":"'[1]D (3-14)'!N28-'[1]D (3-14)'!M28","v":112}]
["Mujeres",1859,{"$f":"'[1]D (3-14)'!C29-'[1]D (3-14)'!B29","v":200},{"$f":"'[1]D (3-14)'!D29-'[1]D (3-14)'!C29","v":102},{"$f":"'[1]D (3-14)'!E29-'[1]D (3-14)'!D29","v":172},{"$f":"'[1]D (3-14)'!F29-'[1]D (3-14)'!E29","v":154},{"$f":"'[1]D (3-14)'!G29-'[1]D (3-14)'!F29","v":168},{"$f":"'[1]D (3-14)'!H29-'[1]D (3-14)'!G29","v":142},{"$f":"'[1]D (3-14)'!I29-'[1]D (3-14)'!H29","v":151},{"$f":"'[1]D (3-14)'!J29-'[1]D (3-14)'!I29","v":163},{"$f":"'[1]D (3-14)'!K29-'[1]D (3-14)'!J29","v":177},{"$f":"'[1]D (3-14)'!L29-'[1]D (3-14)'!K29","v":168},{"$f":"'[1]D (3-14)'!M29-'[1]D (3-14)'!L29","v":166},{"$f":"'[1]D (3-14)'!N29-'[1]D (3-14)'!M29","v":96}]
[]
["Guanacaste",5499,{"$f":"'[1]D (3-14)'!C31-'[1]D (3-14)'!B31","v":583},{"$f":"'[1]D (3-14)'!D31-'[1]D (3-14)'!C31","v":378},{"$f":"'[1]D (3-14)'!E31-'[1]D (3-14)'!D31","v":389},{"$f":"'[1]D (3-14)'!F31-'[1]D (3-14)'!E31","v":332},{"$f":"'[1]D (3-14)'!G31-'[1]D (3-14)'!F31","v":470},{"$f":"'[1]D (3-14)'!H31-'[1]D (3-14)'!G31","v":412},{"$f":"'[1]D (3-14)'!I31-'[1]D (3-14)'!H31","v":506},{"$f":"'[1]D (3-14)'!J31-'[1]D (3-14)'!I31","v":487},{"$f":"'[1]D (3-14)'!K31-'[1]D (3-14)'!J31","v":474},{"$f":"'[1]D (3-14)'!L31-'[1]D (3-14)'!K31","v":566},{"$f":"'[1]D (3-14)'!M31-'[1]D (3-14)'!L31","v":575},{"$f":"'[1]D (3-14)'!N31-'[1]D (3-14)'!M31","v":327}]
["Hombres",2820,{"$f":"'[1]D (3-14)'!C32-'[1]D (3-14)'!B32","v":301},{"$f":"'[1]D (3-14)'!D32-'[1]D (3-14)'!C32","v":203},{"$f":"'[1]D (3-14)'!E32-'[1]D (3-14)'!D32","v":191},{"$f":"'[1]D (3-14)'!F32-'[1]D (3-14)'!E32","v":162},{"$f":"'[1]D (3-14)'!G32-'[1]D (3-14)'!F32","v":243},{"$f":"'[1]D (3-14)'!H32-'[1]D (3-14)'!G32","v":197},{"$f":"'[1]D (3-14)'!I32-'[1]D (3-14)'!H32","v":262},{"$f":"'[1]D (3-14)'!J32-'[1]D (3-14)'!I32","v":253},{"$f":"'[1]D (3-14)'!K32-'[1]D (3-14)'!J32","v":247},{"$f":"'[1]D (3-14)'!L32-'[1]D (3-14)'!K32","v":308},{"$f":"'[1]D (3-14)'!M32-'[1]D (3-14)'!L32","v":297},{"$f":"'[1]D (3-14)'!N32-'[1]D (3-14)'!M32","v":156}]
["Mujeres",2679,{"$f":"'[1]D (3-14)'!C33-'[1]D (3-14)'!B33","v":282},{"$f":"'[1]D (3-14)'!D33-'[1]D (3-14)'!C33","v":175},{"$f":"'[1]D (3-14)'!E33-'[1]D (3-14)'!D33","v":198},{"$f":"'[1]D (3-14)'!F33-'[1]D (3-14)'!E33","v":170},{"$f":"'[1]D (3-14)'!G33-'[1]D (3-14)'!F33","v":227},{"$f":"'[1]D (3-14)'!H33-'[1]D (3-14)'!G33","v":215},{"$f":"'[1]D (3-14)'!I33-'[1]D (3-14)'!H33","v":244},{"$f":"'[1]D (3-14)'!J33-'[1]D (3-14)'!I33","v":234},{"$f":"'[1]D (3-14)'!K33-'[1]D (3-14)'!J33","v":227},{"$f":"'[1]D (3-14)'!L33-'[1]D (3-14)'!K33","v":258},{"$f":"'[1]D (3-14)'!M33-'[1]D (3-14)'!L33","v":278},{"$f":"'[1]D (3-14)'!N33-'[1]D (3-14)'!M33","v":171}]
[]
["Puntarenas ",7030,{"$f":"'[1]D (3-14)'!C35-'[1]D (3-14)'!B35","v":772},{"$f":"'[1]D (3-14)'!D35-'[1]D (3-14)'!C35","v":491},{"$f":"'[1]D (3-14)'!E35-'[1]D (3-14)'!D35","v":600},{"$f":"'[1]D (3-14)'!F35-'[1]D (3-14)'!E35","v":494},{"$f":"'[1]D (3-14)'!G35-'[1]D (3-14)'!F35","v":632},{"$f":"'[1]D (3-14)'!H35-'[1]D (3-14)'!G35","v":580},{"$f":"'[1]D (3-14)'!I35-'[1]D (3-14)'!H35","v":615},{"$f":"'[1]D (3-14)'!J35-'[1]D (3-14)'!I35","v":606},{"$f":"'[1]D (3-14)'!K35-'[1]D (3-14)'!J35","v":600},{"$f":"'[1]D (3-14)'!L35-'[1]D (3-14)'!K35","v":599},{"$f":"'[1]D (3-14)'!M35-'[1]D (3-14)'!L35","v":630},{"$f":"'[1]D (3-14)'!N35-'[1]D (3-14)'!M35","v":411}]
["Hombres",3559,{"$f":"'[1]D (3-14)'!C36-'[1]D (3-14)'!B36","v":384},{"$f":"'[1]D (3-14)'!D36-'[1]D (3-14)'!C36","v":276},{"$f":"'[1]D (3-14)'!E36-'[1]D (3-14)'!D36","v":295},{"$f":"'[1]D (3-14)'!F36-'[1]D (3-14)'!E36","v":226},{"$f":"'[1]D (3-14)'!G36-'[1]D (3-14)'!F36","v":328},{"$f":"'[1]D (3-14)'!H36-'[1]D (3-14)'!G36","v":304},{"$f":"'[1]D (3-14)'!I36-'[1]D (3-14)'!H36","v":313},{"$f":"'[1]D (3-14)'!J36-'[1]D (3-14)'!I36","v":303},{"$f":"'[1]D (3-14)'!K36-'[1]D (3-14)'!J36","v":309},{"$f":"'[1]D (3-14)'!L36-'[1]D (3-14)'!K36","v":297},{"$f":"'[1]D (3-14)'!M36-'[1]D (3-14)'!L36","v":312},{"$f":"'[1]D (3-14)'!N36-'[1]D (3-14)'!M36","v":212}]
["Mujeres",3471,{"$f":"'[1]D (3-14)'!C37-'[1]D (3-14)'!B37","v":388},{"$f":"'[1]D (3-14)'!D37-'[1]D (3-14)'!C37","v":215},{"$f":"'[1]D (3-14)'!E37-'[1]D (3-14)'!D37","v":305},{"$f":"'[1]D (3-14)'!F37-'[1]D (3-14)'!E37","v":268},{"$f":"'[1]D (3-14)'!G37-'[1]D (3-14)'!F37","v":304},{"$f":"'[1]D (3-14)'!H37-'[1]D (3-14)'!G37","v":276},{"$f":"'[1]D (3-14)'!I37-'[1]D (3-14)'!H37","v":302},{"$f":"'[1]D (3-14)'!J37-'[1]D (3-14)'!I37","v":303},{"$f":"'[1]D (3-14)'!K37-'[1]D (3-14)'!J37","v":291},{"$f":"'[1]D (3-14)'!L37-'[1]D (3-14)'!K37","v":302},{"$f":"'[1]D (3-14)'!M37-'[1]D (3-14)'!L37","v":318},{"$f":"'[1]D (3-14)'!N37-'[1]D (3-14)'!M37","v":199}]
[]
["Limón",7919,{"$f":"'[1]D (3-14)'!C39-'[1]D (3-14)'!B39","v":840},{"$f":"'[1]D (3-14)'!D39-'[1]D (3-14)'!C39","v":496},{"$f":"'[1]D (3-14)'!E39-'[1]D (3-14)'!D39","v":589},{"$f":"'[1]D (3-14)'!F39-'[1]D (3-14)'!E39","v":518},{"$f":"'[1]D (3-14)'!G39-'[1]D (3-14)'!F39","v":641},{"$f":"'[1]D (3-14)'!H39-'[1]D (3-14)'!G39","v":575},{"$f":"'[1]D (3-14)'!I39-'[1]D (3-14)'!H39","v":714},{"$f":"'[1]D (3-14)'!J39-'[1]D (3-14)'!I39","v":725},{"$f":"'[1]D (3-14)'!K39-'[1]D (3-14)'!J39","v":691},{"$f":"'[1]D (3-14)'!L39-'[1]D (3-14)'!K39","v":808},{"$f":"'[1]D (3-14)'!M39-'[1]D (3-14)'!L39","v":842},{"$f":"'[1]D (3-14)'!N39-'[1]D (3-14)'!M39","v":480}]
["Hombres",4001,{"$f":"'[1]D (3-14)'!C40-'[1]D (3-14)'!B40","v":410},{"$f":"'[1]D (3-14)'!D40-'[1]D (3-14)'!C40","v":257},{"$f":"'[1]D (3-14)'!E40-'[1]D (3-14)'!D40","v":295},{"$f":"'[1]D (3-14)'!F40-'[1]D (3-14)'!E40","v":269},{"$f":"'[1]D (3-14)'!G40-'[1]D (3-14)'!F40","v":336},{"$f":"'[1]D (3-14)'!H40-'[1]D (3-14)'!G40","v":298},{"$f":"'[1]D (3-14)'!I40-'[1]D (3-14)'!H40","v":360},{"$f":"'[1]D (3-14)'!J40-'[1]D (3-14)'!I40","v":360},{"$f":"'[1]D (3-14)'!K40-'[1]D (3-14)'!J40","v":361},{"$f":"'[1]D (3-14)'!L40-'[1]D (3-14)'!K40","v":386},{"$f":"'[1]D (3-14)'!M40-'[1]D (3-14)'!L40","v":421},{"$f":"'[1]D (3-14)'!N40-'[1]D (3-14)'!M40","v":248}]
["Mujeres",3918,{"$f":"'[1]D (3-14)'!C41-'[1]D (3-14)'!B41","v":430},{"$f":"'[1]D (3-14)'!D41-'[1]D (3-14)'!C41","v":239},{"$f":"'[1]D (3-14)'!E41-'[1]D (3-14)'!D41","v":294},{"$f":"'[1]D (3-14)'!F41-'[1]D (3-14)'!E41","v":249},{"$f":"'[1]D (3-14)'!G41-'[1]D (3-14)'!F41","v":305},{"$f":"'[1]D (3-14)'!H41-'[1]D (3-14)'!G41","v":277},{"$f":"'[1]D (3-14)'!I41-'[1]D (3-14)'!H41","v":354},{"$f":"'[1]D (3-14)'!J41-'[1]D (3-14)'!I41","v":365},{"$f":"'[1]D (3-14)'!K41-'[1]D (3-14)'!J41","v":330},{"$f":"'[1]D (3-14)'!L41-'[1]D (3-14)'!K41","v":422},{"$f":"'[1]D (3-14)'!M41-'[1]D (3-14)'!L41","v":421},{"$f":"'[1]D (3-14)'!N41-'[1]D (3-14)'!M41","v":232}]
[]
["Partido especial",607,{"$f":"'[1]D (3-14)'!C43-'[1]D (3-14)'!B43","v":87},{"$f":"'[1]D (3-14)'!D43-'[1]D (3-14)'!C43","v":41},{"$f":"'[1]D (3-14)'!E43-'[1]D (3-14)'!D43","v":41},{"$f":"'[1]D (3-14)'!F43-'[1]D (3-14)'!E43","v":29},{"$f":"'[1]D (3-14)'!G43-'[1]D (3-14)'!F43","v":49},{"$f":"'[1]D (3-14)'!H43-'[1]D (3-14)'!G43","v":67},{"$f":"'[1]D (3-14)'!I43-'[1]D (3-14)'!H43","v":55},{"$f":"'[1]D (3-14)'!J43-'[1]D (3-14)'!I43","v":58},{"$f":"'[1]D (3-14)'!K43-'[1]D (3-14)'!J43","v":43},{"$f":"'[1]D (3-14)'!L43-'[1]D (3-14)'!K43","v":45},{"$f":"'[1]D (3-14)'!M43-'[1]D (3-14)'!L43","v":62},{"$f":"'[1]D (3-14)'!N43-'[1]D (3-14)'!M43","v":30}]
["Hombres",321,{"$f":"'[1]D (3-14)'!C44-'[1]D (3-14)'!B44","v":48},{"$f":"'[1]D (3-14)'!D44-'[1]D (3-14)'!C44","v":20},{"$f":"'[1]D (3-14)'!E44-'[1]D (3-14)'!D44","v":21},{"$f":"'[1]D (3-14)'!F44-'[1]D (3-14)'!E44","v":14},{"$f":"'[1]D (3-14)'!G44-'[1]D (3-14)'!F44","v":29},{"$f":"'[1]D (3-14)'!H44-'[1]D (3-14)'!G44","v":34},{"$f":"'[1]D (3-14)'!I44-'[1]D (3-14)'!H44","v":30},{"$f":"'[1]D (3-14)'!J44-'[1]D (3-14)'!I44","v":28},{"$f":"'[1]D (3-14)'!K44-'[1]D (3-14)'!J44","v":17},{"$f":"'[1]D (3-14)'!L44-'[1]D (3-14)'!K44","v":26},{"$f":"'[1]D (3-14)'!M44-'[1]D (3-14)'!L44","v":34},{"$f":"'[1]D (3-14)'!N44-'[1]D (3-14)'!M44","v":20}]
["Mujeres",{"$f":"SUM(C41:N41)","v":286},{"$f":"'[1]D (3-14)'!C45-'[1]D (3-14)'!B45","v":39},{"$f":"'[1]D (3-14)'!D45-'[1]D (3-14)'!C45","v":21},{"$f":"'[1]D (3-14)'!E45-'[1]D (3-14)'!D45","v":20},{"$f":"'[1]D (3-14)'!F45-'[1]D (3-14)'!E45","v":15},{"$f":"'[1]D (3-14)'!G45-'[1]D (3-14)'!F45","v":20},{"$f":"'[1]D (3-14)'!H45-'[1]D (3-14)'!G45","v":33},{"$f":"'[1]D (3-14)'!I45-'[1]D (3-14)'!H45","v":25},{"$f":"'[1]D (3-14)'!J45-'[1]D (3-14)'!I45","v":30},{"$f":"'[1]D (3-14)'!K45-'[1]D (3-14)'!J45","v":26},{"$f":"'[1]D (3-14)'!L45-'[1]D (3-14)'!K45","v":19},{"$f":"'[1]D (3-14)'!M45-'[1]D (3-14)'!L45","v":28},{"$f":"'[1]D (3-14)'!N45-'[1]D (3-14)'!M45","v":10}]
[]
["Naturalizados",361,{"$f":"'[1]D (3-14)'!C47-'[1]D (3-14)'!B47","v":22},{"$f":"'[1]D (3-14)'!D47-'[1]D (3-14)'!C47","v":15},{"$f":"'[1]D (3-14)'!E47-'[1]D (3-14)'!D47","v":16},{"$f":"'[1]D (3-14)'!F47-'[1]D (3-14)'!E47","v":11},{"$f":"'[1]D (3-14)'!G47-'[1]D (3-14)'!F47","v":30},{"$f":"'[1]D (3-14)'!H47-'[1]D (3-14)'!G47","v":19},{"$f":"'[1]D (3-14)'!I47-'[1]D (3-14)'!H47","v":8},{"$f":"'[1]D (3-14)'!J47-'[1]D (3-14)'!I47","v":31},{"$f":"'[1]D (3-14)'!K47-'[1]D (3-14)'!J47","v":37},{"$f":"'[1]D (3-14)'!L47-'[1]D (3-14)'!K47","v":54},{"$f":"'[1]D (3-14)'!M47-'[1]D (3-14)'!L47","v":60},{"$f":"'[1]D (3-14)'!N47-'[1]D (3-14)'!M47","v":58}]
["Hombres",188,{"$f":"'[1]D (3-14)'!C48-'[1]D (3-14)'!B48","v":13},{"$f":"'[1]D (3-14)'!D48-'[1]D (3-14)'!C48","v":5},{"$f":"'[1]D (3-14)'!E48-'[1]D (3-14)'!D48","v":11},{"$f":"'[1]D (3-14)'!F48-'[1]D (3-14)'!E48","v":5},{"$f":"'[1]D (3-14)'!G48-'[1]D (3-14)'!F48","v":16},{"$f":"'[1]D (3-14)'!H48-'[1]D (3-14)'!G48","v":10},{"$f":"'[1]D (3-14)'!I48-'[1]D (3-14)'!H48","v":6},{"$f":"'[1]D (3-14)'!J48-'[1]D (3-14)'!I48","v":15},{"$f":"'[1]D (3-14)'!K48-'[1]D (3-14)'!J48","v":10},{"$f":"'[1]D (3-14)'!L48-'[1]D (3-14)'!K48","v":30},{"$f":"'[1]D (3-14)'!M48-'[1]D (3-14)'!L48","v":32},{"$f":"'[1]D (3-14)'!N48-'[1]D (3-14)'!M48","v":35}]
["Mujeres",{"$f":"SUM(C45:N45)","v":173},{"$f":"'[1]D (3-14)'!C49-'[1]D (3-14)'!B49","v":9},{"$f":"'[1]D (3-14)'!D49-'[1]D (3-14)'!C49","v":10},{"$f":"'[1]D (3-14)'!E49-'[1]D (3-14)'!D49","v":5},{"$f":"'[1]D (3-14)'!F49-'[1]D (3-14)'!E49","v":6},{"$f":"'[1]D (3-14)'!G49-'[1]D (3-14)'!F49","v":14},{"$f":"'[1]D (3-14)'!H49-'[1]D (3-14)'!G49","v":9},{"$f":"'[1]D (3-14)'!I49-'[1]D (3-14)'!H49","v":2},{"$f":"'[1]D (3-14)'!J49-'[1]D (3-14)'!I49","v":16},{"$f":"'[1]D (3-14)'!K49-'[1]D (3-14)'!J49","v":27},{"$f":"'[1]D (3-14)'!L49-'[1]D (3-14)'!K49","v":24},{"$f":"'[1]D (3-14)'!M49-'[1]D (3-14)'!L49","v":28},{"$f":"'[1]D (3-14)'!N49-'[1]D (3-14)'!M49","v":23}]
[]
[]
[]
["Fuente: Sección Padrón Electoral del Tribunal Supremo de Elecciones."]

{"sheet":"7","index":9,"n_rows":28,"n_cols":15,"rows_kept":28,"cut":false,"hidden":false,"merged":[[7,3,7,4],[7,5,7,6],[7,8,7,9],[7,10,7,11],[7,12,7,13],[0,0,0,14],[1,0,1,14],[2,0,2,14],[3,0,3,14],[5,0,7,0],[5,1,7,2],[5,3,5,13],[5,14,7,14],[6,3,6,6],[6,8,6,13]]}
["CUADRO 7"]
["COSTA RICA: MOVIMIENTOS AL PADRÓN NACIONAL ELECTORAL"]
["POR TIPO DE MOVIMIENTO, SEGÚN MES"]
["AL 31 DE DICIEMBRE DE 2012"]
[]
["Mes","Padrón Nacional Electoral anterior",null,"Tipo de movimiento",null,null,null,null,null,null,null,null,null,null,"Padrón Nacional Electoral actual"]
[null,null,null,"Inclusiones",null,null,null,null,"Exclusiones"]
[null,null,null,"Cédulas Primera vez1/",null,"Cédulas renovadas",null,null,"Defunción",null,"Cédulas vencidas2/",null,"Otras"]
[]
["Enero",2931888,null,8605,null,7885,null,null,1201,null,9402,null,17,null,2937758]
["Febrero",2937758,null,5718,null,6288,null,null,1522,null,5755,null,7,null,2942480]
["Marzo",2942480,null,6613,null,7302,null,null,1882,null,7103,null,14,null,2947396]
["Abril",2947396,null,5453,null,5182,null,null,509,null,4984,null,7,null,2952531]
["Mayo",2952531,null,7133,null,6414,null,null,2119,null,4456,null,13,null,2959490]
["Junio",2959490,null,6453,null,5132,null,null,1045,null,3838,null,10,null,2966182]
["Julio",2966182,null,7117,null,5816,null,null,1343,null,5218,null,29,null,2972525]
["Agosto",2972525,null,7330,null,5816,null,null,1143,null,5200,null,10,null,2979318]
["Setiembre",2979318,null,7242,null,5001,null,null,1471,null,5089,null,10,null,2984991]
["Octubre",2984991,null,7978,null,5494,null,null,1668,null,5678,null,10,null,2991107]
["Noviembre",2991107,null,8459,null,5670,null,null,1245,null,5708,null,11,null,2998272]
["Diciembre",2998272,null,5730,null,3812,null,null,956,null,2927,null,9,null,3003922]
[]
[]
["1/ Incluye nuevos electores, inclusión condicional de nuevos electores y otras inclusiones."]
["2/ No se aplican exclusiones por caducidad durante el año anterior a una elección. (Ley Orgánica del TSE, Art. 94) "]
[]
["Nota: El padrón estuvo cerrado por las elecciones municipales hasta febrero inclusive. "]
["Fuente: Sección Padrón Electoral del Tribunal Supremo de Elecciones."]

{"sheet":"8","index":10,"n_rows":26,"n_cols":8,"rows_kept":26,"cut":false,"hidden":false,"merged":[[0,0,0,7],[1,0,1,7],[2,0,2,7],[4,0,5,0],[4,1,5,1]]}
["CUADRO 8"]
["COSTA RICA: PRODUCTOS Y SERVICIOS BRINDADOS,  POR TIPO DE SERVICIO"]
[" SEGÚN MES, AL 31 DE DICIEMBRE DE 2012"]
[]
["Mes","Total","Productos y Sevicios"]
[null,null,"Cédulas de identidad impresas","Tarjetas identidad de menores impresas","Certificaciones y constancias expedidas","Asambleas de partidos políticos fiscalizadas","Atención de consultas en materia electoral 1/","Movimientos y actualizaciones al Padrón Electoral"]
[]
["Total",{"$f":"SUM(B10:B21)","v":4632839},{"$f":"SUM(C10:C21)","v":632321},{"$f":"SUM(D10:D21)","v":158391},3094068,1780,16405,729874]
[]
["Enero",{"$f":"SUM(C10:H10)","v":423087},64918,17663,262094,5,729,77678]
["Febrero",477943,51634,16198,350094,15,721,59281]
["Marzo",446326,61365,11116,302912,42,1670,69221]
["Abril",285557,41291,9103,184862,36,3277,46988]
["Mayo",367414,56027,11232,235465,67,809,63814]
["Junio",332437,50012,10567,214253,93,1856,55656]
["Julio",370994,55759,15036,236553,125,762,62759]
["Agosto",411178,54340,11429,282286,244,908,61971]
["Setiembre",351128,50346,10558,231952,280,1001,56991]
["Octubre",454938,54608,16938,311866,246,1466,69814]
["Noviembre",433456,55261,14936,297429,274,1608,63948]
["Diciembre",278381,36760,13615,184302,353,1598,41753]
[]
[]
["1/ De Partidos Políticos, Municipalidades, Asamblea Legislativa y otros."]
[]
["Fuente: Oficinas del Tribunal Supremo de Elecciones."]

{"sheet":"9","index":11,"n_rows":25,"n_cols":6,"rows_kept":25,"cut":false,"hidden":false,"merged":[[0,0,0,5],[1,0,1,5],[2,0,2,5],[3,0,3,5],[5,0,6,0],[5,1,6,1],[5,2,5,5]]}
["CUADRO 9"]
["COSTA RICA: CERTIFICACIONES SOLICITADAS VÍA"]
["INTERNET, POR TIPO DE SOLICITUD, SEGÚN MES"]
["AL 31 DE DICIEMBRE DE 2012"]
[]
["Mes","Total","Tipo de solicitud"]
[null,null,"Nacimiento","Matrimonio","Defunción","No aparece matrimonio"]
[]
["Total",{"$f":"SUM(C9:F9)","v":90397},{"$f":"SUM(C11:C22)","v":50538},{"$f":"SUM(D11:D22)","v":16830},{"$f":"SUM(E11:E22)","v":5918},{"$f":"SUM(F11:F22)","v":17111}]
[]
["Enero",{"$f":"SUM(C11:F11)","v":8112},4544,1543,441,1584]
["Febrero",8475,4772,1565,646,1492]
["Marzo",6633,3351,1420,464,1398]
["Abril",5651,2848,1140,439,1224]
["Mayo",7526,3999,1574,580,1373]
["Junio",6339,3456,1197,446,1240]
["Julio",7840,4669,1437,431,1303]
["Agosto",9069,5507,1640,552,1370]
["Setiembre",7219,3916,1365,515,1423]
["Octubre",9101,5176,1648,544,1733]
["Noviembre",8774,5042,1444,540,1748]
["Diciembre",5658,3258,857,320,1223]
[]
[]
["Fuente: Departamento Civil del Tribunal Supremo de Elecciones."]

{"sheet":"10","index":12,"n_rows":24,"n_cols":9,"rows_kept":24,"cut":false,"hidden":false,"merged":[[0,0,0,8],[1,0,1,8],[2,0,2,8],[4,0,5,0],[4,1,5,1],[4,2,4,8]]}
["CUADRO 10"]
["COSTA RICA: TARJETAS DE IDENTIDAD DE MENORES IMPRESAS"]
["POR PROVINCIA, SEGÚN MES, AL 31 DE DICIEMBRE DE 2012"]
[]
["Mes","Total","Provincia"]
[null,null,"San José","Alajuela","Cartago","Heredia","Guanacaste","Puntarenas","Limón"]
[]
["Total",{"$f":"SUM(C8:I8)","v":158391},{"$f":"SUM(C10:C21)","v":54547},{"$f":"SUM(D10:D21)","v":30917},15347,12734,11851,15579,17416]
[]
["Enero",{"$f":"SUM(C10:I10)","v":17663},6393,3202,1489,1322,1530,1827,1900]
["Febrero",{"$f":"SUM(C11:I11)","v":16198},4970,3167,1481,1233,1587,1618,2142]
["Marzo",11116,3574,2327,958,752,930,1458,1117]
["Abril ",9103,3157,1850,888,738,650,976,844]
["Mayo",11232,3878,2075,1074,1011,658,1048,1488]
["Junio",10567,3674,2053,1048,893,709,887,1303]
["Julio",15036,5567,2844,1499,1172,1221,1327,1406]
["Agosto",11429,4009,2363,1285,820,784,1004,1164]
["Setiembre",10558,3854,1841,1055,1035,604,971,1198]
["Octubre",16938,6325,3286,1839,1631,709,1452,1696]
["Noviembre",14936,5093,2937,1489,1271,1155,1463,1528]
["Diciembre",13615,4053,2972,1242,856,1314,1548,1630]
[]
[]
["Fuente: Departamento Civil y Coordinación de Servicios Regionales del Tribunal Supremo de Elecciones."]

{"sheet":"11","index":13,"n_rows":34,"n_cols":14,"rows_kept":34,"cut":false,"hidden":false,"merged":[[0,0,0,13],[1,0,1,13],[2,0,2,13],[4,0,5,0],[4,1,5,1],[4,2,4,13]]}
["CUADRO 11"]
["COSTA RICA: INSCRIPCIONES CIVILES POR MES, SEGÚN CLASE DE INSCRIPCIÓN"]
["AL 31 DE DICIEMBRE DE 2012"]
[]
["Clase de inscripción 1/","Total","Mes"]
[null,null,"Enero","Febrero","Marzo","Abril","Mayo","Junio","Julio","Agosto","Setiembre","Octubre","Noviembre","Diciembre"]
[]
["Nacimientos",76631,6253,6818,7833,3867,8171,6094,5976,6613,5986,7600,7160,4260]
["Matrimonios:",25807,3130,2735,2458,1688,2269,2142,1956,1781,1654,2104,2111,1779]
["    Católicos",5801,1136,798,93,235,620,628,487,289,394,470,448,203]
["    Civiles",19387,1858,1895,2301,1420,1586,1468,1429,1455,1207,1577,1641,1550]
["    Extranjeros2/",619,136,42,64,33,63,46,40,37,53,57,22,26]
["Defunciones",19243,1900,1208,2071,1260,1866,1658,1590,1655,1640,1746,1792,857]
["Divorcios",11593,780,1139,1359,693,1115,1086,442,1314,726,1236,1101,602]
["Separaciones Judiciales",51,22,0,3,0,0,4,2,0,1,18,1,0]
["Reconocimientos",24817,2002,2333,2394,1812,2712,1011,1330,2988,2228,2919,1937,1151]
["Legitimaciones",23,3,1,3,1,0,0,0,3,0,7,5,0]
["Adopciones",216,27,17,16,12,22,13,20,22,11,20,23,13]
["Impugnación de paternidad",396,38,18,55,19,41,25,31,24,54,45,28,18]
["Investigación de paternidad",724,38,97,54,30,64,83,13,46,115,78,65,41]
["Opciones 3/",386,87,39,41,18,26,17,10,69,10,8,42,19]
["Naturalizaciones",4400,193,317,608,516,421,386,434,361,322,369,311,162]
[]
[]
["1/ Todos los datos se refieren a hechos inscritos en el mes respectivo, no así a los ocurridos."]
[]
["2/ Matrimonios inscritos, pero realizados en el extranjero."]
[]
["3/ Trámite realizado en Actos Jurídicos."]
[]
["Fuente: Sección de Inscripciones, Oficina de Actos Jurídicos, Sección de Opciones y Naturalizaciones del Tribunal Supremo de Elecciones."]
[]
[]
[null,{"$f":"SUM(B8:B22)-B10-B11-B12","v":164287}]

{"sheet":"G3","index":14,"n_rows":26,"n_cols":12,"rows_kept":26,"cut":false,"hidden":false,"merged":[]}
[]
["GRÁFICO 3",null,null,null,null,null,null,null,null,null,"Nacimientos","Defunciones"]
["COSTA RICA: NACIMIENTOS Y DEFUNCIONES INSCRITAS",null,null,null,null,null,null,null,null,null,{"$f":"SUM(K4:K15)","v":76631},{"$f":"SUM(L4:L15)","v":19243}]
["POR MES, AL 31 DE DICIEMBRE DE 2012",null,null,null,null,null,null,null,null,"ENE",{"$f":"+'[1]Tabla de datos'!C112","v":6253},{"$f":"+'[1]Tabla de datos'!C113","v":1900}]
[null,null,null,null,null,null,null,null,null,"FEB",{"$f":"+'[1]Tabla de datos'!D112","v":6818},{"$f":"+'[1]Tabla de datos'!D113","v":1208}]
[null,null,null,null,null,null,null,null,null,"MAR",{"$f":"+'[1]Tabla de datos'!E112","v":7833},{"$f":"+'[1]Tabla de datos'!E113","v":2071}]
[null,null,null,null,null,null,null,null,null,"ABR",{"$f":"+'[1]Tabla de datos'!F112","v":3867},{"$f":"+'[1]Tabla de datos'!F113","v":1260}]
[null,null,null,null,null,null,null,null,null,"MAY",{"$f":"+'[1]Tabla de datos'!G112","v":8171},{"$f":"+'[1]Tabla de datos'!G113","v":1866}]
[null,null,null,null,null,null,null,null,null,"JUN",{"$f":"+'[1]Tabla de datos'!H112","v":6094},{"$f":"+'[1]Tabla de datos'!H113","v":1658}]
[null,null,null,null,null,null,null,null,null,"JUL",{"$f":"+'[1]Tabla de datos'!I112","v":5976},{"$f":"+'[1]Tabla de datos'!I113","v":1590}]
[null,null,null,null,null,null,null,null,null,"AGO",{"$f":"+'[1]Tabla de datos'!J112","v":6613},{"$f":"+'[1]Tabla de datos'!J113","v":1655}]
[null,null,null,null,null,null,null,null,null,"SET",{"$f":"+'[1]Tabla de datos'!K112","v":5986},{"$f":"+'[1]Tabla de datos'!K113","v":1640}]
[null,null,null,null,null,null,null,null,null,"OCT",{"$f":"+'[1]Tabla de datos'!L112","v":7600},{"$f":"+'[1]Tabla de datos'!L113","v":1746}]
[null,null,null,null,null,null,null,null,null,"NOV",{"$f":"+'[1]Tabla de datos'!M112","v":7160},{"$f":"+'[1]Tabla de datos'!M113","v":1792}]
[null,null,null,null,null,null,null,null,null,"DIC",{"$f":"+'[1]Tabla de datos'!N112","v":4260},{"$f":"+'[1]Tabla de datos'!N113","v":857}]
[]
[null,null,null,null,null,null,null,null,null,"Al pasar a imprenta y web, se debe pegar como valores para"]
[null,null,null,null,null,null,null,null,null,"romper el vinculo con la tabla de datos"]
[]
[]
[]
[]
[]
[]
[]
["Fuente: Cuadro 11."]

{"sheet":"G4 y G5 ","index":15,"n_rows":60,"n_cols":13,"rows_kept":60,"cut":false,"hidden":false,"merged":[[33,0,33,7],[1,0,1,7],[2,0,2,7],[3,0,3,7],[31,0,31,7],[31,10,31,12],[32,0,32,7]]}
[]
["GRÁFICO 4",null,null,null,null,null,null,null,null,null,null,null," "]
["COSTA RICA: MATRIMONIOS INSCRITOS, SEGÚN CLASE DE INSCRIPCIÓN",null,null,null,null,null,null,null,null,null,"MATRIMONIOS INSCRITOS"]
["AL 31 DE DICIEMBRE DE 2012",null,null,null,null,null,null,null,null,null,"Civiles",{"$f":"+'[1]Tabla de datos'!B116","v":19387},{"$f":"+L4/$L$7*100","v":75.123028635641504}]
[null,null,null,null,null,null,null,null,null,null,"Católicos",{"$f":"+'[1]Tabla de datos'!B115","v":5801},{"$f":"+L5/$L$7*100","v":22.478397334056652}]
[null,null,null,null,null,null,null,null,null,null,"Extranjeros",{"$f":"+'[1]Tabla de datos'!B117","v":619},{"$f":"+L6/$L$7*100","v":2.3985740303018561}]
[null,null,null,null,null,null,null,null,null,null,"Total",{"$f":"SUM(L4:L6)","v":25807}]
[]
[]
[null,null,null,null,null,null,null,null,null,null,"Al pasar a imprenta y web, se debe pegar como valores para"]
[null,null,null,null,null,null,null,null,null,null,"romper el vinculo con la tabla de datos"]
[]
[]
[]
[]
[]
[]
[]
[]
[]
[]
[]
[]
[]
[]
[]
[]
[]
["Fuente: Cuadro 11."]
[]
[]
["GRÁFICO 5",null,null,null,null,null,null,null,null,null,"MATRIMONIOS vs DIVORCIOS"]
["COSTA RICA: MATRIMONIOS Y DIVORCIOS INSCRITOS ",null,null,null,null,null,null,null,null,null,null,"Matrimonios","Divorcios"]
["POR MES, AL 31 DE DICIEMBRE DE 2012",null,null,null,null,null,null,null,null,null,"ENE",{"$f":"+'[1]Tabla de datos'!$C$114","v":3130},{"$f":"+'[1]Tabla de datos'!$C$120","v":780}]
[null,null,null,null,null,null,null,null,null,null,"FEB",{"$f":"+'[1]Tabla de datos'!$D$114","v":2735},{"$f":"+'[1]Tabla de datos'!$D$120","v":1139}]
[null,null,null,null,null,null,null,null,null,null,"MAR",{"$f":"+'[1]Tabla de datos'!$E$114","v":2458},{"$f":"+'[1]Tabla de datos'!$E$120","v":1359}]
[null,null,null,null,null,null,null,null,null,null,"ABR",{"$f":"+'[1]Tabla de datos'!$F$114","v":1688},{"$f":"+'[1]Tabla de datos'!$F$120","v":693}]
[null,null,null,null,null,null,null,null,null,null,"MAY",{"$f":"+'[1]Tabla de datos'!$G$114","v":2269},{"$f":"+'[1]Tabla de datos'!$G$120","v":1115}]
[null,null,null,null,null,null,null,null,null,null,"JUN",{"$f":"+'[1]Tabla de datos'!$H$114","v":2142},{"$f":"+'[1]Tabla de datos'!$H$120","v":1086}]
[null,null,null,null,null,null,null,null,null,null,"JUL",{"$f":"+'[1]Tabla de datos'!$I$114","v":1956},{"$f":"+'[1]Tabla de datos'!$I$120","v":442}]
[null,null,null,null,null,null,null,null,null,null,"AGO",{"$f":"+'[1]Tabla de datos'!$J$114","v":1781},{"$f":"+'[1]Tabla de datos'!$J$120","v":1314}]
[null,null,null,null,null,null,null,null,null,null,"SET",{"$f":"+'[1]Tabla de datos'!$K$114","v":1654},{"$f":"+'[1]Tabla de datos'!$K$120","v":726}]
[null,null,null,null,null,null,null,null,null,null,"OCT",{"$f":"+'[1]Tabla de datos'!$L$114","v":2104},{"$f":"+'[1]Tabla de datos'!$L$120","v":1236}]
[null,null,null,null,null,null,null,null,null,null,"NOV",{"$f":"+'[1]Tabla de datos'!$M$114","v":2111},{"$f":"+'[1]Tabla de datos'!$M$120","v":1101}]
[null,null,null,null,null,null,null,null,null,null,"DIC",{"$f":"+'[1]Tabla de datos'!$N$114","v":1779},{"$f":"+'[1]Tabla de datos'!$N$120","v":602}]
[null,null,null,null,null,null,null,null,null,null,null,{"$f":"SUM(L34:L45)","v":25807},{"$f":"SUM(M34:M45)","v":11593}]
[]
[]
[null,null,null,null,null,null,null,null,null,null,"Al pasar a imprenta y web, se debe pegar como valores para"]
[null,null,null,null,null,null,null,null,null,null,"romper el vinculo con la tabla de datos"]
[]
[]
[]
[]
[]
[]
[]
[]
[]
["Fuente: Cuadro 11."]

{"sheet":"12","index":16,"n_rows":25,"n_cols":10,"rows_kept":25,"cut":false,"hidden":false,"merged":[[0,0,0,9],[1,0,1,9],[2,0,2,9]]}
["CUADRO 12"]
["COSTA RICA: NACIMIENTOS INSCRITOS, POR PROVINCIA Y PARTIDO ESPECIAL"]
["SEGÚN MES, AL 31 DE DICIEMBRE DE 2012"]
[]
["Mes","Total","San José","Alajuela","Cartago","Heredia","Guanacaste","Puntarenas","Limón","Partido especial 1/"]
[]
["Costa Rica",{"$f":"SUM(B9:B20)","v":76631},{"$f":"SUM(C9:C20)","v":31639},{"$f":"SUM(D9:D20)","v":12739},6735,4921,5830,5421,6714,2632]
[]
["Enero",{"$f":"SUM(C9:J9)","v":6253},3425,1072,513,357,164,179,251,292]
["Febrero",{"$f":"SUM(C10:J10)","v":6818},2638,920,496,406,711,498,873,276]
["Marzo",7833,2980,1143,698,462,724,801,633,392]
["Abril",3867,2113,464,354,273,200,142,228,93]
["Mayo",8171,2861,1514,1229,352,729,740,513,233]
["Junio",{"$f":"SUM(C14:J14)","v":6094},2582,1335,425,598,295,358,319,182]
["Julio",5976,2242,983,490,339,395,568,647,312]
["Agosto",6613,2890,1044,461,482,500,514,625,97]
["Setiembre",5986,2928,1072,314,311,368,398,455,140]
["Octubre",7600,2724,1284,738,484,696,483,898,293]
["Noviembre",7160,2653,1181,650,568,697,476,766,169]
["Diciembre",4260,1603,727,367,289,351,264,506,153]
[]
[]
["1/ Inscripción de nacimientos de costarricenses nacidos en el extranjero."]
[]
["Fuente: Sección de Inscripciones del Tribunal Supremo de Elecciones."]

{"sheet":"13","index":17,"n_rows":23,"n_cols":9,"rows_kept":23,"cut":false,"hidden":false,"merged":[[0,0,0,8],[1,0,1,8],[2,0,2,8]]}
["CUADRO 13"]
["COSTA RICA: DEFUNCIONES INSCRITAS, POR PROVINCIA, SEGÚN MES"]
["AL 30 DE DICIEMBRE DE 2012"]
[]
["Mes","Total","San José","Alajuela","Cartago","Heredia","Guanacaste","Puntarenas","Limón"]
[]
["Costa Rica",{"$f":"SUM(B9:B20)","v":19243},{"$f":"SUM(C9:C20)","v":9335},2720,1581,1438,1428,1445,1296]
[]
["Enero",{"$f":"'[1]D (3-14)'!$C$112","v":1900},950,265,147,102,162,170,104]
["Febrero",{"$f":"'[1]D (3-14)'!$D$112","v":1208},602,114,112,120,95,97,68]
["Marzo",{"$f":"'[1]D (3-14)'!$E$112","v":2071},1168,270,137,132,139,125,100]
["Abril",{"$f":"'[1]D (3-14)'!$F$112","v":1260},550,168,78,147,83,96,138]
["Mayo",{"$f":"'[1]D (3-14)'!$G$112","v":1866},979,235,101,90,133,137,191]
["Junio",{"$f":"'[1]D (3-14)'!$H$112","v":1658},858,236,156,90,94,115,109]
["Julio",{"$f":"'[1]D (3-14)'!$I$112","v":1590},722,244,155,95,104,161,109]
["Agosto",{"$f":"'[1]D (3-14)'!$J$112","v":1655},756,313,85,143,115,96,147]
["Setiembre",{"$f":"'[1]D (3-14)'!$K$112","v":1640},796,220,111,135,135,133,110]
["Octubre",{"$f":"'[1]D (3-14)'!$L$112","v":1746},876,269,184,124,102,107,84]
["Noviembre",{"$f":"'[1]D (3-14)'!$M$112","v":1792},619,288,245,164,212,167,97]
["Diciembre",{"$f":"'[1]D (3-14)'!$N$112","v":857},459,98,70,96,54,41,39]
[]
[]
["Fuente: Sección de Inscripciones del Tribunal Supremo de Elecciones."]

{"sheet":"14","index":18,"n_rows":26,"n_cols":9,"rows_kept":26,"cut":false,"hidden":false,"merged":[[0,0,0,8],[1,0,1,8],[2,0,2,8],[3,0,3,8],[5,0,7,0],[5,1,5,8],[6,1,6,4],[6,5,6,8]]}
["CUADRO 14"]
["COSTA RICA: SOLICITUDES  DE CÉDULA RECIBIDAS, POR CLASE DE SOLICITUD"]
[" SEGÚN MES, AL 31 DE DICIEMBRE DE 2012"]
["(Absoluto y Porcentaje)"]
[]
["Mes","Clase de solicitud"]
[null,"Absoluto",null,null,null,"Porcentaje"]
[null,"Total","Primera vez","Duplicado","Traslado","Total","Primera vez","Duplicado","Traslado"]
[]
["TOTAL",{"$f":"SUM(B12:B23)","v":632537},{"$f":"SUM(C12:C23)","v":84279},547633,625,{"$f":"SUM(G10:I10)","v":100},{"$f":"C10/$B10*100","v":13.323963657461935},{"$f":"D10/$B10*100","v":86.577227893388056},{"$f":"E10/$B10*100","v":9.8808449150010191E-2}]
[]
["Enero",66977,8844,58109,24,{"$f":"SUM(G12:I12)","v":100},{"$f":"C12/$B12*100","v":13.204532899353511},{"$f":"D12/$B12*100","v":86.759633904176056},{"$f":"E12/$B12*100","v":3.5833196470430144E-2}]
["Febrero",55129,6032,49069,28,100,{"$f":"C13/$B13*100","v":10.941609679116254},89.00760035552976,5.0789965353987915E-2]
["Marzo",55350,6720,48582,48,99.999999999999986,12.140921409214092,87.77235772357723,8.6720867208672087E-2]
["Abril",41405,6007,35361,37,99.999999999999986,14.507909672744837,85.402729138992868,8.9361188262287158E-2]
["Mayo",56113,7237,48832,44,99.999999999999986,12.897189599558034,87.024397198510144,7.8413201931816154E-2]
["Junio",51505,6729,44727,49,99.999999999999986,13.064750995049025,86.840112610426161,9.5136394524803408E-2]
["Julio",53857,7341,46478,38,100,13.630540134058711,86.298902649609161,7.0557216332138809E-2]
["Agosto",55443,7524,47860,59,100,13.570694226502894,86.322890175495559,0.10641559800155115]
["Setiembre",49901,7031,42797,73,{"$f":"SUM(G20:I20)","v":100},14.089897998036111,85.763812348449932,0.14628965351395762]
["Octubre",57142,8070,48980,92,100,14.12271184067761,85.716285744286168,0.16100241503622553]
["Noviembre",54584,7887,46627,70,100,14.449289168987248,85.422468122526752,0.12824270848600322]
["Diciembre",35131,4857,30211,63,100,13.825396373573199,85.995274828499049,0.17932879792775611]
[]
[]
["Fuente: Sección Solicitudes Cedulares y Coordinación de Servicios Regionales del Tribunal Supremo de Elecciones."]

{"sheet":"G6","index":19,"n_rows":30,"n_cols":14,"rows_kept":30,"cut":false,"hidden":false,"merged":[[1,0,1,7],[2,0,2,7],[3,0,3,7]]}
[]
["GRÁFICO 6",null,null,null,null,null,null,null,null,null,null," "]
["COSTA RICA: PORCENTAJE DE SOLICITUDES DE CÉDULA RECIBIDAS ",null,null,null,null,null,null,null,null,"SOLICITUDES CEDULARES RECIBIDAS",null,null,null," "]
["POR CLASE DE SOLICITUD, AL 31 DE DICIEMBRE DE 2012",null,null,null,null,null,null,null,null,"TOTAL",{"$f":"SUM(K5:K7)","v":632537}]
[null,null,null,null,null,null,null,null,null,"Duplicado",{"$f":"+'[1]Tabla de datos'!B31","v":547633},{"$f":"+K5/$K$4*100","v":86.577227893388056}]
[null,null,null,null,null,null,null,null,null,"Primera vez",{"$f":"+'[1]Tabla de datos'!B30","v":84279},{"$f":"+K6/$K$4*100","v":13.323963657461935}]
[null,null,null,null,null,null,null,null,null,"Traslado",{"$f":"'[1]Tabla de datos'!B32","v":625},{"$f":"+K7/$K$4*100","v":9.8808449150010191E-2}]
[]
[]
[null,null,null,null,null,null,null,null,null,"Al pasar a imprenta y web, se debe pegar como valores para"]
[null,null,null,null,null,null,null,null,null,"romper el vinculo con la tabla de datos"]
[]
[]
[]
[]
[]
[]
[]
[]
[]
[]
[]
[]
[]
[]
[]
[]
[]
[]
["Fuente: Cuadro 14."]

{"sheet":"15","index":20,"n_rows":27,"n_cols":7,"rows_kept":27,"cut":false,"hidden":false,"merged":[[0,0,0,6],[1,0,1,6],[2,0,2,6],[3,0,3,6],[5,0,6,0],[5,1,5,6]]}
["CUADRO 15"]
["COSTA RICA: SOLICITUDES DE CÉDULA RECIBIDAS  "]
["POR FUENTE DE INGRESO, SEGÚN MES"]
["AL 31 DE DICIEMBRE DE 2012"]
[]
["Mes","Fuente de ingreso"]
[null,"Total","Oficina central","Oficinas regionales 1/","Consulados","Cedulación a domicilio","Cedulación ambulante"]
[]
["TOTAL",632537,220617,387586,4855,3674,15805]
[]
["Enero",66977,24840,41373,318,421,25]
["Febrero",55129,19800,34342,334,255,398]
["Marzo",55350,19181,33318,387,397,2067]
["Abril",41405,14339,26479,334,243,10]
["Mayo",56113,19044,34237,729,393,1710]
["Junio",51505,17618,31596,448,279,1564]
["Julio",53857,19725,33493,346,293,0]
["Agosto",55443,18617,33091,562,275,2898]
["Setiembre",49901,16449,29457,469,347,3179]
["Octubre",57142,18990,35209,252,302,2389]
["Noviembre",54584,18903,33389,442,285,1565]
["Diciembre",35131,13111,21602,234,184,0]
[]
[]
["1/ El Tribunal Supremo de Elecciones cuenta con 32 Oficinas Regionales."]
[]
["Fuente: Sección Solicitudes Cedulares y Coordinación de Servicios Regionales del Tribunal Supremo de Elecciones."]

{"sheet":"G7","index":21,"n_rows":29,"n_cols":12,"rows_kept":29,"cut":false,"hidden":false,"merged":[[1,0,1,7],[2,0,2,7],[3,0,3,7],[28,0,28,6]]}
[]
["GRÁFICO 7",null,null,null,null,null,null,null,null,null,null," "]
["COSTA RICA: PORCENTAJE DE SOLICITUDES DE CÉDULA RECIBIDAS",null,null,null,null,null,null,null,null,"SOLICITUDES CEDULARES RECIBIDAS"]
["POR FUENTE DE INGRESO, AL 31 DE DICIEMBRE DE 2012",null,null,null,null,null,null,null,null,"TOTAL",{"$f":"SUM(K5:K8)","v":632537}]
[null,null,null,null,null,null,null,null,null,"Oficinas Regionales",{"$f":"+'[1]Tabla de datos'!B39","v":387586},{"$f":"+K5/$K$4*100","v":61.274834515609363}]
[null,null,null,null,null,null,null,null,null,"Oficina Central",{"$f":"+'[1]Tabla de datos'!B35","v":220617},{"$f":"+K6/$K$4*100","v":34.878117801804478}]
[null,null,null,null,null,null,null,null,null,"Cedulación Ambulante",{"$f":"+'[1]Tabla de datos'!B51","v":15805},{"$f":"+K7/$K$4*100","v":2.498668062105458}]
[null,null,null,null,null,null,null,null,null,"Consulados y domicilio",{"$f":"+'[1]Tabla de datos'!B43+'[1]Tabla de datos'!B47","v":8529},{"$f":"+K8/$K$4*100","v":1.3483796204806993}]
[]
[]
[null,null,null,null,null,null,null,null,null,"Chequear que el orden sea de mayor a menor"]
[]
[]
[null,null,null,null,null,null,null,null,null,"Al pasar a imprenta y web, se debe pegar como valores para"]
[null,null,null,null,null,null,null,null,null,"romper el vinculo con la tabla de datos"]
[]
[]
[]
[]
[]
[]
[]
[]
[]
[]
[]
[]
[]
["Fuente: Cuadro 15."]

{"sheet":"16","index":22,"n_rows":21,"n_cols":9,"rows_kept":21,"cut":false,"hidden":false,"merged":[[0,0,0,8],[1,0,1,8],[2,0,2,8],[3,0,3,8],[5,0,7,0],[5,1,5,8],[6,5,6,8]]}
["CUADRO 16"]
["COSTA RICA: SOLICITUDES DE CÉDULA RECIBIDAS, POR CLASE DE SOLICITUD"]
["SEGÚN PROVINCIA, AL 31 DE DICIEMBRE DE 2012"]
["(Absoluto y Porcentaje)"]
[]
["Provincia","Clase de solicitud"]
[null,"Absoluto",null,null,null,"Porcentaje"]
[null,"Total","Primera vez","Duplicado","Traslado","Total","Primera vez","Duplicado","Traslado"]
[]
["Costa Rica",{"$f":"SUM(C10:E10)","v":632537},{"$f":"SUM(C12:C18)","v":84279},547633,625,{"$f":"SUM(F12:F18)","v":100.00000000000001},100,100,100]
[]
["San José",265526,31498,233743,285,{"$f":"(B12/B$10*100)","v":41.977939630408976},{"$f":"(C12/C$10*100)","v":37.373485684452831},{"$f":"D12/D$10*100","v":42.682416874074427},{"$f":"E12/E$10*100","v":45.6}]
["Alajuela",104131,15838,88191,102,{"$f":"(B13/B$10*100)","v":16.462436189503538},18.792344474898847,{"$f":"D13/D$10*100","v":16.104033175502572},16.32]
["Cartago",48723,7856,40845,22,7.7027905086975146,9.3214205199397249,7.4584621452688209,3.52]
["Heredia",45849,6826,38929,94,7.2484297361261083,8.0992892654160578,7.1085927984617436,{"$f":"E15/E$10*100","v":15.040000000000001}]
["Guanacaste",44471,6178,38271,22,7.030576867440165,7.330414456744859,6.9884393380238219,3.52]
["Puntarenas",59642,8068,51487,87,9.4290136387278523,9.572965982035857,9.4017343732024923,13.919999999999998]
["Limón",64195,8015,56167,13,10.148813429095847,9.510079616511824,10.256321295466124,2.08]
[]
[]
["Fuente: Sección Solicitudes Cedulares y Coordinación de Servicios Regionales del Tribunal Supremo de Elecciones."]

{"sheet":"G8","index":23,"n_rows":29,"n_cols":15,"rows_kept":29,"cut":false,"hidden":false,"merged":[[1,0,1,8],[2,0,2,8],[3,0,3,8]]}
[]
["GRÁFICO 8 "]
["COSTA RICA: SOLICITUDES DE CÉDULA RECIBIDAS, POR CLASE DE SOLICITUD",null,null,null,null,null,null,null,null,null,null,"PV","DUP","TRASL"]
["SEGÚN PROVINCIA, AL 31 DE DICIEMBRE DE 2012",null,null,null,null,null,null,null,null,null,"San José",{"$f":"+'[1]Tabla de datos'!B58","v":31498},{"$f":"+'[1]Tabla de datos'!B67","v":233743},{"$f":"+'[1]Tabla de datos'!B76","v":285}]
[null,null,null,null,null,null,null,null,null,null,"Alajuela",{"$f":"+'[1]Tabla de datos'!B59","v":15838},{"$f":"+'[1]Tabla de datos'!B68","v":88191},{"$f":"+'[1]Tabla de datos'!B77","v":102}]
[null,null,null,null,null,null,null,null,null,null,"Limón",{"$f":"+'[1]Tabla de datos'!B64","v":8015},{"$f":"+'[1]Tabla de datos'!B73","v":56167},{"$f":"+'[1]Tabla de datos'!B82","v":13}]
[null,null,null,null,null,null,null,null,null,null,"Puntarenas",{"$f":"+'[1]Tabla de datos'!B63","v":8068},{"$f":"+'[1]Tabla de datos'!B72","v":51487},{"$f":"+'[1]Tabla de datos'!B81","v":87}]
[null,null,null,null,null,null,null,null,null,null,"Cartago",{"$f":"+'[1]Tabla de datos'!B60","v":7856},{"$f":"+'[1]Tabla de datos'!B69","v":40845},{"$f":"+'[1]Tabla de datos'!B78","v":22}]
[null,null,null,null,null,null,null,null,null,null,"Heredia",{"$f":"+'[1]Tabla de datos'!B61","v":6826},{"$f":"+'[1]Tabla de datos'!B70","v":38929},{"$f":"+'[1]Tabla de datos'!B79","v":94},{"$f":"SUM(L11:N11)","v":632537}]
[null,null,null,null,null,null,null,null,null,null,"Guanacaste",{"$f":"+'[1]Tabla de datos'!B62","v":6178},{"$f":"+'[1]Tabla de datos'!B71","v":38271},{"$f":"+'[1]Tabla de datos'!B80","v":22}]
[null,null,null,null,null,null,null,null,null,null,"Total",{"$f":"SUM(L4:L10)","v":84279},{"$f":"SUM(M4:M10)","v":547633},{"$f":"SUM(N4:N10)","v":625}]
[]
[null,null,null,null,null,null,null,null,null,null,null,"Duplicado","Primera vez","Traslado"]
[null,null,null,null,null,null,null,null,null,null,"Guanacaste",{"$f":"M10/1000","v":38.271000000000001},{"$f":"L10/1000","v":6.1779999999999999},{"$f":"N10/1000","v":2.1999999999999999E-2}]
[null,null,null,null,null,null,null,null,null,null,"Heredia",{"$f":"M9/1000","v":38.929000000000002},{"$f":"L9/1000","v":6.8259999999999996},{"$f":"N9/1000","v":9.4E-2}]
[null,null,null,null,null,null,null,null,null,null,"Cartago",{"$f":"M8/1000","v":40.844999999999999},{"$f":"L8/1000","v":7.8559999999999999},{"$f":"N8/1000","v":2.1999999999999999E-2}]
[null,null,null,null,null,null,null,null,null,null,"Puntarenas",{"$f":"M7/1000","v":51.487000000000002},{"$f":"L7/1000","v":8.0679999999999996},{"$f":"N7/1000","v":8.6999999999999994E-2}]
[null,null,null,null,null,null,null,null,null,null,"Limón",{"$f":"M6/1000","v":56.167000000000002},{"$f":"L6/1000","v":8.0150000000000006},{"$f":"N6/1000","v":1.2999999999999999E-2}]
[null,null,null,null,null,null,null,null,null,null,"Alajuela",{"$f":"M5/1000","v":88.191000000000003},{"$f":"L5/1000","v":15.837999999999999},{"$f":"N5/1000","v":0.10199999999999999}]
[null,null,null,null,null,null,null,null,null,null,"San José",{"$f":"M4/1000","v":233.74299999999999},{"$f":"L4/1000","v":31.498000000000001},{"$f":"N4/1000","v":0.28499999999999998}]
[null,null,null,null,null,null,null,null,null,null,"Total",{"$f":"SUM(L14:L20)","v":547.63300000000004},{"$f":"SUM(M14:M20)","v":84.278999999999996},{"$f":"SUM(N14:N20)","v":0.625}]
[]
[]
[]
[]
[]
[]
[]
["Fuente: Cuadro 16."]

{"sheet":"17","index":24,"n_rows":24,"n_cols":8,"rows_kept":24,"cut":false,"hidden":false,"merged":[[0,0,0,7],[1,0,1,7],[2,0,2,7],[4,0,5,0],[4,1,5,1],[4,2,4,7]]}
["CUADRO 17"]
["COSTA RICA: CANTIDAD DE RESOLUCIONES, POR TIPO DE RESOLUCIÓN, SEGÚN MES"]
["AL 31 DE DICIEMBRE DE 2012"]
[]
["Mes","Total","Tipo de resolución"]
[null,null,"Electorales","Inscripciones","Municipales","Naturalizaciones","Ocursos, Paternidad y Excusas","Procedimientos"]
[]
["Total",{"$f":"SUM(C8:H8)","v":8789},{"$f":"SUM(C10:C21)","v":157},960,145,7063,106,358]
[]
["Enero",{"$f":"SUM(C10:H10)","v":1003},12,2,6,940,0,43]
["Febrero",829,17,83,13,672,15,29]
["Marzo",810,16,50,15,657,24,48]
["Abril",624,8,122,14,405,6,69]
["Mayo",850,16,134,26,627,10,37]
["Junio",805,16,67,17,665,3,37]
["Julio",629,10,86,7,491,12,23]
["Agosto",559,10,97,12,417,4,19]
["Setiembre",826,9,71,9,719,3,15]
["Octubre",810,14,67,11,692,15,11]
["Noviembre",590,14,116,12,423,10,15]
["Diciembre",454,15,65,3,355,4,12]
[]
[]
["Fuente: Secretaría del Tribunal Supremo de Elecciones."]

{"sheet":"18","index":25,"n_rows":30,"n_cols":9,"rows_kept":30,"cut":false,"hidden":false,"merged":[[5,0,6,0],[5,1,5,7]]}
["CUADRO 18"]
["COSTA RICA: CANTIDAD DE RESOLUCIONES ELECTORALES"]
["POR ACCIÓN TRAMITADA, SEGÚN MES"]
["AL 31 DE DICIEMBRE DE 2012"]
[]
["Mes","Acción Tramitada"]
[null,"Total","Financiamiento de Partidos Políticos","Hermenéutica Electoral","Amparo Electoral","Denuncia beligerancia Política","Democracia semidirecta","Apelación electoral","Otras 1/"]
[]
["Total",{"$f":"SUM(B11:B22)","v":157},{"$f":"SUM(C11:C22)","v":39},34,28,15,{"$f":"SUM(G11:G22)","v":10},{"$f":"SUM(H11:H22)","v":9},{"$f":"SUM(I11:I22)","v":22}]
[]
["Enero",{"$f":"SUM(C11:I11)","v":12},1,1,3,4,0,1,2]
["Febrero",{"$f":"SUM(C12:I12)","v":17},4,5,1,2,0,1,4]
["Marzo",16,5,3,1,1,0,2,4]
["Abril",8,4,1,1,1,1,0,0]
["Mayo",16,3,5,3,2,0,0,3]
["Junio",16,4,2,4,2,2,1,1]
["Julio",10,1,4,1,0,3,0,1]
["Agosto",10,6,1,0,1,0,0,2]
["Setiembre",9,1,3,3,1,1,0,0]
["Octubre",14,3,3,3,0,2,2,1]
["Noviembre",14,3,1,6,1,0,1,2]
["Diciembre",15,4,5,2,0,1,1,2]
[]
[]
["1/ Incluye cancelación de credenciales de Supremos Poderes, demanda de nulidad y otros asuntos electorales."]
[]
["Fuente: Secretaría del Tribunal Supremo de Elecciones."]
[]
[]
["Información generada por Eladio."]

{"sheet":"19","index":26,"n_rows":31,"n_cols":9,"rows_kept":31,"cut":false,"hidden":false,"merged":[[0,0,0,6],[1,0,1,6],[2,0,2,6],[3,0,3,6],[5,0,6,0],[5,1,5,6]]}
["CUADRO 19"]
["COSTA RICA: CANTIDAD DE RESOLUCIONES MUNICIPALES"]
["POR RESULTADO DE LA GESTIÓN, SEGÚN MES",null,null,null,null,null,null,"Menu"]
["AL 31 DE DICIEMBRE DE 2012"]
[]
["Mes","Resultado de la Gestión"]
[null,"Total","Cancelación de credenciales","Rechazo de plano","Sin lugar","Se repone vacante","Revoca parcialmente resolución",null,"Menu"]
[]
["Total",{"$f":"SUM(B11:B22)","v":145},95,41,6,2,1]
[]
["Enero",{"$f":"SUM(C11:G11)","v":6},4,0,2,0,0]
["Febrero",{"$f":"SUM(C12:G12)","v":13},9,3,1,0,0]
["Marzo",15,7,8,0,0,0]
["Abril",14,10,4,0,0,0]
["Mayo",26,17,9,0,0,0]
["Junio",17,13,3,0,1,0]
["Julio",7,4,3,0,0,0]
["Agosto",12,9,2,0,1,0]
["Setiembre",9,8,1,0,0,0]
["Octubre",11,5,5,1,0,0]
["Noviembre",12,7,3,2,0,0]
["Diciembre",3,2,0,0,0,1]
[]
[]
["Fuente: Secretaría del Tribunal Supremo de Elecciones."]
[]
[]
[]
[]
[]
["Información generada por Eladio."]

{"sheet":"20","index":27,"n_rows":38,"n_cols":14,"rows_kept":38,"cut":false,"hidden":false,"merged":[[6,9,6,10],[6,11,6,12],[6,13,6,14],[0,0,0,14],[1,0,1,14],[2,0,2,14],[3,0,3,14],[5,0,6,0],[5,1,5,14],[6,1,6,2],[6,3,6,4],[6,5,6,6],[6,7,6,8]]}
["CUADRO 20"]
["COSTA RICA: TRÁMITES RELACIONADOS CON EL INGRESO DE SOLICITUDES DE"]
["DETERMINACIÓN DE PATERNIDAD1/,  POR TIPO, SEGÚN MES"]
["AL 31 DE DICIEMBRE DE 2012"]
[]
["Mes","Ingreso de solicitudes de determinación de paternidad"]
[null,"Total",null,"Paternidad de oficio 2/",null,"Declaración voluntaria 3/",null,"Casos enviados a notificar 4/",null,"Solicitudes prueba de ADN 5/",null,"Devueltas por el correo 6/",null,"Información incompleta 7/"]
[]
["Enero",{"$f":"SUM(D9:N9)","v":48941},null,496,null,19374,null,2839,null,19048,null,3875,null,3309]
["Febrero",{"$f":"SUM(D10:N10)","v":49302},null,498,null,19462,null,2843,null,19272,null,3908,null,3319]
["Marzo",{"$f":"SUM(D11:N11)","v":49738},null,503,null,19491,null,2975,null,19589,null,3843,null,3337]
["Abril",{"$f":"SUM(D12:N12)","v":50063},null,518,null,19587,null,3012,null,19769,null,3837,null,3340]
["Mayo",{"$f":"SUM(D13:N13)","v":50959},null,531,null,19799,null,3192,null,20115,null,3953,null,3369]
["Junio",51516,null,552,null,19819,null,3352,null,20518,null,3910,null,3365]
["Julio",52084,null,552,null,19910,null,3460,null,20887,null,3904,null,3371]
["Agosto",52661,null,572,null,20048,null,3465,null,21252,null,4005,null,3319]
["Setiembre",53302,null,576,null,20279,null,3517,null,21735,null,3902,null,3293]
["Octubre",53934,null,631,null,20443,null,3539,null,21967,null,3990,null,3364]
["Noviembre",54319,null,681,null,20623,null,3409,null,22406,null,3877,null,3323]
["Diciembre",54465,null,681,null,20770,null,3093,null,22660,null,3977,null,3284]
[]
[]
["1/ Datos acumulados desde que se promulgó la Ley 8101 DE Paternidad Responsable, en abril de 2001."]
[]
["2/ Presuntos padres notificados que no se presentan en el término de 10 días y como consecuencia se aplica la paternidad"]
["por presunción."]
[]
["3/ Padres que se presentan a firmar, aceptando la paternidad."]
[]
["4/ Expedientes ingresados que aún no han sido notificados."]
[]
["5/ Casos enviados al laboratorio para realizar la prueba de ADN."]
[]
["6/ Citatorios enviados al padre que han sido devueltos por el correo por dirección inexacta."]
[]
["7/ Casos de solicitudes en los que no se puede enviar citatorio al padre por no tener nombre y apellidos o dirección inexacta."]
[]
["Fuente: Sección de Inscripciones del Tribunal Supremo de Elecciones."]

{"sheet":"21","index":28,"n_rows":25,"n_cols":22,"rows_kept":25,"cut":false,"hidden":false,"merged":[[6,16,6,17],[6,3,6,4],[6,5,6,6],[6,7,6,8],[6,10,6,11],[6,12,6,13],[6,14,6,15],[0,0,0,22],[1,0,1,22],[2,0,2,22],[4,0,6,0],[4,1,6,2],[4,3,4,22],[5,3,5,8],[5,10,5,17],[5,19,6,20],[5,21,6,22]]}
["CUADRO 21"]
["COSTA RICA: TRÁMITES DE SOLICITUD DE PRUEBAS DE ADN PARA DETERMINACIÓN DE PATERNIDAD 1/"]
["POR TIPO DE RESULTADO DE LA GESTIÓN, SEGÚN MES, AL 31 DE DICIEMBRE DE 2012"]
[]
["Mes","Total de trámites",null,"Resultado de la gestión"]
[null,null,null,"Resultado",null,null,null,null,null,null,"Pendiente de realizar prueba",null,null,null,null,null,null,null,null,"Cita pendiente de asignar",null,"Resultados pendientes de entrega"]
[null,null,null,"Total",null,"Positivo",null,"Negativo",null,null,"Total",null,"Padre no se presentó",null,"Madre no se presentó",null,"Ninguno se presentó"]
[]
["Enero",19048,null,13320,null,10525,null,2795,null,null,4158,null,1598,null,1270,null,1290,null,null,39,null,1531]
["Febrero",19272,null,13482,null,10638,null,2844,null,null,4220,null,1617,null,1296,null,1307,null,null,27,null,1543]
["Marzo",19589,null,13810,null,10890,null,2920,null,null,4272,null,1632,null,1317,null,1323,null,null,38,null,1469]
["Abril",19769,null,14017,null,11050,null,2967,null,null,4304,null,1622,null,1342,null,1340,null,null,40,null,1408]
["Mayo",20115,null,14476,null,11396,null,3080,null,null,4312,null,1650,null,1330,null,1332,null,null,86,null,1241]
["Junio",20518,null,14888,null,11693,null,3195,null,null,4368,null,1662,null,1352,null,1354,null,null,123,null,1139]
["Julio",20887,null,15085,null,11843,null,3242,null,null,4445,null,1691,null,1364,null,1390,null,null,210,null,1147]
["Agosto",21252,null,15313,null,12018,null,3295,null,null,4519,null,1719,null,1387,null,1413,null,null,57,null,1363]
["Setiembre",21735,null,15553,null,12218,null,3335,null,null,4520,null,1723,null,1378,null,1419,null,null,242,null,1420]
["Octubre",21967,null,15874,null,12459,null,3415,null,null,4587,null,1740,null,1397,null,1450,null,null,193,null,1313]
["Noviembre",22406,null,16184,null,12682,null,3502,null,null,4612,null,1755,null,1399,null,1458,null,null,198,null,1412]
["Diciembre",22660,null,16292,null,12764,null,3528,null,null,4656,null,1773,null,1411,null,1472,null,null,312,null,1400]
[]
[]
["1/ Casos registrados desde que se promulgó la ley en abril de 2001."]
[]
["Fuente: Sección de Inscripciones del Tribunal Supremo de Elecciones."]

{"sheet":"22","index":29,"n_rows":25,"n_cols":11,"rows_kept":25,"cut":false,"hidden":false,"merged":[[6,8,6,9],[6,10,6,11],[0,0,0,11],[1,0,1,11],[2,0,2,11],[3,0,3,11],[5,0,6,0],[5,1,6,2],[5,3,5,5],[5,8,5,11],[6,3,6,4],[6,5,6,6]]}
["CUADRO 22"]
["COSTA RICA: RESULTADO DE PRUEBAS DE ADN REALIZADAS 1/ "]
["PARA DETERMINACIÓN DE PATERNIDAD, SEGÚN MES"]
["AL 31 DE DICIEMBRE DE 2012"]
[]
["Mes","Total",null,"Absoluto",null,null,null,null,"Porcentaje"]
[null,null,null,"Positivo",null,"Negativo",null,null,"Positivo",null,"Negativo"]
[]
["Enero",13320,null,10525,null,2795,null,null,{"$f":"+D9/B9*100","v":79.016516516516518},null,{"$f":"+F9/B9*100","v":20.983483483483482}]
["Febrero",13482,null,10638,null,2844,null,null,{"$f":"+D10/B10*100","v":78.905206942590127},null,{"$f":"+F10/B10*100","v":21.094793057409881}]
["Marzo",13810,null,10890,null,2920,null,null,78.855901520637218,null,21.144098479362778]
["Abril",14017,null,11050,null,2967,null,null,78.832845830063491,null,21.167154169936506]
["Mayo",14476,null,11396,null,3080,null,null,78.723404255319153,null,21.276595744680851]
["Junio",14888,null,11693,null,3195,null,null,78.539763567974205,null,21.460236432025791]
["Julio",15085,null,11843,null,3242,null,null,{"$f":"+D15/B15*100","v":78.508452104739817},null,21.491547895260194]
["Agosto",15313,null,12018,null,3295,null,null,78.482335270685041,null,21.517664729314962]
["Setiembre",15553,null,12218,null,3335,null,null,78.557191538609914,null,21.442808461390086]
["Octubre",15874,null,12459,null,3415,null,null,{"$f":"+D18/B18*100","v":78.486833816303388},null,21.513166183696612]
["Noviembre",16184,null,12682,null,3502,null,null,78.361344537815128,null,21.638655462184875]
["Diciembre",16292,null,12764,null,3528,null,null,78.345200098207712,null,21.654799901792291]
[]
[]
["1/ Casos registrados desde que se promulgó la ley en abril de 2001."]
[]
["Fuente: Sección de Inscripciones del Tribunal Supremo de Elecciones."]

{"sheet":"23","index":30,"n_rows":54,"n_cols":3,"rows_kept":54,"cut":false,"hidden":false,"merged":[[49,0,49,2],[0,0,0,2],[2,0,2,2],[3,0,3,2],[5,0,6,0],[5,1,6,1],[5,2,6,2]]}
["CUADRO 23"]
[]
["COSTA RICA: DONACIONES REPORTADAS PARA EL PROCESO ELECTORAL 2010-20141/ "]
["SEGÚN PARTIDO POLÍTICO 2/, AL 31 DE DICIEMBRE DE 2012"]
[]
["PARTIDO POLÍTICO ","MONTO EN COLONES","PORCENTAJE"]
[]
[]
["TOTAL ",{"$f":"SUM(B11:B45)","v":746799407.86000001},{"$f":"SUM(C11:C45)","v":99.999999999999986}]
[]
["ACCESIBILIDAD SIN EXCLUSIÓN",7670000,1.1297216615693224]
["ACCIÓN CANTONAL SIQUIRRES INDEPENDIENTE",616000,9.0731231229035536E-2]
["ACCIÓN CIUDADANA",46285059.399999999,4.6671047437401629]
["ACCIÓN NARANJEÑA",48000,7.0699660697949767E-3]
["ACCIÓN QUEPEÑA",220000,3.2404011153226983E-2]
["ACUERDO CANTONAL DESAMPARADEÑO",4263500,0.62797500705356002]
["ALIANZA ZARCEREÑA",50000,7.3645479893697675E-3]
["AUTÓNOMO OROMONTANO",795000,0.11709631303097931]
["BARVA UNIDA (COALICIÓN)",500000,7.3645479893697685E-2]
["CARTAGO UNIDO (COALICIÓN)",2022000,0.29782232069011344]
["CÍVICO TIBÁS FUENTEOVEJUNA",370000,5.449765512133628E-2]
["CURRIDABAT SIGLO XXI",970000,0.1428722309937735]
["DEL SOL",8142809.3499999996,1.1964163853315291]
["EL PUENTE Y LOS CAMINOS DE MORA",2283140,0.33628588192899384]
["FRENTE AMPLIO",113161848.65000001,12.084515024069296]
["GOICOCHEA EN ACCIÓN",1426000,0.21003690865682578]
["INDEPENDIENTE BELEMITA",2977000,0.2383167729360057]
["INTEGRACIÓN BARBAREÑA",707222.45,0.1041674734436932]
["INTEGRACIÓN NACIONAL",59168000,8.7149115087006077]
["LIBERACIÓN NACIONAL",191488295.75,27.272737854511526]
["MONTES DE OCA UNIDA (COALICIÓN)",864000,0.12725938925630959]
["MOVIMIENTO AVANCE SANTO DOMINGO",7088290.4000000004,0.89068021711116263]
["MOVIMIENTO DE TRABAJADORES Y CAMPESINOS",2298584.0499999998,0.33856065087649834]
["MOVIMIENTO LIBERTARIO",243318620.78999999,35.70150530674232]
["ORGANIZACIÓN LABORISTA DE AGUIRRE",367000,5.405578224197409E-2]
["RAMONENSE (COALICIÓN)",30000,4.4187287936218603E-3]
["RENOVACIÓN COSTARRICENSE",5487000,0.23743302717728129]
["RENOVEMOS ALAJUELA",637000,4.4187287936218603E-3]
["RESTAURACIÓN NACIONAL",12879960,1.1242630585996016]
["ÚNICO ABANGAREÑO",100000,1.4729095978739535E-2]
["UNIDAD SOCIAL CRISTIANA",9522769.25,1.2261632528410953]
["UNIDOS POR SAN CARLOS (COALICIÓN)",1719000,0.13992641179802559]
["UNIÓN ATENIENSE",165000,2.4303008364920234E-2]
["UNIÓN PALMAREÑA",1509427.77,0.22232506497304785]
["YUNTA PROGRESISTA ESCAZUCEÑA",17648880,2.4842652983389293]
[" "]
[]
["1/ Total de Donaciones reportadas por los partidos políticos de marzo 2010 a diciembre 2012. Con corte al 11-02-2013."]
[]
["2/ Los siguientes Partidos Políticos reportaron no haber recibido donaciones durante el período: Accesibilidad Sin Exclusión, Acuerdo Cantonal Desamparadeño, Autonomo Oromontano, Unión Poaseña.  "]
[]
["Nota: El detalle de los contribuyentes se puede consultar en  www.tse.go.cr"]
[]
["Fuente: Departamento de Financiamiento de Partidos Políticos. "]