{"text_format":"1","workbook":"xlsx","n_sheets":42,"sheets":["MENU","1","G1","2","3","4","G2","5","6","7","8","9","10","11","12","13","14","15","16","17","18","19","20","G3","21","22","23","24","25","26","27","28","29","30","31","G4","32","G5","33","G6","34","35"],"not_rendered":{"charts":6,"images":53,"macros":1,"external_links":0,"defined_names":37,"comments":0,"pivot_tables":0},"unopened":[],"bounds":{"document_bytes":16777216,"sheet_cells":100000,"rows_first":2000,"rows_last":500,"rows_between":2000,"halvings":0,"cell_chars":16384,"cell_head_chars":4096},"cells_cut":0,"cells_raw":0,"read":"whole","date_system":"1900"}

{"sheet":"MENU","index":0,"n_rows":0,"n_cols":0,"rows_kept":0,"cut":false,"hidden":false,"merged":[]}

{"sheet":"1","index":1,"n_rows":47,"n_cols":5,"rows_kept":47,"cut":false,"hidden":false,"merged":[[3,0,5,0],[3,3,4,4],[3,1,4,2]]}
["CUADRO 1 COSTA RICA: TOTAL Y VARIACIÓN DEL PADRÓN NACIONAL ELECTORAL "]
["SEGÚN PROVINCIA Y SEXO, DE DICIEMBRE 2006 A DICIEMBRE 2010"]
[]
["PROVINCIA Y SEXO","PADRÓN NACIONAL ELECTORAL",null,"VARIACIÓN "]
[]
[null," DICIEMBRE 2006"," DICIEMBRE 2010","ABSOLUTO","%"]
[]
["COSTA RICA",{"$f":"+B9+B10","v":2603770},{"$f":"+C9+C10","v":2866217},{"$f":"+C8-B8","v":262447},{"$f":"+D8/B8*100","v":10.079500109456673}]
["HOMBRES",{"$f":"+B13+B17+B21+B25+B29+B33+B37","v":1300955},{"$f":"+C13+C17+C21+C25+C29+C33+C37+C41","v":1430857},{"$f":"+C9-B9","v":129902},{"$f":"+D9/B9*100","v":9.9851263110561082}]
["MUJERES",{"$f":"+B14+B18+B22+B26+B30+B34+B38","v":1302815},{"$f":"+C14+C18+C22+C26+C30+C34+C38+C42","v":1435360},{"$f":"+C10-B10","v":132545},{"$f":"+D10/B10*100","v":10.173739172484197}]
[]
["SAN JOSÉ",{"$f":"+B13+B14","v":952561},{"$f":"+C13+C14","v":1016678},{"$f":"+C12-B12","v":64117},{"$f":"+D12/B12*100","v":6.7310125020864806}]
["HOMBRES",463852,495505,{"$f":"+C13-B13","v":31653},{"$f":"+D13/B13*100","v":6.8239438441571876}]
["MUJERES",488709,521173,{"$f":"+C14-B14","v":32464},{"$f":"+D14/B14*100","v":6.6428078877205046}]
[]
["ALAJUELA",{"$f":"+B17+B18","v":476942},{"$f":"+C17+C18","v":533285},{"$f":"+C16-B16","v":56343},{"$f":"+D16/B16*100","v":11.813386114034831}]
["HOMBRES",240771,269128,{"$f":"+C17-B17","v":28357},{"$f":"+D17/B17*100","v":11.777581187103097}]
["MUJERES",236171,264157,{"$f":"+C18-B18","v":27986},{"$f":"+D18/B18*100","v":11.849888428299833}]
[]
["CARTAGO",{"$f":"+B21+B22","v":301688},{"$f":"+C21+C22","v":334473},{"$f":"+C20-B20","v":32785},{"$f":"+D20/B20*100","v":10.86718729283233}]
["HOMBRES",150759,167036,{"$f":"+C21-B21","v":16277},{"$f":"+D21/B21*100","v":10.796702021106535}]
["MUJERES",150929,167437,{"$f":"+C22-B22","v":16508},{"$f":"+D22/B22*100","v":10.937593172948871}]
[]
["HEREDIA",{"$f":"+B25+B26","v":251999},{"$f":"+C25+C26","v":283771},{"$f":"+C24-B24","v":31772},{"$f":"+D24/B24*100","v":12.607986539629126}]
["HOMBRES",124470,139912,{"$f":"+C25-B25","v":15442},{"$f":"+D25/B25*100","v":12.406202297742427}]
["MUJERES",127529,143859,{"$f":"+C26-B26","v":16330},{"$f":"+D26/B26*100","v":12.804930643226248}]
[]
["GUANACASTE",{"$f":"+B29+B30","v":178788},{"$f":"+C29+C30","v":203614},{"$f":"+C28-B28","v":24826},{"$f":"+D28/B28*100","v":13.885719399512272}]
["HOMBRES",90680,103249,{"$f":"+C29-B29","v":12569},{"$f":"+D29/B29*100","v":13.860829289810322}]
["MUJERES",88108,100365,{"$f":"+C30-B30","v":12257},{"$f":"+D30/B30*100","v":13.911336087528941}]
[]
["PUNTARENAS",{"$f":"+B33+B34","v":236660},{"$f":"+C33+C34","v":265197},{"$f":"+C32-B32","v":28537},{"$f":"+D32/B32*100","v":12.058226992309642}]
["HOMBRES",122811,136989,{"$f":"+C33-B33","v":14178},{"$f":"+D33/B33*100","v":11.544568483279186}]
["MUJERES",113849,128208,{"$f":"+C34-B34","v":14359},{"$f":"+D34/B34*100","v":12.612319827139457}]
[]
["LIMÓN",{"$f":"+B37+B38","v":205132},{"$f":"+C37+C38","v":228491},{"$f":"+C36-B36","v":23359},{"$f":"+D36/B36*100","v":11.387301834916054}]
["HOMBRES",107612,118700,{"$f":"+C37-B37","v":11088},{"$f":"+D37/B37*100","v":10.303683604059028}]
["MUJERES",97520,109791,{"$f":"+C38-B38","v":12271},{"$f":"+D38/B38*100","v":12.583059885151766}]
[]
["EXTRANJERO","NA",{"$f":"+C41+C42","v":708},"NA","NA"]
["HOMBRES","NA",338,"NA","NA"]
["MUJERES","NA",370,"NA","NA"]
[]
[]
["NA: No Aplica "]
[]
["Fuente: Sección Padrón Electoral del Tribunal Supremo de Elecciones."]

{"sheet":"G1","index":2,"n_rows":40,"n_cols":10,"rows_kept":40,"cut":false,"hidden":false,"merged":[]}
["MENU"]
[]
[]
[]
[null,null,null,null,null,null,null,null,null,"MENU"]
[]
[]
[]
[]
[]
[]
[]
[]
[]
[]
[]
[]
[]
[]
[]
[]
[]
[]
[]
[]
["Fuente: Sección Padrón Electoral del Tribunal Supremo de Elecciones."]
[]
[" ",2006,2010]
[]
["EXTRANJERO",0,{"$f":"+'1'!C40","v":708}]
["GUANACASTE",{"$f":"+'1'!B28","v":178788},{"$f":"+'1'!C28","v":203614}]
["LIMÓN",{"$f":"+'1'!B36","v":205132},{"$f":"+'1'!C36","v":228491}]
["PUNTARENAS",{"$f":"+'1'!B32","v":236660},{"$f":"+'1'!C32","v":265197}]
["HEREDIA",{"$f":"+'1'!B24","v":251999},{"$f":"+'1'!C24","v":283771}]
["CARTAGO",{"$f":"+'1'!B20","v":301688},{"$f":"+'1'!C20","v":334473}]
["ALAJUELA",{"$f":"+'1'!B16","v":476942},{"$f":"+'1'!C16","v":533285}]
["SAN JOSÉ",{"$f":"+'1'!B12","v":952561},{"$f":"+'1'!C12","v":1016678}]
[]
[]
[null,{"$f":"SUM(B30:B37)","v":2603770},{"$f":"SUM(C30:C37)","v":2866217}]

{"sheet":"2","index":3,"n_rows":117,"n_cols":7,"rows_kept":117,"cut":false,"hidden":false,"merged":[[3,0,5,0]]}
["CUADRO 2   COSTA RICA:   PADRÓN  NACIONAL  ELECTORAL, POR  SEXO "]
["SEGÚN PROVINCIA Y CANTÓN, DICIEMBRE 2006 Y 2010"]
[]
["PROVINCIA Y CANTÓN","PADRÓN NACIONAL ELECTORAL"]
[null," DICIEMBRE 2006",null,null," DICIEMBRE 2010"]
[null,"TOTAL","HOMBRES","MUJERES","TOTAL","HOMBRES","MUJERES"]
[]
["COSTA RICA",{"$f":"+B18+B40+B57+B67+B79+B92+B105","v":2603770},{"$f":"+C18+C40+C57+C67+C79+C92+C105","v":1300955},{"$f":"+D18+D40+D57+D67+D79+D92+D105","v":1302815},{"$f":"+E18+E40+E57+E67+E79+E92+E105+E113","v":2866217},{"$f":"+F18+F40+F57+F67+F79+F92+F105+F113","v":1430857},{"$f":"+G18+G40+G57+G67+G79+G92+G105+G113","v":1435360}]
["SAN JOSÉ",{"$f":"+B18","v":952561},463852,488709,1016678,495505,521173]
["ALAJUELA",{"$f":"+B40","v":476942},240771,236171,533285,269128,264157]
["CARTAGO",{"$f":"+B57","v":301688},150759,150929,334473,167036,167437]
["HEREDIA",{"$f":"+B67","v":251999},124470,127529,283771,139912,143859]
["GUANACASTE",{"$f":"+B79","v":178788},90680,88108,203614,103249,100365]
["PUNTARENAS",{"$f":"+B92","v":236660},122811,113849,265197,136989,128208]
["LIMÓN",{"$f":"+B105","v":205132},107612,97520,228491,118700,109791]
["EXTRANJERO","NA","NA","NA",{"$f":"SUM(F16:G16)","v":708},338,370]
[]
["SAN JOSÉ",{"$f":"SUM(B19:B38)","v":952561},463852,488709,1016678,495505,521173]
["SAN JOSÉ",{"$f":"+C19+D19","v":223838},107192,116646,{"$f":"+F19+G19","v":225542},108215,117327]
["ESCAZÚ",36674,17844,18830,40526,19736,20790]
["DESAMPARADOS",134363,65945,68418,144901,71011,73890]
["PURISCAL",22038,11137,10901,24663,12429,12234]
["TARRAZÚ",9436,4860,4576,10616,5449,5167]
["ASERRÍ",33851,17024,16827,37616,18801,18815]
["MORA",15245,7665,7580,17413,8641,8772]
["GOICOECHEA",82656,39519,43137,85797,41130,44667]
["SANTA ANA",24156,11922,12234,27941,13729,14212]
["ALAJUELITA",41250,20732,20518,44907,22315,22592]
["VÁZQUEZ DE CORONADO",40007,19410,20597,45831,22200,23631]
["ACOSTA",12923,6825,6098,14354,7482,6872]
["TIBÁS",55489,26149,29340,55315,26064,29251]
["MORAVIA",37121,17648,19473,40392,19306,21086]
["MONTES DE OCA",40201,18545,21656,41135,19190,21945]
["TURRUBARES",3768,1958,1810,4187,2195,1992]
["DOTA",4433,2243,2190,4836,2437,2399]
["CURRIDABAT",41300,19830,21470,44286,21313,22973]
["PÉREZ ZELEDÓN",86526,43685,42841,98271,49699,48572]
["LEÓN CORTÉS",7286,3719,3567,8149,4163,3986]
[]
["ALAJUELA",{"$f":"SUM(B41:B55)","v":476942},240771,236171,533285,269128,264157]
["ALAJUELA",{"$f":"+C41+D41","v":157849},79246,78603,{"$f":"+F41+G41","v":173149},87161,85988]
["SAN RAMÓN",47920,23882,24038,53851,26770,27081]
["GRECIA",45890,23036,22854,50974,25480,25494]
["SAN MATEO",3542,1850,1692,3822,1984,1838]
["ATENAS",15896,8060,7836,17658,8873,8785]
["NARANJO",25591,12737,12854,28029,13921,14108]
["PALMARES",22549,11207,11342,25315,12541,12774]
["POÁS",16227,8143,8084,18233,9174,9059]
["OROTINA",11256,5628,5628,12953,6479,6474]
["SAN CARLOS",76904,39294,37610,88519,45250,43269]
["ALFARO RUIZ (ZARCERO)",7158,3607,3551,7973,3999,3974]
["VALVERDE VEGA",11497,5748,5749,12819,6382,6437]
["UPALA",18914,9951,8963,21797,11432,10365]
["LOS CHILES",8112,4366,3746,9243,4991,4252]
["GUATUSO",7637,4016,3621,8950,4691,4259]
[]
["CARTAGO",{"$f":"SUM(B58:B65)","v":301688},150759,150929,334473,167036,167437]
["CARTAGO",{"$f":"+C58+D58","v":97160},48059,49101,{"$f":"+F58+G58","v":106013},52424,53589]
["PARAÍSO",35636,17881,17755,39836,19941,19895]
["LA UNIÓN",52450,26075,26375,59152,29511,29641]
["JIMÉNEZ",9688,5033,4655,10600,5498,5102]
["TURRIALBA",48087,24211,23876,51904,26079,25825]
["ALVARADO",7679,3890,3789,8697,4396,4301]
["OREAMUNO",27124,13388,13736,30700,15159,15541]
["EL GUARCO",23864,12222,11642,27571,14028,13543]
[]
["HEREDIA",{"$f":"SUM(B68:B77)","v":251999},124470,127529,283771,139912,143859]
["HEREDIA",{"$f":"+C68+D68","v":78213},37476,40737,{"$f":"+F68+G68","v":85356},40946,44410]
["BARVA",24081,11748,12333,27552,13533,14019]
["SANTO DOMINGO",27560,13663,13897,30722,15184,15538]
["SANTA BÁRBARA",19882,9927,9955,22788,11356,11432]
["SAN RAFAEL",26447,13190,13257,29538,14634,14904]
["SAN ISIDRO",11428,5689,5739,13112,6576,6536]
["BELÉN",14339,7120,7219,15982,7880,8102]
["FLORES",11803,5788,6015,13761,6731,7030]
["SAN PABLO",15619,7577,8042,18343,8855,9488]
["SARAPIQUÍ",22627,12292,10335,26617,14217,12400]
[]
["GUANACASTE",{"$f":"SUM(B80:B90)","v":178788},90680,88108,203614,103249,100365]
["LIBERIA",{"$f":"+C80+D80","v":32303},16053,16250,{"$f":"+F80+G80","v":37797},18911,18886]
["NICOYA",31707,16066,15641,35669,18012,17657]
["SANTA CRUZ",29852,15224,14628,34567,17669,16898]
["BAGACES",9869,5021,4848,11245,5717,5528]
["CARRILLO",17448,8884,8564,20050,10219,9831]
["CAÑAS",15854,7981,7873,17344,8696,8648]
["ABANGARES",10612,5498,5114,11763,6040,5723]
["TILARÁN",12161,6119,6042,13309,6702,6607]
["NANDAYURE",6656,3456,3200,7489,3909,3580]
["LA CRUZ",7812,4045,3767,9262,4732,4530]
["HOJANCHA",4514,2333,2181,5119,2642,2477]
[]
["PUNTARENAS",{"$f":"SUM(B93:B103)","v":236660},122811,113849,265197,136989,128208]
["PUNTARENAS",{"$f":"+C93+D93","v":70884},36525,34359,{"$f":"+F93+G93","v":77238},39656,37582]
["ESPARZA",16418,8164,8254,18825,9370,9455]
["BUENOS AIRES",23632,12600,11032,27392,14450,12942]
["MONTES DE ORO",7849,3894,3955,8750,4337,4413]
["OSA",16577,8870,7707,18664,9964,8700]
["AGUIRRE",14330,7664,6666,16693,8909,7784]
["GOLFITO",22490,11733,10757,25019,13054,11965]
["COTO BRUS",24647,12659,11988,26188,13291,12897]
["PARRITA",8157,4299,3858,9776,5118,4658]
["CORREDORES",24590,12538,12052,27936,14168,13768]
["GARABITO",7086,3865,3221,8716,4672,4044]
[]
["LIMÓN",{"$f":"SUM(B106:B111)","v":205132},107612,97520,228491,118700,109791]
["LIMÓN",{"$f":"+C106+D106","v":58080},29701,28379,{"$f":"+F106+G106","v":61603},31186,30417]
["POCOCÍ",65050,34211,30839,75016,39302,35714]
["SIQUIRRES",31380,16691,14689,34544,18170,16374]
["TALAMANCA",13239,7158,6081,15458,8212,7246]
["MATINA",16768,9043,7725,18313,9640,8673]
["GUÁCIMO",20615,10808,9807,23557,12190,11367]
[]
["EXTRANJERO","NA","NA","NA",{"$f":"+F113+G113","v":708},338,370]
[]
[]
["NA: No Aplica"]
["Fuente: Sección Padrón Electoral del Tribunal Supremo de Elecciones."]

{"sheet":"3","index":4,"n_rows":105,"n_cols":4,"rows_kept":105,"cut":false,"hidden":false,"merged":[[3,0,4,0],[3,1,4,1]]}
["CUADRO 3  COSTA RICA:  PADRÓN  NACIONAL  ELECTORAL, POR SEXO "]
["SEGÚN EDAD AL 5 DE DICIEMBRE 2010"]
[]
["EDAD AL 3 DE DICIEMBRE DEL 2006","TOTAL","SEXO"]
[null,"Total","HOMBRES","MUJERES"]
[]
["TOTAL",{"$f":"SUM(B9:B102)","v":2866217},{"$f":"SUM(C9:C102)","v":1430857},{"$f":"SUM(D9:D102)","v":1435360}]
[]
["18 AÑOS",{"$f":"+C9+D9","v":51798},26197,25601]
["19 AÑOS",76912,39318,37594]
["20 AÑOS",79427,40776,38651]
["21 AÑOS",80679,41179,39500]
["22 AÑOS",78236,40127,38109]
["23 AÑOS",77798,39698,38100]
["24 AÑOS",80035,40808,39227]
["25 AÑOS",81469,41518,39951]
["26 AÑOS",75428,38389,37039]
["27 AÑOS",70770,36050,34720]
["28 AÑOS",69997,35549,34448]
["29 AÑOS",69319,35112,34207]
["30 AÑOS",67266,34000,33266]
["31 AÑOS",65774,33329,32445]
["32 AÑOS",63620,32030,31590]
["33 AÑOS",61136,30933,30203]
["34 AÑOS",56295,28465,27830]
["35 AÑOS",55580,28004,27576]
["36 AÑOS",54511,27616,26895]
["37 AÑOS",53792,27101,26691]
["38 AÑOS",54085,27134,26951]
["39 AÑOS",54780,27324,27456]
["40 AÑOS",53211,26788,26423]
["41 AÑOS",54247,27091,27156]
["42 AÑOS",54699,27599,27100]
["43 AÑOS",56325,28282,28043]
["44 AÑOS",56207,27851,28356]
["45 AÑOS",55573,27935,27638]
["46 AÑOS",55119,27430,27689]
["47 AÑOS",54213,27124,27089]
["48 AÑOS",52594,25922,26672]
["49 AÑOS",52453,26332,26121]
["50 AÑOS",{"$f":"+C41+D41","v":50580},24928,25652]
["51 AÑOS",48253,23993,24260]
["52 AÑOS",45534,22603,22931]
["53 AÑOS",43883,21799,22084]
["54 AÑOS",42477,20951,21526]
["55 AÑOS",40648,19922,20726]
["56 AÑOS",38857,19199,19658]
["57 AÑOS",35927,17739,18188]
["58 AÑOS",34062,16673,17389]
["59 AÑOS",31588,15392,16196]
["60 AÑOS",30358,14933,15425]
["61 AÑOS",28297,13737,14560]
["62 AÑOS",26243,12849,13394]
["63 AÑOS",24719,12062,12657]
["64 AÑOS",22896,11147,11749]
["65 AÑOS",22735,11190,11545]
["66 AÑOS",21538,10454,11084]
["67 AÑOS",19586,9483,10103]
["68 AÑOS",17930,8586,9344]
["69 AÑOS",17402,8398,9004]
["70 AÑOS",16708,8072,8636]
["71 AÑOS",15766,7615,8151]
["72 AÑOS",15169,7305,7864]
["73 AÑOS",14187,6845,7342]
["74 AÑOS",13506,6298,7208]
["75 AÑOS",12515,5802,6713]
["76 AÑOS",11297,5334,5963]
["77 AÑOS",10673,4904,5769]
["78 AÑOS",10343,4799,5544]
["79 AÑOS",9818,4439,5379]
["80 AÑOS",9222,4296,4926]
["81 AÑOS",8083,3655,4428]
["82 AÑOS",{"$f":"+C73+D73","v":7861},3528,4333]
["83 AÑOS",7144,3297,3847]
["84 AÑOS",6264,2773,3491]
["85 AÑOS",5174,2200,2974]
["86 AÑOS",4526,1952,2574]
["87 AÑOS",3821,1673,2148]
["88 AÑOS",3409,1429,1980]
["89 AÑOS",3001,1243,1758]
["90 AÑOS",2278,940,1338]
["91 AÑOS",1743,689,1054]
["92 AÑOS",1511,616,895]
["93 AÑOS",1255,532,723]
["94 AÑOS",1018,401,617]
["95 AÑOS",828,320,508]
["96 AÑOS",694,248,446]
["97 AÑOS",494,190,304]
["98 AÑOS",346,140,206]
["99 AÑOS",225,85,140]
["100 AÑOS",162,60,102]
["101 AÑOS",112,42,70]
["102 AÑOS",75,29,46]
["103 AÑOS",48,21,27]
["104 AÑOS",33,14,19]
["105 AÑOS",18,11,7]
["106 AÑOS",17,7,10]
["107 AÑOS",5,1,4]
["108 AÑOS",4,2,2]
["109 AÑOS",1,0,1]
["110 AÑOS",1,1,0]
["111 AÑOS",1,0,1]
[]
[]
["Fuente: Sección Padrón Electoral del Tribunal Supremo de Elecciones."]

{"sheet":"4","index":5,"n_rows":26,"n_cols":4,"rows_kept":26,"cut":false,"hidden":false,"merged":[[3,0,4,0],[3,1,4,1]]}
["CUADRO 4  COSTA RICA:  PADRÓN  NACIONAL  ELECTORAL, POR SEXO "]
["SEGÚN GRUPOS DE EDAD,  ELECCIONES 5 DE DICIEMBRE 2010"]
[]
["GRUPOS DE EDAD","TOTAL","SEXO"]
[null,"Total","HOMBRES","MUJERES"]
[]
["TOTAL",{"$f":"SUM(B9:B23)","v":2866217},{"$f":"SUM(C9:C23)","v":1430857},{"$f":"SUM(D9:D23)","v":1435360}]
[]
["18 - 19",{"$f":"+C9+D9","v":128710},65515,63195]
["20 - 24",396175,202588,193587]
["25 - 29",366983,186618,180365]
["30 - 34",314091,158757,155334]
["35 - 39",272748,137179,135569]
["40 - 44",274689,137611,137078]
["45 - 49",269952,134743,135209]
["50 - 54",230727,114274,116453]
["55 - 59",181082,88925,92157]
["60 - 64",132513,64728,67785]
["65 - 69",99191,48111,51080]
["70 - 74",75336,36135,39201]
["75 - 79",54646,25278,29368]
["80 - 84",38574,17549,21025]
["85 Y MÁS",30800,12846,17954]
[]
[]
["Fuente: Sección Padrón Electoral del Tribunal Supremo de Elecciones."]

{"sheet":"G2","index":6,"n_rows":30,"n_cols":12,"rows_kept":30,"cut":false,"hidden":false,"merged":[]}
[]
[]
[null,null,null,null,null,null,null,null,"HOMBRES","MUJERES"]
[null,null,null,null,null,null,null,null,{"$f":"+'4'!C9","v":65515},{"$f":"+'4'!D9*-1","v":-63195},"18 - 19",{"$f":"CONCATENATE(K4,\"                                                           \")","v":"18 - 19                                                           "}]
[null,null,null,null,null,null,null,null,{"$f":"+'4'!C10","v":202588},{"$f":"+'4'!D10*-1","v":-193587},"20 - 24","20 - 24                                                           "]
[null,null,null,null,null,null,null,null,{"$f":"+'4'!C11","v":186618},{"$f":"+'4'!D11*-1","v":-180365},"25 - 29","25 - 29                                                           "]
[null,null,null,null,null,null,null,null,{"$f":"+'4'!C12","v":158757},{"$f":"+'4'!D12*-1","v":-155334},"30 - 34","30 - 34                                                           "]
[null,null,null,null,null,null,null,null,{"$f":"+'4'!C13","v":137179},{"$f":"+'4'!D13*-1","v":-135569},"35 - 39","35 - 39                                                           "]
[null,null,null,null,null,null,null,null,{"$f":"+'4'!C14","v":137611},{"$f":"+'4'!D14*-1","v":-137078},"40 - 44","40 - 44                                                           "]
[null,null,null,null,null,null,null,null,{"$f":"+'4'!C15","v":134743},{"$f":"+'4'!D15*-1","v":-135209},"45 - 49","45 - 49                                                           "]
[null,null,null,null,null,null,null,null,{"$f":"+'4'!C16","v":114274},{"$f":"+'4'!D16*-1","v":-116453},"50 - 54","50 - 54                                                           "]
[null,null,null,null,null,null,null,null,{"$f":"+'4'!C17","v":88925},{"$f":"+'4'!D17*-1","v":-92157},"55 - 59","55 - 59                                                           "]
[null,null,null,null,null,null,null,null,{"$f":"+'4'!C18","v":64728},{"$f":"+'4'!D18*-1","v":-67785},"60 - 64","60 - 64                                                           "]
[null,null,null,null,null,null,null,null,{"$f":"+'4'!C19","v":48111},{"$f":"+'4'!D19*-1","v":-51080},"65 - 69","65 - 69                                                           "]
[null,null,null,null,null,null,null,null,{"$f":"+'4'!C20","v":36135},{"$f":"+'4'!D20*-1","v":-39201},"70 - 74","70 - 74                                                           "]
[null,null,null,null,null,null,null,null,{"$f":"+'4'!C21","v":25278},{"$f":"+'4'!D21*-1","v":-29368},"75 - 79","75 - 79                                                           "]
[null,null,null,null,null,null,null,null,{"$f":"+'4'!C22","v":17549},{"$f":"+'4'!D22*-1","v":-21025},"80 - 84","80 - 84                                                           "]
[null,null,null,null,null,null,null,null,{"$f":"+'4'!C23","v":12846},{"$f":"+'4'!D23*-1","v":-17954},"85 Y MÁS","85 Y MÁS                                                           "]
[null,null,null,null,null,null,null,null,null,null,null,"                                                           "]
[null,null,null,null,null,null,null,null,{"$f":"SUM(I4:I19)","v":1430857},{"$f":"SUM(J4:J19)","v":-1435360},null,"                                                           "]
[null,null,null,null,null,null,null,null,null,null,null,"                                                           "]
[null,null,null,null,null,null,null,null,null,{"$f":"+I20-J20","v":2866217},null,"                                                           "]
[null,null,null,null,null,null,null,null,null,null,null,"                                                           "]
[null,null,null,null,null,null,null,null,null,null,null,"                                                           "]
[null,null,null,null,null,null,null,null,null,null,null,"                                                           "]
[null,null,null,null,null,null,null,null,null,null,null,"                                                           "]
[null,null,null,null,null,null,null,null,null,null,null,"                                                           "]
[null,null,null,null,null,null,null,null,null,null,null,"                                                           "]
[]
["Fuente: Sección Padrón Electoral del Tribunal Supremo de Elecciones."]

{"sheet":"5","index":7,"n_rows":59,"n_cols":10,"rows_kept":59,"cut":false,"hidden":false,"merged":[[3,0,4,0],[3,1,4,1]]}
["CUADRO 5 COSTA RICA: PADRÓN NACIONAL ELECTORAL, POR PROVINCIA "]
["SEGÚN SEXO Y GRUPOS DE EDAD, ELECCIONES 3 DE DICIEMBRE 2006"]
[]
["SEXO Y GRUPOS DE EDAD","TOTAL","PROVINCIA"]
[null,null,"SAN JOSÉ","ALAJUELA","CARTAGO","HEREDIA","GUANACASTE","PUNTARENAS","LIMÓN","EXTRANJERO"]
[]
["COSTA RICA",{"$f":"SUM(B8:B22)","v":2866217},1016678,533285,334473,283771,203614,265197,228491,708]
["18 - 19",{"$f":"+B25+B42","v":128710},41390,24825,15625,12016,9659,13143,12029,23]
["20 - 24",{"$f":"+B26+B43","v":396175},132595,76573,47516,37050,28674,38671,35030,66]
["25 - 29        ",{"$f":"+B27+B44","v":366983},128466,67942,42006,36493,26072,35181,30722,101]
["30 - 34        ",{"$f":"+B28+B45","v":314091},111647,56716,37020,32405,22048,28898,25233,124]
["35 - 39        ",{"$f":"+B29+B46","v":272748},93639,49666,32899,27808,19325,26051,23272,88]
["40 - 44        ",{"$f":"+B30+B47","v":274689},94543,51767,33438,27328,19166,25819,22537,91]
["45 - 49        ",{"$f":"+B31+B48","v":269952},95926,51319,31934,27220,18619,24138,20723,73]
["50 - 54        ",{"$f":"+B32+B49","v":230727},84465,42988,26593,23502,15736,20150,17246,47]
["55 - 59        ",{"$f":"+B33+B50","v":181082},68161,32313,20202,18661,12327,15760,13620,38]
["60 - 64        ",{"$f":"+B34+B51","v":132513},50769,23854,14366,13241,9301,11453,9502,27]
["65 - 69        ",{"$f":"+B35+B52","v":99191},37488,18647,11298,9469,7052,8707,6518,12]
["70 - 74        ",{"$f":"+B36+B53","v":75336},28488,14137,8406,6939,5724,6741,4892,9]
["75 - 79        ",{"$f":"+B37+B54","v":54646},21241,10006,6032,5079,4221,4782,3282,3]
["80 - 84        ",{"$f":"+B38+B55","v":38574},15670,6831,4124,3644,2965,3193,2142,5]
["85 Y MÁS       ",{"$f":"+B39+B56","v":30800},12190,5701,3014,2916,2725,2510,1743,1]
[]
["HOMBRES",{"$f":"SUM(B25:B39)","v":1430857},495505,269128,167036,139912,103249,136989,118700,338]
["18 - 19",{"$f":"SUM(C25:J25)","v":65515},20938,12753,8042,6120,4882,6648,6124,8]
["20 - 24",202588,67328,39541,24419,18890,14693,19853,17832,32]
["25 - 29        ",186618,64943,34846,21450,18380,13394,18034,15523,48]
["30 - 34        ",158757,56528,28971,18599,16348,11007,14549,12693,62]
["35 - 39        ",137179,46795,24961,16315,13985,9694,13443,11945,41]
["40 - 44        ",137611,46804,26004,16636,13458,9770,13260,11638,41]
["45 - 49        ",134743,46842,25658,15944,13316,9540,12568,10837,38]
["50 - 54        ",114274,40288,21651,13177,11509,8002,10450,9176,21]
["55 - 59        ",88925,31921,16287,9859,8965,6267,8232,7373,21]
["60 - 64        ",64728,23539,11804,6978,6343,4629,6105,5317,13]
["65 - 69        ",48111,17131,9211,5543,4444,3580,4567,3629,6]
["70 - 74        ",36135,12679,6897,4051,3185,2931,3668,2720,4]
["75 - 79        ",25278,8953,4813,2831,2213,2107,2538,1822,1]
["80 - 84        ",17549,6392,3188,1962,1603,1476,1765,1161,2]
["85 Y MÁS       ",12846,4424,2543,1230,1153,1277,1309,910,0]
[]
["MUJERES",{"$f":"SUM(B42:B56)","v":1435360},521173,264157,167437,143859,100365,128208,109791,370]
["18 - 19",{"$f":"SUM(C42:J42)","v":63195},20452,12072,7583,5896,4777,6495,5905,15]
["20 - 24",193587,65267,37032,23097,18160,13981,18818,17198,34]
["25 - 29        ",180365,63523,33096,20556,18113,12678,17147,15199,53]
["30 - 34        ",155334,55119,27745,18421,16057,11041,14349,12540,62]
["35 - 39        ",135569,46844,24705,16584,13823,9631,12608,11327,47]
["40 - 44        ",137078,47739,25763,16802,13870,9396,12559,10899,50]
["45 - 49        ",135209,49084,25661,15990,13904,9079,11570,9886,35]
["50 - 54        ",116453,44177,21337,13416,11993,7734,9700,8070,26]
["55 - 59        ",92157,36240,16026,10343,9696,6060,7528,6247,17]
["60 - 64        ",67785,27230,12050,7388,6898,4672,5348,4185,14]
["65 - 69        ",51080,20357,9436,5755,5025,3472,4140,2889,6]
["70 - 74        ",39201,15809,7240,4355,3754,2793,3073,2172,5]
["75 - 79        ",29368,12288,5193,3201,2866,2114,2244,1460,2]
["80 - 84        ",21025,9278,3643,2162,2041,1489,1428,981,3]
["85 Y MÁS       ",17954,7766,3158,1784,1763,1448,1201,833,1]
[]
[]
["Fuente: Sección Padrón Electoral del Tribunal Supremo de Elecciones."]

{"sheet":"6","index":8,"n_rows":23,"n_cols":8,"rows_kept":23,"cut":false,"hidden":false,"merged":[[3,0,6,0],[3,1,6,1],[3,7,6,7],[5,6,6,6],[3,2,4,3],[3,4,4,6],[5,2,6,2],[5,3,6,3],[5,4,6,4],[5,5,6,5]]}
["CUADRO 6 COSTA RICA: MOVIMIENTOS AL PADRÓN NACIONAL ELECTORAL"]
["POR INCLUSIONES Y EXCLUSIONES, SEGÚN MES, A SETIEMBRE 2010"]
[]
["MES","PADRÓN ELECTORAL CIERRE ANTERIOR","INCLUSIONES",null,"EXCLUSIONES",null,null,"TOTAL PADRÓN NACIONAL ELECTORAL"]
[]
[null,null,"NUEVOS ELECTORES 1/","CÉDULAS RENOVADAS","DEFUNCIÓN","CÉDULAS VENCIDAS","OTRAS"]
[]
[]
["ENERO",2822491,0,0,0,0,0,{"$f":"+B9+C9+D9-E9-F9-G9","v":2822491}]
["FEBRERO",2822491,0,0,0,0,0,2822491]
["MARZO",2822491,0,0,0,0,0,2822491]
["ABRIL",2822491,32889,6474,6540,15243,89,2839982]
["MAYO",2839982,6236,2098,1285,0,34,2846997]
["JUNIO",2846997,8384,1939,1403,0,54,2855863]
["JULIO",2855863,7615,1684,1459,0,46,2863657]
["AGOSTO",2863657,4476,768,1953,0,27,2866921]
["SETIEMBRE",2866921,66,22,786,0,6,2866217]
[]
["1/ Incluye nuevos electores, inclusión condicional de nuevos electores y otras inclusiones."]
[]
["Nota: El padrón estuvo cerrado por las elecciones hasta marzo inclusive. "]
[]
["Fuente: Sección Padrón Electoral del Tribunal Supremo de Elecciones."]

{"sheet":"7","index":9,"n_rows":20,"n_cols":4,"rows_kept":20,"cut":false,"hidden":false,"merged":[[3,0,4,0],[3,1,4,1]]}
["CUADRO 7 COSTA RICA: CANTONES, DISTRITOS ADMINISTRATIVOS Y ELECTORALES"]
["SEGÚN PROVINCIA, ELECCIONES 5 DE DICIEMBRE 2010"]
[]
["PROVINCIA","CANTONES","DISTRITOS"]
[null,null,"ADMINISTRATIVOS","ELECTORALES"]
[]
["COSTA RICA",81,{"$f":"SUM(C9:C15)","v":473},{"$f":"SUM(D9:D16)","v":2076}]
[]
["SAN JOSÉ",20,120,436]
["ALAJUELA",15,111,437]
["CARTAGO",8,51,192]
["HEREDIA",10,47,113]
["GUANACASTE",11,59,293]
["PUNTARENAS",11,57,370]
["LIMÓN",6,28,189]
["EXTRANJERO","NA","NA",46]
[]
[]
["NA: No Aplica."]
["Fuente: Contraloría Electoral del Tribunal Supremo de Elecciones."]

{"sheet":"8","index":10,"n_rows":31,"n_cols":5,"rows_kept":31,"cut":false,"hidden":false,"merged":[[17,0,19,4],[26,0,28,4],[21,0,24,4],[3,0,4,0],[3,1,4,1]]}
["CUADRO 8 COSTA RICA: MOVIMIENTOS A LA DIVISIÓN TERRITORIAL ELECTORAL"]
["SEGÚN PROVINCIA AL 5 DE DICIEMBRE 2010"]
[]
["PROVINCIA","DISTRITOS ADMINISTRATIVOS CREADOS","DISTRITOS ELECTORALES"]
[null,null,"CREADOS 1/","ELIMINADOS 2/","REUBICADOS 3/"]
[]
["COSTA RICA",{"$f":"SUM(B9:B15)","v":3},{"$f":"SUM(C9:C15)","v":13},{"$f":"SUM(D9:D15)","v":1},{"$f":"SUM(E9:E15)","v":1}]
[]
["SAN JOSÉ",0,2,0,0]
["ALAJUELA",2,4,0,0]
["CARTAGO",0,0,1,0]
["HEREDIA",1,0,0,0]
["GUANACASTE",0,0,0,0]
["PUNTARENAS",0,7,0,1]
["LIMÓN",0,0,0,0]
[]
[]
["1/ El TSE crea los distritos electorales, ejerciendo su facultad legal de dividir un Distrito Administrativo en los electorales que sean necesarios, con el fin de procurar la mayor comodidad del electorado para la emisión de sus votos.  (Art. 143 Código El Electoral)."]
[]
[]
[]
["2/ El Tribunal Supremo Elecciones puede dejar sin efecto la vigencia del distrito y refundirlo en otro, cuando conste con evidencia, que el número de electores se ha reducido a menos de cincuenta, o bien, porque se presentan otras circunstancias que así lo ameritan.  (Reglamento para la creación de distritos electorales y juntas receptoras de votos). "]
[]
[]
[]
[]
["3/ La reubicación de un distrito electoral se realiza cuando dentro de su conformación se cambia la cabecera a otro poblado, igual sucede, si está incluido en un distrito administrativo que no le corresponde. (Reglamento para la creación de distritos electorales y juntas receptoras de votos)."]
[]
[]
[]
["Fuente: Contraloría Electoral del Tribunal Supremo de Elecciones."]

{"sheet":"9","index":11,"n_rows":31,"n_cols":4,"rows_kept":31,"cut":false,"hidden":false,"merged":[[26,0,28,3]]}
["CUADRO 9 COSTA RICA: DISTRITOS ELECTORALES CREADOS 1/, SEGÚN PROVINCIA Y CANTÓN"]
["EN EL PERÍODO 2010"]
[]
["PROVINCIA Y CANTÓN","DISTRITO ADMINISTRATIVO","DISTRITO ELECTORAL","CÓDIGO ELECTORAL"]
[]
[]
["PROVINCIA SAN JOSÉ"]
["PURISCAL","SANTIAGO","SANTA CECILIA",104046]
["PÉREZ ZELEDÓN","DANIEL FLORES","DANIEL FLORES",119122]
[]
["PROVINCIA ALAJUELA"]
["ALAJUELA","GUÁCIMA","RINCÓN DE HERRERA",201073]
["PALMARES","ZARAGOZA","CALLE VARGAS",207011]
["SAN CARLOS","LA PALMERA","EL CORTE (SANTA ROSA)",210099]
["LOS CHILES","LOS CHILES","LAS NUBES",214022]
[]
["PROVINCIA PUNTARENAS"]
["PUNTRENAS","CÓBANO","SANTA TERESA (EL CARMEN)",601108]
["BUENOS AIRES","BUENOS AIRES","SANTA CRUZ",603053]
["BUENOS AIRES","BUENOS AIRES","PALMITAL",603054]
["OSA","PALMAR","H.A. PALMAR",605037]
["OSA","SIERPE","GUANACASTE (FINCA)",605036]
["GOLFITO","GAYCARÁ","SAN RAMÓN",607035]
["COTO BRUS","SAN VITO","LA ISLA",608047]
[]
[]
["1/ El TSE crea los distritos electorales, ejerciendo su facultad legal de dividir un Distrito Administrativo en los electorales que sean necesarios, con el fin de procurar la mayor comodidad del electorado para la emisión de sus votos.  (Art. 10 Código El Electoral)."]
[]
[]
[]
["Fuente: Contraloría Electoral del Tribunal Supremo de Elecciones."]

{"sheet":"10","index":12,"n_rows":14,"n_cols":4,"rows_kept":14,"cut":false,"hidden":false,"merged":[[9,0,11,3]]}
["CUADRO 10 COSTA RICA: DISTRITOS ELECTORALES REUBICADOS1/ EN OTRA LOCALIDAD "]
["DEL MISMO DISTRITO ELECTORAL, SEGÚN PROVINCIA Y CANTÓN"]
["PERÍODO 2010"]
[]
["PROVINCIA Y CANTÓN","DISTRITO ELECTORAL ANTERIOR","DISTRITO ELECTORAL ACTUAL","CÓDIGO ELECTORAL"]
[]
["PUNTARENAS"]
["PARRITA","PARRITA","SAN ANTONIO",609018]
[]
["1/ La reubicación de un distrito electoral se realiza cuando dentro de su conformación se cambia la cabecera a otro poblado, igual sucede, si está incluido en un distrito administrativo que no le corresponde. (Reglamento para la creación de distritos electorales y juntas receptoras de votos)."]
[]
[]
[]
["Fuente: Contraloría Electoral del Tribunal Supremo de Elecciones."]

{"sheet":"11","index":13,"n_rows":16,"n_cols":4,"rows_kept":16,"cut":false,"hidden":false,"merged":[[10,0,13,3]]}
["CUADRO 11 COSTA RICA: DISTRITOS ELECTORALES ELIMINADOS 1/"]
["SEGÚN PROVINCIA Y CANTÓN, EN EL PERÍODO 2010"]
[]
["PROVINCIA Y CANTÓN","DISTRITO ELECTORAL                ANTERIOR","DISTRITO ELECTORAL              ACTUAL","CÓDIGO  ELECTORAL"]
[]
["CARTAGO"]
["CARTAGO","ORIENTAL","C.P. LAS MERCEDES",301035]
[]
[]
[]
["1/ El Tribunal Supremo Elecciones puede dejar sin efecto la vigencia del distrito y refundirlo en otro, cuando conste con evidencia, que el número de electores se ha reducido a menos de cincuenta, o bien, porque se presentan otras circunstancias que así lo ameritan.  (Reglamento para la creación de distritos electorales y juntas receptoras de votos). "]
[]
[]
[]
[]
["Fuente: Contraloría Electoral del Tribunal Supremo de Elecciones"]

{"sheet":"12","index":14,"n_rows":20,"n_cols":4,"rows_kept":20,"cut":false,"hidden":false,"merged":[[19,0,19,3],[17,0,17,3]]}
["CUADRO 12 COSTA RICA: CENTROS DE VOTACIÓN, JUNTAS RECEPTORAS "]
["CENTROS DE TRANSMISIÓN, SEGÚN PROVINCIA"]
["ELECCIONES 5 DE DICIEMBRE 2010"]
[]
["PROVINCIA","CENTROS DE VOTACIÓN","JUNTAS RECEPTORAS","CENTROS DE TRANSMISIÓN 1/"]
[]
["COSTA RICA",{"$f":"SUM(B9:B15)","v":2046},{"$f":"SUM(C9:C15)","v":5250},{"$f":"SUM(D9:D15)","v":616}]
[]
["SAN JOSÉ",448,1705,185]
["ALAJUELA",439,993,141]
["CARTAGO",192,581,82]
["HEREDIA",114,468,55]
["GUANACASTE",293,471,22]
["PUNTARENAS",370,602,61]
["LIMÓN",190,430,70]
[]
[]
["1/ Datos al 12 de noviembre 2010 sujetos a modificaciones, incluye la sede central y 15 oficinas regionales"]
[]
["Fuente: Dirección General de Registro Electoral y Financiamiento de Partidos Políticos, Dirección Ejecutiva programa Electoral de Transmisión de datos y Padrón Electoral Tribunal Supremo de Elecciones."]

{"sheet":"13","index":15,"n_rows":19,"n_cols":7,"rows_kept":19,"cut":false,"hidden":false,"merged":[[4,1,4,2],[4,3,4,4],[4,5,4,6],[4,0,5,0]]}
["CUADRO 13 COSTA RICA: JUNTAS RECEPTORAS Y ELECTORADO EN CENTROS "]
["PENITENCIARIOS, HOGARES DE ANCIANOS Y ZONAS INDÍGENAS"]
["SEGÚN PROVINCIA, ELECCIONES 3 DE DICIEMBRE 2006"]
[]
["PROVINCIA","CENTROS PENITENCIARIOS",null,"HOGARES DE ANCIANOS",null,"ZONAS INDÍGENAS"]
[null,"JUNTAS","ELECTORADO","JUNTAS","ELECTORADO","JUNTAS","ELECTORADO"]
[]
["COSTA RICA",{"$f":"SUM(B10:B16)","v":28},6772,35,2037,81,27927]
[]
["SAN JOSÉ",{"$f":"+'14'!C8","v":5},{"$f":"+'14'!D8","v":1377},{"$f":"+'15'!C8","v":9},{"$f":"+'15'!D8","v":639},{"$f":"+'16'!C8","v":6},{"$f":"+'16'!D8","v":1395}]
["ALAJUELA",{"$f":"+'14'!C13","v":11},{"$f":"+'14'!D13","v":2884},{"$f":"+'15'!C19","v":9},{"$f":"+'15'!D19","v":665},{"$f":"+'16'!C15","v":2},{"$f":"+'16'!D15","v":546}]
["CARTAGO",{"$f":"+'14'!C25","v":2},{"$f":"+'14'!D25","v":495},{"$f":"+'15'!C30","v":2},{"$f":"+'15'!D30","v":187},{"$f":"+'16'!C19","v":8},{"$f":"+'16'!D19","v":2187}]
["HEREDIA",{"$f":"+'14'!C28","v":1},{"$f":"+'14'!D28","v":38},{"$f":"+'15'!C34","v":1},{"$f":"+'15'!D34","v":121},0,0]
["GUANACASTE",{"$f":"+'14'!C31","v":2},{"$f":"+'14'!D31","v":417},{"$f":"+'15'!C37","v":5},{"$f":"+'15'!D37","v":166},{"$f":"+'16'!C29","v":2},{"$f":"+'16'!D29","v":681}]
["PUNTARENAS",{"$f":"+'14'!C35","v":2},{"$f":"+'14'!D35","v":446},{"$f":"+'15'!C44","v":6},{"$f":"+'15'!D44","v":180},{"$f":"+'16'!C33","v":36},{"$f":"+'16'!D33","v":11619}]
["LIMÓN",{"$f":"+'14'!C38","v":5},{"$f":"+'14'!D38","v":1115},{"$f":"+'15'!C52","v":3},{"$f":"+'15'!D52","v":79},{"$f":"+'16'!C70","v":27},{"$f":"+'16'!D70","v":11499}]
[]
[]
["Fuente: Sección Padrón Electoral del Tribunal Supremo de Elecciones."]

{"sheet":"14","index":16,"n_rows":44,"n_cols":4,"rows_kept":44,"cut":false,"hidden":false,"merged":[[43,0,43,3]]}
["CUADRO 14 COSTA RICA: JUNTAS RECEPTORAS Y ELECTORADO EN CENTROS PENITENCIARIOS "]
["SEGÚN PROVINCIA Y DISTRITO ELECTORAL, ELECCIONES 5 DE DICIEMBRE 2010"]
[]
["CÓDIGO ELECTORAL","PROVINCIA Y DISTRITO ELECTORAL","NÚMERO DE JUNTAS","ELECTORADO"]
[]
[null,"COSTA RICA",{"$f":"+C8+C13+C25+C31+C35+C38+C28","v":28},{"$f":"+D8+D13+D25+D31+D35+D38+D28","v":6772}]
[]
[null,"SAN JOSÉ",{"$f":"SUM(C9:C11)","v":5},{"$f":"SUM(D9:D11)","v":1377}]
[101030,"C.P. CRISTO REY",2,473]
[103034,"C.P. SAN RAFAEL ARRIBA",1,375]
[119105,"C.P. PALMARES",2,529]
[]
[null,"ALAJUELA",{"$f":"SUM(C14:C23)","v":11},{"$f":"SUM(D14:D23)","v":2884}]
[201058,"C.P. TALLERES INDUSTRIALES",1,164]
[201059,"C.P. SAN RAFAEL",1,424]
[201060,"C.P. ÁMBITO (MÍNIMA)",1,349]
[201062,"C.P. ÁMBITO C (MEDIANA ABIERTA)",1,348]
[201063,"C. P.  ÁMBITOS D (MEDIANA CERRADA) E (MÁXIMA)",1,361]
[201064,"C.P. GERARDO RODRÍGUEZ ECHEVERRÍA",2,688]
[201065,"C.P. ADULTO MAYOR",1,147]
[201071,"C.P. ADULTO JOVEN",1,66]
[202043,"C.P. SAN RAMÓN",1,82]
[210093,"C.P. PALMERA ( LA MARINA)",1,255]
[]
[null,"CARTAGO",{"$f":"SUM(C26)","v":2},{"$f":"SUM(D26)","v":495}]
[301032,"C.P. SAN FRANCISCO",2,495]
[]
[null,"HEREDIA",{"$f":"+C29","v":1},{"$f":"+D29","v":38}]
[401018,"C.P. SAN AGUSTÍN",1,38]
[]
[null,"GUANACASTE",{"$f":"SUM(C32:C33)","v":2},{"$f":"SUM(D32:D33)","v":417}]
[501011,"C.P. LIBERIA",1,221]
[501022,"C.P. LIBERIA (MODULO D1-D2)",1,196]
[]
[null,"PUNTARENAS",{"$f":"SUM(C36)","v":2},{"$f":"SUM(D36)","v":446}]
[601094,"C.P. EL ROBLE",2,446]
[]
[null,"LIMÓN",{"$f":"SUM(C39:C41)","v":5},{"$f":"SUM(D39:D41)","v":1115}]
[701037,"C.P. RÍO BLANCO (SANDOVAL)",2,489]
[702035,"C.P. ROXANA",2,424]
[702049,"C.P. ROXANA {MODULOS D-E}",1,202]
[]
[]
["Fuente: Sección Padrón Electoral y Contraloría Electoral del Tribunal Supremo de Elecciones."]

{"sheet":"15","index":17,"n_rows":58,"n_cols":4,"rows_kept":58,"cut":false,"hidden":false,"merged":[[57,0,57,3]]}
["CUADRO 15 COSTA RICA: JUNTAS RECEPTORAS Y ELECTORADO EN HOGARES DE ANCIANOS "]
["SEGÚN PROVINCIA Y DISTRITO ELECTORAL, ELECCIONES 5 DE DICIEMBRE 2010"]
[]
["CÓDIGO ELECTORAL","PROVINCIA Y DISTRITO ELECTORAL","NÚMERO DE JUNTAS","ELECTORADO"]
[]
[null,"COSTA RICA",{"$f":"+C8+C19+C30+C37+C44+C52+C34","v":35},{"$f":"+D8+D19+D30+D37+D44+D52+D34","v":2037}]
[]
[null,"SAN JOSÉ",{"$f":"SUM(C9:C17)","v":9},{"$f":"SUM(D9:D17)","v":639}]
[103036,"H.A. OFELIA CARVAJAL DE NARANJO",1,100]
[103037,"H. A. SAN CAYETANO",1,43]
[104045,"H.A. CORAZÓN DE JESÚS",1,46]
[105016,"H. A. LOS SANTOS",1,60]
[106024,"H.A. SAN FRANCISCO DE ASÍS",1,36]
[108002,"H. A. CARLOS MARÍA ULLOA",1,199]
[112031,"H. A. ACOSTA",1,38]
[114006,"H. A. CASA NAZARETH",1,35]
[119108,"H. A. MONSEÑOR DELFIN QUESADA CASTRO",1,82]
[]
[null,"ALAJUELA",{"$f":"SUM(C20:C29)","v":9},{"$f":"SUM(D20:D28)","v":665}]
[201066,"H.A. SANTIAGO CRESPO CALVO",1,189]
[202045,"H.A. SAN RAMÓN",1,54]
[203045,"H.A. JAFETH JIMÉNEZ MORALES",1,88]
[205016,"H.A. HORTENSIA RODRÍGUEZ S. DE B",1,70]
[206022,"H.A. JOSÉ DEL OLMO",1,54]
[207009,"H.A. PALMARES",1,55]
[209012,"H.A. PRESBÍTERO JESÚS MARÍA VARGAS",1,34]
[210094,"H.A. SAN VICENTE DE PAUL",1,56]
[211012,"H.A. SAN RAFAEL",1,65]
[]
[null,"CARTAGO",{"$f":"SUM(C31:C32)","v":2},{"$f":"SUM(D31:D32)","v":187}]
[301033,"H.A. ASILO DE LA VEJEZ",1,118]
[305068,"H.A. SAN BUENAVENTURA",1,69]
[]
[null,"HEREDIA",{"$f":"SUM(C35)","v":1},{"$f":"SUM(D35)","v":121}]
[409004,"H.A. ALFREDO Y DELIA GONZÁLEZ FLORES",1,121]
[]
[null,"GUANACASTE",{"$f":"SUM(C38:C42)","v":5},{"$f":"SUM(D38:D42)","v":166}]
[501012,"H.A. LIBERIA",1,28]
[502084,"H.A. SAN BLAS",1,34]
[503045,"H.A. NUESTRA SEÑORA DEL ROSARIO",1,26]
[507023,"H.A. SAN JORGE",1,49]
[508024,"H. A. TILARÁN",1,29]
[]
[null,"PUNTARENAS",{"$f":"SUM(C45:C50)","v":6},{"$f":"SUM(D45:D50)","v":180}]
[601103,"H.A. MIGUEL MORENO",1,23]
[601106,"H.A. MARÍA INMACULADA",1,28]
[602018,"H.A. CARLOS VENEGAS",1,23]
[604014,"H.A. FRAY CASIANO DE MADRID",1,31]
[608045,"H.A. COTO BRUS",1,37]
[610030,"H.A. NEILY",1,38]
[]
[null,"LIMÓN",{"$f":"SUM(C53:C55)","v":3},{"$f":"SUM(D53:D55)","v":79}]
[701038,"H.A. VICTOR CASCO TORRES",1,32]
[702037,"H. A. GUÁPILES",1,31]
[704021,"H.A. SANTA LUISA",1,16]
[]
[]
["Fuente: Sección Padrón Electoral y Contraloría Electoral del Tribunal Supremo de Elecciones."]

{"sheet":"16","index":18,"n_rows":90,"n_cols":4,"rows_kept":90,"cut":false,"hidden":false,"merged":[[89,0,89,3]]}
["CUADRO 16 COSTA RICA: JUNTAS RECEPTORAS Y ELECTORADO EN ZONAS INDÍGENAS"]
["SEGÚN PROVINCIA Y DISTRITO ELECTORAL, ELECCIONES 5 DE DICIEMBRE 2010"]
[]
["CÓDIGO ELECTORAL","PROVINCIA Y DISTRITO ELECTORAL","NÚMERO DE JUNTAS","ELECTORADO"]
[]
[null,"COSTA RICA",{"$f":"+C8+C15+C19+C29+C33+C70","v":81},{"$f":"+D8+D15+D19+D29+D33+D70","v":27927}]
[]
[null,"SAN JOSÉ",{"$f":"SUM(C9:C13)","v":6},{"$f":"SUM(D9:D13)","v":1395}]
[104024,"ZAPATÓN(SAN CARLOS)",1,307]
[104044,"BAJO REY",1,44]
[104045,"ALTO CONCEPCIÓN",1,46]
[107014,"QUITIRRISÍ",2,751]
[119069,"CHINA KICHÁ",1,247]
[]
[null,"ALAJUELA",{"$f":"SUM(C16:C17)","v":2},{"$f":"SUM(D16:D17)","v":546}]
[215003,"MARGARITA",1,238]
[215010,"TONJIBE",1,308]
[]
[null,"CARTAGO",{"$f":"SUM(C20:C27)","v":8},{"$f":"SUM(D20:D27)","v":2187}]
[305017,"GRANO DE ORO O XARA",1,591]
[305057,"SIMIRIÑAC (JACUY)",1,200]
[305058,"DUCLAC (ALTO PACUARE)",1,269]
[305059,"JAKI (CAPILLA DOS CHIRRIPÓ ARRIBA)",1,274]
[305060,"BOLORIÑAC (CAPILLA UNO)",1,236]
[305061,"NIMARI-ÑAC (RÍO PEJE)",1,174]
[305062,"NAMALDI",1,83]
[305063,"TSIPIRI (QUEBRADA PLATANILLO)",1,360]
[]
[null,"GUANACASTE",{"$f":"SUM(C30:C31)","v":2},{"$f":"SUM(D30:D31)","v":681}]
[502080,"MATAMBUGUITO",1,157]
[511011,"MATAMBU",1,524]
[]
[null,"PUNTARENAS",{"$f":"SUM(C34:C68)","v":36},{"$f":"SUM(D34:D68)","v":11619}]
[603003,"SALITRE",1,305]
[603006,"BORUCA",2,1021]
[603007,"LAS PILAS",1,130]
[603008,"COLINAS (MAÍZ DE LOS UVA)",1,349]
[603011,"CURRÉ",1,304]
[603012,"LA DANTA O CONCEPCIÓN",1,392]
[603014,"UJARRÁS",1,654]
[603019,"BAJO LAS BRISAS",1,622]
[603022,"TÉRRABA",1,460]
[603023,"SAN RAFAEL DE CABAGRA",1,562]
[603027,"BIJAGUAL",1,403]
[603028,"CAJÓN",1,251]
[603029,"GUAGARAL",1,206]
[603030,"MAÍZ DE BORUCA",1,403]
[603031,"CHÁNGUENA (LA FILA)",1,239]
[603032,"PILÓN",1,400]
[603033,"LAS VEGAS DE RÍO CHÁNGUENA",1,87]
[603034,"LA BONGA",1,244]
[603035,"SAN VICENTE (UPIAV-2)",1,103]
[603036,"PARAÍSO",1,229]
[603041,"PUENTE DE SALITRE",1,277]
[603051,"SHAMBA",1,182]
[607021,"LA PEÑA DE BURICA",1,160]
[607024,"GUAYMI DE BURICA",1,168]
[607025,"ALTO CONTE(MOLO DUBTDO)",1,212]
[607027,"PROGRESO DE CONTEBURICA",1,160]
[608016,"SAN GERARDO",1,168]
[608042,"LA CASONA (GUAYMÍ)",1,676]
[610003,"BAJO LOS INDIOS",1,183]
[610006,"VEGAS DE ABROJO ESTE",1,397]
[610012,"BARRIO NUEVO DE VERACRUZ",1,521]
[610020,"CARACOL DE LA VACA",1,377]
[610021,"VEREH",1,365]
[610026,"VEGAS DEL RÍO LA VACA (NIBIRIBOTDA)",1,118]
[610027,"ABROJO - MONTEZUMA",1,291]
[]
[null,"LIMÓN",{"$f":"SUM(C71:C87)","v":27},{"$f":"SUM(D71:D87)","v":11499}]
[701009,"VESTA",2,767]
[701021,"BOCUARE",1,223]
[701034,"ALTO CWEN",1,281]
[701035,"XIQIARI",1,484]
[701036,"SINOLI",1,119]
[703004,"PACUARITO",1,638]
[704001,"BRATSI (BAMBÚ O DON DIEGO)",1,420]
[704002,"AMUBRI",3,1541]
[704003,"COROMA (COLOQCHA)",1,353]
[704006,"PUERTO VIEJO",2,1067]
[704007,"BRIBRÍ (FIELDS)",4,2173]
[704008,"SHIROLES (XIROLES)",3,1416]
[704013,"KATSI",1,517]
[704015,"SEPEQUE",2,783]
[704019,"SIBUJÚ",1,239]
[704020,"TELIRE (BLEY)",1,285]
[705017,"PALMERA(CATSAQIBI)",1,193]
[]
[]
["Fuente: Sección Padrón Electoral y Contraloría Electoral del Tribunal Supremo de Elecciones."]

{"sheet":"17","index":19,"n_rows":15,"n_cols":3,"rows_kept":15,"cut":false,"hidden":false,"merged":[[0,0,0,2],[1,0,1,2],[2,0,2,2],[14,0,14,2]]}
["CUADRO 17 : PRESUPUESTO ELECTORAL 2010 (SUBPROGRAMA 850-02)"]
[" PARA ELECCIONES DEL 5 DE DICIEMBRE 2010"]
["(DATOS EN COLONES)"]
[]
["PARTIDA","DESCRIPCIÓN","AÑO 2010"]
[]
["TOTAL",null,{"$f":"SUM(C9:C13)","v":6753901300}]
[]
[0,"Remuneraciones",2429127000]
[1,"Servicios",1628483200]
[2,"Materiales y Suministros",864335375]
[5,"Bienes Duraderos",1819395725]
[6,"Transferencias Corrientes",12560000]
[]
["Fuente: Dirección General de Registro Electoral y Financiamiento de Partidos Políticos Tribunal Supremo de Elecciones."]

{"sheet":"18","index":20,"n_rows":63,"n_cols":2,"rows_kept":63,"cut":false,"hidden":false,"merged":[]}
["CUADRO 18 COSTA RICA: PARTIDOS POLÍTICOS QUE PARTICIPAN "]
["EN LAS ELECCIONES, SEGÚN ESCALA, 5 DE DICIEMBRE 2010"]
[]
["NOMBRE","DIVISA"]
[]
["ESCALA NACIONAL"]
[]
["ACCESIBILIDAD SIN EXCLUSIÓN"]
["ACCIÓN CIUDADANA"]
["ALIANZA PATRÓTICA "]
["FRENTE AMPLIO"]
["INTEGRACIÓN NACIONAL"]
["LIBERACIÓN NACIONAL"]
["MOVIMIENTO LIBERTARIO"]
["RENOVACIÓN COSTARRICENSE"]
["UNIDAD SOCIAL CRISTIANA"]
[]
["ESCALA PROVINCIAL"]
[]
["MOVIMIENTO DE TRABAJADORES Y CAMPESINOS(LIMÓN)"]
["RESTAURACIÓN HEREDIANA (HEREDIA)"]
["TRANPARENCIA CARTAGINÉS (CARTAGO)"]
["UNÓN AGRÍCOLA CARTAGINÉS  (CARTAGO)"]
["VERDE ECOLOGISTA (CARTAGO)"]
[]
["ESCALA CANTONAL"]
[]
["ACCIÓN CANTONAL SIQUIRRES INDEPENDIENTE (SIQUIRRES, LIMÓN)"]
["ACCIÓN NARANJEÑA (NARANJO, ALAJUELA)"]
["ACCIÓN QUEPEÑA (AGUIRRE, PUNTARENAS)"]
["ACUERDO CANTONAL DESAMPARADEÑO (DESAMPARADOS, SAN JOSÉ)"]
["AUTÉNTICO LABRADOR DE CORONADO (VÁZQUEZ DE CORONADO, SAN JOSÉ)"]
["AUTÓNOMO OROMONTANO (MONTES DE ORO, PUNTARENAS)"]
["CIVÍCO DE TIBÁS FUENTEOVEJUNA (TIBÁS, SAN JOSÉ)"]
["COALICIÓN ALIANZA ZARCEREÑA (ZARCERO, ALAJUELA)"]
["COALICIÓN BARVA UNIDA (BARVA, HEREDIA)"]
["COALICIÓN CARTAGO UNIDO (CARTAGO, CARTAGO)"]
["COALICIÓN MONTES DE OCA UNIDA (MONTES DE OCA, SAN JOSÉ)"]
["COALICIÓN RAMONENSE (SAN RAMÓN, ALAJUELA)"]
["COALICIÓN UNIDOS POR SAN CARLOS (SANCARLOS, ALAJUELA)"]
["COALICIÓN UNIÓN LIBERIANA (LIBERIA, GUANACASTE)"]
["CURRIDABAT SIGLO XXI (CURRIDABAT, SAN JOSÉ)"]
["DEL SOL (SANTA ANA, SAN JOSÉ)"]
["EL PUENTE Y LOS CAMINOS DEMORA (MORA, SAN JOSÉ)"]
["GARABITO ECOLÓGICO (GARABITO, PUNTARENAS)"]
["GOICOECHEA EN ACCIÓN (GOICOECHEA, SAN JOSÉ)"]
["INDEPENDIENTE BELEMITA (BELÉN, HEREDIA)"]
["INTEGRACIÓN BARBAREÑA (SANTA BÁRBARA, HEREDIA)"]
["MOVIMIENTO AVANCE SANTO DOMINGO"]
["ORGANIZACIÓN LABORISTA AGUIRRE (AGUIRRE, PUNTARENAS)"]
["ORGANIZACIÓN SOCIAL ACTIVA (OSA, PUNTARENAS)"]
["RENOVEMOS ALAJUELA (ALAJUELA, ALAJUELA)"]
["TALAMANCA UNIDA (TALAMANCA, LIMÓN)"]
["TARRAZÚ PRIMERO"]
["TODO POR FLORES"]
["ÚNICO ABANGAREÑO"]
["UNIÓN ATENIENSE"]
["UNIÓN PALMAREÑA (PALMARES, ALAJUELA)"]
["UNIÓN POASEÑA (POÁS, ALAJUELA)"]
["YUNTA PROGRESISTA ESCAZUCEÑA (ESCAZÚ, SAN JOSÉ) "]
[]
[]
["Fuente: Página Web Tribunal Supremo de Elecciones."]

{"sheet":"19","index":21,"n_rows":57,"n_cols":4,"rows_kept":57,"cut":false,"hidden":false,"merged":[]}
["CUADRO 19 COSTA RICA: CANDIDATURAS INSCRITAS, POR ELECCIÓN"]
[" SEGÚN PROVINCIA Y TIPO DE CANDIDATURA, ELECCIONES"]
["DICIEMBRE 2002, 2006  Y 2010"]
[]
["PROVINCIA Y TIPO DE CANDIDATURA",2002,2006,2010]
[]
["COSTA RICA",{"$f":"SUM(B8:B14)","v":16261},{"$f":"SUM(C8:C14)","v":15919},{"$f":"SUM(D8:D14)","v":15862}]
["SAN JOSÉ",{"$f":"+B17+B26+B35","v":4407},{"$f":"+C17+C26+C35","v":4052},{"$f":"+D17+D26+D35","v":4239}]
["ALAJUELA",{"$f":"+B18+B27+B36+B44+B50","v":3370},3502,3331]
["CARTAGO",1771,1832,1591]
["HEREDIA",{"$f":"+B20+B29+B38","v":1576},{"$f":"+C20+C29+C38","v":1336},{"$f":"+D20+D29+D38","v":1635}]
["GUANACASTE",{"$f":"+B21+B30+B39+B46+B52","v":1894},1797,1715]
["PUNTARENAS",1922,2198,2109]
["LIMÓN",{"$f":"+B23+B32+B41","v":1321},{"$f":"+C23+C32+C41","v":1202},{"$f":"+D23+D32+D41","v":1242}]
[]
["ALCALDÍAS Y VICEALCALDÍAS",{"$f":"SUM(B17:B23)","v":1089},{"$f":"SUM(C17:C23)","v":1099},{"$f":"SUM(D17:D23)","v":1008}]
["SAN JOSÉ",266,273,258]
["ALAJUELA",185,184,182]
["CARTAGO",112,118,87]
["HEREDIA",135,119,117]
["GUANACASTE",144,146,115]
["PUNTARENAS",141,157,146]
["LIMÓN",106,102,103]
[]
["SÍNDICOS(AS)",{"$f":"SUM(B26:B32)","v":3488},{"$f":"SUM(C26:C32)","v":3726},{"$f":"SUM(D26:D32)","v":3578}]
["SAN JOSÉ",936,943,958]
["ALAJUELA",726,790,809]
["CARTAGO",371,484,338]
["HEREDIA",349,335,356]
["GUANACASTE",437,438,380]
["PUNTARENAS",385,467,459]
["LIMÓN",284,269,278]
[]
["CONCEJOS DE DISTRITO",{"$f":"SUM(B35:B41)","v":11454},{"$f":"SUM(C35:C41)","v":10832},{"$f":"SUM(D35:D41)","v":11004}]
["SAN JOSÉ",3205,2836,3023]
["ALAJUELA",2430,2495,2321]
["CARTAGO",1222,1182,1109]
["HEREDIA",1092,882,1162]
["GUANACASTE",1289,1176,1181]
["PUNTARENAS",1285,1430,1347]
["LIMÓN",931,831,861]
[]
["INTENDENTES Y VICEINTENDENTES",{"$f":"SUM(B44:B47)","v":26},{"$f":"SUM(C44:C47)","v":34},{"$f":"SUM(D44:D47)","v":61}]
["ALAJUELA",4,4,4]
["CARTAGO",6,6,14]
["GUANACASTE",3,4,8]
["PUNTARENAS",13,20,35]
[]
["CONCEJOS MUNICIPALES DE DISTRITO",{"$f":"SUM(B50:B53)","v":204},{"$f":"SUM(C50:C53)","v":228},{"$f":"SUM(D50:D53)","v":211}]
["ALAJUELA",25,29,15]
["CARTAGO",60,42,43]
["GUANACASTE",21,33,31]
["PUNTARENAS",98,124,122]
[]
[]
["Nota: Datos al 26 de octubre de 2010."]
["Fuente: Computo de Votos y declaratorias de elección y Departamento de Registro de Partidos Políticos."]

{"sheet":"20","index":22,"n_rows":42,"n_cols":6,"rows_kept":42,"cut":false,"hidden":false,"merged":[[3,2,3,5],[18,1,18,5],[30,1,30,5],[4,0,5,0],[4,2,4,3],[4,4,4,5],[4,1,5,1]]}
["CUADRO 20  COSTA RICA: COMPOSICIÓN DE LAS PAPELETAS, POR SEXO  "]
["SEGÚN CANDIDATURAS Y CARGO, ELECCIONES 5 DE DICIEMBRE 2010"]
["(CIFRAS ABSOLUTAS Y RELATIVAS)"]
[]
["CANDIDATURAS","TOTAL","HOMBRES",null,"MUJERES"]
[null,null,"ABSOLUTO","%","ABSOLUTO","%"]
[]
["TOTAL",{"$f":"SUM(B10:B17)","v":15862},{"$f":"SUM(C10:C17)","v":8066},{"$f":"+C8/B8*100","v":50.8510906569159},{"$f":"SUM(E10:E17)","v":7796},{"$f":"+E8/B8*100","v":49.1489093430841}]
[]
["ALCALDÍA",{"$f":"+C10+E10","v":339},{"$f":"+C23","v":290},{"$f":"+C10/B10*100","v":85.545722713864308},{"$f":"+E23","v":49},{"$f":"+E10/B10*100","v":14.454277286135694}]
["VICEALCALDÍA PRIMERA",338,{"$f":"+C24","v":49},14.497041420118343,{"$f":"+E24","v":289},85.502958579881664]
["VICEALCALDÍA SEGUNDA",331,{"$f":"+C35","v":258},77.94561933534743,{"$f":"+E35","v":73},22.054380664652566]
["SÍNDICO(A)",3578,{"$f":"+C25+C36","v":1801},50.335382895472335,{"$f":"+E25+E36","v":1777},49.664617104527672]
["CONCEJALES DE DISTRITO",11004,{"$f":"+C26+C37","v":5527},50.227190112686294,{"$f":"+E26+E37","v":5477},49.772809887313699]
["INTENDENTE",30,{"$f":"+C27","v":25},83.333333333333343,{"$f":"+E27","v":5},16.666666666666664]
["VICEINTENDENTE",31,{"$f":"+C28","v":5},16.129032258064516,{"$f":"+E28","v":26},83.870967741935488]
["CONCEJAL MUNICIPAL DE DISTRITO",211,{"$f":"+C29+C38","v":111},52.606635071090047,{"$f":"+E29+E38","v":100},47.393364928909953]
[]
[null,"EN PROPIEDAD"]
[]
["TOTAL EN PROPIEDAD",{"$f":"SUM(B23:B29)","v":8510},{"$f":"SUM(C23:C29)","v":4608},{"$f":"+C21/B21*100","v":54.148061104582844},{"$f":"SUM(E23:E29)","v":3902},{"$f":"+E21/B21*100","v":45.851938895417156}]
[]
["ALCALDÍA",{"$f":"+C23+E23","v":339},290,{"$f":"+C23/B23*100","v":85.545722713864308},49,{"$f":"+E23/B23*100","v":14.454277286135694}]
["VICEALCALDÍA PRIMERA",338,49,14.497041420118343,289,85.502958579881664]
["SÍNDICO(A)",1837,1241,67.555797495917261,596,32.444202504082739]
["CONCEJALES DE DISTRITO",5828,2941,50.46328071379547,2887,49.53671928620453]
["INTENDENTE",30,25,83.333333333333343,5,16.666666666666664]
["VICEINTENDENTE",31,5,16.129032258064516,26,83.870967741935488]
["CONCEJAL MUNICIPAL DE DISTRITO",107,57,53.271028037383175,50,46.728971962616825]
[]
[null,"EN SUPLENCIA"]
[]
["TOTAL EN SUPLENCIA",{"$f":"SUM(B35:B38)","v":7352},{"$f":"SUM(C35:C38)","v":3458},{"$f":"+C33/B33*100","v":47.034820457018498},{"$f":"SUM(E35:E38)","v":3894},{"$f":"+E33/B33*100","v":52.965179542981502}]
[]
["VICEALCALDÍA SEGUNDA",{"$f":"+C35+E35","v":331},258,{"$f":"+C35/B35*100","v":77.94561933534743},73,{"$f":"+E35/B35*100","v":22.054380664652566}]
["SÍNDICO(A)",{"$f":"+C36+E36","v":1741},560,{"$f":"+C36/B36*100","v":32.165422171166},1181,{"$f":"+E36/B36*100","v":67.834577828834014}]
["CONCEJALES DE DISTRITO",{"$f":"+C37+E37","v":5176},2586,{"$f":"+C37/B37*100","v":49.961360123647601},2590,{"$f":"+E37/B37*100","v":50.038639876352399}]
["CONCEJAL MUNICIPAL DE DISTRITO",{"$f":"+C38+E38","v":104},54,{"$f":"+C38/B38*100","v":51.923076923076927},50,{"$f":"+E38/B38*100","v":48.07692307692308}]
[]
[]
["Nota: Datos al 26 de octubre de 2010."]
["Fuente: Departamento de Registro de Partidos Políticos, Base de datos de candidaturas diciembre 2010."]

{"sheet":"G3","index":23,"n_rows":29,"n_cols":5,"rows_kept":29,"cut":false,"hidden":false,"merged":[]}
[]
[]
[null,null,"Sexo"]
["Tipo de candidatura","MUJER","HOMBRE","TOTAL","%"]
["VICEALCALDES(AS) PRIMERO(A)",289,49,338,{"$f":"+C5/D5","v":0.14497041420118342}]
["VICEINTENDENTE",26,5,31,0.16129032258064516]
["CONCEJALES DE DISTRITO",5477,5527,11004,0.50227190112686293]
["SÍNDICOS(AS)",1777,1801,3578,0.50335382895472336]
["CONCEJALES MUNICIPALES DE DISTRITO",100,111,211,0.52606635071090047]
["VICEALCALDES(AS) SEGUNDO(A)",73,258,331,0.77945619335347427]
["INTENDENTE",5,25,30,0.83333333333333337]
["ALCALDES(AS)",49,290,339,0.85545722713864303]
[]
[]
[]
[]
[]
[]
[]
[]
[]
[]
[]
[]
[]
[]
[]
["Nota: Datos al 26 de octubre de 2010."]
["Fuente: Departamento de Registro de Partidos Políticos, Base de datos de candidaturas diciembre 2010."]

{"sheet":"21","index":24,"n_rows":61,"n_cols":21,"rows_kept":61,"cut":false,"hidden":false,"merged":[[5,2,5,3],[5,4,5,5],[4,0,6,0],[5,6,6,6],[5,11,6,11],[4,1,4,5],[5,1,6,1],[5,16,6,16],[4,6,4,10],[4,11,4,15],[4,16,4,20],[5,7,5,8],[5,9,5,10],[5,12,5,13],[5,14,5,15],[5,17,5,18],[5,19,5,20]]}
["CUADRO 21 COSTA RICA: CANDIDATURAS A ALCALDÍAS Y VICEALCALDÍAS, POR SEXO"]
[" SEGÚN PARTIDO, ELECCIONES 5 DE DICIEMBRE 2010"]
["(CIFRAS ABSOLUTAS Y RELATIVAS)"]
[]
["PARTIDO","TOTAL",null,null,null,null,"ALCALDÍAS",null,null,null,null,"VICEALCALDÍA PRIMERA",null,null,null,null,"VICEALCALDÍA SEGUNDA"]
["PARTIDO POLITICO","TOTAL","HOMBRES",null,"MUJERES",null,"TOTAL","HOMBRES",null,"MUJERES",null,"TOTAL","HOMBRES",null,"MUJERES",null,"TOTAL","HOMBRES",null,"MUJERES"]
[null,"ABS","ABS","%","ABS","%","ABS","ABS","%","ABS","%","ABS","ABS","%","ABS","%","ABS","ABS","%","ABS","%"]
[]
["TOTAL",{"$f":"SUM(B11:B57)","v":1008},{"$f":"SUM(C11:C57)","v":597},{"$f":"C9/B9*100","v":59.226190476190474},{"$f":"SUM(E11:E57)","v":411},{"$f":"E9/B9*100","v":40.773809523809526},{"$f":"SUM(G11:G57)","v":339},{"$f":"SUM(H11:H57)","v":290},{"$f":"H9/G9*100","v":85.545722713864308},{"$f":"SUM(J11:J57)","v":49},{"$f":"J9/G9*100","v":14.454277286135694},{"$f":"SUM(L11:L57)","v":338},{"$f":"SUM(M11:M57)","v":49},{"$f":"M9/L9*100","v":14.497041420118343},{"$f":"SUM(O11:O57)","v":289},{"$f":"O9/L9*100","v":85.502958579881664},{"$f":"SUM(Q11:Q57)","v":331},{"$f":"SUM(R11:R57)","v":258},{"$f":"R9/Q9*100","v":77.94561933534743},{"$f":"SUM(T11:T57)","v":73},{"$f":"T9/Q9*100","v":22.054380664652566}]
[]
["ACCESIBILIDAD SIN EXCLUSIÓN",{"$f":"+C11+E11","v":49},{"$f":"+H11+M11+R11","v":28},{"$f":"C11/B11*100","v":57.142857142857139},{"$f":"+J11+O11+T11","v":21},{"$f":"E11/B11*100","v":42.857142857142854},{"$f":"+H11+J11","v":17},14,{"$f":"H11/G11*100","v":82.35294117647058},3,{"$f":"J11/G11*100","v":17.647058823529413},{"$f":"+M11+O11","v":17},3,{"$f":"M11/L11*100","v":17.647058823529413},14,{"$f":"O11/L11*100","v":82.35294117647058},{"$f":"+R11+T11","v":15},11,{"$f":"R11/Q11*100","v":73.333333333333329},4,{"$f":"T11/Q11*100","v":26.666666666666668}]
["ACCIÓN CANTONAL SIQUIRRES INDEPENDIENTE",3,2,66.666666666666657,1,33.333333333333329,1,1,100,0,0,1,0,0,1,100,1,1,100,0,0]
["ACCIÓN CIUDADANA",151,84,55.629139072847678,67,44.370860927152314,51,38,74.509803921568633,13,25.490196078431371,51,13,25.490196078431371,38,74.509803921568633,49,33,67.346938775510196,16,32.653061224489797]
["ACCIÓN NARANJEÑA",3,2,66.666666666666657,1,33.333333333333329,1,1,100,0,0,1,0,0,1,100,1,1,100,0,0]
["ACCIÓN QUEPEÑA",3,2,66.666666666666657,1,33.333333333333329,1,1,100,0,0,1,0,0,1,100,1,1,100,0,0]
["ACUERDO CANTONAL DESAMPARADEÑO",3,2,66.666666666666657,1,33.333333333333329,1,1,100,0,0,1,0,0,1,100,1,1,100,0,0]
["ALIANZA PATRIÓTICA",15,9,60,6,40,5,4,80,1,20,5,1,20,4,80,5,4,80,1,20]
["AUTÉNTICO LABRADOR DE CORONADO",0,0,0,0,0,0,0,0,0,0,0,0,0,0,0,0,0,0,0,0]
["AUTÓNOMO OROMONTANO",3,2,{"$f":"C19/B19*100","v":66.666666666666657},1,{"$f":"E19/B19*100","v":33.333333333333329},1,1,{"$f":"H19/G19*100","v":100},0,{"$f":"J19/G19*100","v":0},1,0,{"$f":"M19/L19*100","v":0},1,{"$f":"O19/L19*100","v":100},1,1,{"$f":"R19/Q19*100","v":100},0,{"$f":"T19/Q19*100","v":0}]
["CÍVICO DE TÍBAS FUENTEOVEJUNA",3,2,66.666666666666657,1,33.333333333333329,1,1,100,0,0,1,0,0,1,100,1,1,100,0,0]
["COALICIÓN BARVA UNIDA",3,1,33.333333333333329,2,66.666666666666657,1,1,100,0,0,1,0,0,1,100,1,0,0,1,100]
["COALICIÓN CARTAGO UNIDO",3,2,66.666666666666657,1,33.333333333333329,1,1,100,0,0,1,0,0,1,100,1,1,100,0,0]
["COALICIÓN MONTES DE OCA UNIDA",3,2,66.666666666666657,1,33.333333333333329,1,1,100,0,0,1,0,0,1,100,1,1,100,0,0]
["COALICIÓN PARTIDO ALIANZA ZARCEREÑA",3,2,66.666666666666657,1,33.333333333333329,1,1,100,0,0,1,0,0,1,100,1,1,100,0,0]
["COALICIÓN RAMONENSE",3,2,66.666666666666657,1,33.333333333333329,1,1,100,0,0,1,0,0,1,100,1,1,100,0,0]
["COALICIÓN UNIDOS POR SAN CARLOS",3,2,66.666666666666657,1,33.333333333333329,1,1,100,0,0,1,0,0,1,100,1,1,100,0,0]
["COALICIÓN UNIÓN LIBERIANA",3,1,33.333333333333329,2,66.666666666666657,1,1,100,0,0,1,0,0,1,100,1,0,0,1,100]
["CURRIDABAT SIGLO XXI",3,2,66.666666666666657,1,33.333333333333329,1,1,100,0,0,1,0,0,1,100,1,1,100,0,0]
["DEL SOL",3,1,33.333333333333329,2,66.666666666666657,1,1,100,0,0,1,0,0,1,100,1,0,0,1,100]
["EL PUENTE Y LOS CAMINOS DE MORA",3,1,33.333333333333329,2,66.666666666666657,1,0,0,1,100,1,1,100,0,0,1,0,0,1,100]
["FRENTE AMPLIO",24,14,58.333333333333336,10,41.666666666666671,8,7,87.5,1,12.5,8,1,12.5,7,87.5,8,6,75,2,25]
["GARABITO ECOLÓGICO",3,2,66.666666666666657,1,33.333333333333329,1,1,100,0,0,1,0,0,1,100,1,1,100,0,0]
["GOICOECHEA EN ACCIÓN",3,2,66.666666666666657,1,33.333333333333329,1,1,100,0,0,1,0,0,1,100,1,1,100,0,0]
["INDEPENDIENTE BELEMITA",3,2,66.666666666666657,1,33.333333333333329,1,1,100,0,0,1,0,0,1,100,1,1,100,0,0]
["INTEGRACIÓN BARBAREÑA",3,1,33.333333333333329,2,66.666666666666657,1,1,100,0,0,1,0,0,1,100,1,0,0,1,100]
["INTEGRACIÓN NACIONAL",35,23,65.714285714285708,12,34.285714285714285,12,11,91.666666666666657,1,8.3333333333333321,12,1,8.3333333333333321,11,91.666666666666657,11,11,100,0,0]
["LIBERACIÓN NACIONAL",242,146,60.330578512396691,96,39.669421487603309,81,67,82.716049382716051,14,17.283950617283949,81,14,17.283950617283949,67,82.716049382716051,80,65,81.25,15,18.75]
["MOVIMIENTO AVANCE SANTO DOMINGO",3,2,66.666666666666657,1,33.333333333333329,1,1,100,0,0,1,0,0,1,100,1,1,100,0,0]
["MOVIMIENTO DE TRABAJADORES Y CAMPESINOS",3,2,66.666666666666657,1,33.333333333333329,1,1,100,0,0,1,0,0,1,100,1,1,100,0,0]
["MOVIMIENTO LIBERTARIO",159,92,57.861635220125784,67,42.138364779874216,54,49,90.740740740740748,5,9.2592592592592595,53,5,9.433962264150944,48,90.566037735849065,52,38,73.076923076923066,14,26.923076923076923]
["ORGANIZACIÓN LABORISTA DE AGUIRRE",3,1,33.333333333333329,2,66.666666666666657,1,1,100,0,0,1,0,0,1,100,1,0,0,1,100]
["ORGANIZACIÓN SOCIAL ACTIVA",3,2,66.666666666666657,1,33.333333333333329,1,1,100,0,0,1,0,0,1,100,1,1,100,0,0]
["RENOVACIÓN COSTARRICENSE",57,36,63.157894736842103,21,36.84210526315789,19,18,94.73684210526315,1,5.2631578947368416,19,1,5.2631578947368416,18,94.73684210526315,19,17,89.473684210526315,2,10.526315789473683]
["RENOVEMOS ALAJUELA",3,2,66.666666666666657,1,33.333333333333329,1,1,100,0,0,1,0,0,1,100,1,1,100,0,0]
["RESTAURACIÓN HEREDIANA",6,4,66.666666666666657,2,33.333333333333329,2,2,100,0,0,2,0,0,2,100,2,2,100,0,0]
["TALAMANCA UNIDA",3,2,66.666666666666657,1,33.333333333333329,1,1,100,0,0,1,0,0,1,100,1,1,100,0,0]
["TARRAZÚ PRIMERO",3,2,66.666666666666657,1,33.333333333333329,1,1,100,0,0,1,0,0,1,100,1,1,100,0,0]
["TODO POR FLORES",3,2,66.666666666666657,1,33.333333333333329,1,1,100,0,0,1,0,0,1,100,1,1,100,0,0]
["TRANSPARENCIA CARTAGINÉS",3,1,33.333333333333329,2,66.666666666666657,1,0,0,1,100,1,1,100,0,0,1,0,0,1,100]
["ÚNICO ABANGAREÑO",3,1,33.333333333333329,2,66.666666666666657,1,1,100,0,0,1,0,0,1,100,1,0,0,1,100]
["UNIDAD SOCIAL CRISTIANA",159,96,60.377358490566039,63,39.622641509433961,53,46,86.79245283018868,7,13.20754716981132,53,7,13.20754716981132,46,86.79245283018868,53,43,81.132075471698116,10,18.867924528301888]
["UNION AGRÍCOLA CARTAGINES",6,4,66.666666666666657,2,33.333333333333329,2,2,100,0,0,2,0,0,2,100,2,2,100,0,0]
["UNIÓN ATENIENSE",3,2,66.666666666666657,1,33.333333333333329,1,0,0,1,100,1,1,100,0,0,1,1,100,0,0]
["UNION PALMAREÑA",3,2,66.666666666666657,1,33.333333333333329,1,1,100,0,0,1,0,0,1,100,1,1,100,0,0]
["UNIÓN POASEÑA",3,2,66.666666666666657,1,33.333333333333329,1,1,100,0,0,1,0,0,1,100,1,1,100,0,0]
["VERDE ECOLOGISTA",3,2,66.666666666666657,1,33.333333333333329,1,1,100,0,0,1,0,0,1,100,1,1,100,0,0]
["YUNTA PROGRESISTA ESCAZUCEÑA",3,1,33.333333333333329,2,66.666666666666657,1,1,100,0,0,1,0,0,1,100,1,0,0,1,100]
[]
[]
["Nota: Datos al 26 de octubre de 2010."]
["Fuente: Departamento de Registro de Partidos Políticos, Base de datos de candidaturas diciembre 2010."]

{"sheet":"22","index":25,"n_rows":101,"n_cols":16,"rows_kept":101,"cut":false,"hidden":false,"merged":[[4,0,6,0],[5,6,6,6],[5,11,6,11],[4,1,6,1]]}
["CUADRO 22  COSTA RICA: CANDIDATURAS A ALCALDÍAS  Y VICEALCALDÍAS, POR SEXO"]
["  SEGÚN PROVINCIA Y  CANTÓN, ELECCIONES 5 DE DICIEMBRE 2010"]
["(CIFRAS ABSOLUTAS Y RELATIVAS)"]
[]
["PROVINCIA Y CANTÓN ","TOTAL","ALCALDÍAS",null,null,null,"VICEALCALDÍA PRIMERA",null,null,null,null,"VICEALCALDÍA SEGUNDA"]
[null,null,"HOMBRES",null,"MUJERES",null,"TOTAL","HOMBRES",null,"MUJERES",null,"TOTAL","HOMBRES",null,"MUJERES"]
[null,null,"ABS","%","ABS","%",null,"ABS","%","ABS","%",null,"ABS","%","ABS","%"]
[]
["COSTA RICA",{"$f":"B10+B31+B47+B56+B67+B79+B91","v":339},{"$f":"C10+C31+C47+C56+C67+C79+C91","v":290},{"$f":"C9/$G9*100","v":85.798816568047343},{"$f":"E10+E31+E47+E56+E67+E79+E91","v":49},{"$f":"E9/$G9*100","v":14.497041420118343},{"$f":"G10+G31+G47+G56+G67+G79+G91","v":338},{"$f":"H10+H31+H47+H56+H67+H79+H91","v":49},{"$f":"H9/$G9*100","v":14.497041420118343},{"$f":"J10+J31+J47+J56+J67+J79+J91","v":289},{"$f":"J9/$G9*100","v":85.502958579881664},{"$f":"L10+L31+L47+L56+L67+L79+L91","v":331},{"$f":"M10+M31+M47+M56+M67+M79+M91","v":258},{"$f":"M9/$L9*100","v":77.94561933534743},{"$f":"O10+O31+O47+O56+O67+O79+O91","v":73},{"$f":"O9/$L9*100","v":22.054380664652566}]
["PROVINCIA SAN JOSÉ",{"$f":"SUM(B11:B30)","v":87},{"$f":"SUM(C11:C30)","v":74},{"$f":"C10/$B10*100","v":85.057471264367805},{"$f":"SUM(E11:E30)","v":13},{"$f":"E10/$B10*100","v":14.942528735632186},{"$f":"SUM(G11:G30)","v":86},{"$f":"SUM(H11:H30)","v":13},15.11627906976744,{"$f":"SUM(J11:J30)","v":73},84.883720930232556,{"$f":"SUM(L11:L30)","v":85},{"$f":"SUM(M11:M30)","v":64},75.294117647058826,{"$f":"SUM(O11:O30)","v":21},24.705882352941178]
["SAN JOSÉ",{"$f":"+C11+E11","v":5},4,80,1,20,{"$f":"+H11+J11","v":5},1,20,4,80,{"$f":"+M11+O11","v":4},3,75,1,25]
["ESCAZÚ",5,3,60,2,40,5,2,40,3,60,5,1,20,4,80]
["DESAMPARADOS",6,4,66.666666666666657,2,33.333333333333329,6,2,33.333333333333329,4,66.666666666666657,6,3,50,3,50]
["PURISCAL",3,3,100,0,0,3,0,0,3,100,3,3,100,0,0]
["TARRAZÚ",3,3,100,0,0,3,0,0,3,100,3,3,100,0,0]
["ASERRÍ",5,4,80,1,20,5,1,20,4,80,4,3,75,1,25]
["MORA",3,2,66.666666666666657,1,33.333333333333329,3,1,33.333333333333329,2,66.666666666666657,3,2,66.666666666666657,1,33.333333333333329]
["GOICOECHEA",8,7,87.5,1,12.5,8,1,12.5,7,87.5,8,5,62.5,3,37.5]
["SANTA ANA",5,5,100,0,0,4,0,0,4,100,5,4,80,1,20]
["ALAJUELITA",4,4,100,0,0,4,0,0,4,100,4,2,50,2,50]
["VÁZQUEZ DE CORONADO",3,2,66.666666666666657,1,33.333333333333329,3,1,33.333333333333329,2,66.666666666666657,3,2,66.666666666666657,1,33.333333333333329]
["ACOSTA",2,2,100,0,0,2,0,0,2,100,2,2,100,0,0]
["TIBÁS",6,4,66.666666666666657,2,33.333333333333329,6,2,33.333333333333329,4,66.666666666666657,6,4,66.666666666666657,2,33.333333333333329]
["MORAVIA",8,8,100,0,0,8,0,0,8,100,8,7,87.5,1,12.5]
["MONTES DE OCA",5,5,100,0,0,5,0,0,5,100,5,5,100,0,0]
["TURRUBARES",2,2,100,0,0,2,0,0,2,100,2,2,100,0,0]
["DOTA",4,4,100,0,0,4,0,0,4,100,4,4,100,0,0]
["CURRIDABAT",3,2,66.666666666666657,1,33.333333333333329,3,1,33.333333333333329,2,66.666666666666657,3,3,100,0,0]
["PÉREZ ZELEDÓN",4,3,75,1,25,4,1,25,3,75,4,3,75,1,25]
["LEÓN CORTÉS",3,3,100,0,0,3,0,0,3,100,3,3,100,0,0]
["PROVINCIA ALAJUELA",{"$f":"SUM(B32:B46)","v":61},{"$f":"SUM(C32:C46)","v":51},83.606557377049185,{"$f":"SUM(E32:E46)","v":10},16.393442622950818,{"$f":"SUM(G32:G46)","v":61},{"$f":"SUM(H32:H46)","v":10},16.393442622950818,{"$f":"SUM(J32:J46)","v":51},83.606557377049185,{"$f":"SUM(L32:L46)","v":60},{"$f":"SUM(M32:M46)","v":49},81.666666666666671,{"$f":"SUM(O32:O46)","v":11},18.333333333333332]
["ALAJUELA",{"$f":"+C32+E32","v":5},4,80,1,20,{"$f":"+H32+J32","v":5},1,20,4,80,{"$f":"+M32+O32","v":5},5,100,0,0]
["SAN RAMÓN",2,1,50,1,50,2,1,50,1,50,2,1,50,1,50]
["GRECIA",4,4,100,0,0,4,0,0,4,100,4,4,100,0,0]
["SAN MATEO",4,3,75,1,25,4,1,25,3,75,4,3,75,1,25]
["ATENAS",5,3,60,2,40,5,2,40,3,60,4,3,75,1,25]
["NARANJO",7,6,85.714285714285708,1,14.285714285714285,7,1,14.285714285714285,6,85.714285714285708,7,5,71.428571428571431,2,28.571428571428569]
["PALMARES",5,5,100,0,0,5,0,0,5,100,5,5,100,0,0]
["POÁS",2,2,100,0,0,2,0,0,2,100,2,2,100,0,0]
["OROTINA",5,3,60,2,40,5,2,40,3,60,5,4,80,1,20]
["SAN CARLOS",3,3,100,0,0,3,0,{"$f":"H41/$G41*100","v":0},3,{"$f":"J41/$G41*100","v":100},3,2,{"$f":"M41/$L41*100","v":66.666666666666657},1,{"$f":"O41/$L41*100","v":33.333333333333329}]
["ALFARO RUIZ",3,3,{"$f":"C42/$B42*100","v":100},0,{"$f":"E42/$B42*100","v":0},3,0,0,3,100,3,2,66.666666666666657,1,33.333333333333329]
["VALVERDE VEGA",4,3,75,1,25,4,1,25,3,75,4,3,75,1,25]
["UPALA",3,3,100,0,0,3,0,0,3,100,3,2,66.666666666666657,1,33.333333333333329]
["LOS CHILES",4,3,75,1,25,4,1,25,3,75,4,3,75,1,25]
["GUATUSO",5,5,100,0,0,5,0,0,5,100,5,5,100,0,0]
["PROVINCIA CARTAGO",{"$f":"SUM(B48:B55)","v":29},{"$f":"SUM(C48:C55)","v":25},86.206896551724128,{"$f":"SUM(E48:E55)","v":4},13.793103448275861,{"$f":"SUM(G48:G55)","v":29},{"$f":"SUM(H48:H55)","v":4},13.793103448275861,{"$f":"SUM(J48:J55)","v":25},86.206896551724128,{"$f":"SUM(L48:L55)","v":29},{"$f":"SUM(M48:M55)","v":25},86.206896551724128,{"$f":"SUM(O48:O55)","v":4},13.793103448275861]
["CARTAGO",{"$f":"+C48+E48","v":2},2,100,0,0,{"$f":"+H48+J48","v":2},0,0,2,100,{"$f":"+M48+O48","v":2},2,100,0,0]
["PARAÍSO",6,6,100,0,0,6,0,0,6,100,6,6,100,0,0]
["LA UNIÓN",4,2,50,2,50,4,2,50,2,50,4,3,75,1,25]
["JIMÉNEZ",3,3,100,0,0,3,0,0,3,100,3,3,100,0,0]
["TURRIALBA",4,3,75,1,25,4,1,25,3,75,4,3,75,1,25]
["ALVARADO",2,2,100,0,0,2,0,0,2,100,2,2,100,0,0]
["OREAMUNO",6,5,83.333333333333343,1,16.666666666666664,6,1,16.666666666666664,5,83.333333333333343,6,4,66.666666666666657,2,33.333333333333329]
["EL GUARCO",2,2,100,0,0,2,0,0,2,100,2,2,100,0,0]
["PROVINCIA HEREDIA",{"$f":"SUM(B57:B66)","v":39},{"$f":"SUM(C57:C66)","v":32},82.051282051282044,{"$f":"SUM(E57:E66)","v":7},17.948717948717949,{"$f":"SUM(G57:G66)","v":39},{"$f":"SUM(H57:H66)","v":7},17.948717948717949,{"$f":"SUM(J57:J66)","v":32},82.051282051282044,{"$f":"SUM(L57:L66)","v":39},{"$f":"SUM(M57:M66)","v":29},74.358974358974365,{"$f":"SUM(O57:O66)","v":10},25.641025641025639]
["HEREDIA",{"$f":"+C57+E57","v":4},3,75,1,25,{"$f":"+H57+J57","v":4},1,25,3,75,{"$f":"+M57+O57","v":4},2,50,2,50]
["BARVA",7,6,85.714285714285708,1,14.285714285714285,7,1,14.285714285714285,6,85.714285714285708,7,6,85.714285714285708,1,14.285714285714285]
["SANTO DOMINGO",4,2,50,2,50,4,2,50,2,50,4,3,75,1,25]
["SANTA BÁRBARA",5,4,80,1,20,5,1,20,4,80,5,2,40,3,60]
["SAN RAFAEL",3,2,66.666666666666657,1,33.333333333333329,3,1,33.333333333333329,2,66.666666666666657,3,1,33.333333333333329,2,66.666666666666657]
["SAN ISIDRO",4,4,100,0,0,4,0,0,4,100,4,3,75,1,25]
["BELÉN",3,3,100,0,0,3,0,0,3,100,3,3,100,0,0]
["FLORES",3,3,100,0,0,3,0,0,3,100,3,3,100,0,0]
["SAN PABLO",4,3,75,1,25,4,1,25,3,75,4,4,100,0,0]
["SARAPIQUÍ",2,2,100,0,0,2,0,0,2,100,2,2,100,0,0]
["PROVINCIA GUANACASTE",{"$f":"SUM(B68:B78)","v":39},{"$f":"SUM(C68:C78)","v":36},92.307692307692307,{"$f":"SUM(E68:E78)","v":3},7.6923076923076925,{"$f":"SUM(G68:G78)","v":39},{"$f":"SUM(H68:H78)","v":3},7.6923076923076925,{"$f":"SUM(J68:J78)","v":36},92.307692307692307,{"$f":"SUM(L68:L78)","v":37},{"$f":"SUM(M68:M78)","v":28},75.675675675675677,{"$f":"SUM(O68:O78)","v":9},24.324324324324326]
["LIBERIA",{"$f":"+C68+E68","v":4},4,100,0,0,{"$f":"+H68+J68","v":4},0,0,4,100,{"$f":"+M68+O68","v":4},1,25,3,75]
["NICOYA",5,4,80,1,20,5,1,20,4,80,5,4,80,1,20]
["SANTA CRUZ",6,5,83.333333333333343,1,16.666666666666664,6,1,16.666666666666664,5,83.333333333333343,6,6,100,0,0]
["BAGACES",3,3,100,0,0,3,0,0,3,100,3,0,0,3,100]
["CARRILLO",4,4,100,0,0,4,0,0,4,100,4,4,100,0,0]
["CAÑAS",2,2,100,0,0,2,0,{"$f":"H73/$G73*100","v":0},2,{"$f":"J73/$G73*100","v":100},2,2,{"$f":"M73/$L73*100","v":100},0,{"$f":"O73/$L73*100","v":0}]
["ABANGARES",3,2,{"$f":"C74/$B74*100","v":66.666666666666657},1,{"$f":"E74/$B74*100","v":33.333333333333329},3,1,33.333333333333329,2,66.666666666666657,3,2,66.666666666666657,1,33.333333333333329]
["TILARÁN",4,4,100,0,0,4,0,0,4,100,4,3,75,1,25]
["NANDAYURE",3,3,100,0,0,3,0,0,3,100,3,3,100,0,0]
["LA CRUZ",2,2,100,0,0,2,0,0,2,100,2,2,100,0,0]
["HOJANCHA",3,3,100,0,0,3,0,0,3,100,1,1,100,0,0]
["PROVINCIA PUNTARENAS",{"$f":"SUM(B80:B90)","v":49},{"$f":"SUM(C80:C90)","v":43},87.755102040816325,{"$f":"SUM(E80:E90)","v":6},12.244897959183673,{"$f":"SUM(G80:G90)","v":49},{"$f":"SUM(H80:H90)","v":6},12.244897959183673,{"$f":"SUM(J80:J90)","v":43},87.755102040816325,{"$f":"SUM(L80:L90)","v":48},{"$f":"SUM(M80:M90)","v":38},79.166666666666657,{"$f":"SUM(O80:O90)","v":10},20.833333333333336]
["PUNTARENAS",{"$f":"+C80+E80","v":5},5,100,0,0,{"$f":"+H80+J80","v":5},0,0,5,100,{"$f":"+M80+O80","v":4},2,50,2,50]
["ESPARZA",5,5,100,0,0,5,0,0,5,100,5,4,80,1,20]
["BUENOS AIRES",3,3,100,0,0,3,0,0,3,100,3,3,100,0,0]
["MONTES DE ORO",3,3,100,0,0,3,0,0,3,100,3,3,100,0,0]
["OSA",4,4,100,0,0,4,0,0,4,100,4,3,75,1,25]
["AGUIRRE",8,6,75,2,25,8,2,25,6,75,8,6,75,2,25]
["GOLFITO",3,3,100,0,0,3,0,0,3,100,3,2,66.666666666666657,1,33.333333333333329]
["COTO BRUS",4,3,75,1,25,4,1,25,3,75,4,3,75,1,25]
["PARRITA",5,4,80,1,20,5,1,20,4,80,5,4,80,1,20]
["CORREDORES",6,4,66.666666666666657,2,33.333333333333329,6,2,33.333333333333329,4,66.666666666666657,6,5,83.333333333333343,1,16.666666666666664]
["GARABITO",3,3,100,0,0,3,0,0,3,100,3,3,100,0,0]
["PROVINCIA LIMÓN",{"$f":"SUM(B92:B97)","v":35},{"$f":"SUM(C92:C97)","v":29},82.857142857142861,{"$f":"SUM(E92:E97)","v":6},17.142857142857142,{"$f":"SUM(G92:G97)","v":35},{"$f":"SUM(H92:H97)","v":6},17.142857142857142,{"$f":"SUM(J92:J97)","v":29},82.857142857142861,{"$f":"SUM(L92:L97)","v":33},{"$f":"SUM(M92:M97)","v":25},75.757575757575751,{"$f":"SUM(O92:O97)","v":8},24.242424242424242]
["LIMÓN",{"$f":"+C92+E92","v":8},6,75,2,25,{"$f":"+H92+J92","v":8},2,25,6,75,{"$f":"+M92+O92","v":7},4,57.142857142857139,3,42.857142857142854]
["POCOCÍ",4,4,100,0,0,4,0,0,4,100,4,3,75,1,25]
["SIQUIRRES",7,4,57.142857142857139,3,42.857142857142854,7,3,42.857142857142854,4,57.142857142857139,7,5,71.428571428571431,2,28.571428571428569]
["TALAMANCA",5,5,100,0,0,5,0,0,5,100,4,4,100,0,0]
["MATINA",6,6,100,0,0,6,0,0,6,100,6,4,66.666666666666657,2,33.333333333333329]
["GUÁCIMO",5,4,80,1,20,5,1,20,4,80,5,5,100,0,0]
[]
[]
["Nota: Datos al 26 de octubre de 2010."]
["Fuente: Departamento de Registro de Partidos Políticos, Base de datos de candidaturas diciembre 2010."]

{"sheet":"23","index":26,"n_rows":61,"n_cols":16,"rows_kept":61,"cut":false,"hidden":false,"merged":[[5,14,5,15],[4,0,6,0],[5,1,6,1],[5,6,6,6],[5,11,6,11],[4,1,4,5],[4,6,4,10],[4,11,4,15],[5,2,5,3],[5,4,5,5],[5,7,5,8],[5,9,5,10],[5,12,5,13]]}
["CUADRO 23 COSTA RICA: CANDIDATURAS A SÍNDICOS(AS) EN PROPIEDAD Y SUPLENCIA, POR SEXO"]
[" SEGÚN PARTIDO, ELECCIONES 5 DE DICIEMBRE 2010"]
["(CIFRAS ABSOLUTAS Y RELATIVAS)"]
[]
["PARTIDO","SÍNDICOS(AS)",null,null,null,null,"EN PROPIEDAD",null,null,null,null,"EN SUPLENCIA"]
["PARTIDO POLITICO","TOTAL","HOMBRES",null,"MUJERES",null,"TOTAL","HOMBRES",null,"MUJERES",null,"TOTAL","HOMBRES",null,"MUJERES"]
[null,"ABS","ABS","%","ABS","%","ABS","ABS","%","ABS","%","ABS","ABS","%","ABS","%"]
[]
["TOTAL",{"$f":"SUM(B11:B57)","v":3578},{"$f":"SUM(C11:C57)","v":1801},{"$f":"C9/B9*100","v":50.335382895472335},{"$f":"SUM(E11:E57)","v":1777},{"$f":"E9/B9*100","v":49.664617104527672},{"$f":"SUM(G11:G57)","v":1837},{"$f":"SUM(H11:H57)","v":1241},{"$f":"H9/G9*100","v":67.555797495917261},{"$f":"SUM(J11:J57)","v":596},{"$f":"J9/G9*100","v":32.444202504082739},{"$f":"SUM(L11:L57)","v":1741},{"$f":"SUM(M11:M57)","v":560},{"$f":"M9/L9*100","v":32.165422171166},{"$f":"SUM(O11:O57)","v":1181},{"$f":"O9/L9*100","v":67.834577828834014}]
[]
["ACCESIBILIDAD SIN EXCLUSIÓN",{"$f":"+C11+E11","v":188},{"$f":"+H11+M11","v":93},{"$f":"C11/B11*100","v":49.468085106382979},{"$f":"+J11+O11","v":95},{"$f":"E11/B11*100","v":50.531914893617028},{"$f":"+H11+J11","v":97},59,{"$f":"H11/G11*100","v":60.824742268041234},38,{"$f":"J11/G11*100","v":39.175257731958766},{"$f":"+M11+O11","v":91},34,{"$f":"M11/L11*100","v":37.362637362637365},57,{"$f":"O11/L11*100","v":62.637362637362635}]
["ACCIÓN CANTONAL SIQUIRRES INDEPENDIENTE",11,6,54.54545454545454,5,45.454545454545453,6,5,83.333333333333343,1,16.666666666666664,5,1,20,4,80]
["ACCIÓN CIUDADANA",519,261,50.289017341040463,258,49.710982658959537,270,172,63.703703703703709,98,36.296296296296298,249,89,35.742971887550198,160,64.257028112449802]
["ACCIÓN NARANJEÑA",12,7,58.333333333333336,5,41.666666666666671,7,7,100,0,0,5,0,0,5,100]
["ACCIÓN QUEPEÑA",5,2,40,3,60,3,0,0,3,100,2,2,100,0,0]
["ACUERDO CANTONAL DESAMPARADEÑO",26,13,50,13,50,13,6,46.153846153846153,7,53.846153846153847,13,7,53.846153846153847,6,46.153846153846153]
["ALIANZA PATRIÓTICA",34,19,55.882352941176471,15,44.117647058823529,18,16,88.888888888888886,2,11.111111111111111,16,3,18.75,13,81.25]
["AUTÉNTICO LABRADOR DE CORONADO",8,4,50,4,50,4,2,50,2,50,4,2,50,2,50]
["AUTÓNOMO OROMONTANO",5,2,40,3,60,2,2,100,0,0,3,0,0,3,100]
["CÍVICO DE TÍBAS FUENTEOVEJUNA",10,5,50,5,50,5,3,60,2,40,5,2,40,3,60]
["COALICIÓN BARVA UNIDA",10,5,50,5,50,5,2,40,3,60,5,3,60,2,40]
["COALICIÓN CARTAGO UNIDO",22,11,50,11,50,11,9,81.818181818181827,2,18.181818181818183,11,2,18.181818181818183,9,81.818181818181827]
["COALICIÓN MONTES DE OCA UNIDA",8,4,50,4,50,4,1,25,3,75,4,3,75,1,25]
["COALICIÓN PARTIDO ALIANZA ZARCEREÑA",14,7,50,7,50,7,5,71.428571428571431,2,28.571428571428569,7,2,28.571428571428569,5,71.428571428571431]
["COALICIÓN RAMONENSE",24,13,54.166666666666664,11,45.833333333333329,13,12,92.307692307692307,1,7.6923076923076925,11,1,9.0909090909090917,10,90.909090909090907]
["COALICIÓN UNIDOS POR SAN CARLOS",26,13,50,13,50,13,11,84.615384615384613,2,15.384615384615385,13,2,15.384615384615385,11,84.615384615384613]
["COALICIÓN UNIÓN LIBERIANA",10,5,50,5,50,5,3,60,2,40,5,2,40,3,60]
["CURRIDABAT SIGLO XXI",8,4,50,4,50,4,2,50,2,50,4,2,50,2,50]
["DEL SOL",12,6,50,6,50,6,3,50,3,50,6,3,50,3,50]
["EL PUENTE Y LOS CAMINOS DE MORA",9,5,55.555555555555557,4,44.444444444444443,5,3,60,2,40,4,2,50,2,50]
["FRENTE AMPLIO",75,37,49.333333333333336,38,50.666666666666671,38,28,73.68421052631578,10,26.315789473684209,37,9,24.324324324324326,28,75.675675675675677]
["GARABITO ECOLÓGICO",3,1,33.333333333333329,2,66.666666666666657,1,1,100,0,0,2,0,0,2,100]
["GOICOECHEA EN ACCIÓN",14,7,50,7,50,7,3,42.857142857142854,4,57.142857142857139,7,4,57.142857142857139,3,42.857142857142854]
["INDEPENDIENTE BELEMITA",6,3,50,3,50,3,3,100,0,0,3,0,0,3,100]
["INTEGRACIÓN BARBAREÑA",10,4,40,6,60,6,3,50,3,50,4,1,25,3,75]
["INTEGRACIÓN NACIONAL",105,53,50.476190476190474,52,49.523809523809526,53,38,71.698113207547166,15,28.30188679245283,52,15,28.846153846153843,37,71.15384615384616]
["LIBERACIÓN NACIONAL",929,468,50.3767491926803,461,49.6232508073197,468,346,73.931623931623932,122,26.068376068376072,461,122,26.464208242950111,339,73.535791757049893]
["MOVIMIENTO AVANCE SANTO DOMINGO",16,8,50,8,50,8,5,62.5,3,37.5,8,3,37.5,5,62.5]
["MOVIMIENTO DE TRABAJADORES Y CAMPESINOS",8,4,50,4,50,4,4,100,0,0,4,0,0,4,100]
["MOVIMIENTO LIBERTARIO",548,280,51.094890510948908,268,48.9051094890511,289,187,64.705882352941174,102,35.294117647058826,259,93,35.907335907335906,166,64.092664092664094]
["ORGANIZACIÓN LABORISTA DE AGUIRRE",6,3,50,3,50,3,3,100,0,0,3,0,0,3,100]
["ORGANIZACIÓN SOCIAL ACTIVA",10,5,50,5,50,5,3,60,2,40,5,2,40,3,60]
["RENOVACIÓN COSTARRICENSE",167,80,47.904191616766468,87,52.095808383233532,86,51,59.302325581395351,35,40.697674418604649,81,29,35.802469135802468,52,64.197530864197532]
["RENOVEMOS ALAJUELA",26,14,53.846153846153847,12,46.153846153846153,14,9,64.285714285714292,5,35.714285714285715,12,5,41.666666666666671,7,58.333333333333336]
["RESTAURACIÓN HEREDIANA",16,9,56.25,7,43.75,9,4,44.444444444444443,5,55.555555555555557,7,5,71.428571428571431,2,28.571428571428569]
["TALAMANCA UNIDA",8,4,50,4,50,4,2,50,2,50,4,2,50,2,50]
["TARRAZÚ PRIMERO",6,3,50,3,50,3,1,33.333333333333329,2,66.666666666666657,3,2,66.666666666666657,1,33.333333333333329]
["TODO POR FLORES",6,3,50,3,50,3,1,0,2,0,3,2,66.666666666666657,1,33.333333333333329]
["TRANSPARENCIA CARTAGINÉS",10,5,50,5,50,5,0,{"$f":"H49/G49*100","v":0},5,{"$f":"J49/G49*100","v":100},5,5,100,0,0]
["ÚNICO ABANGAREÑO",8,4,50,4,50,4,2,50,2,50,4,2,50,2,50]
["UNIDAD SOCIAL CRISTIANA",569,286,50.26362038664324,283,49.736379613356767,291,200,68.728522336769757,91,31.27147766323024,278,86,30.935251798561154,192,69.064748201438846]
["UNION AGRÍCOLA CARTAGINES",16,8,50,8,50,8,7,87.5,1,12.5,8,1,12.5,7,87.5]
["UNIÓN ATENIENSE",16,8,50,8,50,8,7,87.5,1,12.5,8,1,12.5,7,87.5]
["UNION PALMAREÑA",13,6,46.153846153846153,7,53.846153846153847,6,4,66.666666666666657,2,33.333333333333329,7,2,28.571428571428569,5,71.428571428571431]
["UNIÓN POASEÑA",10,5,50,5,50,5,2,40,3,60,5,3,60,2,40]
["VERDE ECOLOGISTA",10,5,50,5,50,5,1,20,4,80,5,4,80,1,20]
["YUNTA PROGRESISTA ESCAZUCEÑA",6,3,50,3,50,3,3,100,0,0,3,0,0,3,100]
[]
[]
["Nota: Datos al 26 de octubre de 2010."]
["Fuente: Departamento de Registro de Partidos Políticos, Base de datos de candidaturas diciembre 2010"]

{"sheet":"24","index":27,"n_rows":101,"n_cols":21,"rows_kept":101,"cut":false,"hidden":false,"merged":[[4,0,6,0],[4,1,6,1],[5,6,6,6],[5,11,6,11]]}
["CUADRO 24  COSTA RICA: CANDIDATURAS A SÍNDICOS(AS) EN PROPIEDAD Y SUPLENCIA, POR SEXO"]
["  SEGÚN PROVINCIA Y CANTÓN ELECCIONES 5 DE DICIEMBRE 2010"]
["(CIFRAS ABSOLUTAS Y RELATIVAS)"]
[]
["PROVINCIA Y CANTÓN ","TOTAL","SÍNDICOS(AS)",null,null,null,"EN PROPIEDAD",null,null,null,null,"EN SUPLENCIA"]
[null,null,"HOMBRES",null,"MUJERES",null,"TOTAL","HOMBRES",null,"MUJERES",null,"TOTAL","HOMBRES",null,"MUJERES"]
[null,null,"ABS","%","ABS","%",null,"ABS","%","ABS","%",null,"ABS","%","ABS","%"]
[]
["COSTA RICA",{"$f":"G9+L9","v":3578},{"$f":"H9+M9","v":1801},{"$f":"C9/$B9*100","v":50.335382895472335},{"$f":"J9+O9","v":1777},{"$f":"E9/$B9*100","v":49.664617104527672},{"$f":"+G10+G31+G47+G56+G67+G79+G91","v":1837},{"$f":"+H10+H31+H47+H56+H67+H79+H91","v":1241},{"$f":"H9/$G9*100","v":67.555797495917261},{"$f":"+J10+J31+J47+J56+J67+J79+J91","v":596},{"$f":"J9/$G9*100","v":32.444202504082739},{"$f":"+L10+L31+L47+L56+L67+L79+L91","v":1741},{"$f":"+M10+M31+M47+M56+M67+M79+M91","v":560},{"$f":"M9/$L9*100","v":32.165422171166},{"$f":"+O10+O31+O47+O56+O67+O79+O91","v":1181},{"$f":"O9/$L9*100","v":67.834577828834014}," "," ","Cargo"]
["PROVINCIA SAN JOSÉ",{"$f":"+G10+L10","v":958},{"$f":"+H10+M10","v":486},50.73068893528184,{"$f":"+J10+O10","v":472},49.26931106471816,{"$f":"SUM(G11:G30)","v":491},{"$f":"SUM(H11:H30)","v":311},63.340122199592663,{"$f":"SUM(J11:J30)","v":180},36.65987780040733,{"$f":"SUM(L11:L30)","v":467},{"$f":"SUM(M11:M30)","v":175},37.473233404710918,{"$f":"SUM(O11:O30)","v":292},62.526766595289075,null,null,"Sexo",null,"Total"]
["SAN JOSÉ",107,54,50.467289719626166,53,49.532710280373834,{"$f":"+H11+J11","v":53},31,58.490566037735846,22,41.509433962264154,{"$f":"+M11+O11","v":54},23,42.592592592592595,31,57.407407407407405,null,null,"HOMBRE","MUJER"]
["ESCAZÚ",28,15,53.571428571428569,13,46.428571428571431,15,12,80,3,20,13,3,23.076923076923077,10,76.923076923076934]
["DESAMPARADOS",141,70,49.645390070921984,71,50.354609929078009,76,41,53.94736842105263,35,46.05263157894737,65,29,44.61538461538462,36,55.384615384615387]
["PURISCAL",29,15,51.724137931034484,14,48.275862068965516,15,10,66.666666666666657,5,33.333333333333329,14,5,35.714285714285715,9,64.285714285714292]
["TARRAZÚ",18,9,50,9,50,9,6,66.666666666666657,3,33.333333333333329,9,3,33.333333333333329,6,66.666666666666657]
["ASERRÍ",52,27,51.923076923076927,25,48.07692307692308,28,20,71.428571428571431,8,28.571428571428569,24,7,29.166666666666668,17,70.833333333333343]
["MORA",27,14,51.851851851851848,13,48.148148148148145,14,8,57.142857142857139,6,42.857142857142854,13,6,46.153846153846153,7,53.846153846153847]
["GOICOECHEA",97,50,51.546391752577314,47,48.453608247422679,49,28,57.142857142857139,21,42.857142857142854,48,22,45.833333333333329,26,54.166666666666664]
["SANTA ANA",53,27,50.943396226415096,26,49.056603773584904,26,15,57.692307692307686,11,42.307692307692307,27,12,44.444444444444443,15,55.555555555555557]
["ALAJUELITA",40,20,50,20,50,20,9,45,11,55.000000000000007,20,11,55.000000000000007,9,45]
["VÁZQUEZ DE CORONADO",38,19,50,19,50,19,11,57.894736842105267,8,42.105263157894733,19,8,42.105263157894733,11,57.894736842105267]
["ACOSTA",18,9,50,9,50,9,8,88.888888888888886,1,11.111111111111111,9,1,11.111111111111111,8,88.888888888888886]
["TIBÁS",58,30,51.724137931034484,28,48.275862068965516,30,15,50,15,50,28,15,53.571428571428569,13,46.428571428571431]
["MORAVIA",44,22,50,22,50,22,12,54.54545454545454,10,45.454545454545453,22,10,45.454545454545453,12,54.54545454545454]
["MONTES DE OCA",37,19,51.351351351351347,18,48.648648648648653,19,9,47.368421052631575,10,52.631578947368418,18,10,55.555555555555557,8,44.444444444444443]
["TURRUBARES",20,10,50,10,50,10,10,100,0,0,10,0,0,10,100]
["DOTA",17,9,52.941176470588239,8,47.058823529411761,9,8,88.888888888888886,1,11.111111111111111,8,1,12.5,7,87.5]
["CURRIDABAT",19,10,52.631578947368418,9,47.368421052631575,10,6,60,4,40,9,4,44.444444444444443,5,55.555555555555557]
["PÉREZ ZELEDÓN",81,41,50.617283950617285,40,49.382716049382715,41,38,92.682926829268297,3,7.3170731707317067,40,3,7.5,37,92.5]
["LEÓN CORTÉS",34,16,47.058823529411761,18,52.941176470588239,17,14,82.35294117647058,3,17.647058823529413,17,2,11.76470588235294,15,88.235294117647058]
["PROVINCIA ALAJUELA",809,410,50.679851668726826,399,49.320148331273181,417,{"$f":"SUM(H32:H46)","v":307},73.621103117505996,{"$f":"SUM(J32:J46)","v":110},26.378896882494008,392,{"$f":"SUM(M32:M46)","v":103},26.27551020408163,{"$f":"SUM(O32:O46)","v":289},73.724489795918373]
["ALAJUELA",136,68,50,68,50,71,47,66.197183098591552,24,33.802816901408448,65,21,32.307692307692307,44,67.692307692307693]
["SAN RAMÓN",52,27,51.923076923076927,25,48.07692307692308,27,24,88.888888888888886,3,11.111111111111111,25,3,12,22,88]
["GRECIA",61,31,50.819672131147541,30,49.180327868852459,31,22,70.967741935483872,9,29.032258064516132,30,9,30,21,70]
["SAN MATEO",23,11,47.826086956521742,12,52.173913043478258,12,10,83.333333333333343,2,16.666666666666664,11,1,9.0909090909090917,10,90.909090909090907]
["ATENAS",66,33,50,33,50,34,23,67.64705882352942,11,32.352941176470587,32,10,31.25,22,68.75]
["NARANJO",98,52,53.061224489795919,46,46.938775510204081,53,41,77.358490566037744,12,22.641509433962266,45,11,24.444444444444443,34,75.555555555555557]
["PALMARES",64,31,48.4375,33,51.5625,31,20,64.516129032258064,11,35.483870967741936,33,11,33.333333333333329,22,66.666666666666657]
["POÁS",20,10,50,10,50,10,6,60,4,40,10,4,40,6,60]
["OROTINA",38,21,55.26315789473685,17,44.736842105263158,19,15,78.94736842105263,4,21.052631578947366,19,6,31.578947368421051,13,68.421052631578945]
["SAN CARLOS",77,38,{"$f":"C41/$B41*100","v":49.350649350649348},39,{"$f":"E41/$B41*100","v":50.649350649350644},38,31,{"$f":"H41/$G41*100","v":81.578947368421055},7,{"$f":"J41/$G41*100","v":18.421052631578945},39,7,{"$f":"M41/$L41*100","v":17.948717948717949},32,{"$f":"O41/$L41*100","v":82.051282051282044}]
["ALFARO RUIZ",{"$f":"+G42+L42","v":42},{"$f":"+H42+M42","v":21},50,{"$f":"+J42+O42","v":21},50,21,17,80.952380952380949,4,19.047619047619047,21,4,19.047619047619047,17,80.952380952380949]
["VALVERDE VEGA",38,19,50,19,50,{"$f":"+H43+J43","v":19},14,73.68421052631578,5,26.315789473684209,19,5,26.315789473684209,14,73.68421052631578]
["UPALA",34,17,50,17,50,18,13,72.222222222222214,5,27.777777777777779,16,4,25,12,75]
["LOS CHILES",28,15,53.571428571428569,13,46.428571428571431,15,13,86.666666666666671,2,13.333333333333334,13,2,15.384615384615385,11,84.615384615384613]
["GUATUSO",32,16,50,16,50,18,11,61.111111111111114,7,38.888888888888893,14,5,35.714285714285715,9,64.285714285714292]
["PROVINCIA CARTAGO",338,173,51.183431952662716,165,48.816568047337277,172,{"$f":"SUM(H48:H55)","v":119},69.186046511627907,{"$f":"SUM(J48:J55)","v":53},30.813953488372093,166,{"$f":"SUM(M48:M55)","v":54},32.53012048192771,{"$f":"SUM(O48:O55)","v":112},67.46987951807229]
["CARTAGO",43,22,51.162790697674424,21,48.837209302325576,22,16,72.727272727272734,6,27.27272727272727,21,6,28.571428571428569,15,71.428571428571431]
["PARAÍSO",58,29,50,29,50,29,22,75.862068965517238,7,24.137931034482758,29,7,24.137931034482758,22,75.862068965517238]
["LA UNIÓN",58,31,53.448275862068961,27,46.551724137931032,29,18,62.068965517241381,11,37.931034482758619,29,13,44.827586206896555,16,55.172413793103445]
["JIMÉNEZ",14,7,50,7,50,7,7,100,0,0,7,0,0,7,100]
["TURRIALBA",82,43,52.439024390243901,39,47.560975609756099,42,28,66.666666666666657,14,33.333333333333329,40,15,37.5,25,62.5]
["ALVARADO",17,8,47.058823529411761,9,52.941176470588239,8,8,100,0,0,9,0,0,9,100]
["OREAMUNO",51,25,49.019607843137251,26,50.980392156862742,27,14,51.851851851851848,13,48.148148148148145,24,11,45.833333333333329,13,54.166666666666664]
["EL GUARCO",15,8,53.333333333333336,7,46.666666666666664,8,6,75,2,25,7,2,28.571428571428569,5,71.428571428571431]
["PROVINCIA HEREDIA",356,175,49.157303370786515,181,50.842696629213478,181,{"$f":"SUM(H57:H66)","v":102},56.353591160220994,{"$f":"SUM(J57:J66)","v":79},43.646408839779006,{"$f":"+L57+L58+L59+L60+L61+L62+L63+L64+L65+L66","v":175},{"$f":"SUM(M57:M66)","v":73},41.714285714285715,{"$f":"SUM(O57:O66)","v":102},58.285714285714285]
["HEREDIA",36,19,52.777777777777779,17,47.222222222222221,19,15,78.94736842105263,4,21.052631578947366,{"$f":"+M57+O57","v":17},4,23.52941176470588,13,76.470588235294116]
["BARVA",73,35,47.945205479452049,38,52.054794520547944,36,16,44.444444444444443,20,55.555555555555557,37,19,51.351351351351347,18,48.648648648648653]
["SANTO DOMINGO",63,32,50.793650793650791,31,49.206349206349202,31,15,48.387096774193552,16,51.612903225806448,32,17,53.125,15,46.875]
["SANTA BÁRBARA",52,23,44.230769230769226,29,55.769230769230774,27,15,55.555555555555557,12,44.444444444444443,25,8,32,17,68]
["SAN RAFAEL",27,13,48.148148148148145,14,51.851851851851848,15,8,53.333333333333336,7,46.666666666666664,12,5,41.666666666666671,7,58.333333333333336]
["SAN ISIDRO",32,16,50,16,50,16,10,62.5,6,37.5,16,6,37.5,10,62.5]
["BELÉN",18,9,50,9,50,9,7,77.777777777777786,2,22.222222222222221,9,2,22.222222222222221,7,77.777777777777786]
["FLORES",18,9,50,9,50,9,4,44.444444444444443,5,55.555555555555557,9,5,55.555555555555557,4,44.444444444444443]
["SAN PABLO",16,8,50,8,50,8,4,50,4,50,8,4,50,4,50]
["SARAPIQUÍ",21,11,52.380952380952387,10,47.619047619047613,11,8,72.727272727272734,3,27.27272727272727,10,3,30,7,70]
["PROVINCIA GUANACASTE",380,193,50.789473684210527,187,49.210526315789473,199,{"$f":"SUM(H68:H78)","v":140},70.35175879396985,{"$f":"SUM(J68:J78)","v":59},29.64824120603015,{"$f":"+L68+L69+L70+L71+L72+L73+L74+L75+L76+L77+L78","v":181},{"$f":"SUM(M68:M78)","v":53},29.281767955801101,{"$f":"SUM(O68:O78)","v":128},70.718232044198885]
["LIBERIA",35,17,48.571428571428569,18,51.428571428571423,17,10,58.82352941176471,7,41.17647058823529,{"$f":"+M68+O68","v":18},7,38.888888888888893,11,61.111111111111114]
["NICOYA",66,33,50,33,50,35,25,71.428571428571431,10,28.571428571428569,31,8,25.806451612903224,23,74.193548387096769]
["SANTA CRUZ",90,46,51.111111111111107,44,48.888888888888886,45,33,73.333333333333329,12,26.666666666666668,45,13,28.888888888888886,32,71.111111111111114]
["BAGACES",18,9,50,9,50,11,7,63.636363636363633,4,36.363636363636367,7,2,28.571428571428569,5,71.428571428571431]
["CARRILLO",31,15,48.387096774193552,16,51.612903225806448,16,10,62.5,6,37.5,15,5,33.333333333333329,10,66.666666666666657]
["CAÑAS",19,10,{"$f":"C73/$B73*100","v":52.631578947368418},9,{"$f":"E73/$B73*100","v":47.368421052631575},10,7,{"$f":"H73/$G73*100","v":70},3,{"$f":"J73/$G73*100","v":30},9,3,{"$f":"M73/$L73*100","v":33.333333333333329},6,{"$f":"O73/$L73*100","v":66.666666666666657}]
["ABANGARES",{"$f":"+G74+L74","v":23},{"$f":"+H74+M74","v":12},52.173913043478258,{"$f":"+J74+O74","v":11},47.826086956521742,12,7,58.333333333333336,5,41.666666666666671,11,5,45.454545454545453,6,54.54545454545454]
["TILARÁN",32,17,53.125,15,46.875,{"$f":"+H75+J75","v":17},15,88.235294117647058,2,11.76470588235294,15,2,13.333333333333334,13,86.666666666666671]
["NANDAYURE",32,16,50,16,50,16,13,81.25,3,18.75,16,3,18.75,13,81.25]
["LA CRUZ",16,8,50,8,50,8,6,75,2,25,8,2,25,6,75]
["HOJANCHA",18,10,55.555555555555557,8,44.444444444444443,12,7,58.333333333333336,5,41.666666666666671,6,3,50,3,50]
["PROVINCIA PUNTARENAS",459,226,49.23747276688453,233,50.76252723311547,238,{"$f":"SUM(H80:H90)","v":166},69.747899159663859,{"$f":"SUM(J80:J90)","v":72},30.252100840336134,{"$f":"+L80+L81+L82+L83+L84+L85+L86+L87+L88+L89+L90","v":221},{"$f":"SUM(M80:M90)","v":60},27.149321266968325,{"$f":"SUM(O80:O90)","v":161},72.850678733031671]
["PUNTARENAS",141,71,50.354609929078009,70,49.645390070921984,74,52,70.270270270270274,22,29.72972972972973,{"$f":"+M80+O80","v":67},19,28.35820895522388,48,71.641791044776113]
["ESPARZA",47,23,48.936170212765958,24,51.063829787234042,24,14,58.333333333333336,10,41.666666666666671,23,9,39.130434782608695,14,60.869565217391312]
["BUENOS AIRES",48,24,50,24,50,26,21,80.769230769230774,5,19.230769230769234,22,3,13.636363636363635,19,86.36363636363636]
["MONTES DE ORO",17,8,47.058823529411761,9,52.941176470588239,8,4,50,4,50,9,4,44.444444444444443,5,55.555555555555557]
["OSA",39,19,48.717948717948715,20,51.282051282051277,19,14,73.68421052631578,5,26.315789473684209,20,5,25,15,75]
["AGUIRRE",46,22,47.826086956521742,24,52.173913043478258,23,14,60.869565217391312,9,39.130434782608695,23,8,34.782608695652172,15,65.217391304347828]
["GOLFITO",24,12,50,12,50,12,8,66.666666666666657,4,33.333333333333329,12,4,33.333333333333329,8,66.666666666666657]
["COTO BRUS",34,16,47.058823529411761,18,52.941176470588239,19,15,78.94736842105263,4,21.052631578947366,15,1,6.666666666666667,14,93.333333333333329]
["PARRITA",10,5,50,5,50,5,4,80,1,20,5,1,20,4,80]
["CORREDORES",43,22,51.162790697674424,21,48.837209302325576,24,16,66.666666666666657,8,33.333333333333329,19,6,31.578947368421051,13,68.421052631578945]
["GARABITO",10,4,40,6,60,4,4,100,0,0,6,0,0,6,100]
["PROVINCIA LIMÓN",278,138,49.640287769784173,140,50.359712230215827,139,{"$f":"SUM(H92:H97)","v":96},69.064748201438846,{"$f":"SUM(J92:J97)","v":43},30.935251798561154,{"$f":"+L92+L93+L94+L95+L96+L97","v":139},{"$f":"SUM(M92:M97)","v":42},30.215827338129497,{"$f":"SUM(O92:O97)","v":97},69.7841726618705]
["LIMÓN",55,28,50.909090909090907,27,49.090909090909093,28,17,60.714285714285708,11,39.285714285714285,{"$f":"+M92+O92","v":27},11,40.74074074074074,16,59.259259259259252]
["POCOCÍ",42,21,50,21,50,21,15,71.428571428571431,6,28.571428571428569,21,6,28.571428571428569,15,71.428571428571431]
["SIQUIRRES",78,39,50,39,50,40,26,65,14,35,38,13,34.210526315789473,25,65.789473684210535]
["TALAMANCA",31,16,51.612903225806448,15,48.387096774193552,16,11,68.75,5,31.25,15,5,33.333333333333329,10,66.666666666666657]
["MATINA",30,15,50,15,50,15,10,66.666666666666657,5,33.333333333333329,15,5,33.333333333333329,10,66.666666666666657]
["GUÁCIMO",42,19,45.238095238095241,23,54.761904761904766,19,17,89.473684210526315,2,10.526315789473683,23,2,8.695652173913043,21,91.304347826086953]
[]
[]
["Nota: Datos al 26 de octubre de 2010."]
["Fuente: Departamento de Registro de Partidos Políticos, Base de datos de candidaturas diciembre 2010."]

{"sheet":"25","index":28,"n_rows":57,"n_cols":16,"rows_kept":57,"cut":false,"hidden":false,"merged":[[5,7,5,8],[5,9,5,10],[5,12,5,13],[5,14,5,15],[4,0,6,0],[5,1,6,1],[5,6,6,6],[5,11,6,11],[4,1,4,5],[4,6,4,10],[4,11,4,15],[5,2,5,3],[5,4,5,5]]}
["CUADRO 25 COSTA RICA: CANDIDATURAS A CONCEJALES DE DISTRITO EN PROPIEDAD Y SUPLENCIA, POR SEXO"]
[" SEGÚN PARTIDO, ELECCIONES 5 DE DICIEMBRE 2010"]
["(CIFRAS ABSOLUTAS Y RELATIVAS)"]
[]
["PARTIDO","CONCEJALES DE DISTRITO",null,null,null,null,"EN PROPIEDAD",null,null,null,null,"EN SUPLENCIA"]
["PARTIDO POLITICO","TOTAL","HOMBRES",null,"MUJERES",null,"TOTAL","HOMBRES",null,"MUJERES",null,"TOTAL","HOMBRES",null,"MUJERES"]
[null,"ABS","ABS","%","ABS","%","ABS","ABS","%","ABS","%","ABS","ABS","%","ABS","%"]
[]
["TOTAL",{"$f":"SUM(B11:B53)","v":11004},{"$f":"SUM(C11:C53)","v":5527},{"$f":"C9/B9*100","v":50.227190112686294},{"$f":"SUM(E11:E53)","v":5477},{"$f":"E9/B9*100","v":49.772809887313699},{"$f":"SUM(G11:G53)","v":5828},{"$f":"SUM(H11:H53)","v":2941},{"$f":"H9/G9*100","v":50.46328071379547},{"$f":"SUM(J11:J53)","v":2887},{"$f":"J9/G9*100","v":49.53671928620453},{"$f":"SUM(L11:L53)","v":5176},{"$f":"SUM(M11:M53)","v":2586},{"$f":"M9/L9*100","v":49.961360123647601},{"$f":"SUM(O11:O53)","v":2590},{"$f":"O9/L9*100","v":50.038639876352399}]
[]
["ACCESIBILIDAD SIN EXCLUSIÓN",{"$f":"+C11+E11","v":433},{"$f":"+H11+M11","v":219},{"$f":"C11/B11*100","v":50.577367205542721},{"$f":"+J11+O11","v":214},{"$f":"E11/B11*100","v":49.422632794457279},{"$f":"+H11+J11","v":225},116,{"$f":"H11/G11*100","v":51.555555555555557},109,{"$f":"J11/G11*100","v":48.444444444444443},{"$f":"+M11+O11","v":208},103,{"$f":"M11/L11*100","v":49.519230769230774},105,{"$f":"O11/L11*100","v":50.480769230769226}]
["ACCIÓN CANTONAL SIQUIRRES INDEPENDIENTE",33,16,48.484848484848484,17,51.515151515151516,20,10,50,10,50,13,6,46.153846153846153,7,53.846153846153847]
["ACCIÓN CIUDADANA",1529,773,50.555918901242649,756,49.444081098757358,840,428,50.952380952380949,412,49.047619047619044,689,345,50.072568940493468,344,49.927431059506532]
["ACCIÓN QUEPEÑA",17,10,58.82352941176471,7,41.17647058823529,9,5,55.555555555555557,4,44.444444444444443,8,5,62.5,3,37.5]
["ACUERDO CANTONAL DESAMPARADEÑO",104,52,50,52,50,52,26,50,26,50,52,26,50,26,50]
["ALIANZA PATRIÓTICA",88,43,48.863636363636367,45,51.136363636363633,44,20,45.454545454545453,24,54.54545454545454,44,23,52.272727272727273,21,47.727272727272727]
["AUTÉNTICO LABRADOR DE CORONADO",22,10,45.454545454545453,12,54.54545454545454,11,6,54.54545454545454,5,45.454545454545453,11,4,36.363636363636367,7,63.636363636363633]
["AUTÓNOMO OROMONTANO",22,11,50,11,50,11,6,54.54545454545454,5,45.454545454545453,11,5,45.454545454545453,6,54.54545454545454]
["CÍVICO DE TÍBAS FUENTEOVEJUNA",11,6,54.54545454545454,5,45.454545454545453,7,4,57.142857142857139,3,42.857142857142854,4,2,50,2,50]
["COALICIÓN BARVA UNIDA",32,16,50,16,50,16,8,50,8,50,16,8,50,8,50]
["COALICIÓN CARTAGO UNIDO",88,44,50,44,50,44,22,50,22,50,44,22,50,22,50]
["COALICIÓN MONTES DE OCA UNIDA",29,14,48.275862068965516,15,51.724137931034484,14,6,42.857142857142854,8,57.142857142857139,15,8,53.333333333333336,7,46.666666666666664]
["COALICIÓN PARTIDO ALIANZA ZARCEREÑA",53,27,50.943396226415096,26,49.056603773584904,27,13,48.148148148148145,14,51.851851851851848,26,14,53.846153846153847,12,46.153846153846153]
["COALICIÓN RAMONENSE",75,38,50.666666666666671,37,49.333333333333336,43,22,51.162790697674424,21,48.837209302325576,32,16,50,16,50]
["COALICIÓN UNIDOS POR SAN CARLOS",103,52,50.485436893203882,51,49.514563106796118,51,26,50.980392156862742,25,49.019607843137251,52,26,50,26,50]
["COALICIÓN UNIÓN LIBERIANA",34,15,44.117647058823529,19,55.882352941176471,15,6,40,9,60,19,9,47.368421052631575,10,52.631578947368418]
["CURRIDABAT SIGLO XXI",32,16,50,16,50,16,8,50,8,50,16,8,50,8,50]
["DEL SOL",46,24,52.173913043478258,22,47.826086956521742,23,12,52.173913043478258,11,47.826086956521742,23,12,52.173913043478258,11,47.826086956521742]
["EL PUENTE Y LOS CAMINOS DE MORA",38,18,47.368421052631575,20,52.631578947368418,19,9,47.368421052631575,10,52.631578947368418,19,9,47.368421052631575,10,52.631578947368418]
["FRENTE AMPLIO",181,89,49.171270718232044,92,50.828729281767963,89,44,49.438202247191008,45,50.561797752808992,92,45,48.913043478260867,47,51.086956521739133]
["GARABITO ECOLÓGICO",15,8,53.333333333333336,7,46.666666666666664,7,4,57.142857142857139,3,42.857142857142854,8,4,50,4,50]
["GOICOECHEA EN ACCIÓN",51,26,50.980392156862742,25,49.019607843137251,24,12,50,12,50,27,14,51.851851851851848,13,48.148148148148145]
["INDEPENDIENTE BELEMITA",10,5,50,5,50,9,4,44.444444444444443,5,55.555555555555557,1,1,100,0,0]
["INTEGRACIÓN NACIONAL",239,122,51.046025104602514,117,48.953974895397486,141,76,53.900709219858157,65,46.099290780141843,98,46,46.938775510204081,52,53.061224489795919]
["LIBERACIÓN NACIONAL",3419,1712,50.07312079555426,1707,49.926879204445747,1752,878,50.114155251141554,874,49.885844748858446,1667,834,50.029994001199761,833,49.970005998800239]
["MOVIMIENTO AVANCE SANTO DOMINGO",42,21,50,21,50,24,12,50,12,50,18,9,50,9,50]
["MOVIMIENTO DE TRABAJADORES Y CAMPESINOS",22,11,50,11,50,11,5,45.454545454545453,6,54.54545454545454,11,6,54.54545454545454,5,45.454545454545453]
["MOVIMIENTO LIBERTARIO",1601,805,50.281074328544662,796,49.718925671455338,882,447,50.680272108843539,435,49.319727891156461,719,358,49.791376912378304,361,50.208623087621696]
["ORGANIZACIÓN LABORISTA DE AGUIRRE",22,10,45.454545454545453,12,54.54545454545454,11,5,45.454545454545453,6,54.54545454545454,11,5,45.454545454545453,6,54.54545454545454]
["ORGANIZACIÓN SOCIAL ACTIVA",37,20,54.054054054054056,17,45.945945945945951,19,10,52.631578947368418,9,47.368421052631575,18,10,55.555555555555557,8,44.444444444444443]
["RENOVACIÓN COSTARRICENSE",573,286,49.912739965095987,287,50.087260034904013,290,144,49.655172413793103,146,50.344827586206897,283,142,50.176678445229683,141,49.823321554770317]
["RENOVEMOS ALAJUELA",99,53,53.535353535353536,46,46.464646464646464,51,28,54.901960784313729,23,45.098039215686278,48,25,52.083333333333336,23,47.916666666666671]
["RESTAURACIÓN HEREDIANA",22,10,45.454545454545453,12,54.54545454545454,21,9,42.857142857142854,12,57.142857142857139,1,1,100,0,0]
["TALAMANCA UNIDA",5,4,80,1,20,5,4,80,1,20,0,0,"-",0,"-"]
["TARRAZÚ PRIMERO",23,12,52.173913043478258,11,47.826086956521742,11,6,54.54545454545454,5,45.454545454545453,12,6,{"$f":"M45/L45*100","v":50},6,{"$f":"O45/L45*100","v":50}]
["TODO POR FLORES",24,12,50,12,50,12,6,50,6,50,12,6,{"$f":"M46/L46*100","v":50},6,{"$f":"O46/L46*100","v":50}]
["ÚNICO ABANGAREÑO",23,12,52.173913043478258,11,47.826086956521742,12,6,50,6,50,11,6,{"$f":"M47/L47*100","v":54.54545454545454},5,{"$f":"O47/L47*100","v":45.454545454545453}]
["UNIDAD SOCIAL CRISTIANA",1609,804,49.968924798011187,805,50.03107520198882,868,435,50.115207373271886,433,49.884792626728107,741,369,{"$f":"M48/L48*100","v":49.797570850202426},372,{"$f":"O48/L48*100","v":50.202429149797567}]
["UNION AGRÍCOLA CARTAGINES",55,27,49.090909090909093,28,50.909090909090907,28,14,50,14,50,27,13,{"$f":"M49/L49*100","v":48.148148148148145},14,{"$f":"O49/L49*100","v":51.851851851851848}]
["UNIÓN ATENIENSE",52,27,51.923076923076927,25,48.07692307692308,27,14,51.851851851851848,13,48.148148148148145,25,13,0,12,0]
["UNION PALMAREÑA",56,28,50,28,50,28,14,50,14,50,28,14,0,14,0]
["UNIÓN POASEÑA",12,7,58.333333333333336,5,41.666666666666671,8,5,62.5,3,37.5,4,2,0,2,0]
["YUNTA PROGRESISTA ESCAZUCEÑA",23,12,52.173913043478258,11,47.826086956521742,11,6,54.54545454545454,5,45.454545454545453,12,6,0,6,0]
[]
[]
["Nota: Datos al 26 de octubre de 2010."]
["Fuente: Departamento de Registro de Partidos Políticos, Base de datos de candidaturas diciembre 2010."]

{"sheet":"26","index":29,"n_rows":101,"n_cols":16,"rows_kept":101,"cut":false,"hidden":false,"merged":[[4,0,6,0],[4,1,6,1],[5,6,6,6],[5,11,6,11]]}
["CUADRO 26  COSTA RICA: CANDIDATURAS A CONCEJALES DE DISTRITO EN PROPIEDAD Y SUPLENCIA, POR SEXO"]
["  SEGÚN PROVINCIA Y CANTÓN ELECCIONES 5 DE DICIEMBRE 2010"]
["(CIFRAS ABSOLUTAS Y RELATIVAS)"]
[]
["PROVINCIA Y CANTÓN ","TOTAL","CONCEJALES DE DISTRITO",null,null,null,"EN PROPIEDAD",null,null,null,null,"EN SUPLENCIA"]
[null,null,"HOMBRES",null,"MUJERES",null,"TOTAL","HOMBRES",null,"MUJERES",null,"TOTAL","HOMBRES",null,"MUJERES"]
[null,null,"ABS","%","ABS","%",null,"ABS","%","ABS","%",null,"ABS","%","ABS","%"]
[]
["COSTA RICA",{"$f":"G9+L9","v":11004},{"$f":"H9+M9","v":5527},{"$f":"C9/$B9*100","v":50.227190112686294},{"$f":"J9+O9","v":5477},{"$f":"E9/$B9*100","v":49.772809887313699},{"$f":"+G10+G31+G47+G56+G67+G79+G91","v":5828},{"$f":"+H10+H31+H47+H56+H67+H79+H91","v":2941},{"$f":"H9/$G9*100","v":50.46328071379547},{"$f":"+J10+J31+J47+J56+J67+J79+J91","v":2887},{"$f":"J9/$G9*100","v":49.53671928620453},{"$f":"+L10+L31+L47+L56+L67+L79+L91","v":5176},{"$f":"+M10+M31+M47+M56+M67+M79+M91","v":2586},{"$f":"M9/$L9*100","v":49.961360123647601},{"$f":"+O10+O31+O47+O56+O67+O79+O91","v":2590},{"$f":"O9/$L9*100","v":50.038639876352399}]
["PROVINCIA SAN JOSÉ",{"$f":"+G10+L10","v":3023},{"$f":"+H10+M10","v":1510},49.950380416804499,{"$f":"+J10+O10","v":1513},50.049619583195501,{"$f":"+H10+J10","v":1591},{"$f":"SUM(H11:H30)","v":794},49.905719673161535,{"$f":"SUM(J11:J30)","v":797},50.094280326838472,{"$f":"+L12+L13+L14+L15+L16+L17+L18+L19+L20+L21+L22+L23+L24+L25+L26+L27+L28+L29+L30+L11","v":1432},{"$f":"SUM(M11:M30)","v":716},50,{"$f":"SUM(O11:O30)","v":716},50]
["SAN JOSÉ",328,169,51.524390243902438,159,48.475609756097562,174,92,52.873563218390807,82,47.126436781609193,{"$f":"+M11+O11","v":154},77,50,77,50]
["ESCAZÚ",81,38,46.913580246913575,43,53.086419753086425,42,20,47.619047619047613,22,52.380952380952387,39,18,46.153846153846153,21,53.846153846153847]
["DESAMPARADOS",492,245,49.796747967479675,247,50.203252032520332,264,130,49.242424242424242,134,50.757575757575758,228,115,50.438596491228068,113,49.561403508771932]
["PURISCAL",91,46,50.549450549450547,45,49.450549450549453,48,24,50,24,50,43,22,51.162790697674424,21,48.837209302325576]
["TARRAZÚ",69,35,50.724637681159422,34,49.275362318840585,35,18,51.428571428571423,17,48.571428571428569,34,17,50,17,50]
["ASERRÍ",148,74,50,74,50,76,38,50,38,50,72,36,50,36,50]
["MORA",93,47,50.537634408602152,46,49.462365591397848,52,26,50,26,50,41,21,51.219512195121951,20,48.780487804878049]
["GOICOECHEA",277,139,50.180505415162457,138,49.819494584837543,142,70,49.295774647887328,72,50.704225352112672,135,69,51.111111111111107,66,48.888888888888886]
["SANTA ANA",193,96,49.740932642487046,97,50.259067357512954,95,47,49.473684210526315,48,50.526315789473685,98,49,50,49,50]
["ALAJUELITA",125,61,48.8,64,51.2,64,31,48.4375,33,51.5625,61,30,49.180327868852459,31,50.819672131147541]
["VÁZQUEZ DE CORONADO",116,54,46.551724137931032,62,53.448275862068961,61,30,49.180327868852459,31,50.819672131147541,55,24,43.636363636363633,31,56.36363636363636]
["ACOSTA",45,22,48.888888888888886,23,51.111111111111107,32,16,50,16,50,13,6,46.153846153846153,7,53.846153846153847]
["TIBÁS",151,71,47.019867549668874,80,52.980132450331126,85,39,45.882352941176471,46,54.117647058823529,66,32,48.484848484848484,34,51.515151515151516]
["MORAVIA",113,57,50.442477876106196,56,49.557522123893804,59,31,52.542372881355938,28,47.457627118644069,54,26,48.148148148148145,28,51.851851851851848]
["MONTES DE OCA",120,60,50,60,50,61,29,47.540983606557376,32,52.459016393442624,59,31,52.542372881355938,28,47.457627118644069]
["TURRUBARES",77,39,50.649350649350644,38,49.350649350649348,38,19,50,19,50,39,20,51.282051282051277,19,48.717948717948715]
["DOTA",50,24,48,26,52,27,13,48.148148148148145,14,51.851851851851848,23,11,47.826086956521742,12,52.173913043478258]
["CURRIDABAT",41,20,48.780487804878049,21,51.219512195121951,24,12,50,12,50,17,8,47.058823529411761,9,52.941176470588239]
["PÉREZ ZELEDÓN",289,150,51.903114186851205,139,48.096885813148788,146,76,52.054794520547944,70,47.945205479452049,143,74,51.748251748251747,69,48.251748251748253]
["LEÓN CORTÉS",124,63,50.806451612903224,61,49.193548387096776,66,33,50,33,50,58,30,51.724137931034484,28,48.275862068965516]
["PROVINCIA ALAJUELA",2321,1180,50.840155105557947,1141,49.159844894442053,1246,{"$f":"SUM(H32:H46)","v":639},51.28410914927769,{"$f":"SUM(J32:J46)","v":607},48.71589085072231,1075,{"$f":"SUM(M32:M46)","v":541},50.325581395348841,{"$f":"SUM(O32:O46)","v":534},49.674418604651159]
["ALAJUELA",467,238,50.96359743040685,229,49.036402569593143,246,125,50.813008130081307,121,49.1869918699187,221,113,51.13122171945701,108,48.868778280542983]
["SAN RAMÓN",169,84,49.704142011834321,85,50.295857988165679,91,46,50.549450549450547,45,49.450549450549453,78,38,48.717948717948715,40,51.282051282051277]
["GRECIA",170,86,50.588235294117645,84,49.411764705882355,87,44,50.574712643678168,43,49.425287356321839,83,42,50.602409638554214,41,49.397590361445779]
["SAN MATEO",55,29,52.72727272727272,26,47.272727272727273,32,17,53.125,15,46.875,23,12,52.173913043478258,11,47.826086956521742]
["ATENAS",113,59,52.212389380530979,54,47.787610619469028,59,32,54.237288135593218,27,45.762711864406782,54,27,50,27,50]
["NARANJO",197,97,49.238578680203041,100,50.761421319796952,101,52,51.485148514851488,49,48.514851485148512,96,45,46.875,51,53.125]
["PALMARES",175,89,50.857142857142854,86,49.142857142857146,98,51,52.040816326530617,47,47.959183673469383,77,38,49.350649350649348,39,50.649350649350644]
["POÁS",49,26,53.061224489795919,23,46.938775510204081,26,15,57.692307692307686,11,42.307692307692307,23,11,47.826086956521742,12,52.173913043478258]
["OROTINA",101,51,50.495049504950494,50,49.504950495049506,55,26,47.272727272727273,29,52.72727272727272,46,25,54.347826086956516,21,45.652173913043477]
["SAN CARLOS",295,147,{"$f":"C41/$B41*100","v":49.830508474576277},148,{"$f":"E41/$B41*100","v":50.169491525423723},148,75,{"$f":"H41/$G41*100","v":50.675675675675677},73,{"$f":"J41/$G41*100","v":49.324324324324323},147,72,{"$f":"M41/$L41*100","v":48.979591836734691},75,{"$f":"O41/$L41*100","v":51.020408163265309}]
["ALFARO RUIZ",{"$f":"+G42+L42","v":157},{"$f":"+H42+M42","v":78},49.681528662420384,{"$f":"+J42+O42","v":79},50.318471337579616,{"$f":"+H42+J42","v":79},39,49.367088607594937,40,50.632911392405063,78,39,50,39,50]
["VALVERDE VEGA",108,56,51.851851851851848,52,48.148148148148145,69,36,52.173913043478258,33,47.826086956521742,39,20,51.282051282051277,19,48.717948717948715]
["UPALA",109,57,52.293577981651374,52,47.706422018348626,65,33,50.769230769230766,32,49.230769230769234,44,24,54.54545454545454,20,45.454545454545453]
["LOS CHILES",63,34,53.968253968253968,29,46.031746031746032,36,21,58.333333333333336,15,41.666666666666671,27,13,48.148148148148145,14,51.851851851851848]
["GUATUSO",93,49,52.688172043010752,44,47.311827956989248,54,27,50,27,50,39,22,56.410256410256409,17,43.589743589743591]
["PROVINCIA CARTAGO",1109,552,49.774571686203792,557,50.225428313796215,561,{"$f":"SUM(H48:H55)","v":279},49.732620320855617,{"$f":"SUM(J48:J55)","v":282},50.267379679144383,548,{"$f":"SUM(M48:M55)","v":273},49.817518248175183,{"$f":"SUM(O48:O55)","v":275},50.182481751824817]
["CARTAGO",175,87,49.714285714285715,88,50.285714285714292,87,43,49.425287356321839,44,50.574712643678168,88,44,50,44,50]
["PARAÍSO",161,78,48.447204968944099,83,51.552795031055901,83,41,49.397590361445779,42,50.602409638554214,78,37,47.435897435897431,41,52.564102564102569]
["LA UNIÓN",207,102,49.275362318840585,105,50.724637681159422,104,51,49.038461538461533,53,50.96153846153846,103,51,49.514563106796118,52,50.485436893203882]
["JIMÉNEZ",33,16,48.484848484848484,17,51.515151515151516,16,8,50,8,50,17,8,47.058823529411761,9,52.941176470588239]
["TURRIALBA",321,163,50.778816199376941,158,49.221183800623052,161,82,50.931677018633536,79,49.068322981366457,160,81,50.625,79,49.375]
["ALVARADO",31,16,51.612903225806448,15,48.387096774193552,16,8,50,8,50,15,8,53.333333333333336,7,46.666666666666664]
["OREAMUNO",122,61,50,61,50,65,32,49.230769230769234,33,50.769230769230766,57,29,50.877192982456144,28,49.122807017543856]
["EL GUARCO",59,29,49.152542372881356,30,50.847457627118644,29,14,48.275862068965516,15,51.724137931034484,30,15,50,15,50]
["PROVINCIA HEREDIA",1162,577,49.655765920826163,585,50.34423407917383,622,{"$f":"SUM(H57:H66)","v":306},49.19614147909968,{"$f":"SUM(J57:J66)","v":316},50.803858520900327,{"$f":"+L57+L58+L59+L60+L61+L62+L63+L64+L65+L66","v":540},{"$f":"SUM(M57:M66)","v":271},50.18518518518519,{"$f":"SUM(O57:O66)","v":269},49.814814814814817]
["HEREDIA",102,47,46.078431372549019,55,53.921568627450981,54,24,44.444444444444443,30,55.555555555555557,{"$f":"+M57+O57","v":48},23,47.916666666666671,25,52.083333333333336]
["BARVA",241,122,50.622406639004147,119,49.377593360995853,129,65,50.387596899224803,64,49.612403100775197,112,57,50.892857142857139,55,49.107142857142854]
["SANTO DOMINGO",214,109,50.934579439252339,105,49.065420560747661,111,56,50.450450450450447,55,49.549549549549546,103,53,51.456310679611647,50,48.543689320388353]
["SANTA BÁRBARA",144,69,47.916666666666671,75,52.083333333333336,82,40,48.780487804878049,42,51.219512195121951,62,29,46.774193548387096,33,53.225806451612897]
["SAN RAFAEL",89,44,49.438202247191008,45,50.561797752808992,52,26,50,26,50,37,18,48.648648648648653,19,51.351351351351347]
["SAN ISIDRO",124,62,50,62,50,63,32,50.793650793650791,31,49.206349206349202,61,30,49.180327868852459,31,50.819672131147541]
["BELÉN",55,28,50.909090909090907,27,49.090909090909093,32,15,46.875,17,53.125,23,13,56.521739130434781,10,43.478260869565219]
["FLORES",67,32,47.761194029850742,35,52.238805970149251,33,16,48.484848484848484,17,51.515151515151516,34,16,47.058823529411761,18,52.941176470588239]
["SAN PABLO",43,22,51.162790697674424,21,48.837209302325576,24,12,50,12,50,19,10,52.631578947368418,9,47.368421052631575]
["SARAPIQUÍ",83,42,50.602409638554214,41,49.397590361445779,42,20,47.619047619047613,22,52.380952380952387,41,22,53.658536585365859,19,46.341463414634148]
["PROVINCIA GUANACASTE",1181,597,50.550381033022859,584,49.449618966977141,638,{"$f":"SUM(H68:H78)","v":323},50.626959247648905,{"$f":"SUM(J68:J78)","v":315},49.373040752351102,{"$f":"+L68+L69+L70+L71+L72+L73+L74+L75+L76+L77+L78","v":543},{"$f":"SUM(M68:M78)","v":274},50.46040515653776,{"$f":"SUM(O68:O78)","v":269},49.539594843462247]
["LIBERIA",109,54,49.541284403669728,55,50.458715596330272,54,27,50,27,50,{"$f":"+M68+O68","v":55},27,49.090909090909093,28,50.909090909090907]
["NICOYA",178,91,51.123595505617978,87,48.876404494382022,102,51,50,51,50,76,40,52.631578947368418,36,47.368421052631575]
["SANTA CRUZ",235,118,50.212765957446805,117,49.787234042553195,126,64,50.793650793650791,62,49.206349206349202,109,54,49.541284403669728,55,50.458715596330272]
["BAGACES",60,30,50,30,50,29,13,44.827586206896555,16,55.172413793103445,31,17,54.838709677419352,14,45.161290322580641]
["CARRILLO",86,44,51.162790697674424,42,48.837209302325576,54,27,50,27,50,32,17,53.125,15,46.875]
["CAÑAS",75,39,{"$f":"C73/$B73*100","v":52},36,{"$f":"E73/$B73*100","v":48},39,20,{"$f":"H73/$G73*100","v":51.282051282051277},19,{"$f":"J73/$G73*100","v":48.717948717948715},36,19,{"$f":"M73/$L73*100","v":52.777777777777779},17,{"$f":"O73/$L73*100","v":47.222222222222221}]
["ABANGARES",{"$f":"+G74+L74","v":66},{"$f":"+H74+M74","v":33},50,{"$f":"+J74+O74","v":33},50,{"$f":"+H74+J74","v":33},17,51.515151515151516,16,48.484848484848484,33,16,48.484848484848484,17,51.515151515151516]
["TILARÁN",129,66,51.162790697674424,63,48.837209302325576,71,37,52.112676056338024,34,47.887323943661968,58,29,50,29,50]
["NANDAYURE",117,60,51.282051282051277,57,48.717948717948715,64,33,51.5625,31,48.4375,53,27,50.943396226415096,26,49.056603773584904]
["LA CRUZ",59,27,45.762711864406782,32,54.237288135593218,31,15,48.387096774193552,16,51.612903225806448,28,12,42.857142857142854,16,57.142857142857139]
["HOJANCHA",67,35,52.238805970149251,32,47.761194029850742,35,19,54.285714285714285,16,45.714285714285715,32,16,50,16,50]
["PROVINCIA PUNTARENAS",1347,684,50.779510022271715,663,49.220489977728285,703,{"$f":"SUM(H80:H90)","v":364},51.778093883357045,{"$f":"SUM(J80:J90)","v":339},48.221906116642963,{"$f":"+L80+L81+L82+L83+L84+L85+L86+L87+L88+L89+L90","v":644},{"$f":"SUM(M80:M90)","v":320},49.689440993788821,{"$f":"SUM(O80:O90)","v":324},50.310559006211179]
["PUNTARENAS",276,141,51.086956521739133,135,48.913043478260867,146,76,52.054794520547944,70,47.945205479452049,{"$f":"+M80+O80","v":130},65,50,65,50]
["ESPARZA",126,61,48.412698412698411,65,51.587301587301596,63,31,49.206349206349202,32,50.793650793650791,63,30,47.619047619047613,33,52.380952380952387]
["BUENOS AIRES",175,90,51.428571428571423,85,48.571428571428569,93,50,53.763440860215049,43,46.236559139784944,82,40,48.780487804878049,42,51.219512195121951]
["MONTES DE ORO",70,35,50,35,50,35,18,51.428571428571423,17,48.571428571428569,35,17,48.571428571428569,18,51.428571428571423]
["OSA",141,71,50.354609929078009,70,49.645390070921984,68,33,48.529411764705884,35,51.470588235294116,73,38,52.054794520547944,35,47.945205479452049]
["AGUIRRE",161,83,51.552795031055901,78,48.447204968944099,82,42,51.219512195121951,40,48.780487804878049,79,41,51.898734177215189,38,48.101265822784811]
["GOLFITO",92,46,50,46,50,48,24,50,24,50,44,22,50,22,50]
["COTO BRUS",117,62,52.991452991452995,55,47.008547008547005,61,33,54.098360655737707,28,45.901639344262293,56,29,51.785714285714292,27,48.214285714285715]
["PARRITA",37,18,48.648648648648653,19,51.351351351351347,18,9,50,9,50,19,9,47.368421052631575,10,52.631578947368418]
["CORREDORES",114,58,50.877192982456144,56,49.122807017543856,68,37,54.411764705882348,31,45.588235294117645,46,21,45.652173913043477,25,54.347826086956516]
["GARABITO",38,19,50,19,50,21,11,52.380952380952387,10,47.619047619047613,17,8,47.058823529411761,9,52.941176470588239]
["PROVINCIA LIMÓN",861,427,49.59349593495935,434,50.40650406504065,467,{"$f":"SUM(H92:H97)","v":236},50.53533190578159,{"$f":"SUM(J92:J97)","v":231},49.464668094218418,{"$f":"+L92+L93+L94+L95+L96+L97","v":394},{"$f":"SUM(M92:M97)","v":191},48.477157360406089,{"$f":"SUM(O92:O97)","v":203},51.522842639593911]
["LIMÓN",186,93,50,93,50,96,50,52.083333333333336,46,47.916666666666671,{"$f":"+M92+O92","v":90},43,47.777777777777779,47,52.222222222222229]
["POCOCÍ",120,59,49.166666666666664,61,50.833333333333329,65,32,49.230769230769234,33,50.769230769230766,55,27,49.090909090909093,28,50.909090909090907]
["SIQUIRRES",212,107,50.471698113207552,105,49.528301886792455,127,65,51.181102362204726,62,48.818897637795274,85,42,49.411764705882355,43,50.588235294117645]
["TALAMANCA",88,43,48.863636363636367,45,51.136363636363633,50,25,50,25,50,38,18,47.368421052631575,20,52.631578947368418]
["MATINA",114,56,49.122807017543856,58,50.877192982456144,58,29,50,29,50,56,27,48.214285714285715,29,51.785714285714292]
["GUÁCIMO",141,69,48.936170212765958,72,51.063829787234042,71,35,49.295774647887328,36,50.704225352112672,70,34,48.571428571428569,36,51.428571428571423]
[]
[]
["Nota: Datos al 26 de octubre de 2010."]
["Fuente: Departamento de Registro de Partidos Políticos, Base de datos de candidaturas diciembre 2010."]

{"sheet":"27","index":30,"n_rows":21,"n_cols":16,"rows_kept":21,"cut":false,"hidden":false,"merged":[[4,11,4,15],[5,11,6,11],[5,12,5,13],[5,14,5,15],[4,0,6,0],[5,1,6,1],[4,1,4,5],[5,2,5,3],[5,4,5,5],[4,6,4,10],[5,6,6,6],[5,7,5,8],[5,9,5,10]]}
["CUADRO 27 COSTA RICA: CANDIDATURAS A INTENDENCIAS Y VICEINTENDENCIAS POR SEXO"]
[" SEGÚN PARTIDO, ELECCIONES 5 DE DICIEMBRE 2010"]
["(CIFRAS ABSOLUTAS Y RELATIVAS)"]
[]
["PARTIDO","TOTAL",null,null,null,null,"INTENDENCIAS",null,null,null,null,"VICEINTENDENCIAS"]
["PARTIDO POLITICO","TOTAL","HOMBRES",null,"MUJERES",null,"TOTAL","HOMBRES",null,"MUJERES",null,"TOTAL","HOMBRES",null,"MUJERES"]
[null,"ABS","ABS","%","ABS","%","ABS","ABS","%","ABS","%","ABS","ABS","%","ABS","%"]
[]
["TOTAL",{"$f":"SUM(B11:B17)","v":61},{"$f":"SUM(C11:C17)","v":30},{"$f":"C9/B9*100","v":49.180327868852459},{"$f":"SUM(E11:E17)","v":31},{"$f":"E9/B9*100","v":50.819672131147541},{"$f":"SUM(G11:G17)","v":30},{"$f":"SUM(H11:H17)","v":25},{"$f":"H9/G9*100","v":83.333333333333343},{"$f":"SUM(J11:J17)","v":5},{"$f":"J9/G9*100","v":16.666666666666664},{"$f":"SUM(L11:L17)","v":31},{"$f":"SUM(M11:M17)","v":5},{"$f":"M9/L9*100","v":16.129032258064516},{"$f":"SUM(O11:O17)","v":26},{"$f":"O9/L9*100","v":83.870967741935488}]
[]
["ACCESIBILIDAD SIN EXCLUSIÓN",{"$f":"+C11+E11","v":7},{"$f":"+H11+M11","v":3},{"$f":"C11/B11*100","v":42.857142857142854},{"$f":"+J11+O11","v":4},{"$f":"E11/B11*100","v":57.142857142857139},{"$f":"+H11+J11","v":3},3,{"$f":"H11/G11*100","v":100},0,{"$f":"J11/G11*100","v":0},{"$f":"+M11+O11","v":4},0,{"$f":"M11/L11*100","v":0},4,{"$f":"O11/L11*100","v":100}]
["ACCIÓN CIUDADANA",6,3,50,3,50,3,2,66.666666666666657,1,33.333333333333329,3,1,33.333333333333329,2,66.666666666666657]
["LIBERACIÓN NACIONAL",16,8,50,8,50,8,8,100,0,0,8,0,0,8,100]
["MOVIMIENTO LIBERTARIO",14,7,50,7,50,7,5,71.428571428571431,2,28.571428571428569,7,2,28.571428571428569,5,71.428571428571431]
["ÚNICO ABANGAREÑO",2,1,50,1,50,1,0,0,1,100,1,1,100,0,0]
["UNIDAD SOCIAL CRISTIANA",14,7,50,7,50,7,6,85.714285714285708,1,14.285714285714285,7,1,14.285714285714285,6,85.714285714285708]
["UNION AGRÍCOLA CARTAGINES",2,1,50,1,50,1,1,100,0,0,1,0,0,1,100]
[]
[]
["Nota: Datos al 26 de octubre de 2010."]
["Fuente: Departamento de Registro de Partidos Políticos, Base de datos de candidaturas diciembre 2010."]

{"sheet":"28","index":31,"n_rows":22,"n_cols":11,"rows_kept":22,"cut":false,"hidden":false,"merged":[[4,6,4,10],[5,6,6,6],[5,7,5,8],[5,9,5,10],[4,0,6,0],[5,1,6,1],[4,1,4,5],[5,2,5,3],[5,4,5,5]]}
["CUADRO 28 COSTA RICA: CANDIDATURAS A INTENDENCIAS Y VICEINTENDENCIAS  POR SEXO, SEGÚN"]
["PROVINCIA, CANTÓN Y DISTRITO, ELECCIONES 5 DE DICIEMBRE 2010"]
["(CIFRAS ABSOLUTAS Y RELATIVAS)"]
[]
[" DISTRITO ADMINISTRATIVO","INTENDENCIAS",null,null,null,null,"VICEINTENDENCIAS"]
["PARTIDO POLITICO","TOTAL","HOMBRES",null,"MUJERES",null,"TOTAL","HOMBRES",null,"MUJERES"]
[null,"ABS","ABS","%","ABS","%","ABS","ABS","%","ABS","%"]
[]
["TOTAL",{"$f":"SUM(B11:B18)","v":30},{"$f":"SUM(C11:C18)","v":25},{"$f":"C9/B9*100","v":83.333333333333343},{"$f":"SUM(E11:E18)","v":5},{"$f":"E9/B9*100","v":16.666666666666664},{"$f":"SUM(G11:G18)","v":31},{"$f":"SUM(H11:H18)","v":5},{"$f":"H9/G9*100","v":16.129032258064516},{"$f":"SUM(J11:J18)","v":26},{"$f":"J9/G9*100","v":83.870967741935488}]
[]
["PEÑAS BLANCAS",{"$f":"+C11+E11","v":2},1,{"$f":"C11/B11*100","v":50},1,{"$f":"E11/B11*100","v":50},{"$f":"+H11+J11","v":2},1,{"$f":"H11/G11*100","v":50},1,{"$f":"J11/G11*100","v":50}]
["TUCURRIQUE",3,3,100,0,0,3,0,0,3,100]
["CERVANTES",4,4,100,0,0,4,0,0,4,100]
["COLORADO",4,2,50,2,50,4,2,50,2,50]
["LEPANTO",5,4,80,1,20,5,1,20,4,80]
["PAQUERA",4,4,100,0,0,4,0,0,4,100]
["MONTE VERDE",3,2,66.666666666666657,1,33.333333333333329,4,1,25,3,75]
["COBANO",5,5,100,0,0,5,0,0,5,100]
[]
[]
["Nota: Datos al 26 de octubre de 2010."]
["Fuente: Departamento de Registro de Partidos Políticos, Base de datos de candidaturas diciembre 2010."]

{"sheet":"29","index":32,"n_rows":21,"n_cols":16,"rows_kept":21,"cut":false,"hidden":false,"merged":[[5,9,5,10],[5,12,5,13],[5,14,5,15],[4,0,6,0],[5,1,6,1],[5,6,6,6],[5,11,6,11],[4,1,4,5],[4,6,4,10],[4,11,4,15],[5,2,5,3],[5,4,5,5],[5,7,5,8]]}
["CUADRO 29 COSTA RICA: CANDIDATURAS A CONCEJALES MUNICIPALES DE DISTRITO EN PROPIEDAD Y SUPLENCIA, POR SEXO"]
[" SEGÚN PARTIDO, ELECCIONES 5 DE DICIEMBRE 2010"]
["(CIFRAS ABSOLUTAS Y RELATIVAS)"]
[]
["PARTIDO","CONCEJALES MUNICIPALES DE DISTRITO",null,null,null,null,"EN PROPIEDAD",null,null,null,null,"EN SUPLENCIA"]
["PARTIDO POLITICO","TOTAL","HOMBRES",null,"MUJERES",null,"TOTAL","HOMBRES",null,"MUJERES",null,"TOTAL","HOMBRES",null,"MUJERES"]
[null,"ABS","ABS","%","ABS","%","ABS","ABS","%","ABS","%","ABS","ABS","%","ABS","%"]
[]
["TOTAL",{"$f":"SUM(B11:B17)","v":211},{"$f":"SUM(C11:C17)","v":111},{"$f":"C9/B9*100","v":52.606635071090047},{"$f":"SUM(E11:E17)","v":100},{"$f":"E9/B9*100","v":47.393364928909953},{"$f":"SUM(G11:G17)","v":107},{"$f":"SUM(H11:H17)","v":57},{"$f":"H9/G9*100","v":53.271028037383175},{"$f":"SUM(J11:J17)","v":50},{"$f":"J9/G9*100","v":46.728971962616825},{"$f":"SUM(L11:L17)","v":104},{"$f":"SUM(M11:M17)","v":54},{"$f":"M9/L9*100","v":51.923076923076927},{"$f":"SUM(O11:O17)","v":50},{"$f":"O9/L9*100","v":48.07692307692308}]
[]
["ACCESIBILIDAD SIN EXCLUSIÓN",{"$f":"+C11+E11","v":28},{"$f":"+H11+M11","v":15},{"$f":"C11/B11*100","v":53.571428571428569},{"$f":"+J11+O11","v":13},{"$f":"E11/B11*100","v":46.428571428571431},{"$f":"+H11+J11","v":14},7,{"$f":"H11/G11*100","v":50},7,{"$f":"J11/G11*100","v":50},{"$f":"+M11+O11","v":14},8,{"$f":"M11/L11*100","v":57.142857142857139},6,{"$f":"O11/L11*100","v":42.857142857142854}]
["ACCIÓN CIUDADANA",19,9,47.368421052631575,10,52.631578947368418,11,5,45.454545454545453,6,54.54545454545454,8,4,50,4,50]
["LIBERACIÓN NACIONAL",60,31,51.666666666666671,29,48.333333333333336,31,16,51.612903225806448,15,48.387096774193552,29,15,51.724137931034484,14,48.275862068965516]
["MOVIMIENTO LIBERTARIO",43,22,51.162790697674424,21,48.837209302325576,21,11,52.380952380952387,10,47.619047619047613,22,11,50,11,50]
["ÚNICO ABANGAREÑO",8,4,50,4,50,4,2,50,2,50,4,2,50,2,50]
["UNIDAD SOCIAL CRISTIANA",45,26,57.777777777777771,19,42.222222222222221,22,14,63.636363636363633,8,36.363636363636367,23,12,52.173913043478258,11,47.826086956521742]
["UNION AGRÍCOLA CARTAGINÉS",8,4,50,4,50,4,2,50,2,50,4,2,50,2,50]
[]
[]
["Nota: Datos al 26 de octubre de 2010."]
["Fuente: Departamento de Registro de Partidos Políticos, Base de datos de candidaturas diciembre 2010."]

{"sheet":"30","index":33,"n_rows":22,"n_cols":16,"rows_kept":22,"cut":false,"hidden":false,"merged":[[5,9,5,10],[5,12,5,13],[5,14,5,15],[4,0,6,0],[5,1,6,1],[5,6,6,6],[5,11,6,11],[4,1,4,5],[4,6,4,10],[4,11,4,15],[5,2,5,3],[5,4,5,5],[5,7,5,8]]}
["CUADRO 30 COSTA RICA: CANDIDATURAS A CONCEJALES MUNICIPALES DE DISTRITO EN PROPIEDAD Y SUPLENCIA, POR SEXO"]
[" SEGÚN DISTRITO ADMINISTRATIVO, ELECCIONES 5 DE DICIEMBRE 2010"]
["(CIFRAS ABSOLUTAS Y RELATIVAS)"]
[]
["DISTRITO ADMINISTRATIVO","CONCEJALES MUNICIPALES DE DISTRITO",null,null,null,null,"EN PROPIEDAD",null,null,null,null,"EN SUPLENCIA"]
["PARTIDO POLITICO","TOTAL","HOMBRES",null,"MUJERES",null,"TOTAL","HOMBRES",null,"MUJERES",null,"TOTAL","HOMBRES",null,"MUJERES"]
[null,"ABS","ABS","%","ABS","%","ABS","ABS","%","ABS","%","ABS","ABS","%","ABS","%"]
[]
["TOTAL",{"$f":"SUM(B11:B18)","v":211},{"$f":"SUM(C11:C18)","v":111},{"$f":"C9/B9*100","v":52.606635071090047},{"$f":"SUM(E11:E18)","v":100},{"$f":"E9/B9*100","v":47.393364928909953},{"$f":"SUM(G11:G18)","v":107},{"$f":"SUM(H11:H18)","v":57},{"$f":"H9/G9*100","v":53.271028037383175},{"$f":"SUM(J11:J18)","v":50},{"$f":"J9/G9*100","v":46.728971962616825},{"$f":"SUM(L11:L18)","v":104},{"$f":"SUM(M11:M18)","v":54},{"$f":"M9/L9*100","v":51.923076923076927},{"$f":"SUM(O11:O18)","v":50},{"$f":"O9/L9*100","v":48.07692307692308}]
[]
["PEÑAS BLANCAS",{"$f":"+C11+E11","v":15},{"$f":"+H11+M11","v":8},{"$f":"C11/B11*100","v":53.333333333333336},{"$f":"+J11+O11","v":7},{"$f":"E11/B11*100","v":46.666666666666664},{"$f":"+H11+J11","v":7},4,{"$f":"H11/G11*100","v":57.142857142857139},3,{"$f":"J11/G11*100","v":42.857142857142854},{"$f":"+M11+O11","v":8},4,{"$f":"M11/L11*100","v":50},4,{"$f":"O11/L11*100","v":50}]
["TUCURRIQUE",23,12,52.173913043478258,11,47.826086956521742,11,6,54.54545454545454,5,45.454545454545453,12,6,50,6,50]
["CERVANTES",20,11,55.000000000000007,9,45,11,6,54.54545454545454,5,45.454545454545453,9,5,55.555555555555557,4,44.444444444444443]
["COLORADO",31,15,48.387096774193552,16,51.612903225806448,16,8,50,8,50,15,7,46.666666666666664,8,53.333333333333336]
["LEPANTO",31,16,51.612903225806448,15,48.387096774193552,17,9,52.941176470588239,8,47.058823529411761,14,7,50,7,50]
["PAQUERA",30,17,56.666666666666664,13,43.333333333333336,14,8,57.142857142857139,6,42.857142857142854,16,9,56.25,7,43.75]
["MONTE VERDE",26,14,53.846153846153847,12,46.153846153846153,13,7,53.846153846153847,6,46.153846153846153,13,7,53.846153846153847,6,46.153846153846153]
["COBANO",35,18,51.428571428571423,17,48.571428571428569,18,9,50,9,50,17,9,52.941176470588239,8,47.058823529411761]
[]
[]
["Nota: Datos al 26 de octubre de 2010."]
["Fuente: Departamento de Registro de Partidos Políticos, Base de datos de candidaturas diciembre 2010."]

{"sheet":"31","index":34,"n_rows":23,"n_cols":13,"rows_kept":23,"cut":false,"hidden":false,"merged":[[3,7,3,9],[3,0,4,0],[3,1,3,3],[3,4,3,6],[3,10,3,12]]}
["CUADRO 31 COSTA RICA: CANDIDATURAS A ALCALDÍAS Y VICEALCALDÍAS POR SEXO"]
["SEGÚN GRUPOS DE EDAD, ELECCIONES 5 DE DICIEMBRE 2010"]
[]
["GRUPOS DE EDAD","TOTAL",null,null,"ALCALDÍAS",null,null,"VICEALCALDÍA PRIMERA",null,null,"VICEALCALDÍA PRIMERA"]
[null,"TOTAL","HOMBRES","MUJERES","TOTAL","HOMBRES","MUJERES","TOTAL","HOMBRES","MUJERES","TOTAL","HOMBRES","MUJERES"]
[]
["TOTAL",{"$f":"SUM(B9:B19)","v":1008},597,411,339,290,49,338,49,289,331,258,73]
[]
["18 A 24",{"$f":"+C9+D9","v":51},{"$f":"+F9+I9+L9","v":18},{"$f":"+G9+J9+M9","v":33},{"$f":"+F9+G9","v":4},2,2,{"$f":"+I9+J9","v":27},3,24,{"$f":"+L9+M9","v":20},13,7]
["25 A 29",67,34,33,10,9,1,34,5,29,23,20,3]
["30 A 34",101,48,53,19,14,5,42,3,39,40,31,9]
["35 A 39",134,67,67,42,34,8,53,6,47,39,27,12]
["40 A 44",169,106,63,66,56,10,50,7,43,53,43,10]
["45 A 49",214,143,71,102,89,13,52,9,43,60,45,15]
["50 A 54",138,87,51,49,45,4,44,7,37,45,35,10]
["55 A 59",76,48,28,30,25,5,21,3,18,25,20,5]
["60 A 64",42,34,8,12,11,1,9,3,6,21,20,1]
["65 A 69",15,11,4,4,4,0,6,3,3,5,4,1]
["70 A 74",1,1,0,1,1,0,0,0,0,0,0,0]
[]
[]
["Nota: Datos al 26 de octubre de 2010."]
["Fuente: Departamento de Registro de Partidos Políticos, Base de datos de candidaturas diciembre 2010."]

{"sheet":"G4","index":35,"n_rows":28,"n_cols":12,"rows_kept":28,"cut":false,"hidden":false,"merged":[]}
[]
[]
["HOMBRES","MUJERES"]
[]
[{"$f":"+'31'!C9","v":18},{"$f":"-1*'31'!D9","v":-33},"18 - 24",{"$f":"CONCATENATE(C5,\"                                           \")","v":"18 - 24                                           "}]
[{"$f":"+'31'!C10","v":34},{"$f":"-1*'31'!D10","v":-33},"25 - 29","25 - 29                                           "]
[{"$f":"+'31'!C11","v":48},{"$f":"-1*'31'!D11","v":-53},"30 - 34","30 - 34                                           "]
[{"$f":"+'31'!C12","v":67},{"$f":"-1*'31'!D12","v":-67},"35 - 39","35 - 39                                           "]
[{"$f":"+'31'!C13","v":106},{"$f":"-1*'31'!D13","v":-63},"40 - 44","40 - 44                                           "]
[{"$f":"+'31'!C14","v":143},{"$f":"-1*'31'!D14","v":-71},"45 - 49","45 - 49                                           "]
[{"$f":"+'31'!C15","v":87},{"$f":"-1*'31'!D15","v":-51},"50 - 54","50 - 54                                           "]
[{"$f":"+'31'!C16","v":48},{"$f":"-1*'31'!D16","v":-28},"55 - 59","55 - 59                                           "]
[{"$f":"+'31'!C17","v":34},{"$f":"-1*'31'!D17","v":-8},"60 - 64","60 - 64                                           "]
[{"$f":"+'31'!C18","v":11},{"$f":"-1*'31'!D18","v":-4},"65 - 69","65 - 69                                           "]
[{"$f":"+'31'!C19","v":1},{"$f":"-1*'31'!D19","v":0},"70 - 74","70 - 74                                           "]
[null,null,null,"                                           "]
[null,null,null,"                                           "]
[null,null,null,null,null,null,null,null,null,null,null,{"$f":"CONCATENATE(K18,\"                                                           \")","v":"                                                           "}]
[null,null,null,null,null,null,null,null,null,null,null,"                                                           "]
[null,null,null,null,null,null,null,null,null,null,null,"                                                           "]
[null,null,null,null,null,null,null,null,null,null,null,"                                                           "]
[null,null,null,null,null,null,null,null,null,null,null,"                                                           "]
[null,null,null,null,null,null,null,null,null,null,null,"                                                           "]
[null,null,null,null,null,null,null,null,null,null,null,"                                                           "]
[null,null,null,null,null,null,null,null,null,null,null,"                                                           "]
[null,null,null,null,null,null,null,null,null,null,null,"                                                           "]
["Nota: Datos al 26 de octubre de 2010."]
["Fuente: Departamento de Registro de Partidos Políticos, Base de datos de candidaturas diciembre 2010."]

{"sheet":"32","index":36,"n_rows":25,"n_cols":10,"rows_kept":25,"cut":false,"hidden":false,"merged":[[3,7,3,9],[3,0,4,0],[3,1,3,3],[3,4,3,6]]}
["CUADRO 32 COSTA RICA: CANDIDATURAS A SÍNDICOS(AS) EN PROPIEDAD Y SUPLENCIA, POR SEXO"]
["SEGÚN GRUPOS DE EDAD, ELECCIONES 5 DE DICIEMBRE 2010"]
[]
["GRUPOS DE EDAD","SÍNDICOS(AS)",null,null,"EN PROPIEDAD",null,null,"EN SUPLENCIA"]
[null,"TOTAL","HOMBRES","MUJERES","TOTAL","HOMBRES","MUJERES","TOTAL","HOMBRES","MUJERES"]
[]
["TOTAL",{"$f":"SUM(B9:B21)","v":3578},1801,1777,1837,1241,596,1741,560,1181]
[]
["18 - 24",{"$f":"+C9+D9","v":360},{"$f":"+F9+I9","v":143},{"$f":"+G9+J9","v":217},{"$f":"+F9+G9","v":118},74,44,{"$f":"+I9+J9","v":242},69,173]
["25 - 29",258,92,166,96,55,41,162,37,125]
["30 - 34",335,148,187,158,102,56,177,46,131]
["35 - 39",478,214,264,240,147,93,238,67,171]
["40 - 44",589,290,299,317,200,117,272,90,182]
["45 - 49",575,306,269,329,230,99,246,76,170]
["50 - 54",452,251,201,263,189,74,189,62,127]
["55 - 59",250,153,97,144,104,40,106,49,57]
["60 - 64",160,115,45,104,87,17,56,28,28]
["65 - 69",79,58,21,50,40,10,29,18,11]
["70 - 74",31,24,7,14,11,3,17,13,4]
["75 - 79",9,6,3,4,2,2,5,4,1]
["80 - 84",2,1,1,0,0,0,2,1,1]
[]
[]
["Nota: Datos al 26 de octubre de 2010."]
["Fuente: Departamento de Registro de Partidos Políticos, Base de datos de candidaturas diciembre 2010."]

{"sheet":"G5","index":37,"n_rows":30,"n_cols":12,"rows_kept":30,"cut":false,"hidden":false,"merged":[]}
[]
[]
["HOMBRES","MUJERES"]
[]
[{"$f":"+'32'!C9","v":143},{"$f":"+'32'!D9*-1","v":-217},"18 - 24",{"$f":"CONCATENATE(C5,\"                                                             \")","v":"18 - 24                                                             "}]
[{"$f":"+'32'!C10","v":92},{"$f":"+'32'!D10*-1","v":-166},"25 - 29","25 - 29                                                             "]
[{"$f":"+'32'!C11","v":148},{"$f":"+'32'!D11*-1","v":-187},"30 - 34","30 - 34                                                             "]
[{"$f":"+'32'!C12","v":214},{"$f":"+'32'!D12*-1","v":-264},"35 - 39","35 - 39                                                             "]
[{"$f":"+'32'!C13","v":290},{"$f":"+'32'!D13*-1","v":-299},"40 - 44","40 - 44                                                             "]
[{"$f":"+'32'!C14","v":306},{"$f":"+'32'!D14*-1","v":-269},"45 - 49","45 - 49                                                             "]
[{"$f":"+'32'!C15","v":251},{"$f":"+'32'!D15*-1","v":-201},"50 - 54","50 - 54                                                             "]
[{"$f":"+'32'!C16","v":153},{"$f":"+'32'!D16*-1","v":-97},"55 - 59","55 - 59                                                             "]
[{"$f":"+'32'!C17","v":115},{"$f":"+'32'!D17*-1","v":-45},"60 - 64","60 - 64                                                             "]
[{"$f":"+'32'!C18","v":58},{"$f":"+'32'!D18*-1","v":-21},"65 - 69","65 - 69                                                             "]
[{"$f":"+'32'!C19","v":24},{"$f":"+'32'!D19*-1","v":-7},"70 - 74","70 - 74                                                             "]
[{"$f":"+'32'!C20","v":6},{"$f":"+'32'!D20*-1","v":-3},"75 - 79","75 - 79                                                             "]
[{"$f":"+'32'!C21","v":1},{"$f":"+'32'!D21*-1","v":-1},"80 - 84","80 - 84                                                             "]
[null,null,null,"                                                             "]
[null,null,null,"                                                             "]
[null,null,null,null,null,null,null,null,null,null,null,{"$f":"CONCATENATE(K20,\"                                                           \")","v":"                                                           "}]
[null,null,null,null,null,null,null,null,null,null,null,"                                                           "]
[null,null,null,null,null,null,null,null,null,null,null,"                                                           "]
[null,null,null,null,null,null,null,null,null,null,null,"                                                           "]
[null,null,null,null,null,null,null,null,null,null,null,"                                                           "]
[null,null,null,null,null,null,null,null,null,null,null,"                                                           "]
[null,null,null,null,null,null,null,null,null,null,null,"                                                           "]
[null,null,null,null,null,null,null,null,null,null,null,"                                                           "]
[null,null,null,null,null,null,null,null,null,null,null,"                                                           "]
["Nota: Datos al 26 de octubre de 2010."]
["Fuente: Departamento de Registro de Partidos Políticos, Base de datos de candidaturas diciembre 2010."]

{"sheet":"33","index":38,"n_rows":26,"n_cols":10,"rows_kept":26,"cut":false,"hidden":false,"merged":[[3,7,3,9],[3,0,4,0],[3,1,3,3],[3,4,3,6]]}
["CUADRO 33 COSTA RICA: CANDIDATURAS A CONCEJALES DE DISTRITO EN PROPIEDAD Y SUPLENCIA, POR SEXO"]
["SEGÚN GRUPOS DE EDAD, ELECCIONES 5 DE DICIEMBRE 2010"]
[]
["GRUPOS DE EDAD","CONCEJALES DE DISTRITO",null,null,"EN PROPIEDAD",null,null,"EN SUPLENCIA"]
[null,"TOTAL","HOMBRES","MUJERES","TOTAL","HOMBRES","MUJERES","TOTAL","HOMBRES","MUJERES"]
[]
["TOTAL",{"$f":"SUM(B9:B22)","v":11004},5527,5477,5828,2941,2887,5176,2586,2590]
[]
["18 - 24",{"$f":"+C9+D9","v":1709},{"$f":"+F9+I9","v":749},{"$f":"+G9+J9","v":960},{"$f":"+F9+G9","v":792},354,438,{"$f":"+I9+J9","v":917},395,522]
["25 - 29",1071,452,619,580,243,337,491,209,282]
["30 - 34",1181,515,666,621,257,364,560,258,302]
["35 - 39",1458,669,789,784,352,432,674,317,357]
["40 - 44",1572,819,753,860,452,408,712,367,345]
["45 - 49",1357,714,643,765,412,353,592,302,290]
["50 - 54",1098,593,505,594,334,260,504,259,245]
["55 - 59",729,439,290,414,236,178,315,203,112]
["60 - 64",434,288,146,228,154,74,206,134,72]
["65 - 69",234,165,69,113,87,26,121,78,43]
["70 - 74",107,83,24,51,44,7,56,39,17]
["75 - 79",40,33,7,20,16,4,20,17,3]
["80 - 84",13,7,6,6,0,6,7,7,0]
["85 Y MÁS",1,1,0,0,0,0,1,1,0]
[]
[]
["Nota: Datos al 26 de octubre de 2010."]
["Fuente: Departamento de Registro de Partidos Políticos, Base de datos de candidaturas diciembre 2010."]

{"sheet":"G6","index":39,"n_rows":31,"n_cols":4,"rows_kept":31,"cut":false,"hidden":false,"merged":[]}
[]
[]
["HOMBRES","MUJERES"]
[]
[{"$f":"+'33'!C9","v":749},{"$f":"+'33'!D9*-1","v":-960},"18 - 24",{"$f":"CONCATENATE(C5,\"                                                                  \")","v":"18 - 24                                                                  "}]
[{"$f":"+'33'!C10","v":452},{"$f":"+'33'!D10*-1","v":-619},"25 - 29","25 - 29                                                                  "]
[{"$f":"+'33'!C11","v":515},{"$f":"+'33'!D11*-1","v":-666},"30 - 34","30 - 34                                                                  "]
[{"$f":"+'33'!C12","v":669},{"$f":"+'33'!D12*-1","v":-789},"35 - 39","35 - 39                                                                  "]
[{"$f":"+'33'!C13","v":819},{"$f":"+'33'!D13*-1","v":-753},"40 - 44","40 - 44                                                                  "]
[{"$f":"+'33'!C14","v":714},{"$f":"+'33'!D14*-1","v":-643},"45 - 49","45 - 49                                                                  "]
[{"$f":"+'33'!C15","v":593},{"$f":"+'33'!D15*-1","v":-505},"50 - 54","50 - 54                                                                  "]
[{"$f":"+'33'!C16","v":439},{"$f":"+'33'!D16*-1","v":-290},"55 - 59","55 - 59                                                                  "]
[{"$f":"+'33'!C17","v":288},{"$f":"+'33'!D17*-1","v":-146},"60 - 64","60 - 64                                                                  "]
[{"$f":"+'33'!C18","v":165},{"$f":"+'33'!D18*-1","v":-69},"65 - 69","65 - 69                                                                  "]
[{"$f":"+'33'!C19","v":83},{"$f":"+'33'!D19*-1","v":-24},"70 - 74","70 - 74                                                                  "]
[{"$f":"+'33'!C20","v":33},{"$f":"+'33'!D20*-1","v":-7},"75 - 79","75 - 79                                                                  "]
[{"$f":"+'33'!C21","v":7},{"$f":"+'33'!D21*-1","v":-6},"80 - 84","80 - 84                                                                  "]
[{"$f":"+'33'!C22","v":1},{"$f":"+'33'!D22*-1","v":0},"85 Y MÁS","85 Y MÁS                                                                  "]
[null,null,null,"                                                                  "]
[null,null,null,"                                                                  "]
[]
[]
[]
[]
[]
[]
[]
[]
[]
["Nota: Datos al 26 de octubre de 2010."]
["Fuente: Departamento de Registro de Partidos Políticos, Base de datos de candidaturas diciembre 2010."]

{"sheet":"34","index":40,"n_rows":20,"n_cols":10,"rows_kept":20,"cut":false,"hidden":false,"merged":[[3,0,4,0],[3,1,3,3],[3,4,3,6],[3,7,3,9]]}
["CUADRO 34 COSTA RICA: CANDIDATURAS A INTENDENCIAS Y VICEINTENDENCIAS, POR SEXO"]
["SEGÚN GRUPOS DE EDAD, ELECCIONES 5 DE DICIEMBRE 2010"]
[]
["GRUPOS DE EDAD","TOTAL",null,null,"INTENDENCIAS",null,null,"VICEINTENDENCIAS"]
[null,"TOTAL","HOMBRES","MUJERES","TOTAL","HOMBRES","MUJERES","TOTAL","HOMBRES","MUJERES"]
[]
["TOTAL",{"$f":"SUM(B9:B16)","v":61},30,31,30,25,5,31,5,26]
[]
["18 - 24",{"$f":"+C9+D9","v":9},{"$f":"+F9+I9","v":2},7,{"$f":"+F9+G9","v":2},2,0,{"$f":"+I9+J9","v":7},0,7]
["25 - 29",6,2,4,2,2,0,4,0,4]
["30 - 34",8,3,5,2,2,0,6,1,5]
["35 - 39",12,5,7,5,4,1,7,1,6]
["40 - 44",8,6,2,5,5,0,3,1,2]
["45 - 49",6,3,3,4,3,1,2,0,2]
["50 - 54",8,5,3,7,4,3,1,1,0]
["55 - 59",4,4,0,3,3,0,1,1,0]
[]
[]
["Nota: Datos al 26 de octubre de 2010."]
["Fuente: Departamento de Registro de Partidos Políticos, Base de datos de candidaturas diciembre 2010."]

{"sheet":"35","index":41,"n_rows":23,"n_cols":10,"rows_kept":23,"cut":false,"hidden":false,"merged":[[3,7,3,9],[3,0,4,0],[3,1,3,3],[3,4,3,6]]}
["CUADRO 35 COSTA RICA: CANDIDATURAS A CONCEJALES MUNICIPALES DE DISTRITO EN PROPIEDAD Y SUPLENCIA"]
["POR SEXO, SEGÚN GRUPOS DE EDAD, ELECCIONES 5 DE DICIEMBRE 2010"]
[]
["GRUPOS DE EDAD","CONCEJALES MUNICIPALES DE DISTRITO",null,null,"EN PROPIEDAD",null,null,"EN SUPLENCIA"]
[null,"TOTAL","HOMBRES","MUJERES","TOTAL","HOMBRES","MUJERES","TOTAL","HOMBRES","MUJERES"]
[]
["TOTAL",{"$f":"SUM(B9:B19)","v":211},111,100,107,57,50,104,54,50]
[]
["18 - 24",{"$f":"+C9+D9","v":32},{"$f":"+F9+I9","v":14},{"$f":"+G9+J9","v":18},{"$f":"+F9+G9","v":14},7,7,{"$f":"+I9+J9","v":18},7,11]
["25 - 29",16,11,5,10,7,3,6,4,2]
["30 - 34",27,15,12,12,5,7,15,10,5]
["35 - 39",37,21,16,21,14,7,16,7,9]
["40 - 44",37,18,19,21,10,11,16,8,8]
["45 - 49",36,16,20,15,5,10,21,11,10]
["50 - 54",14,8,6,8,4,4,6,4,2]
["55 - 59",5,4,1,2,2,0,3,2,1]
["60 - 64",3,1,2,2,1,1,1,0,1]
["65 - 69",2,1,1,1,1,0,1,0,1]
["70 - 74",2,2,0,1,1,0,1,1,0]
[]
[]
["Nota: Datos al 26 de octubre de 2010."]
["Fuente: Departamento de Registro de Partidos Políticos, Base de datos de candidaturas diciembre 2010."]