{"text_format":"1","workbook":"xlsx","n_sheets":31,"sheets":["INICIO","MENUDATOS","1","G1","2","3","G2","4","5","6","7","8","9","10","11","12","13","14","15","16","17","18","19","20","G3","21","22","23","G4","24","25"],"not_rendered":{"charts":4,"images":22,"macros":1,"external_links":0,"defined_names":74,"comments":0,"pivot_tables":0},"unopened":[],"bounds":{"document_bytes":16777216,"sheet_cells":100000,"rows_first":2000,"rows_last":500,"rows_between":2000,"halvings":0,"cell_chars":16384,"cell_head_chars":4096},"cells_cut":0,"cells_raw":0,"read":"whole","date_system":"1900"}

{"sheet":"INICIO","index":0,"n_rows":0,"n_cols":0,"rows_kept":0,"cut":false,"hidden":false,"merged":[]}

{"sheet":"MENUDATOS","index":1,"n_rows":46,"n_cols":3,"rows_kept":46,"cut":false,"hidden":true,"merged":[]}
["Cuadro 1","PADRÓN NACIONAL ELECTORA TOTAL Y VARIACIÓN  SEGÚN PROVINCIA Y SEXO",1]
["Gráfico 1","PADRÓN NACIONAL ELECTORAL, POR PROCESO ELECTORAL  SEGÚN PROVINCIA","G1"]
["Cuadro 2","COMPARATIVO PADRÓN ELECTORAL, FEBRERO 2010 Y 2014 ","G2"]
["Gráfico 2","DISTRIBUCIÓN DEL PADRÓN ELECTORAL POR SEXO Y GRUPOS DE EDAD",2]
["Cuadro 3","ELECTORADO POR PROVINCIA , SEGÚN SEXO Y GRUPOS DE EDAD",3]
["Cuadro 4","ELECTORADO EN EL EXTRANJETO POR SEXO SEGÚN PAIS",4]
["Cuadro 5","ELECTORADO NATURALIZADO POR PAÍS DE ORIGEN",5]
["Cuadro 6","PROMEDIO, MEDINA Y MODA DE LA EDAD DE LOS ELECTORES/AS",6]
[null," ---- MENU PRINCIPAL ---- ","INICIO"]
[]
["Cuadro 7","CANTONES Y DISTRITOS DAMINISTRATIVOS Y ELECTORALES SEGÚN PROVINCIA",7]
["Cuadro 8","MOVIMIENTOS A LA DIVISIÓN TERRITORAIL ELECTORAL, SEGÚN PROVINCIA",8]
["Cuadro 9","JUNTAS ELECTORALES, CENTROS DE VOTACIÓN Y TRANSMISIÓN SEGÚN PROVINCIA",9]
["Cuadro 10","JUNTAS RECEPTORAS Y ELECTORADO  H. ANCIANOS, C.PENITENCIARIOS Y Z.INDIGENAS SEGÚN PROVINCIA",10]
["Cuadro 11","JUNTAS RECEPTORAS Y ELECTORADO  EN CENTROS PENITENCIARIOS SEGÚN PROVINCIA Y DISTRITO ELECTORAL",11]
["Cuadro 12","JUNTAS RECEPTORAS Y ELECTORADO  EN HOGARES DE ANCIANOS SEGÚN PROVINCIA Y DISTRITO ELECTORAL",12]
["Cuadro 13","JUNTAS RECEPTORAS Y ELECTORADO  EN ZONAS INDÍGENAS SEGÚN PROVINCIA Y DISTRITO ELECTORAL",13]
[null," ---- MENU PRINCIPAL ---- ","INICIO"]
[]
[null,null,""]
["Cuadro 14","PARTIDOS POLÍTICOS QUE PARTICIPAN SEGÚN ESCALA",14]
["Cuadro 15","MONTO PRESUPUESTADO PARA LAS ELECCIONES SEGÚN AÑO",15]
["Cuadro 16","DONACIONES REPORTADAS SEGÚN PARTIDO POLÍTICO",16]
["Cuadro 17","DONACIONES REPORTADAS SEGÚN AÑO",17]
["Cuadro 18","FISCALIZACIÓN DE LOS PARTIDOS POLÍTICOS, POR AÑO, SEGÚN TIPO DE FISCALIZACIÓN",18]
[null," ---- MENU PRINCIPAL ---- ","INICIO"]
[]
["",null,""]
["Cuadro 19","CANDIDATURAS A PRESIDENCIA Y VICEPRESIDENCIAS, POR SEXO SEGÚN GRUPOS DE EDAD",19]
["Cuadro 20","CANDIDATOS DIPUTACIONES POR CARGO Y SEXO SEGÚN GRUPOS DE EDAD",20]
["Gráfico 3","PIRAMIDE POBLACIONAL DE CANDIDATOS DIPUTACIONES POR SEXO SEGÚN GRUPOS DE EDAD","20YG3"]
["Cuadro 21","EDAD PROMEDIO  CANDIDATOS A DIPUTACIONES POR CARGO Y SEXO SEGÚN PROVINCIA",21]
["Cuadro 22","CANDIDATURAS A DIPUTACIONES POR AÑO SEGÚN PROVINCIA",22]
["Cuadro 23","COMPOSICIÓN DE PAPELETAS POR SEXO SEGÚN TIPO DE CANDIDATURA",23]
["Gráfico 4","DISTRIBUCIÓN  POR TIPO DE CANDIDATURA SEGÚN SEXO","G4"]
["Cuadro 24","CANDIDATURAS A DIPUTACIONES POR SEXO SEGÚN PARTIDO",24]
["Cuadro 25","CANDIDATURAS A DIPUTACIONES POR SEXO SEGÚN PROVINCIA",25]
[" "," ---- MENU PRINCIPAL ---- ","INICIO"]
["",null,""]
["",null,""]
["",null,""]
["",null,""]
["",null,""]
["",null,""]
["",null,""]
["",null,""]

{"sheet":"1","index":2,"n_rows":49,"n_cols":5,"rows_kept":49,"cut":false,"hidden":false,"merged":[[47,0,47,4],[5,0,7,0],[5,3,6,4],[5,1,6,2]]}
[]
["CUADRO 1"]
[" COSTA RICA: TOTAL Y VARIACIÓN DEL PADRÓN NACIONAL ELECTORAL, SEGÚN PROVINCIA "]
["Y SEXO, DE FEBRERO DE 2010 A FEBRERO DE 2014"]
[]
["PROVINCIA Y SEXO","PADRÓN NACIONAL ELECTORAL",null,"VARIACIÓN "]
[]
[null," FEBRERO 2010"," FEBRERO 2014","ABSOLUTO","%"]
[]
["COSTA RICA",2822491,3078321,{"$f":"+C10-B10","v":255830},{"$f":"+D10/B10*100","v":9.0639793005540152}]
["HOMBRES",1409411,1535869,{"$f":"+C11-B11","v":126458},{"$f":"+D11/B11*100","v":8.9724005275962782}]
["MUJERES",1413080,1542452,{"$f":"+C12-B12","v":129372},{"$f":"+D12/B12*100","v":9.1553202932601128}]
[]
["SAN JOSÉ",1008177,1063061,{"$f":"+C14-B14","v":54884},{"$f":"+D14/B14*100","v":5.4438853494971617}]
["HOMBRES",491462,518312,{"$f":"+C15-B15","v":26850},{"$f":"+D15/B15*100","v":5.4632911598455225}]
["MUJERES",516715,544749,{"$f":"+C16-B16","v":28034},{"$f":"+D16/B16*100","v":5.4254279438375113}]
[]
["ALAJUELA",524215,577493,{"$f":"+C18-B18","v":53278},{"$f":"+D18/B18*100","v":10.163387159848536}]
["HOMBRES",264559,291277,{"$f":"+C19-B19","v":26718},{"$f":"+D19/B19*100","v":10.099070528691142}]
["MUJERES",259656,286216,{"$f":"+C20-B20","v":26560},{"$f":"+D20/B20*100","v":10.228918261083896}]
[]
["CARTAGO",328782,359985,{"$f":"+C22-B22","v":31203},{"$f":"+D22/B22*100","v":9.4904830556417323}]
["HOMBRES",164137,179449,{"$f":"+C23-B23","v":15312},{"$f":"+D23/B23*100","v":9.3287924112174583}]
["MUJERES",164645,180536,{"$f":"+C24-B24","v":15891},{"$f":"+D24/B24*100","v":9.6516748155121626}]
[]
["HEREDIA",278544,306901,{"$f":"+C26-B26","v":28357},{"$f":"+D26/B26*100","v":10.180438279051065}]
["HOMBRES",137417,151098,{"$f":"+C27-B27","v":13681},{"$f":"+D27/B27*100","v":9.955827881557596}]
["MUJERES",141127,155803,{"$f":"+C28-B28","v":14676},{"$f":"+D28/B28*100","v":10.399144033388366}]
[]
["GUANACASTE",199237,221688,{"$f":"+C30-B30","v":22451},{"$f":"+D30/B30*100","v":11.268489286628487}]
["HOMBRES",101106,112201,{"$f":"+C31-B31","v":11095},{"$f":"+D31/B31*100","v":10.97363163412656}]
["MUJERES",98131,109487,{"$f":"+C32-B32","v":11356},{"$f":"+D32/B32*100","v":11.572286025822624}]
[]
["PUNTARENAS",259408,287254,{"$f":"+C34-B34","v":27846},{"$f":"+D34/B34*100","v":10.734441497563683}]
["HOMBRES",134213,147881,{"$f":"+C35-B35","v":13668},{"$f":"+D35/B35*100","v":10.183812298361559}]
["MUJERES",125195,139373,{"$f":"+C36-B36","v":14178},{"$f":"+D36/B36*100","v":11.324733415871242}]
[]
["LIMÓN",224128,249285,{"$f":"+C38-B38","v":25157},{"$f":"+D38/B38*100","v":11.224389634494575}]
["HOMBRES",116517,129143,{"$f":"+C39-B39","v":12626},{"$f":"+D39/B39*100","v":10.836186994172524}]
["MUJERES",107611,120142,{"$f":"+C40-B40","v":12531},{"$f":"+D40/B40*100","v":11.644720335281709}]
[]
["En el extranjero 1/","NA",12654,12654,"NA"]
["HOMBRES","NA",6508,6508,"NA"]
["MUJERES","NA",6146,6146,"NA"]
[]
[]
["NA: No Aplica"]
["1/ Costarricenses inscritos(as) que pueden ejercer el voto en extranjero para designar los puestos de Presidencia y Vicepresidencias, así como en consultas populares de orden nacional, según el artículo 187 del Código Electoral."]
["Fuente: Sección Padrón Electoral del Tribunal Supremo de Elecciones."]

{"sheet":"G1","index":3,"n_rows":26,"n_cols":12,"rows_kept":26,"cut":false,"hidden":false,"merged":[[21,9,27,9],[28,9,28,10],[17,9,17,13],[18,9,18,13],[19,9,20,10],[19,11,19,12],[19,13,20,13]]}
[]
[]
[]
[null,null,null,null,null,null,null,null,null," ",2010,2014]
[]
[null,null,null,null,null,null,null,null,null,"EXTRANJERO",0,{"$f":"+'1'!C42","v":12654}]
[null,null,null,null,null,null,null,null,null,"GUANACASTE",199237,{"$f":"+'1'!C30","v":221688}]
[null,null,null,null,null,null,null,null,null,"LIMÓN",224128,{"$f":"+'1'!C38","v":249285}]
[null,null,null,null,null,null,null,null,null,"PUNTARENAS",259408,{"$f":"+'1'!C34","v":287254}]
[null,null,null,null,null,null,null,null,null,"HEREDIA",278544,{"$f":"+'1'!C26","v":306901}]
[null,null,null,null,null,null,null,null,null,"CARTAGO",328782,{"$f":"+'1'!C22","v":359985}]
[null,null,null,null,null,null,null,null,null,"ALAJUELA",524215,{"$f":"+'1'!C18","v":577493}]
[null,null,null,null,null,null,null,null,null,"SAN JOSÉ",1008177,{"$f":"+'1'!C14","v":1063061}]
[]
[null,null,null,null,null,null,null,null,null,null,2550613,{"$f":"SUM(L6:L13)","v":3078321}]
[]
[]
[]
[]
[]
[]
[]
[]
[]
[]
["Fuente: Cuadro 1."]

{"sheet":"2","index":4,"n_rows":110,"n_cols":7,"rows_kept":110,"cut":false,"hidden":false,"merged":[[5,0,7,0]]}
[]
["CUADRO 2"]
["   COSTA RICA:   PADRÓN NACIONAL ELECTORAL, POR SEXO, SEGÚN PROVINCIA, CANTÓN"]
["   Y EXTRANJERO, FEBRERO DE 2010 Y 2014"]
[]
["PROVINCIA, CANTÓN Y EXTRANJERO","PADRÓN NACIONAL ELECTORAL"]
[null," FEBRERO 2010",null,null," FEBRERO 2014"]
[null,"TOTAL","HOMBRES","MUJERES","TOTAL","HOMBRES","MUJERES"]
[]
["COSTA RICA",2822491,1409411,1413080,{"$f":"SUM(F10:G10)","v":3078321},{"$f":"SUM(F11:F18)","v":1535869},{"$f":"SUM(G11:G18)","v":1542452}]
["SAN JOSÉ",1008177,491462,516715,{"$f":"SUM(F11:G11)","v":1063061},518312,544749]
["ALAJUELA",524215,264559,259656,{"$f":"SUM(F12:G12)","v":577493},291277,286216]
["CARTAGO",328782,164137,164645,359985,179449,180536]
["HEREDIA",278544,137417,141127,306901,151098,155803]
["GUANACASTE",199237,101106,98131,221688,112201,109487]
["PUNTARENAS",259408,134213,125195,287254,147881,139373]
["LIMÓN",224128,116517,107611,249285,129143,120142]
["EXTRANJERO","NA","NA","NA",12654,6508,6146]
["SAN JOSÉ",1008177,491462,516715,1063061,518312,544749]
["SAN JOSÉ",226027,108419,117608,228847,110114,118733]
["ESCAZÚ",39855,19409,20446,43354,21195,22159]
["DESAMPARADOS",143636,70487,73149,152242,74550,77692]
["PURISCAL",24260,12227,12033,26459,13322,13137]
["TARRAZÚ",10376,5328,5048,11458,5814,5644]
["ASERRÍ",36900,18456,18444,40321,20123,20198]
["MORA",17043,8457,8586,19190,9521,9669]
["GOICOECHEA",85706,41135,44571,87701,41925,45776]
["SANTA ANA",27313,13439,13874,31041,15246,15795]
["ALAJUELITA",44270,21997,22273,47597,23554,24043]
["VÁZQUEZ DE CORONADO",44773,21667,23106,49673,24016,25657]
["ACOSTA",14081,7371,6710,15551,8044,7507]
["TIBÁS",55673,26245,29428,55540,26143,29397]
["MORAVIA",39778,18992,20786,42357,20301,22056]
["MONTES DE OCA",41139,19137,22002,41489,19500,21989]
["TURRUBARES",3963,2078,1885,4375,2280,2095]
["DOTA",4789,2424,2365,5193,2610,2583]
["CURRIDABAT",43957,21209,22748,46270,22273,23997]
["PÉREZ ZELEDÓN",96629,48893,47736,105670,53322,52348]
["LEÓN CORTÉS",8009,4092,3917,8733,4459,4274]
["ALAJUELA",524215,264559,259656,577493,291277,286216]
["ALAJUELA",170966,85994,84972,185688,93494,92194]
["SAN RAMÓN",52853,26319,26534,58067,28929,29138]
["GRECIA",50109,25111,24998,55007,27426,27581]
["SAN MATEO",3798,1981,1817,4044,2100,1944]
["ATENAS",17379,8753,8626,18923,9486,9437]
["NARANJO",27740,13786,13954,29894,14815,15079]
["PALMARES",24911,12331,12580,27132,13436,13696]
["POÁS",17866,8989,8877,19747,9940,9807]
["OROTINA",12685,6363,6322,14116,7035,7081]
["SAN CARLOS",86525,44203,42322,97702,49938,47764]
["ALFARO RUIZ",7844,3918,3926,8490,4259,4231]
["VALVERDE VEGA",12623,6283,6340,13710,6818,6892]
["UPALA",21183,11122,10061,24597,12821,11776]
["LOS CHILES",9004,4838,4166,10457,5621,4836]
["GUATUSO",8729,4568,4161,9919,5159,4760]
["CARTAGO",328782,164137,164645,359985,179449,180536]
["CARTAGO",104564,51703,52861,113463,56296,57167]
["PARAÍSO",39163,19609,19554,43000,21389,21611]
["LA UNIÓN",57841,28779,29062,64441,31956,32485]
["JIMÉNEZ",10397,5405,4992,11308,5836,5472]
["TURRIALBA",51433,25846,25587,54654,27475,27179]
["ALVARADO",8510,4307,4203,9484,4788,4696]
["OREAMUNO",30006,14809,15197,33361,16365,16996]
["EL GUARCO",26868,13679,13189,30274,15344,14930]
["HEREDIA",278544,137417,141127,306901,151098,155803]
["HEREDIA",84511,40527,43984,90600,43399,47201]
["BARVA",26982,13248,13734,30088,14747,15341]
["SANTO DOMINGO",30208,14973,15235,32559,16038,16521]
["SANTA BÁRBARA",22277,11091,11186,24726,12278,12448]
["SAN RAFAEL",29077,14460,14617,32186,15986,16200]
["SAN ISIDRO",12800,6407,6393,14503,7235,7268]
["BELÉN",15687,7769,7918,17266,8510,8756]
["FLORES",13404,6525,6879,15087,7390,7697]
["SAN PABLO",17791,8586,9205,20119,9754,10365]
["SARAPIQUÍ",25807,13831,11976,29767,15761,14006]
["GUANACASTE",199237,101106,98131,221688,112201,109487]
["LIBERIA",36952,18465,18487,41245,20723,20522]
["NICOYA",34993,17705,17288,38300,19245,19055]
["SANTA CRUZ",33780,17303,16477,37832,19323,18509]
["BAGACES",10928,5566,5362,12446,6320,6126]
["CARRILLO",19540,9955,9585,22180,11268,10912]
["CAÑAS",17069,8576,8493,18440,9272,9168]
["ABANGARES",11481,5910,5571,12801,6492,6309]
["TILARÁN",13144,6609,6535,14132,7079,7053]
["NANDAYURE",7390,3861,3529,7979,4134,3845]
["LA CRUZ",9025,4627,4398,10846,5518,5328]
["HOJANCHA",4935,2529,2406,5487,2827,2660]
["PUNTARENAS",259408,134213,125195,287254,147881,139373]
["PUNTARENAS",76163,39160,37003,82240,42269,39971]
["ESPARZA",18283,9077,9206,20599,10214,10385]
["BUENOS AIRES",26649,14146,12503,29985,15711,14274]
["MONTES DE ORO",8556,4251,4305,9616,4807,4809]
["OSA",18252,9729,8523,20090,10649,9441]
["AGUIRRE",16283,8703,7580,18025,9561,8464]
["GOLFITO",24375,12707,11668,27210,14223,12987]
["COTO BRUS",25753,13080,12673,27667,13980,13687]
["PARRITA",9503,4985,4518,10844,5604,5240]
["CORREDORES",27134,13839,13295,31122,15640,15482]
["GARABITO",8457,4536,3921,9856,5223,4633]
["LIMÓN",224128,116517,107611,249285,129143,120142]
["LIMÓN",61180,30994,30186,64961,32762,32199]
["POCOCÍ",73072,38274,34798,83344,43586,39758]
["SIQUIRRES",33841,17811,16030,37389,19658,17731]
["TALAMANCA",15029,8009,7020,17572,9254,8318]
["MATINA",17995,9507,8488,19837,10370,9467]
["GUÁCIMO",23011,11922,11089,26182,13513,12669]
["EXTRANJERO","NA","NA","NA",12654,6508,6146]
[]
[]
["Fuente: Sección Padrón Electoral del Tribunal Supremo de Elecciones."]

{"sheet":"3","index":5,"n_rows":59,"n_cols":10,"rows_kept":59,"cut":false,"hidden":false,"merged":[[5,0,6,0],[5,1,6,1],[5,2,5,8],[5,9,6,9]]}
[]
["CUADRO 3"]
[" COSTA RICA: PADRÓN NACIONAL ELECTORAL, POR PROVINCIA Y EXTRANJERO, SEGÚN SEXO "]
["Y GRUPOS DE EDAD, ELECCIONES 2 DE FEBRERO DE 2014"]
[]
["SEXO Y GRUPOS DE EDAD","TOTAL","PROVINCIA",null,null,null,null,null,null,"EXTRANJERO"]
[null,null,"SAN JOSÉ","ALAJUELA","CARTAGO","HEREDIA","GUANACASTE","PUNTARENAS","LIMÓN"]
[]
["COSTA RICA",3078321,1063061,577493,359985,306901,221688,287254,249285,12654]
["18 - 19",135379,42575,26423,15959,12794,10289,13848,13061,430]
["20 - 24",393474,127701,76070,46980,37077,29304,39029,36115,1198]
["25 - 29        ",395586,132436,75881,46873,38319,28317,37957,34457,1346]
["30 - 34        ",344546,119622,63037,39963,35692,24539,32085,27695,1913]
["35 - 39        ",294124,100001,53380,34929,30854,21161,27876,24194,1729]
["40 - 44        ",270443,90282,50257,32927,27384,19269,25751,23071,1502]
["45 - 49        ",277377,94228,52961,33486,27869,19681,25777,21999,1376]
["50 - 54        ",258002,91247,48938,29902,26237,17905,23010,19600,1163]
["55 - 59        ",210940,76736,38639,24046,21735,14591,18572,15831,790]
["60 - 64        ",158619,59115,28599,17459,16311,11088,13908,11593,546]
["65 - 69        ",115370,43579,21235,12618,11402,8284,9997,7953,302]
["70 - 74        ",83696,30915,16050,9537,8005,6084,7465,5473,167]
["75 - 79        ",61429,23260,11502,6886,5726,4701,5397,3863,94]
["80 - 84        ",41597,16316,7620,4543,3933,3281,3557,2286,61]
["85 Y MÁS       ",37739,15048,6901,3877,3563,3194,3025,2094,37]
["HOMBRES",1535869,518312,291277,179449,151098,112201,147881,129143,6508]
["18 - 19",68524,21467,13329,8092,6508,5225,7072,6623,208]
["20 - 24",201403,64932,39394,24138,19037,14899,19881,18537,585]
["25 - 29        ",201483,66987,39205,23958,19313,14412,19357,17484,767]
["30 - 34        ",174584,60395,32317,20230,17891,12456,16341,13902,1052]
["35 - 39        ",148152,50260,27086,17465,15457,10586,14078,12278,942]
["40 - 44        ",135486,44791,25146,16175,13652,9754,13246,11924,798]
["45 - 49        ",138526,46340,26431,16666,13601,10001,13325,11436,726]
["50 - 54        ",127994,43948,24474,14776,12794,9137,11978,10309,578]
["55 - 59        ",103809,36224,19362,11858,10443,7421,9670,8490,341]
["60 - 64        ",77258,27196,14316,8418,7732,5670,7303,6373,250]
["65 - 69        ",55802,19990,10370,6117,5401,4064,5349,4376,135]
["70 - 74        ",39954,13825,7807,4586,3640,3078,3910,3041,67]
["75 - 79        ",28569,9850,5486,3242,2577,2385,2908,2090,31]
["80 - 84        ",18613,6639,3513,2121,1667,1591,1841,1224,17]
["85 Y MÁS       ",15712,5468,3041,1607,1385,1522,1622,1056,11]
["MUJERES",1542452,544749,286216,180536,155803,109487,139373,120142,6146]
["18 - 19",66855,21108,13094,7867,6286,5064,6776,6438,222]
["20 - 24",192071,62769,36676,22842,18040,14405,19148,17578,613]
["25 - 29        ",194103,65449,36676,22915,19006,13905,18600,16973,579]
["30 - 34        ",169962,59227,30720,19733,17801,12083,15744,13793,861]
["35 - 39        ",145972,49741,26294,17464,15397,10575,13798,11916,787]
["40 - 44        ",134957,45491,25111,16752,13732,9515,12505,11147,704]
["45 - 49        ",138851,47888,26530,16820,14268,9680,12452,10563,650]
["50 - 54        ",130008,47299,24464,15126,13443,8768,11032,9291,585]
["55 - 59        ",107131,40512,19277,12188,11292,7170,8902,7341,449]
["60 - 64        ",81361,31919,14283,9041,8579,5418,6605,5220,296]
["65 - 69        ",59568,23589,10865,6501,6001,4220,4648,3577,167]
["70 - 74        ",43742,17090,8243,4951,4365,3006,3555,2432,100]
["75 - 79        ",32860,13410,6016,3644,3149,2316,2489,1773,63]
["80 - 84        ",22984,9677,4107,2422,2266,1690,1716,1062,44]
["85 Y MÁS       ",22027,9580,3860,2270,2178,1672,1403,1038,26]
[]
[]
["Fuente: Sección Padrón Electoral del Tribunal Supremo de Elecciones."]

{"sheet":"G2","index":6,"n_rows":31,"n_cols":12,"rows_kept":31,"cut":false,"hidden":false,"merged":[[44,8,44,9]]}
[]
[]
[]
[null,null,null,null,null,null,null,null,"HOMBRES","MUJERES"]
[null,null,null,null,null,null,null,null,{"$f":"+'3'!B26","v":68524},{"$f":"+'3'!B42*-1","v":-66855},"18 - 19","18 - 19                                                           "]
[null,null,null,null,null,null,null,null,{"$f":"+'3'!B27","v":201403},{"$f":"+'3'!B43*-1","v":-192071},"20 - 24","20 - 24                                                           "]
[null,null,null,null,null,null,null,null,{"$f":"+'3'!B28","v":201483},{"$f":"+'3'!B44*-1","v":-194103},"25 - 29","25 - 29                                                           "]
[null,null,null,null,null,null,null,null,{"$f":"+'3'!B29","v":174584},{"$f":"+'3'!B45*-1","v":-169962},"30 - 34","30 - 34                                                           "]
[null,null,null,null,null,null,null,null,{"$f":"+'3'!B30","v":148152},{"$f":"+'3'!B46*-1","v":-145972},"35 - 39","35 - 39                                                           "]
[null,null,null,null,null,null,null,null,{"$f":"+'3'!B31","v":135486},{"$f":"+'3'!B47*-1","v":-134957},"40 - 44","40 - 44                                                           "]
[null,null,null,null,null,null,null,null,{"$f":"+'3'!B32","v":138526},{"$f":"+'3'!B48*-1","v":-138851},"45 - 49","45 - 49                                                           "]
[null,null,null,null,null,null,null,null,{"$f":"+'3'!B33","v":127994},{"$f":"+'3'!B49*-1","v":-130008},"50 - 54","50 - 54                                                           "]
[null,null,null,null,null,null,null,null,{"$f":"+'3'!B34","v":103809},{"$f":"+'3'!B50*-1","v":-107131},"55 - 59","55 - 59                                                           "]
[null,null,null,null,null,null,null,null,{"$f":"+'3'!B35","v":77258},{"$f":"+'3'!B51*-1","v":-81361},"60 - 64","60 - 64                                                           "]
[null,null,null,null,null,null,null,null,{"$f":"+'3'!B36","v":55802},{"$f":"+'3'!B52*-1","v":-59568},"65 - 69","65 - 69                                                           "]
[null,null,null,null,null,null,null,null,{"$f":"+'3'!B37","v":39954},{"$f":"+'3'!B53*-1","v":-43742},"70 - 74","70 - 74                                                           "]
[null,null,null,null,null,null,null,null,{"$f":"+'3'!B38","v":28569},{"$f":"+'3'!B54*-1","v":-32860},"75 - 79","75 - 79                                                           "]
[null,null,null,null,null,null,null,null,{"$f":"+'3'!B39","v":18613},{"$f":"+'3'!B55*-1","v":-22984},"80 - 84","80 - 84                                                           "]
[null,null,null,null,null,null,null,null,{"$f":"+'3'!B40","v":15712},{"$f":"+'3'!B56*-1","v":-22027},"85 Y MÁS","85 Y MÁS                                                           "]
[null,null,null,null,null,null,null,null,null,null,null,"                                                           "]
[null,null,null,null,null,null,null,null,{"$f":"SUM(I5:I20)","v":1535869},{"$f":"SUM(J5:J20)","v":-1542452},null,"                                                           "]
[null,null,null,null,null,null,null,null,null,null,null,"                                                           "]
[null,null,null,null,null,null,null,null,null,{"$f":"+I21-J21","v":3078321},null,"                                                           "]
[null,null,null,null,null,null,null,null,null,null,null,"                                                           "]
[]
[]
[]
[]
[]
[]
["Fuente: Cuadro 3."]

{"sheet":"4","index":7,"n_rows":63,"n_cols":7,"rows_kept":63,"cut":false,"hidden":false,"merged":[[6,0,7,0],[61,0,61,6]]}
[]
["CUADRO 4"]
["COSTA RICA: ELECTORADO EN EL PADRÓN INSCRITO EN EL EXTRANJERO1/"]
["POR SEXO, SEGÚN CONTINENTE Y PAÍS"]
["ELECCIONES 2 DE FEBRERO 2014"]
[]
["Continente y país","Total",null,"Hombres",null,"Mujeres"]
[null,"Absoluto","%","Absoluto","%","Absoluto","%"]
[]
["Total",{"$f":"B12+B36+B49+B58","v":12654},{"$f":"B10/B$10*100","v":100},{"$f":"D12+D36+D49+D58","v":6508},{"$f":"D10/D$10*100","v":100},{"$f":"F12+F36+F49+F58","v":6146},{"$f":"F10/F$10*100","v":100}]
[]
["América",{"$f":"D12+F12","v":10991},{"$f":"B12/B$10*100","v":86.857910542121061},{"$f":"SUM(D13:D34)","v":5730},{"$f":"D12/D$10*100","v":88.045482483097729},{"$f":"SUM(F13:F34)","v":5261},{"$f":"F12/F$10*100","v":85.600390497884803}]
["Estados Unidos",{"$f":"D13+F13","v":8316},{"$f":"B13/B$10*100","v":65.718349928876236},4439,{"$f":"D13/D$10*100","v":68.208358942839581},3877,{"$f":"F13/F$10*100","v":63.081679140904654}]
["Canadá",{"$f":"D14+F14","v":484},{"$f":"B14/B$10*100","v":3.8248775090880351},263,{"$f":"D14/D$10*100","v":4.041180086047941},221,{"$f":"F14/F$10*100","v":3.5958346892287669}]
["México",418,3.303303303303303,172,2.6429010448678549,246,4.002603319232021]
["Guatemala",227,1.7938991623202152,95,1.459741856177013,132,2.1477383664171819]
["Panamá",212,1.6753595700964123,108,1.6594960049170253,104,1.6921575008135372]
["El Salvador",169,1.3355460723881778,71,1.0909649661954517,98,1.5945330296127564]
["Venezuela",162,1.2802275960170697,65,0.99877074370006147,97,1.5782622844126262]
["Honduras",146,1.1537853643116802,79,1.2138905961893054,67,1.0901399284087212]
["Colombia",138,1.0905642484589853,61,0.93730792870313462,77,1.2528473804100226]
["Nicaragua",130,1.0273431326062905,62,0.95267363245236625,68,1.1064106736088513]
["Argentina",128,1.0115378536431168,71,1.0909649661954517,57,0.92743247640741955]
["Chile",115,0.90880354038248778,61,0.93730792870313462,54,0.87862024080702894]
["Perú",89,0.7033349138612297,48,0.73755377996312232,41,0.66710055320533679]
["República Dominicana",83,0.65591907697170859,44,0.67609096496619547,39,0.63455906280507646]
["Ecuador",47,0.37142405563458192,22,0.33804548248309774,25,0.40676863000325414]
["Cuba",31,0.24498182392919235,20,0.30731407498463426,11,0.17897819720143182]
["Brasil",33,0.26078710289236606,20,0.30731407498463426,13,0.21151968760169215]
["Bolivia",31,0.24498182392919235,14,0.21511985248924403,17,0.27660266840221281]
["Uruguay",15,0.11853959222380275,8,0.1229256299938537,7,0.11389521640091116]
["Paraguay",10,7.9026394815868498E-2,5,7.6828518746158564E-2,5,8.1353726000650828E-2]
["Trinidad y Tobago",4,3.1610557926347399E-2,2,3.0731407498463426E-2,2,3.2541490400260331E-2]
["Belice",3,2.3707918444760549E-2,0,0,3,4.8812235600390497E-2]
[]
["Europa",{"$f":"D36+F36","v":1382},{"$f":"B36/B$10*100","v":10.921447763553028},{"$f":"SUM(D37:D47)","v":644},{"$f":"D36/D$10*100","v":9.8955132145052254},{"$f":"SUM(F37:F47)","v":738},{"$f":"F36/F$10*100","v":12.007809957696063}]
["España",{"$f":"D37+F37","v":368},{"$f":"B37/B$10*100","v":2.9081713292239608},197,{"$f":"D37/D$10*100","v":3.0270436385986477},171,{"$f":"F37/F$10*100","v":2.7822974292222584}]
["Francia",{"$f":"D38+F38","v":191},{"$f":"B38/B$10*100","v":1.5094041409830883},78,{"$f":"D38/D$10*100","v":1.1985248924400738},113,{"$f":"F38/F$10*100","v":1.8385942076147088}]
["Alemania",166,1.3118381539434172,97,1.4904732636754763,69,1.1226814188089815]
["Suiza",162,1.2802275960170697,56,0.86047940995697614,106,1.7246989912137978]
["Italia",114,0.90090090090090091,43,0.66072526121696373,71,1.1552229092092419]
["Reino Unido",111,0.8771929824561403,44,0.67609096496619547,67,1.0901399284087212]
["Holanda",100,0.79026394815868495,42,0.64535955746773199,58,0.9437032216075496]
["Bélgica",53,0.41883989252410309,26,0.39950829748002464,27,0.43931012040351447]
["Austria",51,0.40303461356092934,24,0.36877688998156116,27,0.43931012040351447]
["Noruega",40,0.31610557926347399,20,0.30731407498463426,20,0.32541490400260331]
["Rusia",26,0.20546862652125811,17,0.26121696373693915,9,0.14643670680117149]
[]
["Asia",{"$f":"D49+F49","v":225},{"$f":"B49/B$10*100","v":1.7780938833570414},{"$f":"SUM(D50:D56)","v":106},{"$f":"D49/D$10*100","v":1.6287645974185618},{"$f":"SUM(F50:F56)","v":119},{"$f":"F49/F$10*100","v":1.9362186788154898}]
["China",{"$f":"D50+F50","v":71},{"$f":"B50/B$10*100","v":0.56108740319266637},36,{"$f":"D50/D$10*100","v":0.55316533497234166},35,{"$f":"F50/F$10*100","v":0.56947608200455579}]
["Israel",41,0.32400821874506086,14,0.21511985248924403,27,0.43931012040351447]
["Japón",39,0.30820293978188718,17,0.26121696373693915,22,0.35795639440286364]
["Singapur",28,0.22127390548443179,14,0.21511985248924403,14,0.22779043280182232]
["Corea",21,0.16595542911332387,11,0.16902274124154887,10,0.16270745200130166]
["Qatar",19,0.15015015015015015,8,0.1229256299938537,11,0.17897819720143182]
["India",6,4.7415836889521099E-2,6,9.2194222495390291E-2,0,0]
[]
["Oceanía",{"$f":"D58+F58","v":56},{"$f":"B58/B$10*100","v":0.44254781096886359},{"$f":"SUM(D59)","v":28},{"$f":"D58/D$10*100","v":0.43023970497848807},{"$f":"SUM(F59)","v":28},{"$f":"F58/F$10*100","v":0.45558086560364464}]
["Australia",{"$f":"D59+F59","v":56},{"$f":"B59/B$10*100","v":0.44254781096886359},28,{"$f":"D59/D$10*100","v":0.43023970497848807},28,{"$f":"F59/F$10*100","v":0.45558086560364464}]
[]
[]
["1/ Costarricenses inscritos(as) que pueden ejercer el voto en extranjero para designar los puestos de Presidencia y Vicepresidencias, así como en consultas populares de orden nacional, según el artículo 187 del Código Electoral."]
["Fuente: Sección Padrón Electoral del Tribunal Supremo de Elecciones."]

{"sheet":"5","index":8,"n_rows":63,"n_cols":10,"rows_kept":63,"cut":false,"hidden":false,"merged":[[2,0,2,9],[3,0,3,9],[5,0,6,0],[5,1,5,9],[60,0,60,9]]}
[]
["CUADRO 5"]
["COSTA RICA: TOTAL DE ELECTORES NATURALIZADOS, POR PAÍS DE ORIGEN"]
["SEGÚN SEXO Y GRUPOS DE EDAD, ELECCIONES 2 DE FEBRERO DE 20141/"]
[]
["SEXO Y GRUPOS DE EDAD","PAÍS DE ORIGEN"]
[null,"Total","Nicaragua","Colombia","El Salvador","Cuba","China","Perú","Panamá","Resto de países"]
[]
["COSTA RICA",49963,25046,5788,3476,2252,1855,1574,1428,8544]
["MENOS DE 20",266,79,106,3,17,9,8,0,44]
["20 - 24        ",917,352,274,15,93,18,29,5,131]
["25 - 29        ",1756,928,324,19,82,81,60,17,245]
["30 - 34        ",4035,2142,746,154,122,162,137,31,541]
["35 - 39        ",5646,2845,935,370,231,208,204,67,786]
["40 - 44        ",6401,3176,861,466,288,256,208,168,978]
["45 - 49        ",6383,3099,840,436,327,201,203,193,1084]
["50 - 54        ",5311,2415,642,445,295,168,213,192,941]
["55 - 59        ",4586,2141,407,480,220,164,180,173,821]
["60 - 64        ",3975,1807,266,403,167,180,143,158,851]
["65 - 69        ",3179,1542,174,290,138,130,93,155,657]
["70 - 74        ",2335,1250,91,168,97,97,39,83,510]
["75 - 79        ",1973,1169,64,114,60,68,30,66,402]
["80 - 84        ",1546,954,32,72,51,65,14,71,287]
["85 Y MÁS     ",1654,1147,26,41,64,48,13,49,266]
[]
["HOMBRES",22833,10690,2745,1504,1235,995,862,626,4176]
["MENOS DE 20",141,41,56,0,12,7,4,0,21]
["20 - 24        ",461,163,148,8,56,6,14,2,64]
["25 - 29        ",722,341,150,10,34,46,27,5,109]
["30 - 34        ",1675,801,340,76,50,107,78,10,213]
["35 - 39        ",2413,1148,394,160,116,117,105,30,343]
["40 - 44        ",2984,1431,429,219,154,146,99,76,430]
["45 - 49        ",2987,1411,395,186,191,89,102,86,527]
["50 - 54        ",2331,923,323,190,173,87,115,81,439]
["55 - 59        ",1904,749,171,171,133,93,102,77,408]
["60 - 64        ",1842,749,127,163,102,98,85,56,462]
["65 - 69        ",1628,718,104,131,85,66,68,71,385]
["70 - 74        ",1202,632,46,84,50,40,28,40,282]
["75 - 79        ",964,537,39,57,33,35,18,37,208]
["80 - 84        ",756,457,12,35,19,37,10,29,157]
["85 Y MÁS     ",823,589,11,14,27,21,7,26,128]
[]
["MUJERES",27130,14356,3043,1972,1017,860,712,802,4368]
["MENOS DE 20",125,38,50,3,5,2,4,0,23]
["20 - 24        ",456,189,126,7,37,12,15,3,67]
["25 - 29        ",1034,587,174,9,48,35,33,12,136]
["30 - 34        ",2360,1341,406,78,72,55,59,21,328]
["35 - 39        ",3233,1697,541,210,115,91,99,37,443]
["40 - 44        ",3417,1745,432,247,134,110,109,92,548]
["45 - 49        ",3396,1688,445,250,136,112,101,107,557]
["50 - 54        ",2980,1492,319,255,122,81,98,111,502]
["55 - 59        ",2682,1392,236,309,87,71,78,96,413]
["60 - 64        ",2133,1058,139,240,65,82,58,102,389]
["65 - 69        ",1551,824,70,159,53,64,25,84,272]
["70 - 74        ",1133,618,45,84,47,57,11,43,228]
["75 - 79        ",1009,632,25,57,27,33,12,29,194]
["80 - 84        ",790,497,20,37,32,28,4,42,130]
["85 Y MÁS     ",831,558,15,27,37,27,6,23,138]
[]
[]
["1/ Incluye las personas menores que tramitaron su cédula y cumplirán 18 años hasta el 2 de febrero de 2014. Según el artículo 76 de la Ley 3504: \"Ley Orgánica del Tribunal Supremo de Elecciones y del Registro Civil\"."]
[]
["Fuente: Sección Padrón Electoral del Tribunal Supremo de Elecciones."]

{"sheet":"6","index":9,"n_rows":113,"n_cols":10,"rows_kept":113,"cut":false,"hidden":false,"merged":[[1,0,1,9],[5,1,5,3],[5,4,5,6],[5,7,5,9],[5,0,6,0],[2,0,2,9],[3,0,3,9]]}
[]
["CUADRO 6"]
["   COSTA RICA:   PROMEDIO, MEDIANA Y MODA DE LA EDAD DEL ELECTOR/A, POR  SEXO, SEGÚN PROVINCIA"]
[" CANTÓN Y EXTRANJERO, ELECCIONES 2 DE FEBRERO DE 2014"]
[]
["PROVINCIA, CANTÓN Y EXTRANJERO","TOTAL",null,null,"HOMBRES",null,null,"MUJERES"]
[null,"PROMEDIO","MEDIANA","MODA","PROMEDIO","MEDIANA","MODA","PROMEDIO","MEDIANA","MODA"]
[]
["COSTA RICA",41.766234580475107,39,28,41.314244899791859,39,28,42.216295223449826,40,28]
["SAN JOSÉ",{"$f":"+B18","v":42.59709179435481},{"$f":"+C18","v":40},28,41.724627251539815,39,28,43.427215102736291,43,28]
["ALAJUELA",{"$f":"+B39","v":41.568148877996492},{"$f":"+C39","v":39},28,41.186434218972906,38,23,41.956613187243697,41,28]
["CARTAGO",{"$f":"+B55","v":41.385013264441483},{"$f":"+C55","v":39},27,40.957380648541182,38,23,41.810071121549015,40,24]
["HEREDIA",{"$f":"+B64","v":41.89001990870095},{"$f":"+C64","v":39},28,41.263517716978676,39,28,42.497602741923103,40,24]
["GUANACASTE",{"$f":"+B75","v":41.745398939049366},{"$f":"+C75","v":39},19,41.646660903200242,39,21,41.846584526017338,38,22]
["PUNTARENAS",{"$f":"+B87","v":41.01951234795596},{"$f":"+C87","v":38},24,41.237569397014916,39,24,40.788144045116624,38,25]
["LIMÓN",{"$f":"+B99","v":40.032111839861379},{"$f":"+C99","v":37},19,40.401872343061136,38,20,39.634648998684582,40,25]
["EXTRANJERO",{"$f":"+B106","v":40.327485380116919},{"$f":"+C106","v":39},33,39.48478795328829,38,31,41.21981776765373,42,27]
["SAN JOSÉ",42.59709179435481,40,28,41.724627251539815,39,28,43.427215102736291,40,21]
["SAN JOSÉ",44.178446735154601,42,28,42.771191674082935,40,25,45.483547118324367,38,24]
["ESCAZÚ",42.971052267380273,41,28,42.224581269167267,40,24,43.685048964303725,40,24]
["DESAMPARADOS",41.627967315195235,39,24,40.810315224681602,38,26,42.412552128919458,39,23]
["PURISCAL",42.432593824407526,40,24,42.391532802882523,40,24,42.474233082134639,44,28]
["TARRAZÚ",41.101064758247595,38,22,41.338665290677689,39,20,40.856307583274216,42,31]
["ASERRÍ",40.867265196795451,38,28,40.544749788799152,38,28,41.188583028022663,44,29]
["MORA",41.990151120375053,40,25,41.864299968490634,40,21,42.114075912710803,40,31]
["GOICOECHEA",43.129337179736439,41,24,42.024448419797153,39,24,44.141274903879655,41,28]
["SANTA ANA",42.092619438806928,40,28,41.606650924832579,40,28,42.561696739474854,42,24]
["ALAJUELITA",40.436498098619886,37,28,39.785259403922666,37,19,41.074491535997474,38,21]
["VÁZQUEZ DE CORONADO",41.431200048316157,39,28,40.736967021985457,38,28,42.081030517987294,38,23]
["ACOSTA",42.030030223136691,40,23,42.209597215315888,40,22,41.837618222991836,40,28]
["TIBÁS",44.608642419877633,42,33,43.240523275828821,41,25,45.825322311800214,40,24]
["MORAVIA",43.310291097103246,41,28,42.25929757154811,39,30,44.27765687341325,40,28]
["MONTES DE OCA",44.511629588565739,42,29,43.008974358974321,40,31,45.844194824684962,44,22]
["TURRUBARES",42.693942857142822,41,20,43.03640350877189,41,20,42.321241050119362,42,23]
["DOTA",42.228384363566384,41,19,41.928735632183823,41,19,42.531165311653083,40,27]
["CURRIDABAT",42.905208558461034,40,27,41.91132761639652,39,27,43.827686794182256,41,28]
["PÉREZ ZELEDÓN",40.647364436453458,38,24,40.493004763512069,37,24,40.804596164132519,39,21]
["LEÓN CORTÉS",40.625214702851238,38,23,40.667189952904231,39,23,40.581422554983632,40,28]
["ALAJUELA",41.568148877996492,39,28,41.186434218972906,38,23,41.956613187243697,37,27]
["ALAJUELA",41.907603076127991,39,28,41.20341412283075,38,28,42.621721587087798,40,22]
["SAN RAMÓN",42.085332460778368,40,23,41.762729441045764,39,23,42.405621525156143,40,23]
["GRECIA",41.96107768102226,40,28,41.607963246554455,39,23,42.312207679199652,36,19]
["SAN MATEO",44.773244312561822,43,22,44.419047619047674,43,20,45.155864197530889,35,19]
["ATENAS",43.433123711884782,41,23,43.072000843348214,41,27,43.796121648828994,37,19]
["NARANJO",41.964608282598789,39,25,41.351400607492359,39,25,42.567080045095615,40,24]
["PALMARES",42.533429161138073,40,28,41.9951622506698,39,28,43.061477803738462,38,24]
["POÁS",41.368258469641013,39,24,41.035311871227371,38,24,41.705720403793251,39,19]
["OROTINA",42.271323321054105,40,24,42.132622601279273,40,24,42.40912300522524,40,27]
["SAN CARLOS",40.250138175267715,37,27,40.081901557931793,37,23,40.426032158110296,41,27]
["ALFARO RUIZ",41.868786808009439,40,22,41.473350551772704,39,21,42.266839990545996,39,19]
["VALVERDE VEGA",41.933187454412952,40,23,41.632003520093861,39,28,42.231137550783586,39,20]
["UPALA",39.52010407773291,36,19,40.086888698229622,37,19,38.903023097826065,38,22]
["LOS CHILES",38.960983073539303,35,20,39.482476427681753,36,20,38.354838709677537,41,27]
["GUATUSO",40.751890311523304,38,19,41.499321573948457,39,20,39.941806722689016,39,28]
["CARTAGO",41.385013264441483,39,27,40.957380648541182,38,23,41.810071121549015,42,28]
["CARTAGO",41.710804403197216,39,27,40.994155890294415,38,23,42.416534014379003,39,32]
["PARAÍSO",40.684697674418658,38,24,40.422880920099168,37,21,40.943824903984257,40,28]
["LA UNIÓN",40.915861020158061,38,24,40.348041056452473,38,22,41.47443435431763,40,20]
["JIMÉNEZ",41.794039617969432,40,27,41.811000685400984,40,27,41.775950292397681,41,28]
["TURRIALBA",42.642002415193332,40,28,42.519162875340996,40,25,42.766179771146753,40,22]
["ALVARADO",41.101328553353,39,23,41.055973266499642,39,23,41.14757240204414,40,27]
["OREAMUNO",40.822127634063911,38,20,40.547326611671451,38,28,41.086726288538486,36,19]
["EL GUARCO",40.444440774261807,38,24,40.121936913451385,38,19,40.775887474882722,37,24]
["HEREDIA",41.89001990870095,39,28,41.263517716978676,39,28,42.497602741923103,41,21]
["HEREDIA",42.088609271523659,39,27,41.043065508421485,38,28,43.049935382725216,41,28]
["BARVA",41.472613666577573,39,28,40.897606292805435,38,28,42.025356886773942,38,22]
["SANTO DOMINGO",43.60054055714231,41,29,42.748784137672985,40,27,44.427395436111667,38,27]
["SANTA BÁRBARA",41.370379357760982,39,28,40.864961720149928,38,23,41.86889460154233,38,21]
["SAN RAFAEL",41.96436338780839,39,28,41.446703365444755,39,28,42.475185185185033,39,21]
["SAN ISIDRO",42.047507412259641,40,23,41.706150656530617,40,23,42.387314254265149,41,19]
["BELÉN",42.572512452218163,40,24,42.024441833137359,40,35,43.105185015989015,41,19]
["FLORES",42.240935905083923,40,28,41.54221921515547,39,24,42.911783811874827,34,19]
["SAN PABLO",41.892837616183748,39,28,40.982161164650314,38,26,42.749831162566167,40,22]
["SARAPIQUÍ",39.535425135217004,37,19,40.255630987881418,37,19,38.724975010709727,39,19]
["GUANACASTE",41.745398939049366,39,19,41.646660903200242,39,21,41.846584526017338,40,24]
["LIBERIA",39.947557279669915,36,24,39.606861940838513,36,24,40.291589513692372,35,19]
["NICOYA",43.281592689294875,41,19,43.232527929332548,41,28,43.331146680661512,40,21]
["SANTA CRUZ",42.832919221822898,40,28,42.684728044299483,40,21,42.987627640607023,38,19]
["BAGACES",41.32251325727151,39,22,41.471835443037982,39,22,41.168462291870611,37,24]
["CARRILLO",41.411000901713457,38,19,41.125044373447047,38,19,41.70628665689177,38,20]
["CAÑAS",40.831832971800303,38,23,40.485655737704725,37,23,41.181937172775015,38,20]
["ABANGARES",42.025154284821518,40,21,42.384473197782015,40,21,41.655412902203111,37,24]
["TILARÁN",43.353170110387694,41,28,43.398502613363554,42,28,43.307670494824897,37,21]
["NANDAYURE",43.047249028700406,41,19,43.264150943396217,41,20,42.814044213263898,36,27]
["LA CRUZ",38.352572376913244,35,19,38.696629213483128,35,19,37.996246246246258,38,19]
["HOJANCHA",42.439402223437234,40,21,42.297488503714263,40,21,42.590225563909691,37,20]
["PUNTARENAS",41.01951234795596,38,24,41.237569397014916,39,24,40.788144045116624,36,28]
["PUNTARENAS",41.760724708171239,39,19,41.610967848778259,39,19,41.919091341222391,34,19]
["ESPARZA",42.219185397349449,40,23,42.038574505580435,40,25,42.396822339913349,35,19]
["BUENOS AIRES",39.222311155577728,36,20,39.613073642670592,36,20,38.792209611882001,37,19]
["MONTES DE ORO",42.546173044925112,40,21,42.595381734969934,40,21,42.496984820129065,35,29]
["OSA",41.413041314086954,39,29,41.93971264907492,39,29,40.818981040143989,30,33]
["AGUIRRE",40.136643550624065,37,24,40.510825227486571,38,24,39.713965028355304,37,20]
["GOLFITO",41.104998162440367,38,20,41.638332278703629,39,19,40.520905520905423,34,30]
["COTO BRUS",41.29923735858592,39,20,41.729041487839773,39,21,40.860232337254395,39,33]
["PARRITA",40.981556621172835,38,24,41.620449678800775,39,24,40.298282442748068,38,27]
["CORREDORES",40.100796863954621,37,24,40.527749360613832,37,19,39.669487146363394,36,36]
["GARABITO",39.039569805194645,36,27,39.492820218265358,36,27,38.528599179797041,37,29]
["LIMÓN",40.032111839861379,37,19,40.401872343061136,38,20,39.634648998684582,24,21]
["LIMÓN",40.865057496036016,38,19,41.051736768206951,39,27,40.675114133979228,33,24]
["POCOCÍ",39.955785659436039,37,20,40.291538567429953,38,19,39.587705618994235,35,21]
["SIQUIRRES",39.893070154323432,37,21,40.382236239699012,38,21,39.350741638937372,26,25]
["TALAMANCA",38.478773048030654,35,19,39.222606440458151,36,20,37.651238278432359,42,40]
["MATINA",39.330241467963802,37,19,40.10559305689489,38,20,38.480933769937728,41,19]
["GUÁCIMO",39.981284852188288,37,20,40.245689336194914,38,20,39.699265924698103,38.5,30]
["EXTRANJERO",40.327485380116919,39,33,39.48478795328829,38,31,41.21981776765373,36,33]
[]
[]
["Promedio: media aritmética cociente de la suma de las observaciones entre la cantidad de observaciones, se denota   =  S xi /n"]
["Mediana: valor que separa en dos grupos las observaciones, ordenadas de menor a mayor."]
["Moda: valor de la variable que más veces se repite, es decir, el valor con mayor frecuencia absoluta."]
[]
["Fuente: Sección Padrón Electoral del Tribunal Supremo de Elecciones."]

{"sheet":"7","index":10,"n_rows":20,"n_cols":4,"rows_kept":20,"cut":false,"hidden":false,"merged":[[5,0,6,0],[5,1,6,1]]}
[]
["CUADRO 7"]
[" COSTA RICA: CANTONES, DISTRITOS ADMINISTRATIVOS Y ELECTORALES"]
["SEGÚN PROVINCIA, ELECCIONES 2 DE FEBRERO DE 2014"]
[]
["PROVINCIA","CANTONES","DISTRITOS"]
[null,null,"ADMINISTRATIVOS","ELECTORALES"]
[]
["COSTA RICA",{"$f":"SUM(B11:B17)","v":81},{"$f":"SUM(C11:C17)","v":478},{"$f":"SUM(D11:D17)","v":2043}]
[]
["SAN JOSÉ",20,121,439]
["ALAJUELA",15,113,438]
["CARTAGO",8,51,193]
["HEREDIA",10,47,114]
["GUANACASTE",11,59,294]
["PUNTARENAS",11,58,374]
["LIMÓN",6,29,191]
[]
[]
["Fuente: Contraloría Electoral del Tribunal Supremo de Elecciones."]

{"sheet":"8","index":11,"n_rows":21,"n_cols":6,"rows_kept":21,"cut":false,"hidden":false,"merged":[[2,0,2,5],[3,0,3,5],[1,0,1,5],[5,2,5,5],[5,0,6,0],[5,1,6,1]]}
[]
["CUADRO 8"]
[" COSTA RICA: MOVIMIENTOS A LA DIVISIÓN TERRITORIAL ELECTORAL"]
["SEGÚN PROVINCIA, ELECCIONES 2 DE FEBRERO DE 2014"]
[]
["PROVINCIA","DISTRITOS ADMINISTRATIVOS CREADOS","DISTRITOS ELECTORALES 1/"]
[null,null,"CREADOS","REFUNDIDOS","REUBICADOS","MODIFICADOS"]
[]
["COSTA RICA",{"$f":"SUM(B10:B17)","v":5},{"$f":"SUM(C10:C17)","v":14},1,15,5]
[]
["SAN JOSÉ",1,3,0,1,1]
["ALAJUELA",2,1,0,5,3]
["CARTAGO",0,1,0,0,0]
["HEREDIA",0,1,0,0,0]
["GUANACASTE",0,1,0,2,0]
["PUNTARENAS",1,4,0,4,1]
["LIMÓN",1,3,1,3,0]
[]
[]
["1/ Para este proceso electoral no se eliminaron Distritos Electorales."]
["Fuente: Contraloría Electoral del Tribunal Supremo de Elecciones."]

{"sheet":"9","index":12,"n_rows":23,"n_cols":4,"rows_kept":23,"cut":false,"hidden":false,"merged":[[22,0,22,3],[20,0,20,3],[1,0,1,3],[2,0,2,3],[3,0,3,3],[4,0,4,3]]}
[]
["CUADRO 9"]
[" COSTA RICA: CENTROS DE VOTACIÓN, JUNTAS RECEPTORAS Y"]
["CENTROS DE TRANSMISIÓN, SEGÚN PROVINCIA"]
["ELECCIONES 2 DE FEBRERO DE 2014"]
[]
["PROVINCIA","CENTROS DE VOTACIÓN1/","JUNTAS\nRECEPTORAS","CENTROS DE TRANSMISIÓN 2/"]
[]
["COSTA RICA",{"$f":"SUM(B11:B19)","v":2112},{"$f":"SUM(C11:C19)","v":6515},685]
[]
["SAN JOSÉ",453,2104,187]
["ALAJUELA",439,1259,143]
["CARTAGO",193,743,81]
["HEREDIA",116,602,64]
["GUANACASTE",295,542,38]
["PUNTARENAS",373,692,52]
["LIMÓN",191,512,59]
["EXTRANJERO",52,61,61]
[]
[]
["1/ Datos estimados al 10 de enero de 2014 sujetos a modificaciones."]
["2/ Datos estimados al 13 de enero de 2014 sujetos a modificaciones."]
["Fuente: Dirección General del Registro Electoral y Financiamiento de Partidos Políticos, Sección de Padrón Electoral y Programa Electoral Transmisión de Datos"]

{"sheet":"10","index":13,"n_rows":21,"n_cols":7,"rows_kept":21,"cut":false,"hidden":false,"merged":[[1,0,1,6],[2,0,2,6],[3,0,3,6],[4,0,4,6],[6,0,7,0],[6,1,6,2],[6,3,6,4],[6,5,6,6],[20,0,20,6]]}
[]
["CUADRO 10"]
[" COSTA RICA: JUNTAS RECEPTORAS Y ELECTORADO EN CENTROS PENITENCIARIOS"]
[" HOGARES DE ANCIANOS Y ZONAS INDÍGENAS, SEGÚN PROVINCIA"]
[" ELECCIONES 2 DE FEBRERO DE 2014"]
[]
["PROVINCIA","CENTROS PENITENCIARIOS",null,"HOGARES DE ANCIANOS",null,"ZONAS INDÍGENAS"]
[null,"JUNTAS","ELECTORADO","JUNTAS","ELECTORADO","JUNTAS","ELECTORADO"]
[]
["COSTA RICA",{"$f":"SUM(B12:B19)","v":30},{"$f":"SUM(C12:C19)","v":8713},38,2112,106,{"$f":"SUM(G12:G18)","v":35041}]
[]
["SAN JOSÉ",6,2006,9,606,{"$f":"+'13'!C10","v":5},1499]
["ALAJUELA",13,3371,9,663,{"$f":"+'13'!C16","v":3},858]
["CARTAGO",2,640,2,184,{"$f":"+'13'!C21","v":12},2829]
["HEREDIA",1,17,2,122,0,0]
["GUANACASTE",2,686,5,165,{"$f":"+'13'!C34","v":2},753]
["PUNTARENAS",2,569,8,286,{"$f":"+'13'!C38","v":45},13256]
["LIMÓN",4,1424,3,86,{"$f":"+'13'!C79","v":39},15846]
[]
[]
["Fuente: Sección Padrón Electoral, Contraloría Electoral y Programa Electoral: Equipación de condiciones para el ejercicio del voto"]

{"sheet":"11","index":14,"n_rows":46,"n_cols":4,"rows_kept":46,"cut":false,"hidden":false,"merged":[[45,0,45,3],[1,0,1,3],[2,0,2,3],[3,0,3,3],[4,0,4,3]]}
[]
["CUADRO 11"]
["COSTA RICA: JUNTAS RECEPTORAS Y ELECTORADO EN CENTROS PENITENCIARIOS "]
["SEGÚN PROVINCIA Y DISTRITO ELECTORAL, ELECCIONES 2 DE FEBRERO DE 2014"]
[]
["CÓDIGO ELECTORAL","PROVINCIA Y DISTRITO ELECTORAL","NÚMERO DE JUNTAS","ELECTORADO"]
[]
[null,"COSTA RICA",{"$f":"+C10+C15+C27+C30+C33+C37+C40","v":30},{"$f":"+D10+D15+D27+D30+D33+D37+D40","v":8713}]
[]
[null,"SAN JOSÉ",{"$f":"SUM(C11:C13)","v":6},{"$f":"SUM(D11:D13)","v":2006}]
[101030,"C.P. CRISTO REY",2,652]
[103034,"C.P. SAN RAFAEL ARRIBA",2,528]
[119105,"C.P. PALMARES",2,826]
[]
[null,"ALAJUELA",{"$f":"SUM(C16:C25)","v":13},{"$f":"SUM(D16:D25)","v":3371}]
[201058,"C.P. TALLERES INDUSTRIALES",1,169]
[201059,"C.P. SAN RAFAEL",1,415]
[201060,"C.P. ÁMBITO B (MÍNIMA)",2,459]
[201062,"C.P. ÁMBITO C (MEDIANA ABIERTA)",1,434]
[201063,"C.P. ÁMBITOS D (MEDIANA CERRADA) E (MÁXIMA)",1,380]
[201064,"C.P. GERARDO RODRÍGUEZ ECHEVERRÍA",2,744]
[201065,"C.P. ADULTO MAYOR",1,138]
[201071,"C.P. ADULTO JOVEN",1,66]
[202043,"C.P. SAN RAMÓN",1,110]
[210093,"C.P. PALMERA (LA MARINA)",2,456]
[]
[null,"CARTAGO",{"$f":"SUM(C28)","v":2},{"$f":"SUM(D28)","v":640}]
[301032,"C.P. SAN FRANCISCO",2,640]
[]
[null,"HEREDIA",{"$f":"SUM(C31)","v":1},{"$f":"SUM(D31)","v":17}]
[401018,"C.P. SAN AGUSTÍN",1,17]
[]
[null,"GUANACASTE",{"$f":"SUM(C34:C35)","v":2},{"$f":"SUM(D34:D35)","v":686}]
[501011,"C.P. LIBERIA (MODULO B CASITAS)",1,314]
[501022,"C.P. LIBERIA (MODULO D1-D2)",1,372]
[]
[null,"PUNTARENAS",{"$f":"SUM(C38)","v":2},{"$f":"SUM(D38)","v":569}]
[601094,"C.P. EL ROBLE",2,569]
[]
[null,"LIMÓN",{"$f":"SUM(C41:C43)","v":4},{"$f":"SUM(D41:D43)","v":1424}]
[701037,"C.P.RÍO BLANCO [SANDOVAL]",2,620]
[702035,"C.P. ROXANA (MODULOS A-B-C)",1,482]
[702049,"C.P. ROXANA (MODULOS D-E)",1,322]
[]
[]
["Fuente: Sección Padrón Electoral, Contraloría Electoral y Programa Electoral: Equipación de condiciones para el ejercicio del voto"]

{"sheet":"12","index":15,"n_rows":64,"n_cols":4,"rows_kept":64,"cut":false,"hidden":false,"merged":[[63,0,63,3],[20,0,20,3],[1,0,1,3],[2,0,2,3],[3,0,3,3],[4,0,4,3]]}
[]
["CUADRO 12"]
[]
[" COSTA RICA: JUNTAS RECEPTORAS Y ELECTORADO EN HOGARES DE ANCIANOS, SEGÚN PROVINCIA"]
[" Y DISTRITO ELECTORAL, ELECCIONES 2 DE FEBRERO DE 2014"]
[]
["CÓDIGO ELECTORAL","PROVINCIA Y DISTRITO ELECTORAL","NÚMERO DE JUNTAS","ELECTORADO"]
[]
[null,"COSTA RICA",{"$f":"+C11+C22+C33+C37+C41+C48+C58","v":38},{"$f":"+D11+D22+D33+D37+D41+D48+D58","v":2112}]
[]
[null,"SAN JOSÉ",{"$f":"SUM(C12:C20)","v":9},{"$f":"SUM(D12:D20)","v":606}]
[103036,"H.A. OFELIA CARVAJAL DE NARANJO",1,71]
[103037,"H.A. SAN CAYETANO",1,50]
[104045,"H.A. CORAZÓN DE JESÚS",1,53]
[105016,"H.A. LOS SANTOS",1,64]
[106024,"H.A. SAN FRANCISCO DE ASÍS",1,37]
[108002,"H.A.CARLOS MARÍA ULLOA",1,173]
[112031,"H.A. ACOSTA",1,39]
[114006,"H.A. CASA NAZARETH",1,39]
[119108,"H.A. MONS.DELFÍN QUESADA CASTRO",1,80]
[0]
[null,"ALAJUELA",{"$f":"SUM(C23:C31)","v":9},{"$f":"SUM(D23:D31)","v":663}]
[201066,"H.A. SANTIAGO CRESPO CALVO",1,190]
[202045,"H.A. SAN RAMÓN",1,54]
[203045,"H.A. JAFETH JIMÉNEZ MORALES",1,87]
[205016,"H.A. HORTENSIA RODRÍGUEZ S.DE B.",1,63]
[206022,"H.A. JOSÉ DEL OLMO",1,45]
[207009,"H.A. PALMARES",1,61]
[209012,"H.A. PRESB.JESÚS MARÍA VARGAS",1,34]
[210094,"H.A. SAN VICENTE DE PAÚL",1,71]
[211012,"H.A. SAN RAFAEL",1,58]
[null,null,null,0]
[null,"CARTAGO",{"$f":"SUM(C34:C35)","v":2},{"$f":"SUM(D34:D35)","v":184}]
[301033,"H.A. ASILO DE LA VEJEZ",1,105]
[305068,"H.A. SAN BUENAVENTURA",1,79]
[null,null,null,0]
[null,"HEREDIA",{"$f":"SUM(C38:C39)","v":2},{"$f":"SUM(D38:D39)","v":122}]
[402012,"H.A. REINA DE LOS ANGELES",1,18]
[409004,"H.A.ALFREDO Y DELIA GONZÁLEZ FLORES",1,104]
[null,null,null,0]
[null,"GUANACASTE",{"$f":"SUM(C42:C46)","v":5},{"$f":"SUM(D42:D46)","v":165}]
[501012,"H.A. LIBERIA",1,27]
[502084,"H.A. SAN BLAS",1,35]
[503045,"H.A. NUESTRA SEÑORA DEL ROSARIO",1,28]
[507023,"H.A. SAN JORGE",1,38]
[508024,"H.A. TILARÁN",1,37]
[null,null,null,0]
[null,"PUNTARENAS",{"$f":"SUM(C49:C56)","v":8},{"$f":"SUM(D49:D56)","v":286}]
[601103,"H.A. MIGUEL MORENO",1,36]
[601106,"H.A. MARÍA INMACULADA",1,37]
[602018,"H.A. CARLOS VENEGAS",1,33]
[604014,"H.A. FRAY CASIANO DE MADRID",1,40]
[605037,"H. A. PALMAR SUR",1,40]
[607037,"H. A. GOLFITO",1,25]
[608045,"H.A. COTO BRUS",1,34]
[610030,"H.A. NEILY",1,41]
[null,null,null,0]
[null,"LIMÓN",{"$f":"SUM(C59:C61)","v":3},{"$f":"SUM(D59:D61)","v":86}]
[701038,"H.A. VÍCTOR CASCO TORRES",1,32]
[702037,"H.A. GUÁPILES",1,37]
[704021,"H.A. SANTA LUISA",1,17]
[]
[]
["Fuente: Sección Padrón Electoral, Contraloría Electoral y Programa Electoral: Equipación de condiciones para el ejercicio del voto"]

{"sheet":"13","index":16,"n_rows":107,"n_cols":4,"rows_kept":107,"cut":false,"hidden":false,"merged":[[106,0,106,3],[1,0,1,3],[2,0,2,3],[3,0,3,3],[4,0,4,3]]}
[]
["CUADRO 13"]
[" COSTA RICA: JUNTAS RECEPTORAS Y ELECTORADO EN ZONAS INDÍGENAS, SEGÚN PROVINCIA"]
[" Y DISTRITO ELECTORAL, ELECCIONES 2 DE FEBRERO DE 2014"]
[]
["CÓDIGO ELECTORAL","PROVINCIA Y DISTRITO ELECTORAL","NÚMERO DE JUNTAS","ELECTORADO"]
[]
[null,"COSTA RICA",{"$f":"+C10+C16+C21+C34+C38+C79","v":106},{"$f":"+D10+D16+D21+D34+D38+D79","v":35041}]
[]
[null,"SAN JOSÉ",{"$f":"SUM(C11:C14)","v":5},{"$f":"SUM(D11:D14)","v":1499}]
[104024,"ZAPATÓN (SAN CARLOS)",1,328]
[104044,"BAJO REY",1,45]
[107014,"QUITIRRISI",2,851]
[119069,"CHINA KICHA",1,275]
[]
[null,"ALAJUELA",{"$f":"SUM(C17:C19)","v":3},{"$f":"SUM(D17:D19)","v":858}]
[215003,"MARGARITA",1,230]
[215008,"PATASTE",1,307]
[215010,"TONJIBE",1,321]
[]
[null,"CARTAGO",{"$f":"SUM(C22:C32)","v":12},{"$f":"SUM(D22:D32)","v":2829}]
[305017,"GRANO DE ORO O XARA",2,668]
[305057,"SIMIRIÑAC (JACUY)",1,249]
[305058,"DUCLAC (ALTO PACUARE)",1,156]
[305059,"JAKI (CAPILLA DOS CHIRRIPO ARRIBA)",1,295]
[305060,"BOLORI-ÑAC (CAPILLA UNO)",1,254]
[305061,"NIMARI-ÑAC (RIO PEJE)",1,215]
[305062,"NAMALDI",1,99]
[305063,"TSIPIRI (QUEBRADA PLATANILLO)",1,411]
[305073,"QUETZAL",1,256]
[305075,"JAMÖ (SITIO HILDA PARTE OESTE)",1,62]
[305076,"JAKUI",1,164]
[]
[null,"GUANACASTE",{"$f":"SUM(C35:C36)","v":2},{"$f":"SUM(D35:D36)","v":753}]
[502080,"MATAMBUGUITO",1,167]
[511011,"MATAMBU",1,586]
[]
[null,"PUNTARENAS",{"$f":"SUM(C39:C77)","v":45},{"$f":"SUM(D39:D77)","v":13256}]
[603003,"SALITRE",1,361]
[603006,"BORUCA",2,1120]
[603007,"LAS PILAS",1,129]
[603008,"COLINAS",1,345]
[603011,"CURRE",1,350]
[603014,"UJARRAS",2,776]
[603019,"BAJO LAS BRISAS",2,696]
[603022,"TÉRRABA",1,511]
[603023,"SAN RAFAEL DE CABAGRA",2,686]
[603024,"PASO REAL",1,51]
[603027,"BIJAGUAL",1,457]
[603028,"CAJÓN",1,251]
[603029,"GUAGARAL",1,227]
[603030,"MAIZ DE BORUCA",1,364]
[603031,"CHÁNGUENA",1,258]
[603032,"PILÓN",1,430]
[603033,"LAS VEGAS DE RIO CHANGUENA",1,88]
[603034,"LA BONGA",1,257]
[603035,"SAN VICENTE",1,125]
[603036,"PARAÍSO",1,202]
[603041,"PUENTE DE SALITRE",1,305]
[603042,"SAN ANTONIO",1,283]
[603051,"SHAMBA",1,191]
[603052,"CAÑO BRAVO",1,110]
[605035,"EL PROGRESO",1,111]
[605038,"ALTO LAGUNA",1,165]
[607021,"LA PEÑA DE BURICA",1,191]
[607024,"GUAYMI DE BORUCA",1,182]
[607025,"ALTO CONTE (MOLO DUBTDO)",1,247]
[607027,"PROGRESO DE CONTEBURICA",1,170]
[608016,"SAN GERARDO",1,131]
[608042,"LA CASONA (GUAYMI)",2,827]
[610003,"BAJO LOS INDIOS",1,218]
[610006,"ABROJO NORTE",1,558]
[610012,"BARRIO NUEVO DE VERACRUZ",2,678]
[610020,"CARACOL DE LA VACA",1,419]
[610021,"VEREH",1,394]
[610026,"VEGAS DE RIO LA VACA (NIBIRIBOTDA)",1,140]
[610027,"ABROJO MONTEZUMA",1,252]
[]
[null,"LIMÓN",{"$f":"SUM(C80:C104)","v":39},{"$f":"SUM(D80:D104)","v":15846}]
[701009,"VESTA",1,561]
[701021,"BOCUARE",1,230]
[701034,"ALTO CWEN",1,342]
[701035,"XIQUIARI",1,511]
[701036,"SINOLI",1,149]
[701040,"CONCEPCIÓN",1,494]
[701042,"ALMIRANTE",1,259]
[701043,"GAVILÁN (SHICALARBATA)",1,458]
[701044,"JAKÜE (SITIO HILDA PARTE ESTE)",1,40]
[703004,"PACUARITO",2,677]
[703033,"ALTO LAS BRISAS DE PACUARITO",1,113]
[704001,"BRATSI (BAMBU O DON DIEGO)",1,411]
[704002,"AMUBRI",3,1750]
[704003,"COROMA (COLOGCHA)",1,336]
[704006,"PUERTO VIEJO",3,1250]
[704007,"BRIBRI (FIELDS)",5,2565]
[704008,"SHIROLES (XIROLES)",3,1668]
[704012,"HOME CREEK",3,1529]
[704013,"KATSI",1,575]
[704015,"SEPEQUE",2,906]
[704019,"SIBUJU",1,269]
[704020,"TELIRE (BLEY)",1,192]
[704022,"YORKIN",1,182]
[704023,"JAKCATACLA (MESA DE PIEDRA)",1,158]
[705017,"PALMERA (CASTSAQIBI)",1,221]
[]
[]
["Fuente: Sección Padrón Electoral, Programa Electoral: Equipación de condiciones para el ejercicio del voto"]

{"sheet":"14","index":17,"n_rows":38,"n_cols":2,"rows_kept":38,"cut":false,"hidden":false,"merged":[[1,0,1,1]]}
[]
["CUADRO 14"]
["COSTA RICA: PARTIDOS POLÍTICOS QUE PARTICIPAN EN LAS ELECCIONES"]
["SEGÚN ESCALA, ELECCIONES 2 DE FEBRERO 2014"]
[]
["NOMBRE","DIVISA"]
[]
["ESCALA NACIONAL"]
[]
["ACCESIBILIDAD SIN EXCLUSIÓN"]
["ACCIÓN CIUDADANA"]
["ALIANZA PATRÓTICA 1/"]
["AVANCE NACIONAL"]
["FRENTE AMPLIO"]
["INTEGRACIÓN NACIONAL"]
["LIBERACIÓN NACIONAL"]
["MOVIMIENTO LIBERTARIO"]
["NUEVA GENERACIÓN"]
["PATRIA NUEVA"]
["PARTIDO DE LOS TRABAJADORES"]
["RENOVACIÓN COSTARRICENSE"]
["RESTAURACIÓN NACIONAL"]
["UNIDAD SOCIAL CRISTIANA"]
[]
["ESCALA PROVINCIAL"]
[]
["ALIANZA DEMÓCRATA CRISTIANA"]
["DE LOS TRANSPORTISTAS"]
["NUEVO PARTIDO SOCIALISTA"]
["PATRIA, IGUALDAD Y DEMOCRACIA"]
["PATRIA, IGUALDAD Y DEMOCRACIA PUNTARENAS"]
["VERDE"]
["VIVA PUNTARENAS"]
[]
[]
["1/ El partido solo postula candidaturas a diputaciones, cuatro en San José y tres en Alajuela."]
[]
["Fuente:  Tribunal Supremo de Elecciones."]

{"sheet":"15","index":18,"n_rows":19,"n_cols":2,"rows_kept":19,"cut":false,"hidden":false,"merged":[[6,0,7,0],[6,1,7,1],[16,0,16,1]]}
[]
["CUADRO 15"]
[" COSTA RICA: MONTO PRESUPUESTADO POR EL TRIBUNAL SUPREMO DE ELECCIONES "]
["PARA LAS ELECCIONES GENERALES DE 2014, SEGÚN AÑO "]
["(MONTOS EN COLONES)"]
[]
["AÑO","MONTO PRESUPUESTADO"]
[]
[]
["TOTAL",{"$f":"+B13+B149+B12","v":6450936000}]
[]
[2012,2300000000]
[2013,4150936000]
["2014 1/",4349539000]
[]
[]
["1/ Para la eventualidad de tener que organizar una segunda vuelta de la elección presidencial se presupuestaron adicionalmente ¢ 2 373 548 100."]
[" "]
["Fuente: Dirección Ejecutiva del Tribunal Supremo de Elecciones."]

{"sheet":"16","index":19,"n_rows":59,"n_cols":3,"rows_kept":59,"cut":false,"hidden":false,"merged":[[1,0,1,2],[2,0,2,2],[3,0,3,2],[5,0,6,0],[5,1,6,1],[5,2,6,2]]}
[]
["CUADRO 16"]
["COSTA RICA: DONACIONES REPORTADAS PARA EL PROCESO ELECTORAL 2010-2014 1/ "]
["SEGÚN PARTIDO POLÍTICO, AL 30 DE NOVIEMBRE DE 2013"]
[]
["PARTIDO POLÍTICO","MONTO EN COLONES","PORCENTAJE"]
[]
[]
["TOTAL ",{"$f":"SUM(B11:B50)","v":1369814084.6999998},{"$f":"SUM(C11:C50)","v":100}]
[]
["ACCESIBILIDAD SIN EXCLUSIÓN",7670000,{"$f":"+B11/$B$9*100","v":0.55992999967435664}]
["ACCIÓN CANTONAL SIQUIRRES INDEPENDIENTE",616000,{"$f":"+B12/$B$9*100","v":4.4969606231995266E-2}]
["ACCIÓN CIUDADANA",108125493.59999999,7.893442972130071]
["ACCIÓN NARANJEÑA",48000,3.5041251609346956E-3]
["ACCIÓN QUEPEÑA",220000,1.6060573654284021E-2]
["ACUERDO CANTONAL DESAMPARADEÑO",4263500,0.31124661715927243]
["ALIANZA PATRIOTICA",125000,9.1253259399341046E-3]
["ALIANZA ZARCEREÑA",50000,3.6501303759736412E-3]
["AUTÓNOMO OROMONTANO",795000,5.8037072977980907E-2]
["BARVA UNIDA (COALICIÓN)",500000,3.6501303759736418E-2]
["CARTAGO UNIDO (COALICIÓN)",2022000,0.14761127240437408]
["CÍVICO TIBÁS FUENTEOVEJUNA",370000,2.7010964782204945E-2]
["CURRIDABAT SIGLO XXI",2816050,0.20557899290521145]
["DE LOS TRANSPORTISTAS",1275000,9.3078324587327857E-2]
["DEL SOL",8142809.3499999996,0.59444631508394363]
["EL PUENTE Y LOS CAMINOS DE MORA",2283140,0.16667517333200921]
["FRENTE AMPLIO",159366282.65000001,11.634154184135323]
["GOICOCHEA EN ACCIÓN",1426000,0.10410171832276825]
["INDEPENDIENTE BELEMITA",2987000,0.21805878866066533]
["INTEGRACIÓN BARBAREÑA",707222.45,5.1629082946309995E-2]
["INTEGRACIÓN NACIONAL",59320000,4.3305146780551285]
["LIBERACIÓN NACIONAL",344855199.75,25.175328798398656]
["MONTES DE OCA UNIDA (COALICIÓN)",864000,6.3074252896824529E-2]
["MOVIMIENTO AVANCE SANTO DOMINGO",9276818.4000000004,0.67723193268462389]
["MOVIMIENTO DE TRABAJADORES Y CAMPESINOS",2608584.0499999998,0.1904334375837069]
["MOVIMIENTO LIBERTARIO",264676440.78999999,19.32207032664336]
["NUEVA GENERACIÓN",3282066.75,0.23959943080296175]
["ORGANIZACIÓN LABORISTA DE AGUIRRE",367000,2.6791956959646531E-2]
["PATRIA NUEVA",2978000,0.21740176519299009]
["RAMONENSE (COALICIÓN)",30000,2.1900782255841848E-3]
["RENOVACIÓN COSTARRICENSE",46175245,3.3709132878505002]
["RENOVEMOS ALAJUELA",677000,4.942276529068311E-2]
["RESTAURACIÓN NACIONAL",19574560,1.428993921046372]
["ÚNICO ABANGAREÑO",100000,7.3002607519472825E-3]
["UNIDAD SOCIAL CRISTIANA",289018364.13999999,21.0990942032325]
["UNIDOS POR SAN CARLOS (COALICIÓN)",1719000,0.12549148232597379]
["UNIÓN ATENIENSE",165000,1.2045430240713018E-2]
["UNIÓN PALMAREÑA",1509427.77,0.11019216307230312]
["VERDE",1050000,7.6652737895446479E-2]
["YUNTA PROGRESISTA ESCAZUCEÑA",17758880,1.2964445466254158]
[" "]
[]
["1/ Donaciones recibidas, reportadas por los partidos políticos a partir del mes de abril de 2006, a la fecha de cierre de este "]
["   boletín se encontraba en proceso de depuración las contribuciones del PLN, de igual forma se han enviado prevenciones   "]
["   al PAC,PUSC,PLN y ML, por inconsistencia en algunos de los reportes presentados."]
[]
["Nota: El detalle de los contribuyentes se puede consultar en  www.tse.go.cr"]
[]
["Fuente: Departamento de Financiamiento de Partidos Políticos del Tribunal Supremo de Elecciones."]

{"sheet":"17","index":20,"n_rows":25,"n_cols":4,"rows_kept":25,"cut":false,"hidden":false,"merged":[[3,0,3,3],[4,0,4,3],[0,0,0,3],[17,0,18,3],[2,0,2,3]]}
["CUADRO 17"]
[]
["COSTA RICA: DONACIONES REPORTADAS PARA EL PROCESO ELECTORAL 2010-20141/ "]
["POR TIPO DE PERSONA 2/,  SEGÚN AÑO, DEL 1° DE MARZO 2010 \nAL 30 DE NOVIEMBRE DE  2013"]
["AL 30 DE NOVIEMBRE DE  2013"]
[]
["AÑO","TOTAL","FÍSICA","EXTRANJERA 3/"]
[]
["TOTAL ",{"$f":"B10+B11+B12+B13","v":1369814084.7},1369763774.7,50310]
[2010,{"$f":"+C10+D10","v":519542172.57999998},519491862.57999998,50310]
[2011,{"$f":"+C11+D11","v":164479928.07999998},164479928.07999998,0]
[2012,{"$f":"+C12+D12","v":183358518.59999999},183358518.59999999,0]
[2013,{"$f":"+C13+D13","v":502433465.44},502433465.44,0]
[]
[]
["1/ Donaciones recibidas, reportadas por los partidos políticos a partir del mes de marzo de 2010."]
[]
["2/ De acuerdo con los artículos 128 y 129 del Código Electoral, publicado el 2 de setiembre en el Diario Oficial La Gaceta que se prohibe la contribución de extranjeros, personas jurídicas y depositadas fuera del país."]
[]
[]
["3/ En proceso de emisión documento sobre estudio realizado."]
[]
["Nota: El detalle de los contribuyentes se puede consultar en www.tse.go.cr"]
[]
["Fuente: Departamento de Financiamiento de Partidos Políticos del Tribunal Supremo de Elecciones."]

{"sheet":"18","index":21,"n_rows":26,"n_cols":6,"rows_kept":26,"cut":false,"hidden":false,"merged":[[23,0,23,5],[21,0,21,5],[19,0,19,5],[18,0,18,1],[1,0,1,5],[2,0,2,5],[3,0,3,5],[15,0,15,5],[17,0,17,5]]}
[]
["CUADRO 18"]
["COSTA RICA: FISCALIZACIÓN DE LOS PARTIDOS POLÍTICOS, POR AÑO"]
["SEGÚN TIPO DE FISCALIZACIÓN 1/, AL 31 DE DICIEMBRE DE 2013"]
[]
["TIPO DE FISCALIZACIÓN","TOTAL",2010,"2011 3/","2012  4/","2013 5/"]
[]
["TOTAL ",{"$f":"SUM(B9:B13)","v":167},{"$f":"SUM(C9:C13)","v":10},43,55,62]
["AUDITORÍA",null,null,null,null,3]
["ANÁLISIS DE LIQUIDACIONES 2/",{"$f":"SUM(C10:F10)","v":70},10,37,0,23]
["DENUNCIAS",{"$f":"SUM(C11:F11)","v":51},0,4,37,10]
["ESTUDIOS ESPECIALES",25,0,2,2,21]
["ESTUDIOS DE ASESORÍA",21,0,0,16,5]
[]
[]
["1/ Los tipos de fiscalización que realiza el Departamento de Financiamiento de Partidos Políticos, responden a las atribuciones funcionales establecidas en el Código Electoral y el Reglamento sobre el Financiamiento de los Partidos Polítcos."]
[]
["2/ En análisis de liquidaciones, se muestran los datos correspondientes a los informes emitidos. En algunas liquidaciones se emitieron dos infomes por liquidación y en otros casos en un informe se resolvió sobre varias liquidaciones de un mismo partido."]
[]
["3/ El análisis de liquidaciones contempla la emisión de 1 informe de liquidación presidencial, 11 trimestrales y 25 municipales.  "]
[]
["4/ El análisis de liquidaciones contempla la emisión de 29 informes de liquidaciones trimestrales y 8 municipales."]
[]
["5/ El análisis de liquidaciones contempla la emisión de informes de liquidaciones trimestrales."]
[]
["Fuente: Departamento de Financiamiento de Partidos Políticos del Tribunal Supremo de Elecciones."]

{"sheet":"19","index":22,"n_rows":24,"n_cols":13,"rows_kept":24,"cut":false,"hidden":false,"merged":[[5,0,6,0],[5,1,5,3],[5,4,5,6],[5,7,5,9],[5,10,5,12]]}
[]
["CUADRO 19"]
["COSTA RICA: CANDIDATURAS INSCRITAS A PRESIDENCIA Y VICEPRESIDENCIAS, POR SEXO"]
["SEGÚN GRUPOS DE EDAD, ELECCIONES 2 DE FEBRERO DE 2014"]
[]
["GRUPOS DE EDAD","TOTAL",null,null,"PRESIDENCIA",null,null,"1º VICEPRESIDENCIA",null,null,"2º VICEPRESIDENCIA"]
[null,"TOTAL","HOMBRES","MUJERES","TOTAL","HOMBRES","MUJERES","TOTAL","HOMBRES","MUJERES","TOTAL","HOMBRES","MUJERES"]
[]
["TOTAL",{"$f":"SUM(B11:B21)","v":39},{"$f":"SUM(C11:C21)","v":26},{"$f":"SUM(D11:D21)","v":13},{"$f":"SUM(E11:E21)","v":13},{"$f":"SUM(F11:F21)","v":13},0,13,4,9,13,9,4]
[]
["30 - 34        ",3,2,1,0,0,0,1,0,1,2,2,0]
["35 - 39        ",3,3,0,2,2,0,0,0,0,1,1,0]
["40 - 44        ",2,2,0,1,1,0,0,0,0,1,1,0]
["45 - 49        ",3,1,2,1,1,0,1,0,1,1,0,1]
["50 - 54        ",3,1,2,1,1,0,0,0,0,2,0,2]
["55 - 59        ",10,5,5,5,5,0,4,0,4,1,0,1]
["60 - 64        ",6,5,1,2,2,0,2,1,1,2,2,0]
["65 - 69        ",4,2,2,0,0,0,4,2,2,0,0,0]
["70 - 74        ",3,3,0,0,0,0,1,1,0,2,2,0]
["75 - 79        ",1,1,0,1,1,0,0,0,0,0,0,0]
["80 - 84        ",1,1,0,0,0,0,0,0,0,1,1,0]
[]
[]
["Fuente: Departamento de Registro de Partidos Políticos del Tribunal Supremo de Elecciones."]

{"sheet":"20","index":23,"n_rows":47,"n_cols":15,"rows_kept":47,"cut":false,"hidden":false,"merged":[[1,0,1,9],[6,0,7,0],[6,1,6,3],[6,4,6,6],[6,7,6,9]]}
[]
["CUADRO 20"]
[]
[" COSTA RICA: CANDIDATURAS INSCRITAS A DIPUTACIONES EN PROPIEDAD Y SUPLENCIA, POR SEXO"]
["SEGÚN GRUPOS DE EDAD, ELECCIONES 2 DE FEBRERO 2014"]
[]
["GRUPOS DE EDAD","DIPUTACIONES",null,null,"EN PROPIEDAD",null,null,"EN SUPLENCIA"]
[null,"TOTAL","HOMBRES","MUJERES","TOTAL","HOMBRES","MUJERES","TOTAL","HOMBRES","MUJERES"]
[]
["TOTAL",{"$f":"SUM(B11:B24)","v":1052},{"$f":"SUM(C11:C24)","v":544},508,806,423,383,246,121,125]
["18 - 24",91,32,59,69,24,45,22,8,14]
["25 - 29",99,43,56,78,36,42,21,7,14]
["30 - 34",103,50,53,81,38,43,22,12,10]
["35 - 39",116,55,61,88,44,44,28,11,17]
["40 - 44",113,62,51,90,53,37,23,9,14]
["45 - 49",96,49,47,74,43,31,22,6,16]
["50 - 54",137,74,63,98,50,48,39,24,15]
["55 - 59",140,74,66,112,61,51,28,13,15]
["60 - 64",93,62,31,74,47,27,19,15,4]
["65 - 69",31,20,11,20,11,9,11,9,2]
["70 - 74",21,14,7,13,9,4,8,5,3]
["75 - 79",10,8,2,7,6,1,3,2,1]
["80 - 84",1,0,1,1,0,1,0,0,0]
["85 Y MÁS",1,1,0,1,1,0,0,0,0]
[]
[]
["Fuente: Departamento de Registro de Partidos Políticos del Tribunal Supremo de Elecciones."]
[]
[]
[]
[]
[null,null,null,null,null,null,null,null,null,null,null,"HOMBRES","MUJERES"]
[]
[null,null,null,null,null,null,null,null,null,null,null,32,-59,"18 - 24","18 - 24"]
[null,null,null,null,null,null,null,null,null,null,null,43,-56,"25 - 29","25 - 29"]
[null,null,null,null,null,null,null,null,null,null,null,50,-53,"30 - 34","30 - 34"]
[null,null,null,null,null,null,null,null,null,null,null,55,-61,"35 - 39","35 - 39"]
[null,null,null,null,null,null,null,null,null,null,null,62,-51,"40 - 44","40 - 44"]
[null,null,null,null,null,null,null,null,null,null,null,49,-47,"45 - 49","45 - 49"]
[null,null,null,null,null,null,null,null,null,null,null,74,-63,"50 - 54","50 - 54"]
[null,null,null,null,null,null,null,null,null,null,null,74,-66,"55 - 59","55 - 59"]
[null,null,null,null,null,null,null,null,null,null,null,62,-31,"60 - 64","60 - 64"]
[null,null,null,null,null,null,null,null,null,null,null,20,-11,"65 - 69","65 - 69"]
[null,null,null,null,null,null,null,null,null,null,null,14,-7,"70 - 74","70 - 74"]
[null,null,null,null,null,null,null,null,null,null,null,8,-2,"75 - 79","75 - 79"]
[null,null,null,null,null,null,null,null,null,null,null,0,-1,"80 - 84","80 - 84"]
[null,null,null,"                                                           ",null,null,null,null,null,null,null,1,0,"85 Y MÁS","85 Y MÁS"]

{"sheet":"G3","index":24,"n_rows":57,"n_cols":15,"rows_kept":57,"cut":false,"hidden":false,"merged":[[1,0,1,9],[6,0,7,0],[6,1,6,3],[6,4,6,6],[6,7,6,9]]}
[]
["CUADRO 20"]
[]
[" COSTA RICA: CANDIDATURAS INSCRITAS A DIPUTACIONES EN PROPIEDAD Y SUPLENCIA, POR SEXO"]
["SEGÚN GRUPOS DE EDAD, ELECCIONES 2 DE FEBRERO 2014"]
[]
["GRUPOS DE EDAD","DIPUTACIONES",null,null,"EN PROPIEDAD",null,null,"EN SUPLENCIA"]
[null,"TOTAL","HOMBRES","MUJERES","TOTAL","HOMBRES","MUJERES","TOTAL","HOMBRES","MUJERES"]
[]
["TOTAL",{"$f":"SUM(B11:B24)","v":1052},{"$f":"SUM(C11:C24)","v":544},508,806,423,383,246,121,125]
["18 - 24",91,32,59,69,24,45,22,8,14]
["25 - 29",99,43,56,78,36,42,21,7,14]
["30 - 34",103,50,53,81,38,43,22,12,10]
["35 - 39",116,55,61,88,44,44,28,11,17]
["40 - 44",113,62,51,90,53,37,23,9,14]
["45 - 49",96,49,47,74,43,31,22,6,16]
["50 - 54",137,74,63,98,50,48,39,24,15]
["55 - 59",140,74,66,112,61,51,28,13,15]
["60 - 64",93,62,31,74,47,27,19,15,4]
["65 - 69",31,20,11,20,11,9,11,9,2]
["70 - 74",21,14,7,13,9,4,8,5,3]
["75 - 79",10,8,2,7,6,1,3,2,1]
["80 - 84",1,0,1,1,0,1,0,0,0]
["85 Y MÁS",1,1,0,1,1,0,0,0,0]
[]
[]
["Fuente: Departamento de Registro de Partidos Políticos del Tribunal Supremo de Elecciones."]
[]
[]
[]
[]
[null,null,null,null,null,null,null,null,null,null,null,"HOMBRES","MUJERES"]
[]
[null,null,null,null,null,null,null,null,null,null,null,32,-59,"18 - 24","18 - 24"]
[null,null,null,null,null,null,null,null,null,null,null,43,-56,"25 - 29","25 - 29"]
[null,null,null,null,null,null,null,null,null,null,null,50,-53,"30 - 34","30 - 34"]
[null,null,null,null,null,null,null,null,null,null,null,55,-61,"35 - 39","35 - 39"]
[null,null,null,null,null,null,null,null,null,null,null,62,-51,"40 - 44","40 - 44"]
[null,null,null,null,null,null,null,null,null,null,null,49,-47,"45 - 49","45 - 49"]
[null,null,null,null,null,null,null,null,null,null,null,74,-63,"50 - 54","50 - 54"]
[null,null,null,null,null,null,null,null,null,null,null,74,-66,"55 - 59","55 - 59"]
[null,null,null,null,null,null,null,null,null,null,null,62,-31,"60 - 64","60 - 64"]
[null,null,null,null,null,null,null,null,null,null,null,20,-11,"65 - 69","65 - 69"]
[null,null,null,null,null,null,null,null,null,null,null,14,-7,"70 - 74","70 - 74"]
[null,null,null,null,null,null,null,null,null,null,null,8,-2,"75 - 79","75 - 79"]
[null,null,null,null,null,null,null,null,null,null,null,0,-1,"80 - 84","80 - 84"]
[null,null,null,"                                                           ",null,null,null,null,null,null,null,1,0,"85 Y MÁS","85 Y MÁS"]
[]
[]
[]
[]
[]
[]
[]
[]
[]
["Fuente: Cuadro 20."]

{"sheet":"21","index":25,"n_rows":33,"n_cols":10,"rows_kept":33,"cut":false,"hidden":false,"merged":[[1,0,1,9],[5,7,5,9],[5,0,6,0],[5,1,5,3],[5,4,5,6]]}
[]
["CUADRO 21"]
[" COSTA RICA: EDAD PROMEDIO A FEBRERO DE LOS CANDIDATOS/AS INSCRITOS/AS A DIPUTACIONES EN PROPIEDAD Y SUPLENCIA"]
["POR SEXO, SEGÚN PARTIDO POLÍTICO, ELECCIONES 2 DE FEBRERO 2014"]
[]
["PARTIDO POLÍTICO","DIPUTACIONES",null,null,"EN PROPIEDAD",null,null,"EN SUPLENCIA"]
[null,"TOTAL","HOMBRES","MUJERES","TOTAL","HOMBRES","MUJERES","TOTAL","HOMBRES","MUJERES"]
[]
["TOTAL",44.660646387832735,46.707720588235311,42.468503937007888,44.476426799007463,46.238770685579162,42.530026109660547,45.264227642276438,48.347107438016536,42.280000000000015]
["ACCESIBILIDAD SIN EXCLUSIÓN",47.013698630137007,48.94285714285715,45.236842105263158,47.087719298245624,48.535714285714278,45.689655172413786,46.75,50.571428571428569,43.777777777777779]
["ACCIÓN CIUDADANA",47.840000000000011,48.567567567567558,47.131578947368418,48.473684210526315,47.310344827586214,49.678571428571438,45.833333333333336,53.125,40]
["ALIANZA DEMÓCRATA CRISTITNA",45.555555555555557,52,37.5,44.142857142857146,49.5,37,50.5,62,39]
["ALIANZA PATRIÓTICA",45.428571428571431,43.25,48.333333333333336,45.428571428571431,43.25,48.333333333333336,0,0,0]
["AVANCE NACIONAL",47.081081081081081,50.000000000000014,43.647058823529406,45.491228070175453,48.838709677419352,41.499999999999993,52.411764705882355,54,50.625]
["DE LOS TRABAJADORES",33.081081081081088,36.150000000000006,29.47058823529412,33.543859649122808,37.700000000000003,28.925925925925927,31.52941176470588,31.5,31.571428571428573]
["DE LOS TRANSPORTISTAS",45.333333333333343,51.769230769230766,37.727272727272727,42.578947368421062,50.900000000000006,33.333333333333336,55.8,54.666666666666664,57.5]
["FRENTE AMPLIO",45.319999999999986,47.051282051282058,43.44444444444445,44.105263157894726,44.333333333333336,43.851851851851855,49.166666666666671,56.111111111111114,42.222222222222229]
["INTEGRACIÓN NACIONAL",48.347826086956509,51.588235294117659,45.2,48.788461538461533,51.730769230769234,45.846153846153847,47,51.125,43.333333333333343]
["LIBERACIÓN NACIONAL",46.186666666666682,46.243243243243242,46.131578947368418,46.210526315789465,45.724137931034491,46.714285714285708,46.111111111111114,48.125,44.499999999999993]
["MOVIMIENTO LIBERTARIO",42.256756756756772,44.67567567567567,39.837837837837839,42.446428571428577,45.068965517241374,39.629629629629633,41.666666666666664,43.25,40.400000000000006]
["NUEVA GENERACIÓN",75,1,37,0.49333333333333335,38,0.5066666666666666,57,1,28]
["NUEVO PARTIDO SOCIALISTA",25.750000000000004,26.75,24.75,26.333333333333336,27.666666666666668,25,24,24,24]
["PATRIA NUEVA",48.536231884057983,52.131578947368425,44.12903225806452,46.351851851851855,49.965517241379295,42.160000000000004,56.399999999999991,59.111111111111121,52.333333333333329]
["PATRIA, IGUALDAD Y DEMOCRACIA",47.000000000000007,50.416666666666664,43.583333333333336,47.842105263157897,52.1,43.111111111111114,43.8,42,45]
["PATRIA, IGUALDAD Y DEMOCRACIA DE PUNTARENAS",47.142857142857146,47.5,46.666666666666664,49.2,49,49.5,42,43,41]
["RENOVACIÓN COSTARRICENSE",49.253333333333337,52.38461538461538,45.861111111111114,48.473684210526322,51.258064516129039,45.15384615384616,51.722222222222229,56.75,47.699999999999996]
["RESTAURACIÓN NACIONAL",42.405405405405411,42.46153846153846,42.342857142857135,42.964285714285708,41.800000000000004,44.307692307692307,40.666666666666664,44.666666666666664,36.666666666666664]
["UNIDAD SOCIAL CRISTIANA",46.399999999999984,48.449999999999989,44.05714285714285,47.31578947368422,48.645161290322591,45.730769230769226,43.5,47.777777777777786,39.222222222222214]
["VERDE",44.444444444444443,51.2,36,46.714285714285715,55.25,35.333333333333336,36.5,35,38]
["VIVA PUNTARENAS",44.285714285714285,46,42,44.2,44,44.5,44.5,52,37]
[]
[]
["Fuente: Departamento de Registro de Partidos Políticos del Tribunal Supremo de Elecciones."]

{"sheet":"22","index":26,"n_rows":19,"n_cols":4,"rows_kept":19,"cut":false,"hidden":false,"merged":[[1,0,1,3],[4,0,4,3]]}
[]
["CUADRO 22"]
[" COSTA RICA: CANDIDATURAS INSCRITAS A DIPUTACIONES"]
["POR AÑO DE ELECCIÓN, SEGÚN PROVINCIA"]
["ELECCIONES 2006, 2010 Y 2014"]
[]
["PROVINCIA",2006,2010,2014]
[]
["COSTA RICA",1167,{"$f":"SUM(C11:C17)","v":789},1052]
[]
["SAN JOSÉ",425,274,356]
["ALAJUELA",209,153,182]
["CARTAGO",162,106,134]
["HEREDIA",98,70,110]
["GUANACASTE",84,53,75]
["PUNTARENAS",91,63,105]
["LIMÓN",98,70,90]
[]
["Fuente: Departamento de Registro de Partidos Políticos del Tribunal Supremo de Elecciones."]

{"sheet":"23","index":27,"n_rows":18,"n_cols":6,"rows_kept":18,"cut":false,"hidden":false,"merged":[[1,0,1,5],[6,0,7,0],[6,1,7,1],[6,2,6,3],[6,4,6,5]]}
[]
["CUADRO 23"]
[" COSTA RICA: COMPOSICIÓN DE LAS PAPELETAS, POR SEXO, SEGÚN   "]
["TIPO DE CANDIDATURA, ELECCIONES 2 DE FEBRERO DE 2014"]
["(CIFRAS ABSOLUTAS Y RELATIVAS)"]
[]
["CANDIDATURAS","TOTAL","HOMBRES",null,"MUJERES"]
[null,null,"ABSOLUTO","%","ABSOLUTO","%"]
[]
["TOTAL",1091,570,52.245646196150318,521,47.754353803849682]
[]
["PRESIDENCIA",13,13,100,0,0]
["PRIMERA VICEPRESIDENCIA",13,4,30.76923076923077,9,69.230769230769226]
["SEGUNDA VICEPRESIDENCIA",13,9,69.230769230769226,4,30.76923076923077]
["DIPUTACIONES",1052,544,51.71102661596958,508,48.28897338403042]
[]
[]
["Fuente: Departamento de Registro de Partidos Políticos del Tribunal Supremo de Elecciones."]

{"sheet":"G4","index":28,"n_rows":25,"n_cols":11,"rows_kept":25,"cut":false,"hidden":false,"merged":[]}
[]
[]
[]
[null,null,null,null,null,null,null,null,"CANDIDATURAS","HOMBRES","MUJERES"]
[]
[null,null,null,null,null,null,null,null,"TOTAL",{"$f":"SUM(J8:J11)","v":570},{"$f":"SUM(K8:K11)","v":521}]
[]
[null,null,null,null,null,null,null,null,"DIPUTACIONES",{"$f":"'23'!C15","v":544},{"$f":"'23'!E15","v":508}]
[null,null,null,null,null,null,null,null,"SEGUNDA VICEPRESIDENCIA",{"$f":"'23'!C14","v":9},{"$f":"'23'!E14","v":4}]
[null,null,null,null,null,null,null,null,"PRIMERA VICEPRESIDENCIA",{"$f":"'23'!C13","v":4},{"$f":"'23'!E13","v":9}]
[null,null,null,null,null,null,null,null,"PRESIDENCIA",{"$f":"'23'!C12","v":13},{"$f":"'23'!E12","v":0}]
[]
[]
[]
[]
[]
[]
[]
[]
[]
[]
[]
[]
[]
["Fuente: Cuadro 23."]

{"sheet":"24","index":29,"n_rows":35,"n_cols":16,"rows_kept":35,"cut":false,"hidden":false,"merged":[[1,0,1,15],[3,0,3,15],[4,0,4,15],[7,2,7,3],[7,4,7,5],[7,7,7,8],[2,0,2,15],[7,9,7,10],[7,12,7,13],[7,14,7,15],[6,0,8,0],[7,1,8,1],[7,6,8,6],[7,11,8,11],[6,1,6,5],[6,6,6,10],[6,11,6,15]]}
[]
["CUADRO 24"]
[" COSTA RICA: CANDIDATURAS A DIPUTACIONES EN PROPIEDAD Y SUPLENCIA, POR SEXO"]
[" SEGÚN PARTIDO, ELECCIONES 2 DE FEBRERO DE 2014"]
["(CIFRAS ABSOLUTAS Y RELATIVAS)"]
[]
["PARTIDO","DIPUTACIONES",null,null,null,null,"EN PROPIEDAD",null,null,null,null,"EN SUPLENCIA"]
["PARTIDO POLITICO","TOTAL","HOMBRES",null,"MUJERES",null,"TOTAL","HOMBRES",null,"MUJERES",null,"TOTAL","HOMBRES",null,"MUJERES"]
[null,"ABS","ABS","%","ABS","%","ABS","ABS","%","ABS","%","ABS","ABS","%","ABS","%"]
[]
["TOTAL",1052,544,51.71102661596958,508,48.28897338403042,806,423,52.481389578163771,383,47.518610421836229,246,121,49.1869918699187,125,50.813008130081307]
["ACCESIBILIDAD SIN EXCLUSIÓN",73,35,47.945205479452056,38,52.054794520547944,57,28,49.122807017543863,29,50.87719298245613,16,7,43.75,9,56.25]
["ACCIÓN CIUDADANA",75,37,49.333333333333336,38,50.666666666666657,57,29,50.87719298245613,28,49.122807017543863,18,8,44.444444444444443,10,55.555555555555557]
["ALIANZA DEMÓCRATA CRISTITNA",9,5,55.555555555555557,4,44.444444444444443,7,4,57.142857142857153,3,42.857142857142854,2,1,50,1,50]
["ALIANZA PATRIÓTICA",7,4,57.142857142857153,3,42.857142857142854,7,4,57.142857142857153,3,42.857142857142854,0,0,0,0,0]
["AVANCE NACIONAL",74,40,54.054054054054056,34,45.945945945945944,57,31,54.385964912280691,26,45.614035087719301,17,9,52.941176470588239,8,47.058823529411768]
["DE LOS TRABAJADORES",74,40,54.054054054054056,34,45.945945945945944,57,30,52.631578947368418,27,47.368421052631582,17,10,58.82352941176471,7,41.176470588235297]
["DE LOS TRANSPORTISTAS",24,13,54.166666666666664,11,45.833333333333336,19,10,52.631578947368418,9,47.368421052631582,5,3,60,2,40]
["FRENTE AMPLIO",75,39,52,36,48,57,30,52.631578947368418,27,47.368421052631582,18,9,50,9,50]
["INTEGRACIÓN NACIONAL",69,34,49.275362318840578,35,50.724637681159422,52,26,50,26,50,17,8,47.058823529411768,9,52.941176470588239]
["LIBERACIÓN NACIONAL",75,37,49.333333333333336,38,50.666666666666657,57,29,50.87719298245613,28,49.122807017543863,18,8,44.444444444444443,10,55.555555555555557]
["MOVIMIENTO LIBERTARIO",74,37,50,37,50,56,29,51.785714285714278,27,48.214285714285715,18,8,44.444444444444443,10,55.555555555555557]
["NUEVA GENERACIÓN",75,38,50.666666666666657,37,49.333333333333336,57,29,50.87719298245613,28,49.122807017543863,18,9,50,9,50]
["NUEVO PARTIDO SOCIALISTA",8,4,50,4,50,6,3,50,3,50,2,1,50,1,50]
["PATRIA NUEVA",69,38,55.072463768115945,31,44.927536231884055,54,29,53.703703703703695,25,46.296296296296298,15,9,60,6,40]
["PATRIA, IGUALDAD Y DEMOCRACIA",24,12,50,12,50,19,10,52.631578947368418,9,47.368421052631582,5,2,40,3,60]
["PATRIA, IGUALDAD Y DEMOCRACIA DE PUNTARENAS",7,4,57.142857142857153,3,42.857142857142854,5,3,60,2,40,2,1,50,1,50]
["RENOVACIÓN COSTARRICENSE",75,39,52,36,48,57,31,54.385964912280691,26,45.614035087719301,18,8,44.444444444444443,10,55.555555555555557]
["RESTAURACIÓN NACIONAL",74,39,52.702702702702695,35,47.297297297297298,56,30,53.571428571428569,26,46.428571428571431,18,9,50,9,50]
["UNIDAD SOCIAL CRISTIANA",75,40,53.333333333333336,35,46.666666666666664,57,31,54.385964912280691,26,45.614035087719301,18,9,50,9,50]
["VERDE",9,5,55.555555555555557,4,44.444444444444443,7,4,57.142857142857153,3,42.857142857142854,2,1,50,1,50]
["VIVA PUNTARENAS",7,4,57.142857142857153,3,42.857142857142854,5,3,60,2,40,2,1,50,1,50]
[]
[]
["Fuente: Departamento de Registro de Partidos Políticos del Tribunal Supremo de Elecciones."]

{"sheet":"25","index":30,"n_rows":37,"n_cols":6,"rows_kept":37,"cut":false,"hidden":false,"merged":[[1,0,1,5],[2,0,2,5],[6,0,8,0],[6,1,8,1]]}
[]
["CUADRO 25"]
["  COSTA RICA: CANDIDATURAS A DIPUTACIONES EN PROPIEDAD Y SUPLENCIA, POR SEXO"]
["  SEGÚN PROVINCIA, ELECCIONES 2 DE FEBRERO DE 2014"]
["(CIFRAS ABSOLUTAS Y RELATIVAS)"]
[]
["PROVINCIA","TOTAL","DIPUTACIONES"]
[null,null,"HOMBRES",null,"MUJERES"]
[null,null,"ABS","%","ABS","%"]
[]
["COSTA RICA",1052,544,51.71102661596958,508,48.28897338403042]
["SAN JOSÉ",356,181,50.842696629213478,175,49.157303370786515]
["ALAJUELA",182,95,52.197802197802204,87,47.802197802197803]
["CARTAGO",134,71,52.985074626865682,63,47.014925373134325]
["HEREDIA",110,55,50,55,50]
["GUANACASTE",75,38,50.666666666666657,37,49.333333333333336]
["PUNTARENAS",105,56,53.333333333333336,49,46.666666666666664]
["LIMÓN",90,48,53.333333333333336,42,46.666666666666664]
["EN PROPIEDAD",806,423,52.481389578163771,383,47.518610421836229]
["SAN JOSÉ",284,146,51.408450704225352,138,48.591549295774648]
["ALAJUELA",145,78,53.793103448275872,67,46.206896551724135]
["CARTAGO",104,56,53.846153846153847,48,46.153846153846153]
["HEREDIA",82,41,50,41,50]
["GUANACASTE",52,26,50,26,50]
["PUNTARENAS",75,41,54.666666666666664,34,45.333333333333336]
["LIMÓN",64,35,54.6875,29,45.3125]
["EN SUPLENCIA",246,121,49.1869918699187,125,50.813008130081307]
["SAN JOSÉ",72,35,48.611111111111114,37,51.388888888888886]
["ALAJUELA",37,17,45.945945945945944,20,54.054054054054056]
["CARTAGO",30,15,50,15,50]
["HEREDIA",28,14,50,14,50]
["GUANACASTE",23,12,52.173913043478258,11,47.826086956521742]
["PUNTARENAS",30,15,50,15,50]
["LIMÓN",26,13,50,13,50]
[]
[]
["Fuente: Departamento de Registro de Partidos Políticos del Tribunal Supremo de Elecciones."]