{"text_format":"1","workbook":"xlsx","n_sheets":37,"sheets":["INICIO","MENUDATOS","1","G1","2","3","G2","4","5","6","7","8","9","10","11","12","13","14","15","16","17","18","19","20","21","G3","22","23","G4","24","25","26","27","28","G5","29","30"],"not_rendered":{"charts":5,"images":28,"macros":1,"external_links":0,"defined_names":126,"comments":0,"pivot_tables":0},"unopened":[],"bounds":{"document_bytes":16777216,"sheet_cells":100000,"rows_first":2000,"rows_last":500,"rows_between":2000,"halvings":0,"cell_chars":16384,"cell_head_chars":4096},"cells_cut":0,"cells_raw":0,"read":"whole","date_system":"1900"}

{"sheet":"INICIO","index":0,"n_rows":42,"n_cols":1,"rows_kept":42,"cut":false,"hidden":false,"merged":[]}
[]
[]
[]
[]
[]
[]
[]
[]
[]
[]
[]
[]
[]
[]
[]
[]
[]
[]
[]
[]
[]
[]
[]
[]
[]
[]
[]
[]
[]
[]
[]
[]
[]
[]
[]
[]
[]
[]
[]
[]
[]
["EN EL EXTRANJERO 1/"]

{"sheet":"MENUDATOS","index":1,"n_rows":51,"n_cols":3,"rows_kept":51,"cut":false,"hidden":true,"merged":[]}
["Cuadro 1","PADRÓN NACIONAL ELECTORA TOTAL Y VARIACIÓN  SEGÚN PROVINCIA Y SEXO",1]
["Gráfico 1","PADRÓN NACIONAL ELECTORAL, POR PROCESO ELECTORAL  SEGÚN PROVINCIA","G1"]
["Cuadro 2","COMPARATIVO PADRÓN ELECTORAL, FEBRERO 2010 Y 2014 ",2]
["Gráfico 2","DISTRIBUCIÓN DEL PADRÓN ELECTORAL POR SEXO Y GRUPOS DE EDAD","G2"]
["Cuadro 3","ELECTORADO POR PROVINCIA , SEGÚN SEXO Y GRUPOS DE EDAD",3]
["Cuadro 4","ELECTORADO EN EL EXTRANJETO POR SEXO SEGÚN CONTINENTE Y PAÍS",4]
["Cuadro 5","ELECTORADO EN EL EXTRANJETO POR SEXO SEGÚN CONSULADO",5]
["Cuadro 6","ELECTORADO NATURALIZADO POR PAÍS DE ORIGEN",6]
["Cuadro 7","PROMEDIO, MEDIANA Y MODA DE LA EDAD DE LOS ELECTORES/AS",7]
[null," ---- MENU PRINCIPAL ---- ","INICIO"]
[]
["Cuadro 8","CANTONES Y DISTRITOS ADMINISTRATIVOS Y ELECTORALES SEGÚN PROVINCIA",8]
["Cuadro 9","MOVIMIENTOS A LA DIVISIÓN TERRITORAIL ELECTORAL, SEGÚN PROVINCIA",9]
["Cuadro 10","JUNTAS ELECTORALES, CENTROS DE VOTACIÓN Y TRANSMISIÓN SEGÚN PROVINCIA",10]
["Cuadro 11","JUNTAS RECEPTORAS Y ELECTORADO  H. ANCIANOS, C.PENITENCIARIOS Y Z.INDIGENAS SEGÚN PROVINCIA",11]
["Cuadro 12","JUNTAS RECEPTORAS Y ELECTORADO  EN CENTROS PENITENCIARIOS SEGÚN PROVINCIA Y DISTRITO ELECTORAL",12]
["Cuadro 13","JUNTAS RECEPTORAS Y ELECTORADO  EN HOGARES DE ANCIANOS SEGÚN PROVINCIA Y DISTRITO ELECTORAL",13]
["Cuadro 14","JUNTAS RECEPTORAS Y ELECTORADO  EN ZONAS INDÍGENAS SEGÚN PROVINCIA Y DISTRITO ELECTORAL",14]
["Cuadro 15","JUNTAS RECEPTORAS Y ELECTORADO  EN CENTROS DE SALUD MENTAL SEGÚN PROVINCIA Y DISTRITO ELECTORAL",15]
[null," ---- MENU PRINCIPAL ---- ","INICIO"]
[]
["Cuadro 16","PARTIDOS POLÍTICOS QUE PARTICIPAN SEGÚN ESCALA",16]
["Cuadro 17","MONTO PRESUPUESTADO PARA LAS ELECCIONES SEGÚN AÑO",17]
["Cuadro 18","DONACIONES REPORTADAS SEGÚN AÑO",18]
["Cuadro 19","DONACIONES REPORTADAS SEGÚN PARTIDO POLÍTICO",19]
["Cuadro 20","FISCALIZACIÓN DE LOS PARTIDOS POLÍTICOS, POR AÑO, SEGÚN TIPO DE FISCALIZACIÓN",20]
[null," ---- MENU PRINCIPAL ---- ","INICIO"]
[]
["",null,""]
["Cuadro 21","COMPOSICIÓN DE PAPELETAS POR SEXO SEGÚN TIPO DE CANDIDATURA",21]
["Gráfico 3","DISTRIBUCIÓN DEL TIPO DE CANDIDATURAS POR SEXO","G3"]
["Cuadro 22","CANDIDATURAS A PRESIDENCIA Y VICEPRESIDENCIAS, POR SEXO SEGÚN GRUPOS DE EDAD",22]
["Cuadro 23","CANDIDATOS DIPUTACIONES POR CARGO Y SEXO SEGÚN GRUPOS DE EDAD",23]
["Gráfico 4","PIRAMIDE POBLACIONAL DE CANDIDATOS DIPUTACIONES POR SEXO SEGÚN GRUPOS DE EDAD","G4"]
["Cuadro 24","CANDIDATURAS A DIPUTACIONES POR SEXO  Y CARGO SEGÚN PARTIDO",24]
["Cuadro 25","EDAD PROMEDIO  CANDIDATOS A DIPUTACIONES POR CARGO Y SEXO SEGÚN PARTIDO",25]
["Cuadro 26","CANDIDATURAS A DIPUTACIONES PROPIETARIAS POR SEXO SEGÚN POSICIÓN EN LA PAPELETA",26]
["Cuadro 27","CANDIDATURAS A DIPUTACIONES PROPIETARIAS POR POSICIÓN EN LA PAPELETA SGÚN PARTIDO",27]
["Cuadro 28","CANDIDATOS DIPUTACIONES POR SEXO SEGÚN CARGO Y PROVINCIA",28]
["Gráfico 5","CANDIDATURAS A DIPUTACIONES EN PROPIEDAD POR PROVINCIA Y SEXO","G5"]
["Cuadro 29","CANDIDATURAS A DIPUTACIONES POR AÑO ELECCION SEGÚN PROVINCIA PERIODO 2006, 2010, 2014 Y 2018",29]
["Cuadro 30","CANDIDATURAS A DIPUTACIONES POR AÑO ELECCION SEGÚN PARTIDO PERIODO 2006, 2010, 2014 Y 2018",30]
[" "," ---- MENU PRINCIPAL ---- ","INICIO"]
["",null,""]
["",null,""]
["",null,""]
["",null,""]
["",null,""]
["",null,""]
["",null,""]
["",null,""]

{"sheet":"1","index":2,"n_rows":48,"n_cols":5,"rows_kept":48,"cut":false,"hidden":false,"merged":[[46,0,46,4],[5,0,7,0],[5,3,6,4],[5,1,6,2]]}
[]
["CUADRO 1"]
[" COSTA RICA: TOTAL Y VARIACIÓN DEL PADRÓN NACIONAL ELECTORAL, SEGÚN PROVINCIA "]
["Y SEXO, DE FEBRERO 2014 A FEBRERO 2018"]
[]
["PROVINCIA Y SEXO","PADRÓN NACIONAL ELECTORAL",null,"VARIACIÓN "]
[]
[null," FEBRERO 2014"," FEBRERO 2018","ABSOLUTO","%"]
[]
["COSTA RICA",3078321,3322329,{"$f":"+C10-B10","v":244008},{"$f":"+D10/B10*100","v":7.9266587207766834}]
["HOMBRES",1535869,1655105,{"$f":"+C11-B11","v":119236},{"$f":"+D11/B11*100","v":7.7634225314789225}]
["MUJERES",1542452,1667224,124772,{"$f":"+D12/B12*100","v":8.0891982376112832}]
[null,null,null,0]
["SAN JOSÉ",1063061,1114779,51718,{"$f":"+D14/B14*100","v":4.865007746498085}]
["HOMBRES",518312,543289,24977,{"$f":"+D15/B15*100","v":4.8189121610149872}]
["MUJERES",544749,571490,26741,{"$f":"+D16/B16*100","v":4.9088662852065816}]
[null,null,null,0]
["ALAJUELA",577493,630990,53497,{"$f":"+D18/B18*100","v":9.2636620703627575}]
["HOMBRES",291277,318070,26793,{"$f":"+D19/B19*100","v":9.1984605718954811}]
["MUJERES",286216,312920,26704,{"$f":"+D20/B20*100","v":9.3300164910417305}]
[null,null,null,0]
["CARTAGO",359985,387905,27920,{"$f":"+D22/B22*100","v":7.7558787171687706}]
["HOMBRES",179449,192700,13251,{"$f":"+D23/B23*100","v":7.3842707398759533}]
["MUJERES",180536,195205,14669,{"$f":"+D24/B24*100","v":8.1252492577657645}]
[null,null,null,0]
["HEREDIA",306901,332859,25958,{"$f":"+D26/B26*100","v":8.458102124137751}]
["HOMBRES",151098,163675,12577,{"$f":"+D27/B27*100","v":8.323736912467405}]
["MUJERES",155803,169184,13381,{"$f":"+D28/B28*100","v":8.5884097225342266}]
[null,null,null,0]
["GUANACASTE",221688,240637,18949,{"$f":"+D30/B30*100","v":8.54759842661759}]
["HOMBRES",112201,121354,9153,{"$f":"+D31/B31*100","v":8.1576813040881984}]
["MUJERES",109487,119283,9796,{"$f":"+D32/B32*100","v":8.9471809438563472}]
[null,null,null,0]
["PUNTARENAS",287254,310662,23408,{"$f":"+D34/B34*100","v":8.1488856552041042}]
["HOMBRES",147881,159033,11152,{"$f":"+D35/B35*100","v":7.5411986664953581}]
["MUJERES",139373,151629,12256,{"$f":"+D36/B36*100","v":8.7936687880722957}]
[null,null,null,0]
["LIMÓN",249285,272633,23348,{"$f":"+D38/B38*100","v":9.3659867220249904}]
["HOMBRES",129143,140456,11313,{"$f":"+D39/B39*100","v":8.7600566813532286}]
["MUJERES",120142,132177,12035,{"$f":"+D40/B40*100","v":10.017312846465016}]
[null,null,null,0]
["EN EL EXTRANJERO 1/",12654,31864,19210,{"$f":"+D42/B42*100","v":151.8097044412834}]
["HOMBRES",6508,16528,10020,{"$f":"+D43/B43*100","v":153.96435156730178}]
["MUJERES",6146,15336,9190,{"$f":"+D44/B44*100","v":149.52814838919625}]
[]
[]
["1/ Costarricenses inscritos(as) que pueden ejercer el voto en extranjero para designar los puestos de Presidencia y Vicepresidencias, así como en consultas populares de orden nacional, según el artículo 187 del Código Electoral."]
["Fuente: Sección Padrón Electoral del Tribunal Supremo de Elecciones."]

{"sheet":"G1","index":3,"n_rows":45,"n_cols":12,"rows_kept":45,"cut":false,"hidden":false,"merged":[[21,9,27,9],[28,9,28,10],[17,9,17,13],[18,9,18,13],[19,9,20,10],[19,11,19,12],[19,13,20,13]]}
[]
[]
[]
[null,null,null,null,null,null,null,null,null," ",2014,2018]
[]
[null,null,null,null,null,null,null,null,null,"EXTRANJERO",{"$f":"+'1'!B42","v":12654},31864]
[null,null,null,null,null,null,null,null,null,"GUANACASTE",{"$f":"+'1'!B30","v":221688},240637]
[null,null,null,null,null,null,null,null,null,"LIMÓN",{"$f":"+'1'!B38","v":249285},272633]
[null,null,null,null,null,null,null,null,null,"PUNTARENAS",{"$f":"+'1'!B34","v":287254},310662]
[null,null,null,null,null,null,null,null,null,"HEREDIA",{"$f":"+'1'!B26","v":306901},332859]
[null,null,null,null,null,null,null,null,null,"CARTAGO",{"$f":"+'1'!B22","v":359985},387905]
[null,null,null,null,null,null,null,null,null,"ALAJUELA",{"$f":"+'1'!B18","v":577493},630990]
[null,null,null,null,null,null,null,null,null,"SAN JOSÉ",{"$f":"+'1'!B14","v":1063061},1114779]
[]
[null,null,null,null,null,null,null,null,null,null,null,{"$f":"SUM(L6:L13)","v":3322329}]
[]
[]
[]
[]
[]
[]
[]
[]
[]
[]
[]
[]
[]
[]
[]
[]
[]
[]
[]
[]
[]
[]
[]
[]
[]
[]
[]
[]
[]
["Fuente: Cuadro 1."]

{"sheet":"2","index":4,"n_rows":110,"n_cols":7,"rows_kept":110,"cut":false,"hidden":false,"merged":[[5,0,7,0]]}
[]
["CUADRO 2"]
["   COSTA RICA:  PADRÓN NACIONAL ELECTORAL, POR SEXO, SEGÚN PROVINCIA, CANTÓN"]
["   Y EXTRANJERO, FEBRERO DE 2014 Y 2018"]
[]
["PROVINCIA, CANTÓN Y EXTRANJERO","PADRÓN NACIONAL ELECTORAL"]
[null," FEBRERO 2014",null,null," FEBRERO 2018"]
[null,"TOTAL","HOMBRES","MUJERES","TOTAL","HOMBRES","MUJERES"]
[]
["COSTA RICA",{"$f":"SUM(C10:D10)","v":3078321},{"$f":"SUM(C11:C18)","v":1535869},{"$f":"SUM(D11:D18)","v":1542452},{"$f":"SUM(E11:E18)","v":3322329},1655105,1667224]
["SAN JOSÉ",{"$f":"SUM(C11:D11)","v":1063061},518312,544749,{"$f":"SUM(F11:G11)","v":1114779},{"$f":"+F19","v":543289},{"$f":"+G19","v":571490}]
["ALAJUELA",{"$f":"SUM(C12:D12)","v":577493},291277,286216,{"$f":"SUM(F12:G12)","v":630990},{"$f":"+F40","v":318070},{"$f":"+G40","v":312920}]
["CARTAGO",359985,179449,180536,387905,{"$f":"+F56","v":192700},{"$f":"+G56","v":195205}]
["HEREDIA",306901,151098,155803,332859,{"$f":"+F65","v":163675},{"$f":"+G65","v":169184}]
["GUANACASTE",221688,112201,109487,240637,{"$f":"+F76","v":121354},{"$f":"+G76","v":119283}]
["PUNTARENAS",287254,147881,139373,310662,{"$f":"+F88","v":159033},{"$f":"+G88","v":151629}]
["LIMÓN",249285,129143,120142,272633,{"$f":"+F100","v":140456},{"$f":"+G100","v":132177}]
["EXTRANJERO",12654,6508,6146,31864,{"$f":"+F107","v":16528},{"$f":"+G107","v":15336}]
["SAN JOSÉ",1063061,518312,544749,1114779,543289,571490]
["SAN JOSÉ",228847,110114,118733,234558,113514,121044]
["ESCAZÚ",43354,21195,22159,46971,22957,24014]
["DESAMPARADOS",152242,74550,77692,160243,78427,81816]
["PURISCAL",26459,13322,13137,28424,14235,14189]
["TARRAZÚ",11458,5814,5644,12188,6119,6069]
["ASERRÍ",40321,20123,20198,42853,21439,21414]
["MORA",19190,9521,9669,21361,10503,10858]
["GOICOECHEA",87701,41925,45776,90058,43176,46882]
["SANTA ANA",31041,15246,15795,35074,17130,17944]
["ALAJUELITA",47597,23554,24043,50373,24920,25453]
["VÁZQUEZ DE CORONADO",49673,24016,25657,53496,25783,27713]
["ACOSTA",15551,8044,7507,16608,8504,8104]
["TIBÁS",55540,26143,29397,55965,26235,29730]
["MORAVIA",42357,20301,22056,44209,21149,23060]
["MONTES DE OCA",41489,19500,21989,42391,19898,22493]
["TURRUBARES",4375,2280,2095,4593,2358,2235]
["DOTA",5193,2610,2583,5566,2786,2780]
["CURRIDABAT",46270,22273,23997,48859,23440,25419]
["PÉREZ ZELEDÓN",105670,53322,52348,111779,56046,55733]
["LEÓN CORTÉS",8733,4459,4274,9210,4670,4540]
["ALAJUELA",577493,291277,286216,630990,318070,312920]
["ALAJUELA",185688,93494,92194,201480,101525,99955]
["SAN RAMÓN",58067,28929,29138,63586,31682,31904]
["GRECIA",55007,27426,27581,59285,29510,29775]
["SAN MATEO",4044,2100,1944,4602,2370,2232]
["ATENAS",18923,9486,9437,20429,10228,10201]
["NARANJO",29894,14815,15079,31782,15775,16007]
["PALMARES",27132,13436,13696,28973,14326,14647]
["POÁS",19747,9940,9807,21821,10913,10908]
["OROTINA",14116,7035,7081,15594,7829,7765]
["SAN CARLOS",97702,49938,47764,108240,55144,53096]
["ALFARO RUIZ",8490,4259,4231,9056,4469,4587]
["VALVERDE VEGA",13710,6818,6892,14668,7312,7356]
["UPALA",24597,12821,11776,28352,14765,13587]
["LOS CHILES",10457,5621,4836,12152,6524,5628]
["GUATUSO",9919,5159,4760,10970,5698,5272]
["CARTAGO",359985,179449,180536,387905,192700,195205]
["CARTAGO",113463,56296,57167,121426,59857,61569]
["PARAÍSO",43000,21389,21611,46757,23197,23560]
["LA UNIÓN",64441,31956,32485,70313,34646,35667]
["JIMÉNEZ",11308,5836,5472,12064,6158,5906]
["TURRIALBA",54654,27475,27179,57210,28541,28669]
["ALVARADO",9484,4788,4696,10590,5295,5295]
["OREAMUNO",33361,16365,16996,36202,17817,18385]
["EL GUARCO",30274,15344,14930,33343,17189,16154]
["HEREDIA",306901,151098,155803,332859,163675,169184]
["HEREDIA",90600,43399,47201,96661,46371,50290]
["BARVA",30088,14747,15341,32786,16058,16728]
["SANTO DOMINGO",32559,16038,16521,34421,16941,17480]
["SANTA BÁRBARA",24726,12278,12448,26746,13268,13478]
["SAN RAFAEL",32186,15986,16200,35395,17629,17766]
["SAN ISIDRO",14503,7235,7268,16081,8055,8026]
["BELÉN",17266,8510,8756,18745,9226,9519]
["FLORES",15087,7390,7697,16683,8087,8596]
["SAN PABLO",20119,9754,10365,21950,10596,11354]
["SARAPIQUÍ",29767,15761,14006,33391,17444,15947]
["GUANACASTE",221688,112201,109487,240637,121354,119283]
["LIBERIA",41245,20723,20522,44938,22492,22446]
["NICOYA",38300,19245,19055,40987,20606,20381]
["SANTA CRUZ",37832,19323,18509,41107,20895,20212]
["BAGACES",12446,6320,6126,13686,6876,6810]
["CARRILLO",22180,11268,10912,24283,12280,12003]
["CAÑAS",18440,9272,9168,19476,9750,9726]
["ABANGARES",12801,6492,6309,13610,6933,6677]
["TILARÁN",14132,7079,7053,15049,7514,7535]
["NANDAYURE",7979,4134,3845,8464,4341,4123]
["LA CRUZ",10846,5518,5328,13023,6593,6430]
["HOJANCHA",5487,2827,2660,6014,3074,2940]
["PUNTARENAS",287254,147881,139373,310662,159033,151629]
["PUNTARENAS",82240,42269,39971,86571,44277,42294]
["ESPARZA",20599,10214,10385,22598,11197,11401]
["BUENOS AIRES",29985,15711,14274,31975,16618,15357]
["MONTES DE ORO",9616,4807,4809,10241,5115,5126]
["OSA",20090,10649,9441,22210,11678,10532]
["AGUIRRE",18025,9561,8464,19595,10367,9228]
["GOLFITO",27210,14223,12987,29563,15292,14271]
["COTO BRUS",27667,13980,13687,29923,15075,14848]
["PARRITA",10844,5604,5240,12052,6225,5827]
["CORREDORES",31122,15640,15482,34163,17044,17119]
["GARABITO",9856,5223,4633,11771,6145,5626]
["LIMÓN",249285,129143,120142,272633,140456,132177]
["LIMÓN",64961,32762,32199,68866,34537,34329]
["POCOCÍ",83344,43586,39758,92004,47930,44074]
["SIQUIRRES",37389,19658,17731,40171,20896,19275]
["TALAMANCA",17572,9254,8318,20870,10891,9979]
["MATINA",19837,10370,9467,21862,11387,10475]
["GUÁCIMO",26182,13513,12669,28860,14815,14045]
["EXTRANJERO",12654,6508,6146,31864,16528,15336]
[]
[]
["Fuente: Sección Padrón Electoral del Tribunal Supremo de Elecciones."]

{"sheet":"3","index":5,"n_rows":62,"n_cols":10,"rows_kept":62,"cut":false,"hidden":false,"merged":[[5,0,6,0],[5,1,6,1],[5,2,5,8],[5,9,6,9]]}
[]
["CUADRO 3"]
[" COSTA RICA: PADRÓN NACIONAL ELECTORAL, POR PROVINCIA Y EXTRANJERO, SEGÚN SEXO "]
["Y GRUPOS DE EDAD, ELECCIONES 4 DE FEBRERO DE 2018"]
[]
["SEXO Y GRUPOS DE EDAD","TOTAL","PROVINCIA",null,null,null,null,null,null,"EXTRANJERO"]
[null,null,"SAN JOSÉ","ALAJUELA","CARTAGO","HEREDIA","GUANACASTE","PUNTARENAS","LIMÓN"]
[]
["COSTA RICA",3322329,1114779,630990,387905,332859,240637,310662,272633,31864]
["18 - 19",205366,63583,40845,23841,19740,15631,20695,20022,1009]
["20 - 24",311459,98021,60742,36245,29537,23474,31083,30050,2307]
["25 - 29        ",396691,129613,77499,47303,38376,28698,37621,34763,2818]
["30 - 34        ",386044,126623,74312,45383,38517,27587,36624,32947,4051]
["35 - 39        ",339146,114027,62453,39470,35790,24396,31556,26912,4542]
["40 - 44        ",284275,93200,51959,34105,29897,20597,26988,23559,3970]
["45 - 49        ",270844,88389,50782,32801,27354,19584,25787,22731,3416]
["50 - 54        ",275810,92557,52970,32924,27801,19543,25391,21495,3129]
["55 - 59        ",245970,85877,46729,28522,25070,17124,21826,18387,2435]
["60 - 64        ",196503,70507,35956,22130,20240,13820,17425,14730,1695]
["65 - 69        ",143510,52748,26155,15715,14708,10094,12623,10317,1150]
["70 - 74        ",102295,37908,19333,11365,10144,7311,8831,6788,615]
["75 - 79        ",71175,25877,13828,7993,6790,5436,6365,4554,332]
["80 - 84        ",47599,17936,8943,5330,4558,3592,4151,2888,201]
["85 - 89        ",28649,11226,5284,3075,2739,2254,2375,1569,127]
["90 Y MÁS       ",16993,6687,3200,1703,1598,1496,1321,921,67]
["HOMBRES",1655105,543289,318070,192700,163675,121354,159033,140456,16528]
["18 - 19",104460,32250,20876,12104,10070,7899,10557,10192,512]
["20 - 24",159087,49778,31352,18519,15047,12027,15865,15376,1123]
["25 - 29        ",202185,65686,40108,24162,19578,14499,19006,17733,1413]
["30 - 34        ",195677,63684,38238,22995,19444,13983,18501,16580,2252]
["35 - 39        ",170884,57336,31886,19720,17868,12263,15842,13425,2544]
["40 - 44        ",142862,46616,26088,16960,14867,10357,13758,12016,2200]
["45 - 49        ",135157,43369,25384,16059,13520,9923,13266,11767,1869]
["50 - 54        ",136973,45108,26304,16314,13468,9853,13081,11236,1609]
["55 - 59        ",121188,40775,23301,14020,12075,8718,11373,9693,1233]
["60 - 64        ",95855,32917,17907,10737,9568,7000,9051,7912,763]
["65 - 69        ",69012,23880,12923,7465,6838,5090,6654,5640,522]
["70 - 74        ",48785,17032,9398,5418,4703,3575,4710,3690,259]
["75 - 79        ",33166,11148,6568,3796,3039,2686,3357,2454,118]
["80 - 84        ",21107,7202,4071,2392,1940,1761,2147,1536,58]
["85 - 89        ",12077,4278,2327,1362,1068,1055,1177,776,34]
["90 Y MÁS       ",6630,2230,1339,677,582,665,688,430,19]
["MUJERES",1667224,571490,312920,195205,169184,119283,151629,132177,15336]
["18 - 19",100906,31333,19969,11737,9670,7732,10138,9830,497]
["20 - 24",152372,48243,29390,17726,14490,11447,15218,14674,1184]
["25 - 29        ",194506,63927,37391,23141,18798,14199,18615,17030,1405]
["30 - 34        ",190367,62939,36074,22388,19073,13604,18123,16367,1799]
["35 - 39        ",168262,56691,30567,19750,17922,12133,15714,13487,1998]
["40 - 44        ",141413,46584,25871,17145,15030,10240,13230,11543,1770]
["45 - 49        ",135687,45020,25398,16742,13834,9661,12521,10964,1547]
["50 - 54        ",138837,47449,26666,16610,14333,9690,12310,10259,1520]
["55 - 59        ",124782,45102,23428,14502,12995,8406,10453,8694,1202]
["60 - 64        ",100648,37590,18049,11393,10672,6820,8374,6818,932]
["65 - 69        ",74498,28868,13232,8250,7870,5004,5969,4677,628]
["70 - 74        ",53510,20876,9935,5947,5441,3736,4121,3098,356]
["75 - 79        ",38009,14729,7260,4197,3751,2750,3008,2100,214]
["80 - 84        ",26492,10734,4872,2938,2618,1831,2004,1352,143]
["85 - 89        ",16572,6948,2957,1713,1671,1199,1198,793,93]
["90 Y MÁS       ",10363,4457,1861,1026,1016,831,633,491,48]
[]
[]
["Fuente:  Padrón Electoral del Tribunal Supremo de Elecciones."]

{"sheet":"G2","index":6,"n_rows":46,"n_cols":12,"rows_kept":46,"cut":false,"hidden":false,"merged":[[44,8,44,9]]}
[]
[]
[]
[null,null,null,null,null,null,null,null,"HOMBRES","MUJERES"]
[null,null,null,null,null,null,null,null,{"$f":"+'3'!B27","v":104460},{"$f":"+'3'!B44*-1","v":-100906},"18 - 19","18 - 19                                                           "]
[null,null,null,null,null,null,null,null,{"$f":"+'3'!B28","v":159087},{"$f":"+'3'!B45*-1","v":-152372},"20 - 24","20 - 24                                                           "]
[null,null,null,null,null,null,null,null,{"$f":"+'3'!B29","v":202185},{"$f":"+'3'!B46*-1","v":-194506},"25 - 29","25 - 29                                                           "]
[null,null,null,null,null,null,null,null,{"$f":"+'3'!B30","v":195677},{"$f":"+'3'!B47*-1","v":-190367},"30 - 34","30 - 34                                                           "]
[null,null,null,null,null,null,null,null,{"$f":"+'3'!B31","v":170884},{"$f":"+'3'!B48*-1","v":-168262},"35 - 39","35 - 39                                                           "]
[null,null,null,null,null,null,null,null,{"$f":"+'3'!B32","v":142862},{"$f":"+'3'!B49*-1","v":-141413},"40 - 44","40 - 44                                                           "]
[null,null,null,null,null,null,null,null,{"$f":"+'3'!B33","v":135157},{"$f":"+'3'!B50*-1","v":-135687},"45 - 49","45 - 49                                                           "]
[null,null,null,null,null,null,null,null,{"$f":"+'3'!B34","v":136973},{"$f":"+'3'!B51*-1","v":-138837},"50 - 54","50 - 54                                                           "]
[null,null,null,null,null,null,null,null,{"$f":"+'3'!B35","v":121188},{"$f":"+'3'!B52*-1","v":-124782},"55 - 59","55 - 59                                                           "]
[null,null,null,null,null,null,null,null,{"$f":"+'3'!B36","v":95855},{"$f":"+'3'!B53*-1","v":-100648},"60 - 64","60 - 64                                                           "]
[null,null,null,null,null,null,null,null,{"$f":"+'3'!B37","v":69012},{"$f":"+'3'!B54*-1","v":-74498},"65 - 69","65 - 69                                                           "]
[null,null,null,null,null,null,null,null,{"$f":"+'3'!B38","v":48785},{"$f":"+'3'!B55*-1","v":-53510},"70 - 74","70 - 74                                                           "]
[null,null,null,null,null,null,null,null,{"$f":"+'3'!B39","v":33166},{"$f":"+'3'!B56*-1","v":-38009},"75 - 79","75 - 79                                                           "]
[null,null,null,null,null,null,null,null,{"$f":"+'3'!B40","v":21107},{"$f":"+'3'!B57*-1","v":-26492},"80 - 84","80 - 84                                                           "]
[null,null,null,null,null,null,null,null,{"$f":"+'3'!B41","v":12077},{"$f":"+'3'!B58*-1","v":-16572},"85 - 90","85 Y MÁS                                                           "]
[null,null,null,null,null,null,null,null,{"$f":"+'3'!B42","v":6630},{"$f":"+'3'!B59*-1","v":-10363},"90 Y MÁS","                                                           "]
[null,null,null,null,null,null,null,null,null,null,null,"                                                           "]
[null,null,null,null,null,null,null,null,{"$f":"SUM(I5:I20)","v":1655105},{"$f":"SUM(J5:J20)","v":-1667224},null,"                                                           "]
[null,null,null,null,null,null,null,null,null,null,null,"                                                           "]
[null,null,null,null,null,null,null,null,null,{"$f":"+I22-J22","v":3322329},null,"                                                           "]
[]
[]
[]
[]
[]
[]
[]
[]
[]
[]
[]
[]
[]
[]
[]
[]
[]
[]
[]
[]
[]
["Fuente: Cuadro 3."]

{"sheet":"4","index":7,"n_rows":64,"n_cols":7,"rows_kept":64,"cut":false,"hidden":false,"merged":[[6,0,7,0],[62,0,62,6]]}
[]
["CUADRO 4"]
["COSTA RICA: ELECTORADO EN EL PADRÓN INSCRITO EN EL EXTRANJERO1/"]
["POR SEXO, SEGÚN CONTINENTE Y PAÍS"]
["ELECCIONES 4 DE FEBRERO 2018"]
[]
["Continente y país","Total",null,"Hombres",null,"Mujeres"]
[null,"Absoluto","%","Absoluto","%","Absoluto","%"]
[]
["Total",{"$f":"B12+B37+B50+B59","v":31864},{"$f":"B10/B$10*100","v":100},{"$f":"D12+D37+D50+D59","v":16528},{"$f":"D10/D$10*100","v":100},{"$f":"F12+F37+F50+F59","v":15336},{"$f":"F10/F$10*100","v":100}]
[]
["América",{"$f":"D12+F12","v":28307},{"$f":"B12/B$10*100","v":88.836931960833539},{"$f":"SUM(D13:D35)","v":14876},{"$f":"D12/D$10*100","v":90.004840271055173},{"$f":"SUM(F13:F35)","v":13431},{"$f":"F12/F$10*100","v":87.578247261345851}]
["Estados Unidos",22384,70.24855636454933,11994,72.567763794772517,10390,67.749087115284297]
["Canadá",996,3.125784584484057,560,3.3881897386253628,436,2.8429838288993219]
["México",883,2.7711523976901833,391,2.3656824782187802,492,3.2081377151799684]
["Panamá",733,2.3004017072558374,333,2.0147628267182962,400,2.6082420448617629]
["Nicaragua",507,1.5911373336680894,265,1.6033397870280734,242,1.5779864371413668]
["Guatemala",434,1.3620386643233744,180,1.0890609874152952,254,1.6562336984872195]
["Venezuela",390,1.2239517951292995,179,1.0830106485963213,211,1.3758476786645801]
["Colombia",352,1.1046949535525985,164,0.99225556631171352,188,1.2258737610850288]
["El Salvador",286,0.89756464976148631,123,0.74419167473378511,163,1.0628586332811685]
["Chile",232,0.72809440120512181,116,0.70183930300096808,116,0.75639019300991128]
["Honduras",228,0.71554104946020591,123,0.74419167473378511,105,0.68466353677621283]
["Argentina",225,0.70612603565151899,109,0.65948693126815094,116,0.75639019300991128]
["Perú",159,0.49899573186040674,82,0.49612778315585676,77,0.50208659363588948]
["Ecuador",142,0.44564398694451424,68,0.41142303969022265,74,0.48252477829942619]
["República Dominicana",116,0.36404720060256091,64,0.38722168441432719,52,0.33907146583202918]
["Brasil",91,0.28558875219683655,52,0.31461761858664089,39,0.25430359937402192]
["Cuba",43,0.13494853125784584,18,0.10890609874152954,25,0.16301512780386018]
["Bolivia",39,0.12239517951292994,19,0.11495643756050339,20,0.13041210224308816]
["Paraguay",29,9.1011800150640226E-2,20,0.12100677637947724,9,5.8685446009389672E-2]
["Uruguay",20,6.2766758724579458E-2,13,7.8654404646660223E-2,7,4.5644235785080853E-2]
["Belice",9,2.8245041426060758E-2,2,1.2100677637947725E-2,7,4.5644235785080853E-2]
["Trinidad y Tobago",6,1.8830027617373839E-2,1,6.0503388189738624E-3,5,3.2603025560772041E-2]
["Jamaica",3,9.4150138086869194E-3,0,0,3,1.9561815336463225E-2]
[]
["Europa",{"$f":"D37+F37","v":3000},{"$f":"B37/B$10*100","v":9.4150138086869202},{"$f":"SUM(D38:D48)","v":1381},{"$f":"D37/D$10*100","v":8.3555179090029039},{"$f":"SUM(F38:F48)","v":1619},{"$f":"F37/F$10*100","v":10.556859676577988}]
["España",789,2.4761486316846595,378,2.2870280735721198,411,2.6799687010954618]
["Alemania",481,1.5095405473261361,279,1.6880445304937077,202,1.3171622326551904]
["Francia",371,1.1643233743409489,148,0.89545014520813171,223,1.4540949400104328]
["Suiza",298,0.93522470499623389,122,0.73814133591481124,176,1.1476264997391759]
["Reino Unido",295,0.92580969118754708,128,0.77444336882865439,167,1.0889410537297861]
["Italia",251,0.78772282199347232,86,0.52032913843175221,165,1.0758998435054772]
["Holanda",225,0.70612603565151899,96,0.58083252662149087,129,0.84115805946791866]
["Bélgica",147,0.461335676625659,70,0.42352371732817035,77,0.50208659363588948]
["Austria",102,0.32011046949535527,48,0.29041626331074544,54,0.35211267605633806]
["Rusia",39,0.12239517951292994,25,0.15125847047434657,14,9.1288471570161706E-2]
["Turquía",2,6.276675872457946E-3,1,6.0503388189738624E-3,1,6.5206051121544078E-3]
[]
["Asia",{"$f":"D50+F50","v":434},{"$f":"B50/B$10*100","v":1.3620386643233744},{"$f":"SUM(D51:D57)","v":208},{"$f":"D50/D$10*100","v":1.2584704743465636},{"$f":"SUM(F51:F57)","v":226},{"$f":"F50/F$10*100","v":1.4736567553468962}]
["China",{"$f":"D51+F51","v":142},{"$f":"B51/B$10*100","v":0.44564398694451424},73,{"$f":"D51/D$10*100","v":0.44167473378509192},69,{"$f":"F51/F$10*100","v":0.44992175273865415}]
["Israel",90,0.28245041426060757,39,0.23596321393998063,51,0.33255086071987477]
["Japón",79,0.24792869696208886,34,0.20571151984511132,45,0.29342723004694832]
["Singapur",42,0.13181019332161686,21,0.12705711519845111,21,0.13693270735524257]
["Corea",33,0.10356515189555611,15,9.0755082284607935E-2,18,0.11737089201877934]
["Qatar",39,0.12239517951292994,20,0.12100677637947724,19,0.12389149713093375]
["India",9,2.8245041426060758E-2,6,3.630203291384318E-2,3,1.9561815336463225E-2]
[]
["Oceanía",{"$f":"D59+F59","v":123},{"$f":"B59/B$10*100","v":0.38601556615616373},{"$f":"SUM(D60)","v":63},{"$f":"D59/D$10*100","v":0.38117134559535337},{"$f":"SUM(F60)","v":60},{"$f":"F59/F$10*100","v":0.39123630672926446}]
["Australia",{"$f":"D60+F60","v":123},{"$f":"B60/B$10*100","v":0.38601556615616373},63,{"$f":"D60/D$10*100","v":0.38117134559535337},60,{"$f":"F60/F$10*100","v":0.39123630672926446}]
[]
[]
["1/ Costarricenses inscritos(as) que pueden ejercer el voto en extranjero para designar los puestos de Presidencia y Vicepresidencias, así como en consultas populares de orden nacional, según el artículo 187 del Código Electoral."]
["Fuente: Sección Padrón Electoral del Tribunal Supremo de Elecciones."]

{"sheet":"5","index":8,"n_rows":66,"n_cols":7,"rows_kept":66,"cut":false,"hidden":false,"merged":[[5,0,6,0],[64,0,64,6]]}
[]
["CUADRO 5"]
["COSTA RICA: ELECTORADO EN EL PADRÓN INSCRITO EN EL EXTRANJERO1/"]
["POR SEXO, SEGÚN CONSULADO, ELECCIONES 4 DE FEBRERO 2018"]
[]
["Continente y país","Total",null,"Hombres",null,"Mujeres"]
[null,"Absoluto","%","Absoluto","%","Absoluto","%"]
[]
["Total",{"$f":"SUM(B11:B62)","v":31864},{"$f":"B9/B$9*100","v":100},{"$f":"SUM(D11:D62)","v":16528},{"$f":"D9/D$9*100","v":100},{"$f":"SUM(F11:F62)","v":15336},{"$f":"F9/F$9*100","v":100}]
[]
["NUEVA YORK",{"$f":"D11+F11","v":8674},{"$f":"B11/B$9*100","v":27.221943258850111},5214,{"$f":"D11/D$9*100","v":31.546466602129719},3460,{"$f":"F11/F$9*100","v":22.561293688054253}]
["LOS ÁNGELES",3545,11.125407983931709,1617,9.7833978702807354,1928,12.571726656233698]
["MIAMI",3408,10.695455686668339,1644,9.9467570183930309,1764,11.502347417840376]
["ATLANTA",2300,7.2181772533266377,1198,7.248305905130688,1102,7.1857068335941578]
["HOUSTON",1845,5.7902334923424554,941,5.6933688286544051,904,5.8946270213875849]
["WASHINGTON",1841,5.7776801405975391,975,5.899080348499516,866,5.6468440271257174]
["MÉXICO",883,2.7711523976901833,391,2.3656824782187802,492,3.2081377151799684]
["MADRID",789,2.4761486316846595,378,2.2870280735721198,411,2.6799687010954618]
["CHICAGO",771,2.4196585488325382,405,2.4503872216844145,366,2.3865414710485133]
["CIUDAD DE PANAMÁ",564,1.7700225960331408,261,1.5791384317521782,303,1.9757433489827856]
["TORONTO",543,1.7041174993723325,307,1.8574540174249758,236,1.5388628064684404]
["BERLÍN",481,1.5095405473261361,279,1.6880445304937077,202,1.3171622326551904]
["OTTAWA",453,1.4216670851117248,253,1.5307357212003871,200,1.3041210224308815]
["MANAGUA",440,1.3808686919407482,236,1.4278799612778317,204,1.3302034428794991]
["GUATEMALA",434,1.3620386643233744,180,1.0890609874152952,254,1.6562336984872195]
["CARACAS",390,1.2239517951292995,179,1.0830106485963213,211,1.3758476786645801]
["PARÍS",371,1.1643233743409489,148,0.89545014520813171,223,1.4540949400104328]
["BOGOTÁ",352,1.1046949535525985,164,0.99225556631171352,188,1.2258737610850288]
["BERNA",298,0.93522470499623389,122,0.73814133591481124,176,1.1476264997391759]
["LONDRES",295,0.92580969118754708,128,0.77444336882865439,167,1.0889410537297861]
["SAN SALVADOR",286,0.89756464976148631,123,0.74419167473378511,163,1.0628586332811685]
["ROMA",251,0.78772282199347232,86,0.52032913843175221,165,1.0758998435054772]
["SANTIAGO",232,0.72809440120512181,116,0.70183930300096808,116,0.75639019300991128]
["TEGUCIGALPA",228,0.71554104946020591,123,0.74419167473378511,105,0.68466353677621283]
["BUENOS AIRES",225,0.70612603565151899,109,0.65948693126815094,116,0.75639019300991128]
["LA HAYA",225,0.70612603565151899,96,0.58083252662149087,129,0.84115805946791866]
["DAVID",169,0.53037911122269643,72,0.43562439496611816,97,0.63249869587897756]
["LIMA",159,0.49899573186040674,82,0.49612778315585676,77,0.50208659363588948]
["BRUCELAS",147,0.461335676625659,70,0.42352371732817035,77,0.50208659363588948]
["QUITO",142,0.44564398694451424,68,0.41142303969022265,74,0.48252477829942619]
["SIDNEY",123,0.38601556615616373,63,0.38117134559535337,60,0.39123630672926446]
["SANTO DOMINGO",116,0.36404720060256091,64,0.38722168441432719,52,0.33907146583202918]
["BEIJING",{"$f":"D43+F43","v":107},{"$f":"B43/B$9*100","v":0.33580215917650014},57,{"$f":"D43/D$9*100","v":0.34486931268151017},50,{"$f":"F43/F$9*100","v":0.32603025560772037}]
["VIENA",102,0.32011046949535527,48,0.29041626331074544,54,0.35211267605633806]
["BRASILIA",91,0.28558875219683655,52,0.31461761858664089,39,0.25430359937402192]
["TEL AVIV",90,0.28245041426060757,39,0.23596321393998063,51,0.33255086071987477]
["TOKIO",79,0.24792869696208886,34,0.20571151984511132,45,0.29342723004694832]
["CHINANDEGA",67,0.21026864172734119,29,0.17545982575024202,38,0.24778299426186751]
["LA HABANA",43,0.13494853125784584,18,0.10890609874152954,25,0.16301512780386018]
["SINGAPUR",42,0.13181019332161686,21,0.12705711519845111,21,0.13693270735524257]
["MOSCÚ",39,0.12239517951292994,25,0.15125847047434657,14,9.1288471570161706E-2]
["DOHA",39,0.12239517951292994,20,0.12100677637947724,19,0.12389149713093375]
["LA PAZ",39,0.12239517951292994,19,0.11495643756050339,20,0.13041210224308816]
["SHANGHÁI",35,0.10984182776801407,16,9.6805421103581799E-2,19,0.12389149713093375]
["SEÚL",33,0.10356515189555611,15,9.0755082284607935E-2,18,0.11737089201877934]
["ASUNCIÓN",29,9.1011800150640226E-2,20,0.12100677637947724,9,5.8685446009389672E-2]
["MONTEVIDEO",20,6.2766758724579458E-2,13,7.8654404646660223E-2,7,4.5644235785080853E-2]
["BELMOPAN",9,2.8245041426060758E-2,2,1.2100677637947725E-2,7,4.5644235785080853E-2]
["NUEVA DELHI",9,2.8245041426060758E-2,6,3.630203291384318E-2,3,1.9561815336463225E-2]
["PUERTO ESPAÑA",6,1.8830027617373839E-2,1,6.0503388189738624E-3,5,3.2603025560772041E-2]
["KINGSTON",3,9.4150138086869194E-3,0,0,3,1.9561815336463225E-2]
["ANKARA",2,6.276675872457946E-3,1,6.0503388189738624E-3,1,6.5206051121544078E-3]
[]
[]
["1/ Costarricenses inscritos(as) que pueden ejercer el voto en extranjero para designar los puestos de Presidencia y Vicepresidencias, así como en consultas populares de orden nacional, según el artículo 187 del Código Electoral."]
["Fuente: Sección Padrón Electoral del Tribunal Supremo de Elecciones."]

{"sheet":"6","index":9,"n_rows":41,"n_cols":12,"rows_kept":41,"cut":false,"hidden":false,"merged":[[2,0,2,11],[3,0,3,11],[5,0,6,0],[5,1,5,11]]}
[]
["CUADRO 6"]
["COSTA RICA: TOTAL DE ELECTORES NATURALIZADOS, POR PAÍS DE ORIGEN"]
["SEGÚN SEXO Y GRUPOS DE EDAD, ELECCIONES 4 DE FEBRERO DE 2018"]
[]
["SEXO Y GRUPOS DE EDAD","PAÍS DE ORIGEN"]
[null,"Total","Nicaragua","Colombia","El Salvador","Cuba","China","Perú","Panamá","República Dominicana","Estados Unidos","Resto de países"]
[]
["COSTA RICA",{"$f":"SUM(C9:L9)","v":61668},31166,8089,3938,2421,2134,1879,1612,{"$f":"+J19+J29","v":1380},{"$f":"+K19+K29","v":1249},7800]
["18 - 19",{"$f":"SUM(C10:L10)","v":620},226,247,15,21,9,15,10,{"$f":"+J20+J30","v":20},9,48]
["20 - 29        ",3680,1820,874,64,173,151,84,27,141,33,313]
["30 - 39",11222,6350,1843,410,279,402,326,126,338,112,1036]
["40 - 49",15779,7989,2348,999,618,541,501,342,503,243,1695]
["50 - 59",12791,5927,1709,955,619,383,470,439,297,279,1713]
["60 - 69",8831,3961,737,908,366,329,326,329,66,314,1495]
["70 - 79",5233,2669,248,416,222,196,115,212,13,195,947]
["80 - 89",2742,1679,73,147,93,104,37,104,2,54,449]
["90 Y MÁS     ",770,545,10,24,30,19,5,23,0,10,104]
["HOMBRES",{"$f":"SUM(C19:L19)","v":27437},12599,3800,1694,1349,1161,999,694,370,{"$f":"SUM(K20:K28)","v":843},{"$f":"SUM(L20:L28)","v":3928}]
["18 - 19",{"$f":"SUM(C20:L20)","v":315},99,140,10,14,6,7,4,7,8,20]
["20 - 29        ",1609,692,432,23,102,93,35,5,66,14,147]
["30 - 39",4523,2300,839,188,125,246,158,44,89,61,473]
["40 - 49",6991,3310,1054,446,334,292,249,155,91,154,906]
["50 - 59",5698,2362,812,403,371,189,250,194,76,185,856]
["60 - 69",3999,1549,347,358,228,178,199,132,31,223,754]
["70 - 79",2669,1252,139,198,132,93,78,106,9,154,508]
["80 - 89",1259,761,33,61,33,57,22,42,1,39,210]
["90 Y MÁS     ",374,274,4,7,10,7,1,12,0,5,54]
["MUJERES",{"$f":"SUM(C29:L29)","v":34231},18567,4289,2244,1072,973,880,918,{"$f":"SUM(J30:J38)","v":1010},{"$f":"SUM(K30:K38)","v":406},{"$f":"SUM(L30:L38)","v":3872}]
["18 - 19",{"$f":"SUM(C30:L30)","v":305},127,107,5,7,3,8,6,13,1,28]
["20 - 29        ",2071,1128,442,41,71,58,49,22,75,19,166]
["30 - 39",6699,4050,1004,222,154,156,168,82,249,51,563]
["40 - 49",8788,4679,1294,553,284,249,252,187,412,89,789]
["50 - 59",7093,3565,897,552,248,194,220,245,221,94,857]
["60 - 69",4832,2412,390,550,138,151,127,197,35,91,741]
["70 - 79",2564,1417,109,218,90,103,37,106,4,41,439]
["80 - 89",1483,918,40,86,60,47,15,62,1,15,239]
["90 Y MÁS     ",396,271,6,17,20,12,4,11,0,5,50]
[]
[]
["Fuente: Padrón Nacional  Electoral, Tribunal Supremo de Elecciones."]

{"sheet":"7","index":10,"n_rows":113,"n_cols":10,"rows_kept":113,"cut":false,"hidden":false,"merged":[[1,0,1,9],[5,1,5,3],[5,4,5,6],[5,7,5,9],[5,0,6,0],[2,0,2,9],[3,0,3,9]]}
[]
["CUADRO 7"]
["   COSTA RICA:  PROMEDIO, MEDIANA Y MODA DE LA EDAD DEL ELECTOR/A, POR  SEXO, SEGÚN PROVINCIA"]
[" CANTÓN Y EXTRANJERO, ELECCIONES 4 DE FEBRERO DE 2018"]
[]
["PROVINCIA, CANTÓN Y EXTRANJERO","TOTAL",null,null,"HOMBRES",null,null,"MUJERES"]
[null,"PROMEDIO","MEDIANA","MODA","PROMEDIO","MEDIANA","MODA","PROMEDIO","MEDIANA","MODA"]
[]
["COSTA RICA",42.755497724637664,40,32,42.267749780224861,39,32,43.239700244239266,40,28]
["SAN JOSÉ",{"$f":"+B18","v":43.613088334101548},{"$f":"+C18","v":41},28,42.717027217558353,40,28,44.464932019808614,42,28]
["ALAJUELA",{"$f":"+B39","v":42.497199638664824},{"$f":"+C39","v":39},32,{"$f":"+E39","v":42.066064073946066},{"$f":"+F39","v":39},27,42.935430781030512,{"$f":"+I39","v":40},32]
["CARTAGO",{"$f":"+B55","v":42.477423595983289},{"$f":"+C55","v":40},28,{"$f":"+E55","v":42.018474312402539},{"$f":"+F55","v":39},27,42.930483338029966,{"$f":"+I55","v":40},28]
["HEREDIA",{"$f":"+B64","v":42.934224401321778},{"$f":"+C64","v":40},32,{"$f":"+E64","v":42.243360317702439},{"$f":"+F64","v":39},32,43.602592443730273,{"$f":"+I64","v":41},32]
["GUANACASTE",{"$f":"+B75","v":42.638704771086346},{"$f":"+C75","v":40},21,{"$f":"+E75","v":42.491050974834721},{"$f":"+F75","v":40},21,42.788922143137761,{"$f":"+I75","v":40},23]
["PUNTARENAS",{"$f":"+B87","v":42.062720899242024},{"$f":"+C87","v":39},28,{"$f":"+E87","v":42.25120572459749},{"$f":"+F87","v":39},22,41.865032414643842,{"$f":"+I87","v":39},28]
["LIMÓN",{"$f":"+B99","v":40.931747073906088},{"$f":"+C99","v":38},21,{"$f":"+E99","v":41.225892806288279},{"$f":"+F99","v":38},21,40.619177315266526,{"$f":"+I99","v":37},20]
["EXTRANJERO",{"$f":"+B106","v":42.626004268139077},{"$f":"+C106","v":41},35,{"$f":"+E106","v":41.902166021297397},{"$f":"+F106","v":40},35,43.406103286385196,{"$f":"+I106","v":42},"32a"]
["SAN JOSÉ",43.613088334101548,41,28,42.717027217558353,40,28,44.464932019808614,42,28]
["SAN JOSÉ",44.970258955142093,42,32,43.56979755801062,41,29,46.283599352302119,44,32]
["ESCAZÚ",44.076323689085115,42,27,43.189266890273132,41,28,44.924335804114385,43,27]
["DESAMPARADOS",42.630611009529524,40,27,41.804187333444055,39,27,43.422802385841102,41,28]
["PURISCAL",43.701730931607131,41,28,43.543800491745714,41,28,43.860173373740132,41,28]
["TARRAZÚ",42.089678372169288,39,26,42.312632783134411,39,22,41.864887131323115,39,26]
["ASERRÍ",41.997923132569419,39,31,41.623769765380906,39,31,42.372513309050404,40,29]
["MORA",43.015776414961678,40,27,42.857659716271428,40,21,43.168723521827161,41,29]
["GOICOECHEA",44.242965644361476,41,28,43.118746525847314,40,28,45.278315771511537,43,28]
["SANTA ANA",43.046701260192904,41,32,42.472679509631945,40,32,43.594683459652124,41,38]
["ALAJUELITA",41.303813550910348,38,21,40.61083467094722,37,21,41.982281067064733,39,21]
["VÁZQUEZ DE CORONADO",42.76201959024953,40,32,41.981887290074624,39,32,43.487821599970829,41,28]
["ACOSTA",42.976758188824505,40,26,43.192497648165364,41,26,42.750370187561799,40,27]
["TIBÁS",45.755543643348332,43,28,44.471431294072865,42,28,46.888698284560576,45,28]
["MORAVIA",44.526815806736188,42,28,43.344177029646652,41,28,45.611448395490008,43,"30a"]
["MONTES DE OCA",45.556108607959239,42,28,44.035531209166614,40,"27a",46.901258169208283,45,31]
["TURRUBARES",43.952971913781816,42,24,44.445716709075498,43,26,43.433109619686718,41,28]
["DOTA",43.505030542579917,41,23,43.351758793969807,41,23,43.658633093525161,41,29]
["CURRIDABAT",44.136965553940847,42,28,43.052047781569819,40,26,45.137416892875535,43,28]
["PÉREZ ZELEDÓN",41.820914483042237,39,25,41.587160546693703,38,24,42.055981196059719,39,25]
["LEÓN CORTÉS",41.662214983713348,38,27,41.636616702355496,38,27,41.688546255506608,39,26]
["ALAJUELA",42.497199638664824,39,32,42.066064073946066,39,27,42.935430781030512,40,32]
["ALAJUELA",42.777417113360904,40,32,42.012282688992649,39,28,43.554569556299995,41,32]
["SAN RAMÓN",43.116314912087432,40,27,42.661258758917008,40,27,43.568204613841658,41,28]
["GRECIA",43.034916083326181,40,32,42.574652660115625,40,27,43.491083123425689,41,32]
["SAN MATEO",45.596697088222619,44,22,45.403797468354369,44,20,45.801523297491016,44,22]
["ATENAS",44.455528904987837,42,27,44.074794681267029,41,31,44.837270855798486,43,27]
["NARANJO",42.948115285381931,40,29,42.303074484944396,39,29,43.583807084400412,41,31]
["PALMARES",43.736478790598163,41,32,43.151961468658186,40,32,44.308185976650755,42,32]
["POÁS",42.348105036432862,39,28,42.020892513515754,39,28,42.675467546754589,40,28]
["OROTINA",43.08394254200342,40,28,42.940605441308058,40,28,43.228461043142353,40,33]
["SAN CARLOS",41.116167775313862,38,31,40.947065863920052,37,22,41.291792225403256,38,31]
["ALFARO RUIZ",42.925022084805541,40,26,42.806891922130241,40,25,43.040113363854246,40,26]
["VALVERDE VEGA",43.013089719116287,40,27,42.5486870897155,39,32,43.474714518760287,41,27]
["UPALA",40.304775677200745,37,21,40.733423636979452,37,21,39.838963715316019,37,23]
["LOS CHILES",39.822169190256645,36,19,40.429491109748568,37,19,39.118159203980234,36,21]
["GUATUSO",42.005013673655398,39,21,42.541593541593592,40,20,41.425075872534244,39,23]
["CARTAGO",42.477423595983289,40,28,42.018474312402539,39,27,42.930483338029966,40,28]
["CARTAGO",42.805939419893619,40,31,42.059040713700547,39,27,43.532069710406255,41,28]
["PARAÍSO",41.924695767478802,39,28,41.670043540112893,39,25,42.175424448216937,39,28]
["LA UNIÓN",41.961173609432137,39,28,41.430756797321592,39,26,42.476406762553552,40,23]
["JIMÉNEZ",43.15823938992034,41,31,43.150860669048349,41,31,43.165932949542594,41,"23a"]
["TURRIALBA",43.828543960846282,41,32,43.656984688693569,41,29,43.999337263245842,42,31]
["ALVARADO",41.854390934844169,39,27,41.880830972615655,39,27,41.827950897072682,39,23]
["OREAMUNO",41.844787580796925,39,24,41.466801369478418,39,22,42.211096002175566,40,24]
["EL GUARCO",41.464985154305346,39,28,41.019954622142151,38,23,41.938529156864831,39,26]
["HEREDIA",42.934224401321778,40,32,42.243360317702439,39,32,43.602592443730273,41,32]
["HEREDIA",43.058586192983988,40,31,41.913501973216221,39,32,44.114436269636215,41,31]
["BARVA",42.662477886902707,40,32,42.004795117698436,39,32,43.293818747010889,41,32]
["SANTO DOMINGO",44.805612852618843,42,32,44.016705035121724,42,31,45.570194508009401,43,29]
["SANTA BÁRBARA",42.448926942346262,40,28,41.914531202894068,39,27,42.974996290250616,40,36]
["SAN RAFAEL",42.965729622828199,40,32,42.32622383572523,40,32,43.600303951367856,41,32]
["SAN ISIDRO",43.411728126360387,41,24,42.848292985723099,40,29,43.977199102915328,42,24]
["BELÉN",43.721792477994242,41,31,43.035551701712727,40,31,44.38691038974671,42,32]
["FLORES",43.318647725229539,41,32,42.630147149746435,40,28,43.966379711493815,41,32]
["SAN PABLO",43.060136674259589,40,31,42.110890902227212,39,34,43.946010216663609,41,31]
["SARAPIQUÍ",40.32032583630312,37,23,40.986814950699333,38,20,39.591271085470432,36,22]
["GUANACASTE",42.638704771086346,40,21,42.491050974834721,40,21,42.788922143137761,40,23]
["LIBERIA",40.846944679335365,37,21,40.49008536368504,37,21,41.204535329234709,38,28]
["NICOYA",44.210676555981166,42,32,44.127098903232138,42,32,44.295176880428158,42,25]
["SANTA CRUZ",43.682097939523366,41,32,43.459870782483812,41,25,43.911834553730316,41,32]
["BAGACES",42.016367090457187,39,20,42.116346713205232,40,20,41.915418502202542,39,20]
["CARRILLO",42.211794259358413,39,21,41.834853420195465,39,21,42.59743397483949,39,24]
["CAÑAS",41.878927911275085,39,21,41.439282051282092,38,27,42.319658646925774,39,25]
["ABANGARES",43.295077149155304,41,25,43.548247511899419,41,29,43.032200089860673,40,25]
["TILARÁN",44.375639577380305,42,32,44.317540590897039,42,32,44.433576642335744,42,23]
["NANDAYURE",44.203331758033997,42,23,44.353144436765753,42,"21a",44.045597865631642,42,23]
["LA CRUZ",39.077171158719402,36,22,39.419839223418769,36,"21a",38.725816485225401,35,22]
["HOJANCHA",43.460924509477863,41,25,43.483409238776709,41,22,43.437414965986363,41,21]
["PUNTARENAS",42.062720899242024,39,28,42.25120572459749,39,22,41.865032414643842,39,28]
["PUNTARENAS",42.780423005394979,40,23,42.629740045621773,40,23,42.938170898945337,40,23]
["ESPARZA",43.157005044694145,40,22,42.889970527819891,40,21,43.419261468292135,41,"22a"]
["BUENOS AIRES",40.343612197028726,37,19,40.683656276326772,37,20,39.975646285081737,36,21]
["MONTES DE ORO",43.577287374279912,41,"25a",43.557575757575819,41,33,43.59695669137723,41,32]
["OSA",42.473930661864117,40,28,42.952560369926331,40,33,41.943220660843117,39,21]
["AGUIRRE",41.271038530237057,38,28,41.544130413812979,39,28,40.964239271781622,38,28]
["GOLFITO",42.152657037512881,39,28,42.698404394454812,40,23,41.56786490084793,39,28]
["COTO BRUS",42.401564014303553,40,19,42.577777777777989,40,19,42.222656250000071,39,24]
["PARRITA",42.003070029870635,39,28,42.580883534136561,40,28,41.385790286596972,38,"23a"]
["CORREDORES",41.298100283933174,38,28,41.810373151842363,39,23,40.78807173316202,38,28]
["GARABITO",39.770622716846276,37,31,40.346297803092014,38,34,39.141841450408897,36,31]
["LIMÓN",40.931747073906088,38,21,41.225892806288279,38,21,40.619177315266526,37,20]
["LIMÓN",41.65463363633684,39,20,41.791817471117682,39,20,41.51661860234794,38,23]
["POCOCÍ",41.050421720794169,38,21,41.289839349050837,38,23,40.790057630348898,38,"21a"]
["SIQUIRRES",40.840033855268736,38,25,41.187499999999787,38,22,40.463346303502028,37,32]
["TALAMANCA",39.033397220891246,35,20,39.684418327058992,36,21,38.322878043892182,34,20]
["MATINA",40.026301344799066,37,20,40.682269254412773,38,20,39.313221957040398,36,22]
["GUÁCIMO",41.014795564795612,38,21,41.30489368882882,39,21,40.70879316482737,38,20]
["EXTRANJERO",42.626004268139077,41,35,41.902166021297397,40,35,43.406103286385196,42,"32a"]
[]
[]
["Promedio: media aritmética, cociente de la suma de las observaciones entre la cantidad de observaciones, se denota   =  S xi /n"]
["Mediana: valor que separa en dos grupos las observaciones, ordenadas de menor a mayor."]
["Moda: valor de la variable que más veces se repite, es decir, el valor con mayor frecuencia absoluta."]
["a/ Existen varias modas se tomó como el valor de la moda el de menor edad."]
["Fuente: Sección Padrón Electoral del Tribunal Supremo de Elecciones."]

{"sheet":"8","index":11,"n_rows":22,"n_cols":4,"rows_kept":22,"cut":false,"hidden":false,"merged":[[5,0,6,0],[5,1,6,1]]}
[]
["CUADRO 8"]
[" COSTA RICA: CANTONES, DISTRITOS ADMINISTRATIVOS Y ELECTORALES"]
["SEGÚN PROVINCIA, ELECCIONES 4 DE FEBRERO DE 2018"]
[]
["PROVINCIA","CANTONES","DISTRITOS"]
[null,null,"ADMINISTRATIVOS","ELECTORALES"]
[]
["COSTA RICA",{"$f":"SUM(B11:B17)","v":81},{"$f":"SUM(C11:C17)","v":483},{"$f":"SUM(D11:D17)","v":2072}]
[]
["SAN JOSÉ",20,123,446]
["ALAJUELA",15,114,439]
["CARTAGO",8,51,196]
["HEREDIA",10,47,116]
["GUANACASTE",11,59,300]
["PUNTARENAS",11,60,380]
["LIMÓN",6,29,195]
[]
[]
["Nota: Para voto en el extranjero se incluyen 56 consulados en 43 países."]
[]
["Fuente: Contraloría Electoral del Tribunal Supremo de Elecciones."]

{"sheet":"9","index":12,"n_rows":20,"n_cols":7,"rows_kept":20,"cut":false,"hidden":false,"merged":[[2,0,2,6],[3,0,3,6],[1,0,1,6],[5,2,5,6],[5,0,6,0],[5,1,6,1]]}
[]
["CUADRO 9"]
[" COSTA RICA: MOVIMIENTOS A LA DIVISIÓN TERRITORIAL ELECTORAL"]
["SEGÚN PROVINCIA, ELECCIONES 4 DE FEBRERO DE 2018"]
[]
["PROVINCIA","DISTRITOS ADMINISTRATIVOS CREADOS","DISTRITOS ELECTORALES"]
[null,null,"CREADOS","REFUNDIDOS","REUBICADOS","ELIMINADOS","MODIFICADOS"]
[]
["COSTA RICA",{"$f":"SUM(B10:B17)","v":2},{"$f":"SUM(C10:C17)","v":7},1,14,2,26]
[]
["SAN JOSÉ",1,1,1,6,0,3]
["ALAJUELA",1,1,0,5,1,5]
["CARTAGO",0,0,0,2,0,2]
["HEREDIA",0,0,0,0,1,1]
["GUANACASTE",0,2,0,0,0,3]
["PUNTARENAS",0,2,0,1,0,6]
["LIMÓN",0,1,0,0,0,6]
[]
[]
["Fuente: Contraloría Electoral del Tribunal Supremo de Elecciones."]

{"sheet":"10","index":13,"n_rows":23,"n_cols":4,"rows_kept":23,"cut":false,"hidden":false,"merged":[[22,0,22,3],[20,0,20,3],[1,0,1,3],[2,0,2,3],[3,0,3,3],[4,0,4,3]]}
[]
["CUADRO 10"]
[" COSTA RICA: CENTROS DE VOTACIÓN, JUNTAS RECEPTORAS Y"]
["CENTROS DE TRANSMISIÓN, SEGÚN PROVINCIA"]
["ELECCIONES 4 DE FEBRERO DE 2018"]
[]
["PROVINCIA","CENTROS DE VOTACIÓN1/","JUNTAS\nRECEPTORAS","CENTROS DE TRANSMISIÓN 2/"]
[]
["COSTA RICA",{"$f":"SUM(B11:B19)","v":1756},{"$f":"SUM(C11:C19)","v":6612},684]
[]
["SAN JOSÉ",424,2092,186]
["ALAJUELA",367,1266,151]
["CARTAGO",181,740,71]
["HEREDIA",118,613,65]
["GUANACASTE",178,565,41]
["PUNTARENAS",283,716,59]
["LIMÓN",160,550,59]
["EXTRANJERO",45,70,52]
[]
[]
["1/ Datos estimados al 21 de diciembre de 2017 sujetos a modificaciones."]
["2/ Datos estimados al 21 de diciembre de 2017 sujetos a modificaciones."]
["Fuente: Departamento de Progrmas Electorales y Sección de Padrón Electoral."]

{"sheet":"11","index":14,"n_rows":21,"n_cols":9,"rows_kept":21,"cut":false,"hidden":false,"merged":[[1,0,1,8],[2,0,2,8],[3,0,3,8],[4,0,4,8],[6,7,6,8],[6,0,7,0],[6,1,6,2],[6,3,6,4],[6,5,6,6]]}
[]
["CUADRO 11"]
[" COSTA RICA: JUNTAS RECEPTORAS Y ELECTORADO EN CENTROS PENITENCIARIOS,  HOGARES DE ANCIANOS"]
[" ZONAS INDÍGENAS Y CENTROS DE SALUD MENTAL, SEGÚN PROVINCIA"]
[" ELECCIONES 4 DE FEBRERO DE 2018"]
[]
["PROVINCIA","CENTROS PENITENCIARIOS",null,"HOGARES DE ANCIANOS",null,"ZONAS INDÍGENAS",null,"CENTROS DE SALUD MENTAL"]
[null,"JUNTAS","ELECTORADO","JUNTAS","ELECTORADO","JUNTAS","ELECTORADO","JUNTAS","ELECTORADO"]
[]
["COSTA RICA",{"$f":"SUM(B12:B19)","v":36},{"$f":"SUM(C12:C19)","v":9575},50,2448,93,34939,3,337]
[]
["SAN JOSÉ",7,2205,14,773,5,1645,2,252]
["ALAJUELA",14,3664,9,664,2,773,0,0]
["CARTAGO",2,542,2,164,10,2841,1,85]
["HEREDIA",1,69,4,226,0,0,0,0]
["GUANACASTE",3,790,7,189,3,878,0,0]
["PUNTARENAS",3,704,9,279,41,14363,0,0]
["LIMÓN",6,1601,5,153,32,14439,0,0]
[]
[]
["Fuente: Sección Padrón Electoral, Contraloría Electoral y Programa Electoral: Equipación de condiciones para el ejercicio del voto."]

{"sheet":"12","index":15,"n_rows":43,"n_cols":5,"rows_kept":43,"cut":false,"hidden":false,"merged":[[1,0,1,4],[2,0,2,4],[3,0,3,4],[4,0,4,2],[5,0,6,0],[5,1,6,1],[5,2,5,4],[42,0,42,4]]}
[]
["CUADRO 12"]
["COSTA RICA: JUNTAS RECEPTORAS Y ELECTORADO EN CENTROS PENITENCIARIOS, POR SEXO"]
["SEGÚN PROVINCIA Y DISTRITO ELECTORAL, ELECCIONES 4 DE FEBRERO DE 2018"]
[]
["PROVINCIA Y DISTRITO ELECTORAL","NÚMERO DE JUNTAS","ELECTORADO"]
[null,null,"TOTAL","HOMBRES","MUJERES"]
["COSTA RICA",{"$f":"+B9+B14+B25+B27+B29+B33+B36","v":36},{"$f":"+C9+C14+C25+C27+C29+C33+C36","v":9575},{"$f":"+D9+D14+D25+D27+D29+D33+D36","v":9177},{"$f":"+E9+E14+E25+E27+E29+E33+E36","v":398}]
["SAN JOSÉ",{"$f":"SUM(B10:B13)","v":7},2205,1834,371]
["C.P. CRISTO REY",2,799,799,0]
["C.P. SAN RAFAEL ARRIBA",1,371,0,371]
["C.P. PALMARES",3,990,990,0]
["C.P. UNIDAD DE ATENCIÓN INTEGRAL",1,45,45,0]
["ALAJUELA",{"$f":"SUM(B15:B24)","v":14},3664,3664,0]
["C. P. U.A.I. REYNALDO VILLALOBOS ZUÑIGA",1,212,212,0]
["C. P. LUIS PAULINO MORA MORA.",2,517,517,0]
["C.P. ÁMBITO B [MÍNIMA]",2,557,557,0]
["C.P. ÁMBITO C [MEDIANA ABIERTA]",1,360,360,0]
["C.P. ÁMBITOS D [MED CERRADA] E [MÁXIMA]",1,379,379,0]
["C.P. GERARDO RODRÍGUEZ ECHEVERRÍA",2,721,721,0]
["C.P. ADULTO MAYOR",1,113,113,0]
["C.P. ADULTO JOVEN",1,160,160,0]
["C.P. MEDIANA NUEVA Y PENSIONES",1,137,137,0]
["C.P. PALMERA [LA MARINA]",2,508,508,0]
["CARTAGO",{"$f":"SUM(B26)","v":2},542,542,0]
["C.P. SAN FRANCISCO",2,542,542,0]
["HEREDIA",{"$f":"SUM(B28)","v":1},69,59,10]
["C.P. SAN ISIDRO JUVENIL ZURQUI",1,69,59,10]
["GUANACASTE",{"$f":"SUM(B30:B32)","v":3},790,773,17]
["C.P. LIBERIA [MÓDULO B CASITAS]",1,420,403,17]
["C.P. LIBERIA [MÓDULO D1-D2]",1,277,277,0]
["C. P. LIBERIA (MÓDULO D3-D4)",1,93,93,0]
["PUNTARENAS",{"$f":"SUM(B34:B35)","v":3},704,704,0]
["C.P. EL ROBLE SENTENCIADOS",2,634,634,0]
["C.P. EL ROBLE INDICIADOS",1,70,70,0]
["LIMÓN",{"$f":"SUM(B37:B40)","v":6},1601,1601,0]
["C.P.RÍO BLANCO [SANDOVAL]",2,594,594,0]
["C.P. ROXANA [MÓDULOS A-B-C]",2,543,543,0]
["C.P. ROXANA [MÓDULOS D-E]",1,422,422,0]
["C.P. ROXANA (MÓDULO AGROPECUARIO)",1,42,42,0]
[]
[]
["Fuente: Sección Padrón Electoral, Contraloría Electoral y Programa Electoral: Equipación de condiciones para el ejercicio del voto."]

{"sheet":"13","index":16,"n_rows":69,"n_cols":5,"rows_kept":69,"cut":false,"hidden":false,"merged":[[5,0,6,0],[5,2,5,4],[5,1,6,1],[1,0,1,4],[2,0,2,4],[3,0,3,4],[68,0,68,4]]}
[]
["CUADRO 13"]
[" COSTA RICA: JUNTAS RECEPTORAS Y ELECTORADO EN HOGARES DE ANCIANOS, POR SEXO"]
["SEGÚN PROVINCIA Y DISTRITO ELECTORAL, ELECCIONES 4 DE FEBRERO DE 2018"]
[]
["PROVINCIA Y DISTRITO ELECTORAL","NÚMERO DE JUNTAS","ELECTORADO"]
[null,null,"TOTAL","HOMBRES","MUJERES"]
[]
["COSTA RICA",{"$f":"+B10+B25+B35+B38+B43+B51+B61","v":50},{"$f":"+C10+C25+C35+C38+C43+C51+C61","v":2448},{"$f":"+D10+D25+D35+D38+D43+D51+D61","v":1282},{"$f":"+E10+E25+E35+E38+E43+E51+E61","v":1166}]
["SAN JOSÉ",{"$f":"SUM(B11:B24)","v":14},{"$f":"SUM(C11:C24)","v":773},{"$f":"SUM(D11:D24)","v":360},413]
["H. A. MAGDALA",1,60,27,33]
["H.A. OFELIA CARVAJAL DE NARANJO",1,76,30,46]
["H.A. SAN CAYETANO",1,39,18,21]
["H. A. COM MORICE (LA CASONA)",1,45,23,22]
["H.A. CORAZÓN DE JESÚS",1,38,21,17]
["H.A. LOS SANTOS",1,47,22,25]
["H.A. SAN FRANCISCO DE ASÍS",1,42,20,22]
["H.A.CARLOS MARÍA ULLOA",1,131,58,73]
["H.A. CORTEZA AMARILLA-EMMANUEL",1,17,4,13]
["H.A. ACOSTA",1,44,23,21]
["H.A. CASA NAZARETH",1,25,14,11]
["H.A. MONTES DE OCA",1,78,33,45]
["H.A. CURRIDABAT",1,44,16,28]
["H.A. MONS.DELFÍN QUESADA CASTRO",1,87,51,36]
["ALAJUELA",{"$f":"SUM(B26:B34)","v":9},{"$f":"SUM(C26:C34)","v":664},{"$f":"SUM(D26:D34)","v":325},339]
["H.A. SANTIAGO CRESPO CALVO",1,173,74,99]
["H.A. SAN RAMÓN",1,62,28,34]
["H.A. JAFETH JIMÉNEZ MORALES",1,90,39,51]
["H.A. HORTENSIA RODRÍGUEZ S.DE B.",1,67,34,33]
["H.A. JOSÉ DEL OLMO",1,56,23,33]
["H.A. PALMARES",1,70,36,34]
["H.A. PRESB.JESÚS MARÍA VARGAS",1,27,16,11]
["H.A. SAN VICENTE DE PAÚL",1,68,47,21]
["H.A. SAN RAFAEL",1,51,28,23]
["CARTAGO",{"$f":"SUM(B36:B37)","v":2},{"$f":"SUM(C36:C37)","v":164},{"$f":"SUM(D36:D37)","v":86},78]
["H.A. ASILO DE LA VEJEZ",1,104,48,56]
["H.A. SAN BUENAVENTURA",1,60,38,22]
["HEREDIA",{"$f":"SUM(B39:B42)","v":4},{"$f":"SUM(C39:C42)","v":226},{"$f":"SUM(D39:D42)","v":117},109]
["H.A. REINA DE LOS ANGELES",1,14,7,7]
["H. A. SEÑORA DE LOS ANGELES",1,96,52,44]
["H.A.ALFREDO Y DELIA GONZÁLEZ FLORES",1,90,40,50]
["H. A. SAN AGUSTÍN",1,26,18,8]
["GUANACASTE",{"$f":"SUM(B44:B50)","v":7},{"$f":"SUM(C44:C50)","v":189},{"$f":"SUM(D44:D50)","v":112},{"$f":"SUM(E44:E50)","v":77}]
["H.A. LIBERIA",1,31,20,11]
["H.A. SAN BLAS",1,29,15,14]
["H.A. NUESTRA SEÑORA DEL ROSARIO",1,15,8,7]
["H. A. MARY BLANCO",1,25,16,9]
["H.A. SAN JORGE",1,34,22,12]
["H.A. TILARÁN",1,31,19,12]
["H. A. SAGRADO CORAZON DE JESÚS",1,24,12,12]
["PUNTARENAS",{"$f":"SUM(B52:B60)","v":9},{"$f":"SUM(C52:C60)","v":279},{"$f":"SUM(D52:D60)","v":184},{"$f":"SUM(E52:E60)","v":95}]
["H A  MIGUEL MORENO",1,38,23,15]
["H A  MARÍA INMACULADA",1,32,17,15]
["H A  CARLOS VENEGAS",1,27,17,10]
["H A  FRAY CASIANO DE MADRID",1,39,22,17]
["H  A  PALMAR SUR",1,43,33,10]
["H  A  PAQUITA",1,20,15,5]
["H  A  GOLFITO",1,23,18,5]
["H A  COTO BRUS",1,24,17,7]
["H A  NEILY",1,33,22,11]
["LIMÓN",{"$f":"SUM(B62:B66)","v":5},{"$f":"SUM(C62:C66)","v":153},{"$f":"SUM(D62:D66)","v":98},55]
["H A  VÍCTOR CASCO TORRES",1,27,12,15]
["H A  GUÁPILES",1,38,30,8]
["H  A  CARIARI",1,54,35,19]
["H A  SANTA LUISA",1,16,8,8]
["H  A  DAVID GARRO",1,18,13,5]
[]
[]
["Fuente: Sección Padrón Electoral, Contraloría Electoral y Programa Electoral: Equipación de condiciones para el ejercicio del voto."]

{"sheet":"14","index":17,"n_rows":87,"n_cols":5,"rows_kept":87,"cut":false,"hidden":false,"merged":[[86,0,86,4],[1,0,1,4],[2,0,2,4],[3,0,3,4],[4,0,4,2],[5,0,6,0],[5,1,6,1],[5,2,5,4]]}
[]
["CUADRO 14"]
[" COSTA RICA: JUNTAS RECEPTORAS Y ELECTORADO EN ZONAS INDÍGENAS, POR SEXO"]
["SEGÚN PROVINCIA Y DISTRITO ELECTORAL, ELECCIONES 4 DE FEBRERO DE 2018"]
[]
["PROVINCIA Y DISTRITO ELECTORAL","NÚMERO DE JUNTAS","ELECTORADO"]
[null,null,"TOTAL","HOMBRES","MUJERES"]
[]
["COSTA RICA",{"$f":"+B10+B15+B18+B28+B31+B67","v":93},{"$f":"+C10+C15+C18+C28+C31+C67","v":34939},{"$f":"+D10+D15+D18+D28+D31+D67","v":18366},16573]
["SAN JOSÉ",{"$f":"SUM(B11:B14)","v":5},1645,863,782]
["ZAPATÓN (SAN CARLOS)",1,349,190,159]
["BAJO REY",1,47,25,22]
["QUITIRRISI",2,955,506,449]
["CHINA KICHA",1,294,142,152]
["ALAJUELA",{"$f":"SUM(B16:B17)","v":2},773,395,378]
["MARGARITA",1,448,223,225]
["TONJIBE",1,325,172,153]
["CARTAGO",{"$f":"SUM(B19:B27)","v":10},2841,1431,1410]
["GRANO DE ORO O XARA",2,806,391,415]
["SIMIRIÑAC [JACUY]",1,291,147,144]
["DUCLAC [ALTO PACUARE ARRIBA]",1,234,115,119]
["JAKI [CAPILLA DOS CHIRRIPÓ ARRIBA]",1,348,181,167]
["BOLORI ÑAC [CAPILLA UNO]",1,314,166,148]
["NIMARI-ÑAC [RÍO PEJE]",1,217,111,106]
["NAMALDI",1,108,51,57]
["TSIPIRI [QUEBRADA PLATANILLO]",1,497,256,241]
["JACBATA (CERRO AZUL)",1,26,13,13]
["GUANACASTE",{"$f":"SUM(B29:B30)","v":3},878,454,424]
["MATAMBUGUITO",1,190,97,93]
["MATAMBU",2,688,357,331]
["PUNTARENAS",{"$f":"SUM(B32:B66)","v":41},14363,7645,6718]
["SALITRE",1,432,229,203]
["BORUCA",2,1202,637,565]
["LAS PILAS",1,139,84,55]
["COLINAS [MAÍZ DE LOS UVA]",1,341,185,156]
["CURRÉ",1,378,195,183]
["LA DANTA O CONCEPCIÓN",1,425,226,199]
["UJARRÁS",2,895,469,426]
["BAJO LAS BRISAS",2,791,408,383]
["TÉRRABA",1,568,301,267]
["SAN RAFAEL DE CABAGRA",2,836,433,403]
["BIJAGUAL",1,460,255,205]
["CAJÓN",1,246,149,97]
["GUAGARAL",1,234,130,104]
["MAÍZ DE BORUCA",1,344,192,152]
["CHÁNGUENA [LA FILA]",1,261,150,111]
["PILÓN",1,464,259,205]
["LAS VEGAS DE RÍO CHÁNGUENA",1,103,60,43]
["LA BONGA",1,268,155,113]
["SAN VICENTE [UPIAV-2]",1,132,71,61]
["PARAÍSO",1,220,119,101]
["PUENTE DE SALITRE",1,339,179,160]
["SHAMBA",1,187,107,80]
["LA PEÑA DE BURICA",1,201,112,89]
["GUAYMÍ DE BURICA",1,216,120,96]
["ALTO CONTE [MOLO DUBTDO]",1,282,153,129]
["PROGRESO DE CONTEBURICA",1,221,122,99]
["SAN GERARDO",1,113,63,50]
["LA CASONA [GUAYMÍ]",2,1049,527,522]
["BAJO LOS INDIOS",1,261,134,127]
["ABROJO NORTE [VEGAS DE ABROJO NORTE]",1,643,328,315]
["BARRIO NUEVO DE VERACRUZ O COLORADITO SUR",2,812,405,407]
["CARACOL DE LA VACA",1,427,223,204]
["VEREH",1,401,205,196]
["VEGAS DEL RÍO LA VACA [NIBIRIBOTDA]",1,189,111,78]
["ABROJO-MONTEZUMA",1,283,149,134]
["LIMÓN",{"$f":"SUM(B68:B84)","v":32},14439,7578,6861]
["VESTA",1,490,273,217]
["BOCUARE",1,230,134,96]
["ALTO CWEN",1,417,218,199]
["XIQIARI",1,562,285,277]
["SINOLI",1,202,102,100]
["PACUARITO",2,694,375,319]
["BRATSI [BAMBÚ O DON DIEGO]",1,449,219,230]
["AMUBRI",4,1911,990,921]
["COROMA [COLOQCHA]",1,410,219,191]
["PUERTO VIEJO",3,1557,872,685]
["BRIBRÍ [FIELDS]",5,3046,1583,1463]
["SHIROLES [XIROLES]",4,2007,1003,1004]
["KATSI",2,656,349,307]
["SEPEQUE",2,1030,535,495]
["SIBUJÚ",1,313,174,139]
["BAJO TELIRE [BAJO BLEY]",1,202,112,90]
["PALMERA [CATSAQIBI]",1,263,135,128]
[]
[]
["Fuente: Sección Padrón Electoral, Contraloría Electoral y Programa Electoral: Equipación de condiciones para el ejercicio del voto."]

{"sheet":"15","index":18,"n_rows":17,"n_cols":5,"rows_kept":17,"cut":false,"hidden":false,"merged":[[1,0,1,4],[2,0,2,4],[3,0,3,4],[16,0,16,4],[4,0,4,2],[5,0,6,0],[5,1,6,1],[5,2,5,4]]}
[]
["CUADRO 15"]
[" COSTA RICA: JUNTAS RECEPTORAS Y ELECTORADO EN CENTROS DE SALUD MENTAL, POR SEXO"]
["  SEGÚN PROVINCIA Y DISTRITO ELECTORAL, ELECCIONES 4 DE FEBRERO DE 2018"]
[]
["PROVINCIA Y DISTRITO ELECTORAL","NÚMERO DE JUNTAS","ELECTORADO"]
[null,null,"TOTAL","HOMBRES","MUJERES"]
[]
["COSTA RICA",{"$f":"+B10+B13","v":3},{"$f":"+C10+C13","v":337},261,76]
["SAN JOSÉ",{"$f":"SUM(B11:B12)","v":2},252,204,48]
["C.S.M. MANUEL ANTONIO CHAPUÍ",1,122,74,48]
["C.S.M. CAPEMCOL",1,130,130,0]
["CARTAGO",{"$f":"SUM(B14:B14)","v":1},85,57,28]
["C.S.M. ROBERTO CHACÓN PAUT",1,85,57,28]
[]
[]
["Fuente: Sección Padrón Electoral, Contraloría Electoral y Programa Electoral: Equipación de condiciones para el ejercicio del voto."]

{"sheet":"16","index":19,"n_rows":42,"n_cols":2,"rows_kept":42,"cut":false,"hidden":false,"merged":[[1,0,1,1]]}
[]
["CUADRO 16"]
["COSTA RICA: PARTIDOS POLÍTICOS QUE PARTICIPAN EN LAS ELECCIONES"]
["SEGÚN ESCALA, ELECCIONES 4 DE FEBRERO 2018"]
[]
["NOMBRE","DIVISA"]
[]
["ESCALA NACIONAL"]
[]
["ACCESIBILIDAD SIN EXCLUSIÓN"]
["ACCIÓN CIUDADANA"]
["ALIANZA DEMÓCRATA CRISTIANA"]
["DE LOS TRABAJADORES"]
["FRENTE AMPLIO"]
["INTEGRACIÓN NACIONAL"]
["LIBERACIÓN NACIONAL"]
["LIBERAL PROGRESISTA"]
["MOVIMIENTO LIBERTARIO"]
["NUEVA GENERACIÓN"]
["PARTIDO DE LOS TRABAJADORES"]
["RENOVACIÓN COSTARRICENSE"]
["REPUBLICANO SOCIAL CRISTIANO"]
["RESTAURACIÓN NACIONAL"]
["UNIDAD SOCIAL CRISTIANA"]
[]
["ESCALA PROVINCIAL"]
[]
[]
["ACTUEMOS YA (Cartago)"]
["AUTÉNTICO LIMONENSE (Limón)"]
["COMUNAL UNIDO (San José)"]
["FUERZAS UNIDAS PARA EL CAMBIO (San José)"]
["DE LOS TRANSPORTISTAS (San José)"]
["NUEVO PARTIDO SOCIALISTA (San José)"]
["PATRIA, IGUALDAD Y DEMOCRACIA (San José)"]
["RECUPERANDO VALORES (Limón)"]
["TODOS (San José)"]
["UNIÓN GUANACASTECA (Guanacaste)"]
["VAMOS (San José)"]
[]
[]
["Fuente: Departamento de registro de Partidos Políticos del Tribunal Supremo de Elecciones."]

{"sheet":"17","index":20,"n_rows":20,"n_cols":2,"rows_kept":20,"cut":false,"hidden":false,"merged":[[6,0,7,0],[6,1,7,1],[16,0,16,1]]}
[]
["CUADRO 17"]
[" COSTA RICA: MONTO PRESUPUESTADO POR EL TRIBUNAL SUPREMO DE ELECCIONES "]
["PARA LAS ELECCIONES GENERALES DE 2018, SEGÚN AÑO "]
["(CIFRAS EN COLONES)"]
[]
["AÑO","MONTO PRESUPUESTADO"]
[]
[]
["TOTAL",{"$f":"SUM(B12:B14)","v":6976281665}]
[]
[2016,56304000]
[2017,2887225700]
["2018 1/",4032751965]
[]
[]
["1/ Para la eventualidad de tener que organizar una segunda vuelta de la elección presidencial se presupuestaron adicionalmente ¢1 614 883 200."]
["Nota: No incluyen los montos por Deuda Politica."]
[" "]
["Fuente: Dirección Ejecutiva del Tribunal Supremo de Elecciones."]

{"sheet":"18","index":21,"n_rows":18,"n_cols":2,"rows_kept":18,"cut":false,"hidden":false,"merged":[[0,0,0,1],[1,0,1,1],[2,0,2,1],[15,0,15,1]]}
["CUADRO 18"]
["COSTA RICA: DONACIONES REPORTADAS PARA EL PROCESO ELECTORAL 2014-20171/ "]
["AL 30 DE NOVIEMBRE DE  2017"]
[]
["AÑO","MONTO"]
[]
["TOTAL ",{"$f":"B8+B9+B10+B11","v":3389877538.5}]
[2014,465946535.18000001]
[2015,431705237.18000001]
[2016,437455246.60000002]
[2017,2054770519.5399997]
[]
[]
["Nota: Donaciones recibidas, reportadas por los partidos políticos a partir del mes de marzo de 2014."]
[]
["1/ De acuerdo con los artículos 128 y 129 del Código Electoral, publicado el 2 de setiembre en el Diario Oficial La Gaceta que se prohibe la contribución de extranjeros, personas jurídicas y depositadas fuera del país."]
[]
["Fuente: Departamento de Financiamiento de Partidos Políticos del Tribunal Supremo de Elecciones."]

{"sheet":"19","index":22,"n_rows":61,"n_cols":5,"rows_kept":61,"cut":false,"hidden":false,"merged":[[1,0,1,4],[2,0,2,4],[3,0,3,4],[4,0,4,4],[5,0,6,0],[5,1,6,1],[5,4,6,4]]}
[]
["CUADRO 19"]
["COSTA RICA: DONACIONES EN EFECTIVO REPORTADAS ANTE EL TRIBUNAL SUPREMO DE ELECCIONES"]
["SEGÚN PARTIDO POLÍTICO  1/"]
["- Cifras en colones, al 30 de noviembre de 2017 -"]
["PARTIDO POLÍTICO ","CICLO MUNICIPAL2/","CICLO PRESIDENCIAL","CICLO\nPRESIDENCIAL","Noviembre, 2017"]
[null,null,"PERIODO NO ELECTORAL\n2016-2017 3/","PERIODO ELECTORAL\n2016-2017 4/"]
[]
["TOTAL",{"$f":"SUM(B11:B53)","v":1374303409.3300002},{"$f":"SUM(C11:C53)","v":2387500434.2200003},{"$f":"SUM(D11:D53)","v":65669786.770000003},{"$f":"SUM(E11:E53)","v":23570607.880000003}]
[]
["ACCESIBILIDAD SIN EXCLUSION",2284361.06,76627828.700000003,0,0]
["ACCION CIUDADANA",231930029.59999999,96010116.220000044,9141005.1500000004,3775513.26]
["ACUERDO DE ALIANZA DE QUEPOS",660000,0,0,0]
["ACTUEMOS YA",0,1070000,10000,0]
["ALIANZA DEMOCRATA CRISTIANA",8586284,2545000,498400,0]
["ALIANZA PATRIOTICA",2000000,270000,0,0]
["ALIANZA POR SAN JOSE",77616500,8491939.2300000004,0,0]
["ALIANZA SOCIAL POR LA UNION",3555751,101000,0,0]
["AUTENTICO LIMONENSE",11454550.17,2716000,0,0]
["AUTÉNTICO SIQUIRREÑO",0,625000,0,0]
["AVANCE MONTES DE OCA",3450904,261685,7000,0]
["BARVA UNIDA",307000,0,0,0]
["COALICION ALIANZA POR BELEN",694500,0,0,0]
["COALICION GENTE MONTES DE OCA",7065573,0,0,0]
["COALICION UNIDOS POR GUATUSO",356000,0,0,0]
["CURRIDABAT SIGLO XXI",18315116,4409241.6500000004,0,0]
["DEL SOL",12673150,0,0,0]
["DEMOCRATA",109219,0,0,0]
["ECOLOGICO COMUNAL COSTARRICENSE",0,1391647,0,0]
["FRENTE AMPLIO",180761940,112820074.27,11728464.560000001,6790777.5599999996]
["FUERZA DEMOCRATICA DESAMPARADEÑA",1006720,0,0,0]
["GARABITO ECOLOGICO",3558320,0,0,0]
["INDEPENDIENTE ESCAZUCEÑO",1711000,0,0,0]
["INTEGRACION NACIONAL",1200000,0,2483000,2483000]
["LIBERACION NACIONAL",502505486.69999993,1849471238.7199998,33881617.060000002,7456317.0600000005]
["LIBERAL PROGRESISTA",0,0,216300,0]
["MOVIMIENTO AVANCE SANTO DOMINGO",4988438.5199999996,2714000,0,0]
["MOVIMIENTO LIBERTARIO",61145715.929999992,34906014.350000001,2754000,2504000]
["NUEVA GENERACION",38274824,5697076.0499999998,648200,0]
["NUEVO PARTIDO SOCIALISTA",350000,0,0,0]
["PARRITA INDEPENDIENTE",670000,0,0,0]
["PROGRESO COMUNAL DESAMPARADEÑO",601001.01,null,0,0]
["RECUPERANDO VALORES",0,360000,null,0]
["RENOVACION CARTAGO",668883.99,700000,0,0]
["RENOVACION COSTARRICENSE",10011844.02,15056707,0,0]
["RENOVEMOS ALAJUELA",2710000,5027831,0,0]
["REPUBLICANO SOCIAL CRISTIANO",73666912.390000015,20802000,0,0]
["RESCATE CANTONAL LA UNION",5193886,0,0,0]
["RESTAURACION NACIONAL",10946000,562000,459000,61000]
["TODOS ",0,0,1560000,0]
["TODO POR FLORES",2033000,0,null,0]
["UNIDAD SOCIAL CRISTIANA",68485598.939999998,144864035.03,2282800,500000]
["YUNTA PROGRESISTA ESCAZUCEÑA",22754900,0,0,0]
[]
["Notas:"]
["1/ El detalle de cada contribuyente se puede consultar en  http://www.tse.go.cr/contribuciones_partidos.htm"]
["2/ El Ciclo Municipal abarca el periodo comprendido entre el 20 de marzo de 2014 y el 23 de marzo de 2016."]
["3/ El Periodo no Electoral  del Ciclo Presidencia comprende del 24 de marzo de 2016 al 03 de octubre de 2017."]
["4/ El Periodo Electoral  del Ciclo Presidencia comprende del 04 de octubre de 2017 al 21 de marzo de 2017."]
[]
["Fuente: Reportes de contribuciones remitidos periódicamente por los partidos políticos al Departamento de Financiamiento de Partidos Políticos. "]

{"sheet":"20","index":23,"n_rows":20,"n_cols":6,"rows_kept":20,"cut":false,"hidden":false,"merged":[[18,0,18,1],[1,0,1,5],[2,0,2,5],[3,0,3,5],[15,0,15,5],[17,0,17,5]]}
[]
["CUADRO 20"]
["COSTA RICA: FISCALIZACIÓN DE LOS PARTIDOS POLÍTICOS, POR AÑO"]
["SEGÚN TIPO DE FISCALIZACIÓN 1/, AL 21 DE DICIEMBRE DE 2017"]
[]
["TIPO DE FISCALIZACIÓN","TOTAL",2014,2015,2016,2017]
[]
["TOTAL ",{"$f":"SUM(B9:B13)","v":378},{"$f":"SUM(C9:C13)","v":35},{"$f":"SUM(D9:D13)","v":89},{"$f":"SUM(E9:E13)","v":124},{"$f":"SUM(F9:F13)","v":130}]
["AUDITORÍA",7,2,2,1,2]
["ANÁLISIS DE LIQUIDACIONES 2/",150,15,33,66,36]
["DENUNCIAS",9,2,1,4,2]
["ESTUDIOS ESPECIALES",12,8,1,"-",3]
["ESTUDIOS DE ASESORÍA",200,8,52,53,87]
[]
[]
["1/ Los tipos de fiscalización que realiza el Departamento de Financiamiento de Partidos Políticos, responden a las atribuciones funcionales establecidas en el Código Electoral y el Reglamento sobre el Financiamiento de los Partidos Polítcos."]
[]
["2/ En análisis de liquidaciones, se muestran los datos correspondientes a los informes emitidos. En algunas liquidaciones se emitieron dos infomes por liquidación y en otros casos en un informe se resolvió sobre varias liquidaciones de un mismo partido."]
[]
["Fuente: Departamento de Financiamiento de Partidos Políticos del Tribunal Supremo de Elecciones."]

{"sheet":"21","index":24,"n_rows":17,"n_cols":6,"rows_kept":17,"cut":false,"hidden":false,"merged":[[1,0,1,5],[6,0,7,0],[6,1,7,1],[6,2,6,3],[6,4,6,5]]}
[]
["CUADRO 21"]
[" COSTA RICA: COMPOSICIÓN DE LAS PAPELETAS, POR SEXO, SEGÚN   "]
["TIPO DE CANDIDATURA, ELECCIONES 4 DE FEBRERO DE 2018"]
["(CIFRAS ABSOLUTAS Y RELATIVAS)"]
[]
["CANDIDATURAS","TOTAL","HOMBRES",null,"MUJERES"]
[null,null,"ABSOLUTO","%","ABSOLUTO","%"]
[]
["TOTAL",{"$f":"SUM(B11:B14)","v":1087},{"$f":"SUM(C11:C14)","v":556},{"$f":"C10/B10*100","v":51.149954001839923},{"$f":"SUM(E11:E14)","v":531},{"$f":"E10/B10*100","v":48.850045998160077}]
["PRESIDENCIA",{"$f":"+C11+E11","v":13},{"$f":"+'22'!F9","v":12},{"$f":"+C11/B11*100","v":92.307692307692307},1,{"$f":"+E11/B11*100","v":7.6923076923076925}]
["PRIMERA VICEPRESIDENCIA",13,{"$f":"+'22'!I9","v":4},{"$f":"+C12/B12*100","v":30.76923076923077},9,{"$f":"+E12/B12*100","v":69.230769230769226}]
["SEGUNDA VICEPRESIDENCIA",13,9,69.230769230769226,4,30.76923076923077]
["DIPUTACIONES",1048,531,50.667938931297705,517,49.332061068702288]
[]
[]
["Fuente:  Departamento de Registro de Partidos Políticos del Tribunal Supremo de Elecciones."]

{"sheet":"G3","index":25,"n_rows":45,"n_cols":11,"rows_kept":45,"cut":false,"hidden":false,"merged":[]}
[]
[]
[]
[null,null,null,null,null,null,null,null,"CANDIDATURAS","HOMBRES","MUJERES"]
[]
[null,null,null,null,null,null,null,null,"TOTAL",{"$f":"SUM(J8:J11)","v":556},{"$f":"SUM(K8:K11)","v":531}]
[]
[null,null,null,null,null,null,null,null,"DIPUTACIONES",{"$f":"'21'!C14","v":531},{"$f":"'21'!E14","v":517}]
[null,null,null,null,null,null,null,null,"SEGUNDA VICEPRESIDENCIA",{"$f":"'21'!C13","v":9},{"$f":"'21'!E13","v":4}]
[null,null,null,null,null,null,null,null,"PRIMERA VICEPRESIDENCIA",{"$f":"'21'!C12","v":4},{"$f":"'21'!E12","v":9}]
[null,null,null,null,null,null,null,null,"PRESIDENCIA",12,{"$f":"'21'!E11","v":1}]
[]
[]
[]
[]
[]
[]
[]
[]
[]
[]
[]
[]
[]
[]
[]
[]
[]
[]
[]
[]
[]
[]
[]
[]
[]
[]
[]
[]
[]
[]
[]
[]
[]
["Fuente: Cuadro 21."]

{"sheet":"22","index":26,"n_rows":21,"n_cols":13,"rows_kept":21,"cut":false,"hidden":false,"merged":[[5,0,6,0],[5,1,5,3],[5,4,5,6],[5,7,5,9],[5,10,5,12]]}
[]
["CUADRO 22"]
["COSTA RICA: CANDIDATURAS INSCRITAS A PRESIDENCIA Y VICEPRESIDENCIAS, POR SEXO"]
["SEGÚN GRUPOS DE EDAD, ELECCIONES 4 DE FEBRERO DE 2018"]
[]
["GRUPOS DE EDAD","TOTAL",null,null,"PRESIDENCIA",null,null,"1º VICEPRESIDENCIA",null,null,"2º VICEPRESIDENCIA"]
[null,"TOTAL","HOMBRES","MUJERES","TOTAL","HOMBRES","MUJERES","TOTAL","HOMBRES","MUJERES","TOTAL","HOMBRES","MUJERES"]
[]
["TOTAL",{"$f":"SUM(B11:B18)","v":39},25,14,13,12,1,13,4,9,13,9,4]
[]
["30 - 34        ",{"$f":"+E11+H11+K11","v":5},{"$f":"+F11+I11+L11","v":2},3,2,1,1,2,0,2,1,1,0]
["35 - 39        ",{"$f":"+E12+H12+K12","v":4},{"$f":"+F12+I12+L12","v":3},{"$f":"+G12+J12+M12","v":1},1,1,0,1,0,1,2,2,0]
["40 - 44        ",8,5,3,3,3,0,2,0,2,3,2,1]
["45 - 49        ",3,2,1,1,1,0,0,0,0,2,1,1]
["50 - 54        ",2,0,2,0,0,0,2,0,2,0,0,0]
["55 - 59        ",10,8,2,4,4,0,1,1,0,5,3,2]
["60 - 64        ",5,3,2,1,1,0,4,2,2,0,0,0]
["65 - 69        ",2,2,0,1,1,0,1,1,0,0,0,0]
[]
[]
["Fuente: Departamento de Registro de Partidos Políticos del Tribunal Supremo de Elecciones."]

{"sheet":"23","index":27,"n_rows":26,"n_cols":10,"rows_kept":26,"cut":false,"hidden":false,"merged":[[1,0,1,9],[5,0,6,0],[5,1,5,3],[5,4,5,6],[5,7,5,9]]}
[]
["CUADRO 23"]
[" COSTA RICA: CANDIDATURAS INSCRITAS A DIPUTACIONES EN PROPIEDAD Y SUPLENCIA, POR SEXO"]
["SEGÚN GRUPOS DE EDAD, ELECCIONES 4 DE FEBRERO 2018"]
[]
["GRUPOS DE EDAD","DIPUTACIONES",null,null,"EN PROPIEDAD",null,null,"EN SUPLENCIA"]
[null,"TOTAL","HOMBRES","MUJERES","TOTAL","HOMBRES","MUJERES","TOTAL","HOMBRES","MUJERES"]
[]
["TOTAL",{"$f":"SUM(B10:B23)","v":1048},{"$f":"SUM(C10:C23)","v":531},517,846,429,417,202,102,100]
["18 - 24",60,35,25,46,26,20,14,9,5]
["25 - 29",129,59,70,100,47,53,29,12,17]
["30 - 34",127,59,68,106,49,57,21,10,11]
["35 - 39",117,55,62,95,45,50,22,10,12]
["40 - 44",107,51,56,91,46,45,16,5,11]
["45 - 49",95,53,42,80,43,37,15,10,5]
["50 - 54",90,37,53,71,28,43,19,9,10]
["55 - 59",128,64,64,103,53,50,25,11,14]
["60 - 64",110,68,42,87,56,31,23,12,11]
["65 - 69",48,29,19,38,20,18,10,9,1]
["70 - 74",25,15,10,20,12,8,5,3,2]
["75 - 79",7,3,4,4,1,3,3,2,1]
["80 - 84",3,2,1,3,2,1,0,0,0]
["85 Y MÁS",2,1,1,2,1,1,0,0,0]
[]
[]
["Fuente: Departamento de Registro de Partidos Políticos del Tribunal Supremo de Elecciones."]

{"sheet":"G4","index":28,"n_rows":49,"n_cols":15,"rows_kept":49,"cut":false,"hidden":false,"merged":[]}
[]
[]
[]
[]
[]
[]
[null,null,null,null,null,null,null,null,null,null,null,"HOMBRES","MUJERES"]
[]
[null,null,null,null,null,null,null,null,null,null,null,{"$f":"+'23'!C10","v":35},{"$f":"+'23'!D10*-1","v":-25},"18 - 24","18 - 24"]
[null,null,null,null,null,null,null,null,null,null,null,{"$f":"+'23'!C11","v":59},{"$f":"+'23'!D11*-1","v":-70},"25 - 29","25 - 29"]
[null,null,null,null,null,null,null,null,null,null,null,{"$f":"+'23'!C12","v":59},{"$f":"+'23'!D12*-1","v":-68},"30 - 34","30 - 34"]
[null,null,null,null,null,null,null,null,null,null,null,{"$f":"+'23'!C13","v":55},{"$f":"+'23'!D13*-1","v":-62},"35 - 39","35 - 39"]
[null,null,null,null,null,null,null,null,null,null,null,{"$f":"+'23'!C14","v":51},{"$f":"+'23'!D14*-1","v":-56},"40 - 44","40 - 44"]
[null,null,null,null,null,null,null,null,null,null,null,{"$f":"+'23'!C15","v":53},{"$f":"+'23'!D15*-1","v":-42},"45 - 49","45 - 49"]
[null,null,null,null,null,null,null,null,null,null,null,{"$f":"+'23'!C16","v":37},{"$f":"+'23'!D16*-1","v":-53},"50 - 54","50 - 54"]
[null,null,null,null,null,null,null,null,null,null,null,{"$f":"+'23'!C17","v":64},{"$f":"+'23'!D17*-1","v":-64},"55 - 59","55 - 59"]
[null,null,null,null,null,null,null,null,null,null,null,{"$f":"+'23'!C18","v":68},{"$f":"+'23'!D18*-1","v":-42},"60 - 64","60 - 64"]
[null,null,null,null,null,null,null,null,null,null,null,{"$f":"+'23'!C19","v":29},{"$f":"+'23'!D19*-1","v":-19},"65 - 69","65 - 69"]
[null,null,null,null,null,null,null,null,null,null,null,{"$f":"+'23'!C20","v":15},{"$f":"+'23'!D20*-1","v":-10},"70 - 74","70 - 74"]
[null,null,null,null,null,null,null,null,null,null,null,6,-6,"75 Y MÁS","75 Y MÁS"]
[]
[null,null,null,"                                                           "]
[]
[]
[]
[]
[]
[]
[]
[]
[]
[]
[]
[]
[]
[]
[]
[]
[]
[]
[]
[]
[]
[]
[]
[]
[]
[]
["Fuente: Cuadro 23."]

{"sheet":"24","index":29,"n_rows":39,"n_cols":16,"rows_kept":39,"cut":false,"hidden":false,"merged":[[6,11,6,15],[1,0,1,15],[3,0,3,15],[4,0,4,15],[7,2,7,3],[7,4,7,5],[7,7,7,8],[2,0,2,15],[7,9,7,10],[7,12,7,13],[7,14,7,15],[6,0,8,0],[7,1,8,1],[7,6,8,6],[7,11,8,11],[6,1,6,5],[6,6,6,10]]}
[]
["CUADRO 24"]
[" COSTA RICA: CANDIDATURAS A DIPUTACIONES EN PROPIEDAD Y SUPLENCIA, POR SEXO"]
[" SEGÚN PARTIDO, ELECCIONES 4 DE FEBRERO DE 2018"]
["(CIFRAS ABSOLUTAS Y RELATIVAS)"]
[]
["PARTIDO","DIPUTACIONES",null,null,null,null,"EN PROPIEDAD",null,null,null,null,"EN SUPLENCIA"]
["PARTIDO POLITICO","TOTAL","HOMBRES",null,"MUJERES",null,"TOTAL","HOMBRES",null,"MUJERES",null,"TOTAL","HOMBRES",null,"MUJERES"]
[null,"ABS","ABS","%","ABS","%","ABS","ABS","%","ABS","%","ABS","ABS","%","ABS","%"]
[]
["TOTAL",{"$f":"SUM(B12:B36)","v":1048},{"$f":"SUM(C12:C36)","v":531},{"$f":"+C11/B11*100","v":50.667938931297705},517,{"$f":"+E11/B11*100","v":49.332061068702288},846,429,{"$f":"+H11/G11*100","v":50.709219858156033},417,{"$f":"+J11/G11*100","v":49.290780141843967},202,102,{"$f":"+M11/L11*100","v":50.495049504950494},100,{"$f":"+O11/L11*100","v":49.504950495049506}]
["ACCESIBILIDAD SIN EXCLUSIÓN",75,37,49.3,38,50.7,57,28,49.1,29,50.9,18,9,50,9,50]
["ACCIÓN CIUDADANA",71,35,49.3,36,50.7,57,28,49.1,29,50.9,14,7,50,7,50]
["ACTUEMOS YA",9,5,55.6,4,44.4,7,4,57.1,3,42.9,2,1,50,1,50]
["ALIANZA DEMÓCRATA CRISTIANA",38,20,52.6,18,47.4,38,20,52.6,18,47.4,0,0,0,0,0]
["AUTÉNTICO LIMONENSE",7,4,57.1,3,42.9,5,3,60,2,40,2,1,50,1,50]
["COMUNAL UNIDO",24,12,50,12,50,19,10,52.6,9,47.4,5,2,40,3,60]
["DE LOS TRABAJADORES",40,21,52.5,19,47.5,40,21,52.5,19,47.5,0,0,0,0,0]
["DE LOS TRANSPORTISTAS",24,13,54.2,11,45.8,19,10,52.6,9,47.4,5,3,60,2,40]
["FRENTE AMPLIO",73,37,50.7,36,49.3,56,29,51.8,27,48.2,17,8,47.1,9,52.9]
["FUERZAS UNIDAS PARA EL CAMBIO",20,11,55,9,45,15,8,53.3,7,46.7,5,3,60,2,40]
["INTEGRACIÓN NACIONAL",73,36,49.3,37,50.7,57,29,50.9,28,49.1,16,7,43.8,9,56.3]
["LIBERACIÓN NACIONAL",74,37,50,37,50,57,28,49.1,29,50.9,17,9,52.9,8,47.1]
["LIBERAL PROGRESISTA",6,3,50,3,50,6,3,50,3,50,0,0,0,0,0]
["MOVIMIENTO LIBERTARIO",75,38,50.7,37,49.3,57,29,50.9,28,49.1,18,9,50,9,50]
["NUEVA GENERACIÓN",70,34,48.6,36,51.4,54,26,48.1,28,51.9,16,8,50,8,50]
["NUEVO PARTIDO SOCIALISTA",8,4,50,4,50,8,4,50,4,50,0,0,0,0,0]
["PATRIA, IGUALDAD Y DEMOCRACIA",22,11,50,11,50,19,10,52.6,9,47.4,3,1,33.299999999999997,2,66.7]
["RECUPERANDO VALORES",5,3,60,2,40,5,3,60,2,40,0,0,0,0,0]
["RENOVACIÓN COSTARRICENSE",74,38,51.4,36,48.6,57,29,50.9,28,49.1,17,9,52.9,8,47.1]
["REPUBLICANO SOCIAL CRISTIANO",72,37,51.4,35,48.6,57,29,50.9,28,49.1,15,8,53.3,7,46.7]
["RESTAURACIÓN NACIONAL",70,35,50,35,50,57,28,49.1,29,50.9,13,7,53.8,6,46.2]
["TODOS",22,12,54.5,10,45.5,19,10,52.6,9,47.4,3,2,66.7,1,33.299999999999997]
["UNIDAD SOCIAL CRISTIANA",66,33,50,33,50,57,29,50.9,28,49.1,9,4,44.4,5,55.6]
["UNIÓN GUANACASTECA",6,3,50,3,50,4,2,50,2,50,2,1,50,1,50]
["VAMOS",24,12,50,12,50,19,9,47.4,10,52.6,5,3,60,2,40]
[]
[]
["Fuente: Departamento de Registro de Partidos Políticos del Tribunal Supremo de Elecciones."]

{"sheet":"25","index":30,"n_rows":37,"n_cols":10,"rows_kept":37,"cut":false,"hidden":false,"merged":[[1,0,1,9],[5,7,5,9],[5,0,6,0],[5,1,5,3],[5,4,5,6]]}
[]
["CUADRO 25"]
[" COSTA RICA: EDAD PROMEDIO A FEBRERO DE LOS CANDIDATOS/AS INSCRITOS/AS A DIPUTACIONES EN PROPIEDAD Y SUPLENCIA"]
["POR SEXO, SEGÚN PARTIDO POLÍTICO, ELECCIONES 4 DE FEBRERO 2018"]
[]
["PARTIDO POLÍTICO","DIPUTACIONES",null,null,"EN PROPIEDAD",null,null,"EN SUPLENCIA"]
[null,"TOTAL","HOMBRES","MUJERES","TOTAL","HOMBRES","MUJERES","TOTAL","HOMBRES","MUJERES"]
[]
["TOTAL",44.81,45.58,44.03,44.78,45.44,44.11,44.95,46.18,43.7]
["ACCESIBILIDAD SIN EXCLUSIÓN",45.17,47.57,42.84,45.79,47.61,44.03,43.22,47.44,39]
["ACCIÓN CIUDADANA",47.38,48.77,46.03,48.86,49.07,48.66,41.36,47.57,35.14]
["ACTUEMOS YA",37.67,42,32.25,38.86,44,32,33.5,34,33]
["ALIANZA DEMÓCRATA CRISTIANA",37.76,40.299999999999997,34.94,37.76,40.299999999999997,34.94,0,0,0]
["AUTÉNTICO LIMONENSE",46.29,45.25,47.67,52,50.67,54,32,29,35]
["COMUNAL UNIDO",49.58,51.83,47.33,50.79,50.9,50.67,45,56.5,37.33]
["DE LOS TRABAJADORES",31.23,32.1,30.26,31.23,32.1,30.26,0,0,0]
["DE LOS TRANSPORTISTAS",50.04,54.92,44.27,48.42,54.7,41.44,56.2,55.67,57]
["FRENTE AMPLIO",42.85,42.03,43.69,43.2,44.07,42.26,41.71,34.630000000000003,48]
["FUERZAS UNIDAS PARA EL CAMBIO",50.1,51.45,48.44,52.13,53.13,51,44,47,39.5]
["INTEGRACIÓN NACIONAL",47.32,47.61,47.03,47.19,46.45,47.96,47.75,52.43,44.11]
["LIBERACIÓN NACIONAL",43.86,42.76,44.97,42.63,41.36,43.86,48,47.11,49]
["LIBERAL PROGRESISTA",42,37.67,46.33,42,37.67,46.33,0,0,0]
["MOVIMIENTO LIBERTARIO",45.6,47.16,44,45.23,46.62,43.79,46.78,48.89,44.67]
["NUEVA GENERACIÓN",40.1,40.409999999999997,39.81,40.22,38.81,41.54,39.69,45.63,33.75]
["NUEVO PARTIDO SOCIALISTA",30.38,29.75,31,30.38,29.75,31,0,0,0]
["PATRIA, IGUALDAD Y DEMOCRACIA",53.18,61.91,44.45,54.16,62,45.44,47,61,40]
["RECUPERANDO VALORES",49.4,46.67,53.5,49.4,46.67,53.5,0,0,0]
["RENOVACIÓN COSTARRICENSE",48.19,47.89,48.5,48.68,47.9,49.5,46.53,47.89,45]
["REPUBLICANO SOCIAL CRISTIANO",51.81,50.54,53.14,51.91,49.69,54.21,51.4,53.63,48.86]
["RESTAURACIÓN NACIONAL",42.31,42.51,42.11,42.14,43.75,40.590000000000003,43.08,37.57,49.5]
["TODOS",51.18,49.42,53.3,54.37,54.3,54.44,31,25,43]
["UNIDAD SOCIAL CRISTIANA",46.42,49.45,43.39,45.61,49.17,41.93,51.56,51.5,51.6]
["UNIÓN GUANACASTECA",50.67,52,49.33,45,45.5,44.5,62,65,59]
["VAMOS",31.46,27.75,35.17,31.53,27.22,35.4,31.2,29.33,34]
[]
[]
["Fuente: Departamento de Registro de Partidos Políticos del Tribunal Supremo de Elecciones."]

{"sheet":"26","index":31,"n_rows":30,"n_cols":25,"rows_kept":30,"cut":false,"hidden":false,"merged":[[6,1,6,3],[6,4,6,6],[6,7,6,9],[6,10,6,12],[2,0,2,24],[6,0,7,0],[6,16,6,18],[6,19,6,21],[6,22,6,24],[3,0,3,24],[4,0,4,24],[6,13,6,15]]}
[]
[]
["CUADRO 26"]
["COSTA RICA: CANDIDATURAS INSCRITAS A DIPUTACIONES PROPIETARIAS, POR PROVINCIA Y SEXO"]
["SEGÚN POSICIÓN EN LA PAPELETA, ELECCIONES 4 DE FEBRERO 2018"]
[]
["POSICIÓN","COSTA RICA",null,null,"SAN JOSÉ",null,null,"ALAJUELA",null,null,"CARTAGO",null,null,"HEREDIA",null,null,"GUANACASTE",null,null,"PUNTARENAS",null,null,"LIMÓN"]
[null,"T","H","M","T","H","M","T","H","M","T","H","M","T","H","M","T","H","M","T","H","M","T","H","M"]
["Total",{"$f":"SUM(B10:B28)","v":846},{"$f":"SUM(C10:C28)","v":429},417,348,177,171,136,71,65,96,47,49,77,39,38,53,27,26,63,31,32,73,37,36]
["1° Posición",106,59,47,21,14,7,14,10,4,14,6,8,14,8,6,14,7,7,14,6,8,15,8,7]
["2° Posición",103,46,57,21,7,14,13,4,9,14,8,6,13,6,7,14,7,7,13,7,6,15,7,8]
["3° Posición",102,57,45,21,14,7,13,9,4,14,6,8,13,7,6,14,7,7,12,6,6,15,8,7]
["4° Posición",97,43,54,20,6,14,13,4,9,14,8,6,13,6,7,11,6,5,12,6,6,14,7,7]
["5° Posición",86,49,37,20,14,6,13,9,4,14,6,8,13,7,6,0,0,0,12,6,6,14,7,7]
["6° Posición",57,23,34,20,6,14,12,4,8,14,8,6,11,5,6,0,0,0,0,0,0,0,0,0]
["7° Posición",44,27,17,20,14,6,12,8,4,12,5,7,0,0,0,0,0,0,0,0,0,0,0,0]
["8° Posición",31,9,22,19,5,14,12,4,8,0,0,0,0,0,0,0,0,0,0,0,0,0,0,0]
["9° Posición",30,21,9,18,13,5,12,8,4,0,0,0,0,0,0,0,0,0,0,0,0,0,0,0]
["10° Posición",29,9,20,18,5,13,11,4,7,0,0,0,0,0,0,0,0,0,0,0,0,0,0,0]
["11° Posición",29,20,9,18,13,5,11,7,4,0,0,0,0,0,0,0,0,0,0,0,0,0,0,0]
["12° Posición",18,5,13,18,5,13,0,0,0,0,0,0,0,0,0,0,0,0,0,0,0,0,0,0]
["13° Posición",17,13,4,17,13,4,0,0,0,0,0,0,0,0,0,0,0,0,0,0,0,0,0,0]
["14° Posición",17,4,13,17,4,13,0,0,0,0,0,0,0,0,0,0,0,0,0,0,0,0,0,0]
["15° Posición",17,13,4,17,13,4,0,0,0,0,0,0,0,0,0,0,0,0,0,0,0,0,0,0]
["16° Posición",16,4,12,16,4,12,0,0,0,0,0,0,0,0,0,0,0,0,0,0,0,0,0,0]
["17° Posición",16,12,4,16,12,4,0,0,0,0,0,0,0,0,0,0,0,0,0,0,0,0,0,0]
["18° Posición",16,4,12,16,4,12,0,0,0,0,0,0,0,0,0,0,0,0,0,0,0,0,0,0]
["19° Posición",15,11,4,15,11,4,0,0,0,0,0,0,0,0,0,0,0,0,0,0,0,0,0,0]
[]
["Fuente: Departamento de Registro de Partidos Políticos del Tribunal Supremo de Elecciones."]

{"sheet":"27","index":32,"n_rows":36,"n_cols":22,"rows_kept":36,"cut":false,"hidden":false,"merged":[[1,0,1,21],[2,0,2,21],[3,0,3,21],[5,1,5,3],[5,19,5,21],[5,4,5,6],[5,7,5,9],[5,10,5,12],[5,13,5,15],[5,16,5,18]]}
[]
["CUADRO 27"]
["COSTA RICA: CANDIDATURAS INSCRITAS A DIPUTACIONES PROPIETARIAS, POR POSICIÓN EN LA PAPELETA Y SEXO"]
["SEGÚN PARTIDO, ELECCIONES 4 DE FEBRERO 2018"]
[]
[null,"Total",null,null,"1° Posición",null,null,"2° Posición",null,null,"3° Posición",null,null,"4° Posición",null,null,"5° Posición",null,null,"6°  Posición y más"]
[null,"T","H","M","T","H","M","T","H","M","T","H","M","T","H","M","T","H","M","T","H","M"]
[]
["TOTAL",846,429,417,106,59,47,103,46,57,102,57,45,97,43,54,86,49,37,352,175,177]
["ACCESIBILIDAD SIN EXCLUSIÓN",57,28,29,7,4,3,7,3,4,7,4,3,7,3,4,6,3,3,23,11,12]
["ACCIÓN CIUDADANA",57,28,29,7,4,3,7,3,4,7,4,3,7,3,4,6,3,3,23,11,12]
["ACTUEMOS YA",7,4,3,1,1,0,1,0,1,1,1,0,1,0,1,1,1,0,2,1,1]
["ALIANZA DEMÓCRATA CRISTIANA",38,20,18,7,4,3,7,3,4,7,4,3,7,3,4,6,4,2,4,2,2]
["AUTÉNTICO LIMONENSE",5,3,2,1,1,0,1,0,1,1,1,0,1,0,1,1,1,0,0,0,0]
["COMUNAL UNIDO",19,10,9,1,1,0,1,0,1,1,1,0,1,0,1,1,1,0,14,7,7]
["DE LOS TRABAJADORES",40,21,19,7,4,3,7,3,4,6,4,2,4,2,2,4,2,2,12,6,6]
["DE LOS TRANSPORTISTAS",19,10,9,1,1,0,1,0,1,1,1,0,1,0,1,1,1,0,14,7,7]
["FRENTE AMPLIO",56,29,27,7,4,3,7,3,4,7,4,3,6,3,3,6,3,3,23,12,11]
["FUERZAS UNIDAS PARA EL CAMBIO",15,8,7,1,1,0,1,0,1,1,1,0,1,0,1,1,1,0,10,5,5]
["INTEGRACIÓN NACIONAL",57,29,28,7,4,3,7,3,4,7,4,3,7,3,4,6,3,3,23,12,11]
["LIBERACIÓN NACIONAL",57,28,29,7,3,4,7,4,3,7,3,4,7,4,3,6,2,4,23,12,11]
["LIBERAL PROGRESISTA",6,3,3,4,2,2,1,1,0,1,0,1,0,0,0,0,0,0,0,0,0]
["MOVIMIENTO LIBERTARIO",57,29,28,7,4,3,7,3,4,7,4,3,7,3,4,6,4,2,23,11,12]
["NUEVA GENERACIÓN",54,26,28,7,3,4,7,4,3,7,3,4,6,3,3,6,3,3,21,10,11]
["NUEVO PARTIDO SOCIALISTA",8,4,4,1,1,0,1,0,1,1,1,0,1,0,1,1,1,0,3,1,2]
["PATRIA, IGUALDAD Y DEMOCRACIA",19,10,9,1,1,0,1,0,1,1,1,0,1,0,1,1,1,0,14,7,7]
["RECUPERANDO VALORES",5,3,2,1,1,0,1,0,1,1,1,0,1,0,1,1,1,0,0,0,0]
["RENOVACIÓN COSTARRICENSE",57,29,28,7,3,4,7,4,3,7,3,4,7,4,3,6,3,3,23,12,11]
["REPUBLICANO SOCIAL CRISTIANO",57,29,28,7,4,3,7,3,4,7,4,3,7,3,4,6,4,2,23,11,12]
["RESTAURACIÓN NACIONAL",57,28,29,7,3,4,7,4,3,7,3,4,7,4,3,6,3,3,23,11,12]
["TODOS",19,10,9,1,1,0,1,0,1,1,1,0,1,0,1,1,1,0,14,7,7]
["UNIDAD SOCIAL CRISTIANA",57,29,28,7,4,3,7,3,4,7,4,3,7,3,4,6,3,3,23,12,11]
["UNIÓN GUANACASTECA",4,2,2,1,0,1,1,1,0,1,0,1,1,1,0,0,0,0,0,0,0]
["VAMOS",19,9,10,1,0,1,1,1,0,1,0,1,1,1,0,1,0,1,14,7,7]
[]
["Fuente: Departamento de Registro de Partidos Políticos del Tribunal Supremo de Elecciones."]

{"sheet":"28","index":33,"n_rows":37,"n_cols":6,"rows_kept":37,"cut":false,"hidden":false,"merged":[[1,0,1,5],[2,0,2,5],[6,0,8,0],[6,1,8,1]]}
[]
["CUADRO 28"]
["  COSTA RICA: CANDIDATURAS A DIPUTACIONES EN PROPIEDAD Y SUPLENCIA, POR SEXO"]
["  SEGÚN PROVINCIA, ELECCIONES 4 DE FEBRERO DE 2018"]
["(CIFRAS ABSOLUTAS Y RELATIVAS)"]
[]
["PROVINCIA","TOTAL","DIPUTACIONES"]
[null,null,"HOMBRES",null,"MUJERES"]
[null,null,"ABS","%","ABS","%"]
[]
["COSTA RICA",1048,531,50.667938931297705,517,49.332061068702288]
["SAN JOSÉ",415,213,51.325301204819276,202,48.674698795180724]
["ALAJUELA",167,85,50.898203592814376,82,49.101796407185624]
["CARTAGO",118,58,49.152542372881356,60,50.847457627118644]
["HEREDIA",97,49,50.515463917525771,48,49.484536082474229]
["GUANACASTE",74,38,51.351351351351347,36,48.648648648648653]
["PUNTARENAS",84,41,48.80952380952381,43,51.19047619047619]
["LIMÓN",93,47,50.537634408602152,46,49.462365591397848]
["EN PROPIEDAD",846,429,50.709219858156033,417,49.290780141843967]
["SAN JOSÉ",348,177,50.862068965517238,171,49.137931034482754]
["ALAJUELA",136,71,52.205882352941181,65,47.794117647058826]
["CARTAGO",96,47,48.958333333333329,49,51.041666666666664]
["HEREDIA",77,39,50.649350649350644,38,49.350649350649348]
["GUANACASTE",53,27,50.943396226415096,26,49.056603773584904]
["PUNTARENAS",63,31,49.206349206349202,32,50.793650793650791]
["LIMÓN",73,37,50.684931506849317,36,49.315068493150683]
["EN SUPLENCIA",202,102,50.495049504950494,100,49.504950495049506]
["SAN JOSÉ",67,36,53.731343283582092,31,46.268656716417908]
["ALAJUELA",31,14,45.161290322580641,17,54.838709677419352]
["CARTAGO",22,11,50,11,50]
["HEREDIA",20,10,50,10,50]
["GUANACASTE",21,11,52.380952380952387,10,47.619047619047613]
["PUNTARENAS",21,10,47.619047619047613,11,52.380952380952387]
["LIMÓN",20,10,50,10,50]
[]
[]
["Fuente: Departamento de Registro de Partidos Políticos del Tribunal Supremo de Elecciones."]

{"sheet":"G5","index":34,"n_rows":42,"n_cols":12,"rows_kept":42,"cut":false,"hidden":false,"merged":[]}
[]
[]
[]
[null,null,null,null,null,null,null,null,"CANDIDATURAS","HOMBRES","MUJERES"]
[]
[null,null,null,null,null,null,null,null,"TOTAL",{"$f":"SUM(J8:J14)","v":429},{"$f":"SUM(K8:K14)","v":417},{"$f":"+K6+J6","v":846}]
[]
[null,null,null,null,null,null,null,null,"LIMÓN",37,36,7]
[null,null,null,null,null,null,null,null,"PUNTARENAS",31,32,6]
[null,null,null,null,null,null,null,null,"GUANACASTE",27,26,5]
[null,null,null,null,null,null,null,null,"HEREDIA",39,38,4]
[null,null,null,null,null,null,null,null,"CARTAGO",47,49,3]
[null,null,null,null,null,null,null,null,"ALAJUELA",71,65,2]
[null,null,null,null,null,null,null,null,"SAN JOSÉ",177,171,1]
[]
[]
[]
[]
[]
[]
[]
[]
[]
[]
[]
[]
[]
[]
[]
[]
[]
[]
[]
[]
[]
[]
[]
[]
[]
[]
[]
["Fuente: Cuadro 28."]

{"sheet":"29","index":35,"n_rows":19,"n_cols":5,"rows_kept":19,"cut":false,"hidden":false,"merged":[[1,0,1,4],[2,0,2,4],[3,0,3,4],[4,0,4,4]]}
[]
["CUADRO 29"]
[" COSTA RICA: CANDIDATURAS INSCRITAS A DIPUTACIONES"]
["POR AÑO DE ELECCIÓN, SEGÚN PROVINCIA"]
["ELECCIONES 2006, 2010, 2014 y 2018"]
[]
["PROVINCIA",2006,2010,2014,2018]
[]
["COSTA RICA",{"$f":"SUM(B11:B17)","v":1167},{"$f":"SUM(C11:C17)","v":789},{"$f":"SUM(D11:D17)","v":1052},{"$f":"SUM(E11:E17)","v":1048}]
[]
["SAN JOSÉ",425,274,356,{"$f":"+'28'!B12","v":415}]
["ALAJUELA",209,153,182,{"$f":"+'28'!B13","v":167}]
["CARTAGO",162,106,134,{"$f":"+'28'!B14","v":118}]
["HEREDIA",98,70,110,{"$f":"+'28'!B15","v":97}]
["GUANACASTE",84,53,75,{"$f":"+'28'!B16","v":74}]
["PUNTARENAS",91,63,105,{"$f":"+'28'!B17","v":84}]
["LIMÓN",98,70,90,{"$f":"+'28'!B18","v":93}]
[]
["Fuente: Departamento de Registro de Partidos Políticos del Tribunal Supremo de Elecciones."]

{"sheet":"30","index":36,"n_rows":66,"n_cols":6,"rows_kept":66,"cut":false,"hidden":false,"merged":[[1,0,1,4],[2,0,2,4],[3,0,3,4],[4,0,4,4]]}
[]
["CUADRO 30"]
[" COSTA RICA: CANDIDATURAS INSCRITAS A DIPUTACIONES"]
["POR AÑO DE ELECCIÓN, SEGÚN PARTIDO"]
["ELECCIONES 2006, 2010, 2014 Y 2018"]
[]
["PARTIDO",2006,2010,2014,2018]
[]
["COSTA RICA",{"$f":"SUM(B11:B64)","v":1167},{"$f":"SUM(C11:C64)","v":789},{"$f":"SUM(D11:D64)","v":1052},{"$f":"SUM(E11:E64)","v":1048},{"$f":"+E9-'24'!B11","v":0}]
[]
["ACCESIBILIDAD SIN EXCLUSIÓN",25,75,73,75]
["ACCIÓN CIUDADANA",75,74,75,71]
["ACCIÓN DEMOCRÁTICA ALAJUELENSE",14,0,0,0]
["ACCIÓN LABORISTA AGRÍCOLA",14,0,0,0]
["ACTUEMOS YA",0,0,0,9]
["ALIANZA DEMÓCRATA CRISTIANA",0,0,9,38]
["ALIANZA DEMOCRÁTICA NACIONALISTA",75,0,0,0]
["ALIANZA MAYOR",0,25,0,0]
["ALIANZA PATRIÓTICA",0,73,7,0]
["AUTÉNTICO HEREDIANO",7,0,0,0]
["AUTÉNTICO LIMONENSE",0,0,0,7]
["AUTÉNTICO TURRIALBEÑO CARTAGINÉS",9,0,0,0]
["AVANCE NACIONAL",0,0,74,0]
["COALICIÓN IZQUIERDA UNIDA",75,0,0,0]
["COMUNAL UNIDO",0,0,0,24]
["DE LOS TRABAJADORES",0,0,74,40]
["DE LOS TRANSPORTISTAS",0,0,24,24]
["FRENTE AMPLIO",25,74,75,73]
["FUERZA AGRARIA DE LOS CARTAGINESES",9,0,0,0]
["FUERZA DEMOCRÁTICA",74,0,0,0]
["FUERZA FAMILIAR ALAJUELENSE",0,14,0,0]
["FUERZAS UNIDAS PARA EL CAMBIO",0,0,0,20]
["GUANACASTE INDEPENDIENTE",6,0,0,0]
["INTEGRACIÓN NACIONAL",75,74,69,73]
["INTEGRACIÓN PROVINCIAL TRES",9,0,0,0]
["LIBERACIÓN NACIONAL",75,75,75,74]
["LIBERAL PROGRESISTA",0,0,0,6]
["MOVIMIENTO DE TRABAJADORES Y CAMPESINOS",7,7,0,0]
["MOVIMIENTO LIBERTARIO",75,75,74,75]
["NUEVA GENERACIÓN",0,0,75,70]
["NUEVA LIGA FEMINISTA",25,0,0,0]
["NUEVO PARTIDO SOCIALISTA",0,0,8,8]
["PATRIA NUEVA",0,0,69,0]
["PATRIA PRIMERO",75,0,0,0]
["PATRIA, IGUALDAD Y DEMOCRACIA",0,0,24,22]
["PATRIA, IGUALDAD Y DEMOCRACIA DE PUNTARENAS",0,0,7,0]
["RECUPERANDO VALORES",0,0,0,5]
["RENOVACIÓN COSTARRICENSE",75,75,75,74]
["REPUBLICANO SOCIAL CRISTIANO",0,0,0,72]
["RESTAURACIÓN ALAJUELENSE",0,14,0,0]
["RESTAURACIÓN HEREDIANA",0,7,0,0]
["RESTAURACIÓN NACIONAL",25,25,74,70]
["TODOS",0,0,0,22]
["TRANSPARENCIA CARTAGINÉS",0,9,0,0]
["UNIDAD SOCIAL CRISTIANA",75,75,75,66]
["UNIÓN AGRÍCOLA CARTAGINÉS",9,9,0,0]
["UNIÓN GUANACASTECA",0,0,0,6]
["UNIÓN NACIONAL",75,0,0,0]
["UNIÓN PARA EL CAMBIO",75,0,0,0]
["UNIÓN PATRIÓTICA",75,0,0,0]
["VAMOS",0,0,0,24]
["VERDE",0,0,9,0]
["VERDE ECOLOGISTA",9,9,0,0]
["VIVA PUNTARENAS",0,0,7,0]
[null," "]
["Fuente: Departamento de Registro de Partidos Políticos del Tribunal Supremo de Elecciones."]