{"text_format":"1","workbook":"xlsx","n_sheets":50,"sheets":["C1","G1","C2","C3","C4","C5","G2","C6","C7","C8","C9","C10","C11","C12","C13","C14","C15","C16","C17","T1","T2","T3","partidos","C18","C19","C20","G3","C21","C22","C23","C24","C25","C26","C27","C28","C29","C30","C31","C32","C33","G4","C34","G5","C35","G6","C36","G7","C37","C38","MENUDATOS"],"not_rendered":{"charts":7,"images":144,"macros":1,"external_links":0,"defined_names":90,"comments":0,"pivot_tables":0},"unopened":[],"bounds":{"document_bytes":16777216,"sheet_cells":100000,"rows_first":2000,"rows_last":500,"rows_between":2000,"halvings":0,"cell_chars":16384,"cell_head_chars":4096},"cells_cut":0,"cells_raw":0,"read":"whole","date_system":"1900"}

{"sheet":"C1","index":0,"n_rows":43,"n_cols":5,"rows_kept":43,"cut":false,"hidden":false,"merged":[[1,0,1,4],[2,0,2,4],[3,0,3,4],[5,0,7,0],[5,1,6,2],[5,3,6,4]]}
[]
["CUADRO 1 COSTA RICA: TOTAL Y VARIACIÓN DEL PADRÓN NACIONAL ELECTORAL"]
["SEGÚN PROVINCIA Y SEXO, ELECCIONES MUNICIPALES"]
["FEBRERO 2016 A FEBRERO 2020"]
[]
["PROVINCIA Y SEXO","PADRÓN NACIONAL ELECTORAL",null,"VARIACIÓN "]
[]
[null," FEBRERO 2016"," FEBRERO 2020","ABSOLUTO","%"]
[]
["COSTA RICA",{"$f":"+B11+B12","v":3178364},{"$f":"+C11+C12","v":3398338},{"$f":"+C10-B10","v":219974},{"$f":"+D10/B10*100","v":6.9209819894763465}]
["HOMBRES",{"$f":"+B15+B19+B23+B27+B31+B35+B39","v":1584178},{"$f":"+C15+C19+C23+C27+C31+C35+C39","v":1690575},{"$f":"+C11-B11","v":106397},{"$f":"+D11/B11*100","v":6.71622759563635}]
["MUJERES",{"$f":"+B16+B20+B24+B28+B32+B36+B40","v":1594186},{"$f":"+C16+C20+C24+C28+C32+C36+C40","v":1707763},{"$f":"+C12-B12","v":113577},{"$f":"+D12/B12*100","v":7.1244509737257768}]
[]
["SAN JOSÉ",{"$f":"+B15+B16","v":1088828},{"$f":"+C15+C16","v":1139884},{"$f":"+C14-B14","v":51056},{"$f":"+D14/B14*100","v":4.6890785321464916}]
["HOMBRES",530482,554947,{"$f":"+C15-B15","v":24465},{"$f":"+D15/B15*100","v":4.6118435686790509}]
["MUJERES",558346,584937,{"$f":"+C16-B16","v":26591},{"$f":"+D16/B16*100","v":4.7624591203304041}]
[]
["ALAJUELA",{"$f":"+B19+B20","v":604089},{"$f":"+C19+C20","v":657175},{"$f":"+C18-B18","v":53086},{"$f":"+D18/B18*100","v":8.7877779598701515}]
["HOMBRES",304791,331017,{"$f":"+C19-B19","v":26226},{"$f":"+D19/B19*100","v":8.6045847810466842}]
["MUJERES",299298,326158,{"$f":"+C20-B20","v":26860},{"$f":"+D20/B20*100","v":8.9743332731926042}]
[]
["CARTAGO",{"$f":"+B23+B24","v":374190},{"$f":"+C23+C24","v":399475},{"$f":"+C22-B22","v":25285},{"$f":"+D22/B22*100","v":6.7572623533499021}]
["HOMBRES",186298,198274,{"$f":"+C23-B23","v":11976},{"$f":"+D23/B23*100","v":6.4284103962468739}]
["MUJERES",187892,201201,{"$f":"+C24-B24","v":13309},{"$f":"+D24/B24*100","v":7.0833244629893768}]
[]
["HEREDIA",{"$f":"+B27+B28","v":319674},{"$f":"+C27+C28","v":344746},{"$f":"+C26-B26","v":25072},{"$f":"+D26/B26*100","v":7.8429900461094739}]
["HOMBRES",157161,169424,{"$f":"+C27-B27","v":12263},{"$f":"+D27/B27*100","v":7.80282640095189}]
["MUJERES",162513,175322,{"$f":"+C28-B28","v":12809},{"$f":"+D28/B28*100","v":7.8818309919821807}]
[]
["GUANACASTE",{"$f":"+B31+B32","v":231102},{"$f":"+C31+C32","v":250585},{"$f":"+C30-B30","v":19483},{"$f":"+D30/B30*100","v":8.4304765860961819}]
["HOMBRES",116777,126246,{"$f":"+C31-B31","v":9469},{"$f":"+D31/B31*100","v":8.1086172790874915}]
["MUJERES",114325,124339,{"$f":"+C32-B32","v":10014},{"$f":"+D32/B32*100","v":8.7592390115897665}]
[]
["PUNTARENAS",{"$f":"+B35+B36","v":299227},{"$f":"+C35+C36","v":322594},{"$f":"+C34-B34","v":23367},{"$f":"+D34/B34*100","v":7.8091215030729177}]
["HOMBRES",153648,164936,{"$f":"+C35-B35","v":11288},{"$f":"+D35/B35*100","v":7.346662501301676}]
["MUJERES",145579,157658,{"$f":"+C36-B36","v":12079},{"$f":"+D36/B36*100","v":8.2972131969583529}]
[]
["LIMÓN",{"$f":"+B39+B40","v":261254},{"$f":"+C39+C40","v":283879},{"$f":"+C38-B38","v":22625},{"$f":"+D38/B38*100","v":8.6601544856729475}]
["HOMBRES",135021,145731,{"$f":"+C39-B39","v":10710},{"$f":"+D39/B39*100","v":7.9320994511964811}]
["MUJERES",126233,138148,{"$f":"+C40-B40","v":11915},{"$f":"+D40/B40*100","v":9.4388947422623239}]
[]
[]
["Fuente: Padrón Electoral, Tribunal Supremo de Elecciones."]

{"sheet":"G1","index":1,"n_rows":42,"n_cols":10,"rows_kept":42,"cut":false,"hidden":false,"merged":[]}
["MENU"]
[]
[]
[]
[null,null,null,null,null,null,null,null,null,"MENU"]
[]
[]
[]
[]
[]
[]
[]
[]
[]
[]
[]
[]
[]
[]
[]
[]
[]
[]
[]
[]
[]
[]
[]
[{"$f":"+'C1'!A43","v":"Fuente: Padrón Electoral, Tribunal Supremo de Elecciones."}]
[]
[" ",2010,2016]
[]
["GUANACASTE",{"$f":"+'C1'!B30","v":231102},{"$f":"+'C1'!C30","v":250585}]
["LIMÓN",{"$f":"+'C1'!B38","v":261254},{"$f":"+'C1'!C38","v":283879}]
["PUNTARENAS",{"$f":"+'C1'!B34","v":299227},{"$f":"+'C1'!C34","v":322594}]
["HEREDIA",{"$f":"+'C1'!B26","v":319674},{"$f":"+'C1'!C26","v":344746}]
["CARTAGO",{"$f":"+'C1'!B22","v":374190},{"$f":"+'C1'!C22","v":399475}]
["ALAJUELA",{"$f":"+'C1'!B18","v":604089},{"$f":"+'C1'!C18","v":657175}]
["SAN JOSÉ",{"$f":"+'C1'!B14","v":1088828},{"$f":"+'C1'!C14","v":1139884}]
[]
[]
[null,{"$f":"SUM(B33:B39)","v":3178364},{"$f":"SUM(C33:C39)","v":3398338}]

{"sheet":"C2","index":2,"n_rows":108,"n_cols":7,"rows_kept":108,"cut":false,"hidden":false,"merged":[[0,0,0,6],[1,0,1,6],[2,0,2,6],[4,0,6,0]]}
["CUADRO 2 COSTA RICA: PADRÓN NACIONAL ELECTORAL POR SEXO "]
["SEGÚN PROVINCIA Y CANTÓN, ELECCIONES MUNICIPALES "]
["FEBRERO 2016 Y FEBRERO 2020"]
[]
["PROVINCIA Y CANTÓN","PADRÓN NACIONAL ELECTORAL"]
[null," FEBRERO 2016",null,null," FEBRERO 2020"]
[null,"TOTAL","HOMBRES","MUJERES","TOTAL","HOMBRES","MUJERES"]
[]
["COSTA RICA",{"$f":"+B17+B38+B55+B64+B75+B87+B99","v":3178364},1584178,1594186,3398338,1690575,1707763]
["SAN JOSÉ",{"$f":"+B17","v":1088828},530482,558346,1139884,554947,584937]
["ALAJUELA",{"$f":"+B38","v":604089},304791,299298,657175,331017,326158]
["CARTAGO",{"$f":"+B55","v":374190},186298,187892,399475,198274,201201]
["HEREDIA",{"$f":"+B64","v":319674},157161,162513,344746,169424,175322]
["GUANACASTE",{"$f":"+B75","v":231102},116777,114325,250585,126246,124339]
["PUNTARENAS",{"$f":"+B87","v":299227},153648,145579,322594,164936,157658]
["LIMÓN",{"$f":"+B99","v":261254},135021,126233,283879,145731,138148]
["SAN JOSÉ",{"$f":"SUM(B18:B37)","v":1088828},530482,558346,1139884,554947,584937]
["SAN JOSÉ",{"$f":"+C18+D18","v":231684},111893,119791,{"$f":"+F18+G18","v":237491},114869,122622]
["ESCAZÚ",44982,21974,23008,48909,23879,25030]
["DESAMPARADOS",156610,76637,79973,163721,80113,83608]
["PURISCAL",27437,13782,13655,29170,14591,14579]
["TARRAZÚ",11843,5965,5878,12455,6240,6215]
["ASERRÍ",41808,20847,20961,43971,22002,21969]
["MORA",20263,10006,10257,22339,11013,11326]
["GOICOECHEA",88592,42299,46293,91511,43751,47760]
["SANTA ANA",32863,16097,16766,37125,18118,19007]
["ALAJUELITA",49065,24259,24806,51812,25678,26134]
["VÁZQUEZ DE CORONADO",51588,24845,26743,55002,26501,28501]
["ACOSTA",16028,8220,7808,17156,8771,8385]
["TIBÁS",55709,26170,29539,56487,26430,30057]
["MORAVIA",43464,20824,22640,45153,21611,23542]
["MONTES DE OCA",41908,19679,22229,43075,20203,22872]
["TURRUBARES",4484,2321,2163,4834,2504,2330]
["DOTA",5376,2697,2679,5674,2804,2870]
["CURRIDABAT",{"$f":"+C35+D35","v":47468},22774,24694,50222,23944,26278]
["PÉREZ ZELEDÓN",108626,54587,54039,114449,57204,57245]
["LEÓN CORTÉS CASTRO",9030,4606,4424,9328,4721,4607]
["ALAJUELA",{"$f":"SUM(B39:B53)","v":604089},{"$f":"SUM(C39:C53)","v":304791},{"$f":"SUM(D39:D53)","v":299298},{"$f":"SUM(E39:E54)","v":657175},{"$f":"SUM(F39:F54)","v":331017},{"$f":"SUM(G39:G54)","v":326158}]
["ALAJUELA",{"$f":"+C39+D39","v":193569},97613,95956,{"$f":"+F39+G39","v":209680},105950,103730]
["SAN RAMÓN",60762,30281,30481,66233,32892,33341]
["GRECIA",57117,28502,28615,55270,27309,27961]
["SAN MATEO",4365,2242,2123,4811,2478,2333]
["ATENAS",19661,9886,9775,21154,10573,10581]
["NARANJO",30801,15274,15527,32709,16203,16506]
["PALMARES",28151,13946,14205,29557,14624,14933]
["POÁS",20803,10455,10348,22742,11360,11382]
["OROTINA",14762,7408,7354,16274,8138,8136]
["SAN CARLOS",102906,52494,50412,113408,57577,55831]
["ZARCERO",8802,4382,4420,9278,4581,4697]
["SARCHÍ",14208,7057,7151,15107,7555,7552]
["UPALA",26574,13814,12760,30030,15558,14472]
["LOS CHILES",11212,6047,5165,13027,6936,6091]
["GUATUSO",10396,5390,5006,11426,5929,5497]
["RÍO CUARTO","NA","NA","NA",6469,3354,3115]
["CARTAGO",{"$f":"SUM(B56:B63)","v":374190},186298,187892,399475,198274,201201]
["CARTAGO",{"$f":"+C56+D56","v":117991},58534,59457,{"$f":"+F56+G56","v":125036},61578,63458]
["PARAÍSO",44765,22283,22482,48167,23946,24221]
["LA UNIÓN",67581,33412,34169,72609,35687,36922]
["JIMÉNEZ",11681,6002,5679,12404,6284,6120]
["TURRIALBA",55945,28019,27926,58384,29119,29265]
["ALVARADO",9985,5007,4978,11066,5528,5538]
["OREAMUNO",34952,17160,17792,37179,18309,18870]
["EL GUARCO",31290,15881,15409,34630,17823,16807]
["HEREDIA",{"$f":"SUM(B65:B74)","v":319674},157161,162513,344746,169424,175322]
["HEREDIA",{"$f":"+C65+D65","v":93490},44718,48772,{"$f":"+F65+G65","v":99320},47651,51669]
["BARVA",31461,15413,16048,33992,16651,17341]
["SANTO DOMINGO",33424,16466,16958,35439,17367,18072]
["SANTA BÁRBARA",25705,12759,12946,27612,13665,13947]
["SAN RAFAEL",33543,16659,16884,36956,18409,18547]
["SAN ISIDRO",15301,7678,7623,16663,8344,8319]
["BELÉN",18012,8879,9133,19306,9523,9783]
["FLORES",15949,7778,8171,17393,8417,8976]
["SAN PABLO",21083,10175,10908,22755,11017,11738]
["SARAPIQUÍ",31706,16636,15070,35310,18380,16930]
["GUANACASTE",{"$f":"SUM(B76:B86)","v":231102},116777,114325,250585,126246,124339]
["LIBERIA",{"$f":"+C76+D76","v":43059},21575,21484,{"$f":"+F76+G76","v":47203},23568,23635]
["NICOYA",39567,19852,19715,42477,21365,21112]
["SANTA CRUZ",39431,20050,19381,42694,21683,21011]
["BAGACES",13067,6624,6443,14260,7167,7093]
["CARRILLO",23197,11760,11437,25517,12897,12620]
["CAÑAS",19065,9561,9504,20019,9968,10051]
["ABANGARES",13237,6733,6504,14024,7131,6893]
["TILARÁN",14622,7337,7285,15470,7742,7728]
["NANDAYURE",8278,4279,3999,8650,4421,4229]
["LA CRUZ",11808,6030,5778,14091,7148,6943]
["HOJANCHA",5771,2976,2795,6180,3156,3024]
["PUNTARENAS",{"$f":"SUM(B88:B98)","v":299227},153648,145579,322594,164936,157658]
["PUNTARENAS",{"$f":"+C88+D88","v":84342},43228,41114,{"$f":"+F88+G88","v":88825},45366,43459]
["ESPARZA",21684,10766,10918,23525,11642,11883]
["BUENOS AIRES",30931,16122,14809,32950,17096,15854]
["MONTES DE ORO",9941,4962,4979,10587,5256,5331]
["OSA",21229,11201,10028,23342,12298,11044]
["QUEPOS",18798,9962,8836,20603,10874,9729]
["GOLFITO",28587,14881,13706,30734,15854,14880]
["COTO BRUS",28684,14490,14194,31226,15742,15484]
["PARRITA",11285,5816,5469,12621,6513,6108]
["CORREDORES",32790,16460,16330,35404,17635,17769]
["GARABITO",10956,5760,5196,12777,6660,6117]
["LIMÓN",{"$f":"SUM(B100:B105)","v":261254},135021,126233,283879,145731,138148]
["LIMÓN",{"$f":"+C100+D100","v":66628},33472,33156,{"$f":"+F100+G100","v":70958},35465,35493]
["POCOCÍ",87921,45944,41977,95804,49811,45993]
["SIQUIRRES",38953,20408,18545,41285,21349,19936]
["TALAMANCA",19165,10049,9116,22666,11797,10869]
["MATINA",20908,10883,10025,22938,11933,11005]
["GUÁCIMO",27679,14265,13414,30228,15376,14852]
[]
[]
[{"$f":"+'C1'!A43","v":"Fuente: Padrón Electoral, Tribunal Supremo de Elecciones."}]

{"sheet":"C3","index":3,"n_rows":586,"n_cols":6,"rows_kept":586,"cut":false,"hidden":false,"merged":[[0,0,0,5],[1,0,1,5],[2,0,2,5]]}
["CUADRO 3 COSTA RICA: PADRÓN NACIONAL ELECTORAL POR  SEXO "]
["SEGÚN PROVINCIA, CANTÓN Y DISTRITO ADMINISTRATIVO"]
["ELECCIONES MUNICIPALES FEBRERO 2020"]
[]
["PROVINCIA, CANTÓN y DISTRITO ADMINISTRATIVO","TOTAL","HOMBRES","%","MUJERES","%"]
[]
["COSTA RICA",3398338,1690575,{"$f":"+C7/B7*100","v":49.747111676354741},1707763,{"$f":"+E7/B7*100","v":50.252888323645259}]
["PROVINCIA SAN JOSÉ",1139884,554947,{"$f":"+C8/B8*100","v":48.684515266465709},584937,{"$f":"+E8/B8*100","v":51.315484733534291}]
["CANTÓN SAN JOSÉ",237491,114869,{"$f":"+C9/B9*100","v":48.367727619151886},122622,51.632272380848121]
["CARMEN",5149,2393,{"$f":"+C10/B10*100","v":46.475043697805404},2756,53.524956302194603]
["MERCED",10107,5254,51.983773622242012,4853,48.016226377757988]
["HOSPITAL",18760,9472,50.49040511727079,9288,49.50959488272921]
["CATEDRAL",15365,7473,48.636511552229095,7892,51.363488447770912]
["ZAPOTE",18461,8605,46.611776176805158,9856,53.388223823194849]
["SAN FRANCISCO DE DOS RÍOS",18338,8547,46.608136110808154,9791,53.391863889191839]
["URUCA",17091,8394,49.113568544848171,8697,50.886431455151836]
["MATA REDONDA",7812,3783,48.425499231950845,4029,51.574500768049155]
["PAVAS",51395,24849,48.349061192723028,26546,51.650938807276972]
["HATILLO",44248,21024,47.514011932742726,23224,52.485988067257274]
["SAN SEBASTIÁN",30765,15075,49.000487567040466,15690,50.999512432959534]
["CANTÓN ESCAZÚ",48909,23879,48.823324950418126,25030,51.176675049581874]
["ESCAZÚ",12554,6041,48.120121076947584,6513,51.879878923052416]
["SAN ANTONIO",15931,8012,50.291883748666123,7919,49.708116251333877]
["SAN RAFAEL",20424,9826,48.110066588327463,10598,51.889933411672537]
["CANTÓN DESAMPARADOS",163721,80113,48.932635398024686,83608,51.067364601975306]
["DESAMPARADOS",31049,15100,48.632806209539758,15949,51.367193790460242]
["SAN MIGUEL",29419,14465,49.168904449505426,14954,50.831095550494574]
["SAN JUAN DE DIOS",13354,6646,49.76785981728321,6708,50.23214018271679]
["SAN RAFAEL ARRIBA",11808,5647,47.823509485094853,6161,52.176490514905147]
["SAN ANTONIO",9373,4508,48.09559372666169,4865,51.90440627333831]
["FRAILES",3032,1529,50.428759894459105,1503,49.571240105540895]
["PATARRÁ",7171,3618,50.453214335518062,3553,49.546785664481938]
["SAN CRISTÓBAL",3306,1651,49.939503932244406,1655,50.060496067755601]
["ROSARIO",3134,1614,51.499680918953416,1520,48.500319081046584]
["DAMAS",9335,4540,48.634172469201928,4795,51.365827530798072]
["SAN RAFAEL ABAJO",16465,8000,48.587913756453084,8465,51.412086243546916]
["GRAVILIAS",12969,6201,47.814018043025676,6768,52.185981956974324]
["LOS GUIDO",13306,6594,49.556591011573722,6712,50.443408988426278]
["CANTÓN PURISCAL",29170,14591,50.02056907781968,14579,49.97943092218032]
["SANTIAGO",10768,5201,48.300520059435364,5567,51.699479940564643]
["MERCEDES SUR",4722,2426,51.376535366370177,2296,48.623464633629823]
["BARBACOAS",3800,1902,50.05263157894737,1898,49.94736842105263]
["GRIFO ALTO",1002,500,49.900199600798402,502,50.099800399201598]
["SAN RAFAEL",1344,666,49.553571428571431,678,50.446428571428569]
["CANDELARITA",1453,758,52.16792842395045,695,47.83207157604955]
["DESAMPARADITOS",606,312,51.485148514851488,294,48.514851485148512]
["SAN ANTONIO",3260,1636,50.184049079754601,1624,49.815950920245399]
["CHIRES",2215,1190,53.724604966139957,1025,46.275395033860043]
["CANTÓN TARRAZÚ",12455,6240,50.100361300682458,6215,49.899638699317542]
["SAN MARCOS",7923,3923,49.514072952164582,4000,50.485927047835411]
["SAN LORENZO",3078,1552,50.422352176738137,1526,49.577647823261856]
["SAN CARLOS",1454,765,52.613480055020631,689,47.386519944979369]
["CANTÓN ASERRÍ",43971,22002,50.037524732209867,21969,49.962475267790133]
["ASERRÍ",24752,12222,49.377828054298647,12530,50.622171945701353]
["TARBACA",1818,959,52.750275027502745,859,47.249724972497248]
["VUELTA DE JORCO",5201,2633,50.624879830801774,2568,49.375120169198233]
["SAN GABRIEL",4075,2008,49.276073619631902,2067,50.723926380368098]
["LEGUA",980,519,52.95918367346939,461,47.04081632653061]
["MONTERREY",738,352,47.696476964769644,386,52.303523035230349]
["SALITRILLOS",6407,3309,51.646636491337595,3098,48.353363508662397]
["CANTÓN MORA",22339,11013,49.299431487533013,11326,50.70056851246698]
["COLÓN",12758,6184,48.471547264461513,6574,51.528452735538487]
["GUAYABO",3341,1613,48.278958395689912,1728,51.721041604310095]
["TABARCIA",3511,1770,50.412987752776985,1741,49.587012247223008]
["PIEDRAS NEGRAS",270,137,50.74074074074074,133,49.25925925925926]
["PICAGRES",569,300,52.724077328646743,269,47.27592267135325]
["JARIS",896,482,53.794642857142861,414,46.205357142857146]
["QUITIRRISÍ",994,527,53.018108651911469,467,46.981891348088531]
["CANTÓN GOICOECHEA",91511,43751,47.80955294991859,47760,52.19044705008141]
["GUADALUPE",20690,9828,47.50120831319478,10862,52.498791686805227]
["SAN FRANCISCO",2047,1033,50.464093795798725,1014,49.535906204201268]
["CALLE BLANCOS",11875,5615,47.284210526315789,6260,{"$f":"+E72/B72*100","v":52.715789473684218}]
["MATA DE PLÁTANO",13497,6531,48.388530784618808,6966,51.611469215381199]
["IPÍS",23180,11034,{"$f":"+C74/B74*100","v":47.601380500431404},12146,52.398619499568589]
["RANCHO REDONDO",3394,1710,50.383028874484381,1684,49.616971125515612]
["PURRAL",16828,8000,47.539814594723076,8828,52.460185405276917]
["CANTÓN SANTA ANA",37125,18118,48.802693602693601,19007,51.197306397306399]
["SANTA ANA",9289,4503,48.476692862525567,4786,51.523307137474426]
["SALITRAL",3032,1535,50.626649076517147,1497,49.373350923482853]
["POZOS",11607,5635,48.548289825105542,5972,51.451710174894458]
["URUCA",6132,2988,48.727984344422701,3144,51.272015655577299]
["PIEDADES",5383,2650,49.229054430614902,2733,50.770945569385106]
["BRASIL",1682,807,47.978596908442327,875,52.021403091557673]
["CANTÓN ALAJUELITA",51812,25678,49.559947502509075,26134,50.440052497490925]
["ALAJUELITA",10251,5003,48.804994634669789,5248,51.195005365330218]
["SAN JOSÉCITO",7842,3894,49.655700076511096,3948,50.344299923488911]
["SAN ANTONIO",2024,1005,49.654150197628461,1019,50.345849802371546]
["CONCEPCIÓN",12691,6417,50.563391379717913,6274,49.436608620282094]
["SAN FELIPE",19004,9359,49.247526836455485,9645,50.752473163544522]
["CANTÓN VÁZQUEZ DE CORONADO",55002,26501,48.181884295116539,28501,51.818115704883461]
["SAN ISIDRO",16056,7683,47.851270553064275,8373,52.148729446935725]
["SAN RAFAEL",6005,2960,49.292256452955868,3045,50.707743547044124]
["DULCE NOMBRE DE JESÚS",10116,4936,48.793989719256622,5180,51.206010280743378]
["PATALILLO",17238,8150,47.279266736280313,9088,52.720733263719687]
["CASCAJAL",5587,2772,49.615178091999283,2815,50.384821908000724]
["CANTÓN ACOSTA",17156,8771,51.124970855677311,8385,48.875029144322681]
["SAN IGNACIO",7842,3843,49.005355776587606,3999,50.994644223412401]
["GUAITIL",2044,1088,53.228962818003907,956,46.771037181996086]
["PALMICHAL",3797,1942,51.145641295759816,1855,48.854358704240191]
["CANGREJAL",1560,829,53.141025641025642,731,46.858974358974358]
["SABANILLAS",1913,1069,55.88081547307894,844,44.119184526921067]
["CANTÓN TIBÁS",56487,26430,46.789526793775558,30057,53.210473206224442]
["SAN JUAN",21701,10130,46.679876503386943,11571,53.320123496613057]
["CINCO ESQUINAS",7623,3702,48.563557654466742,3921,51.436442345533251]
["ANSELMO LLORENTE",8672,3967,45.74492619926199,4705,54.25507380073801]
["LEÓN XIII",7852,3703,47.159959246051962,4149,52.840040753948038]
["COLIMA",10639,4928,46.320142870570542,5711,53.67985712942945]
["CANTÓN: MORAVIA",45153,21611,47.861714614754277,23542,52.138285385245723]
["SAN VICENTE",26285,12325,46.889861137530914,13960,53.110138862469093]
["SAN JERÓNIMO",4530,2294,50.640176600441499,2236,49.359823399558501]
["LA TRINIDAD",14338,6992,48.765518203375649,7346,51.234481796624351]
["CANTÓN MONTES DE OCA",43075,20203,46.90191526407429,22872,53.09808473592571]
["SAN PEDRO",21302,10048,47.169279879823492,11254,52.830720120176508]
["SABANILLA",12136,5661,46.646341463414636,6475,53.353658536585371]
["MERCEDES",2745,1283,46.739526411657565,1462,53.260473588342435]
["SAN RAFAEL",6892,3211,46.590249564712707,3681,53.409750435287286]
["CANTÓN TURRUBARES",4834,2504,51.799751758378157,2330,48.200248241621843]
["SAN PABLO",1422,691,48.593530239099856,731,51.406469760900144]
["SAN PEDRO",517,263,50.870406189555126,254,49.129593810444874]
["SAN JUAN DE MATA",1027,550,53.554040895813046,477,46.445959104186954]
["SAN LUIS",484,266,54.958677685950406,218,45.041322314049587]
["CARARA",1384,734,53.034682080924853,650,46.965317919075147]
["CANTÓN DOTA",5674,2804,49.418399718011983,2870,50.581600281988017]
["SANTA MARÍA",3948,1915,48.505572441742657,2033,51.49442755825735]
["JARDÍN",309,159,51.456310679611647,150,48.543689320388353]
["COPEY",1417,730,51.517290049400145,687,48.482709950599862]
["CANTÓN CURRIDABAT",50222,23944,47.676317151845801,26278,52.323682848154199]
["CURRIDABAT",24649,11529,46.772688547202726,13120,53.227311452797274]
["GRANADILLA",9887,4796,48.508142004652576,5091,51.491857995347424]
["SÁNCHEZ",5168,2459,47.581269349845201,2709,52.418730650154799]
["TIRRASES",10518,5160,49.058756417569882,5358,50.941243582430118]
["CANTÓN PÉREZ ZELEDÓN",114449,57204,49.982088091639071,57245,50.017911908360936]
["SAN ISIDRO DE EL GENERAL",40483,19440,48.020156608946969,21043,51.979843391053038]
["EL GENERAL",5201,2628,50.528744472216879,2573,49.471255527783121]
["DANIEL FLORES",28359,14297,50.414330547621567,14062,49.585669452378433]
["RIVAS",5182,2684,51.794673871092243,2498,{"$f":"+E136/B136*100","v":48.205326128907757}]
["SAN PEDRO",6549,3293,50.282485875706215,3256,49.717514124293785]
["PLATANARES",5932,3057,{"$f":"+C138/B138*100","v":51.534052596089012},2875,48.465947403910988]
["PEJIBAYE",4409,2274,51.576321161261049,2135,48.423678838738944]
["CAJÓN",7836,3965,50.599795814190919,3871,49.400204185809088]
["BARÚ",2019,1073,53.145121347201588,946,46.854878652798412]
["RÍO NUEVO",2417,1300,53.785684733140258,1117,46.214315266859742]
["PÁRAMO",3846,2037,52.964118564742591,1809,47.035881435257409]
["LA AMISTAD",2216,1156,52.166064981949454,1060,47.833935018050546]
["CANTÓN LEÓN CORTÉS CASTRO",9328,4721,50.611063464837045,4607,49.388936535162955]
["SAN PABLO",3297,1636,49.620867455262356,1661,50.379132544737637]
["SAN ANDRÉS",1170,614,52.478632478632484,556,47.521367521367516]
["LLANO BONITO",1397,706,50.536864710093056,691,49.463135289906944]
["SAN ISIDRO",1235,633,51.255060728744937,602,48.744939271255063]
["SANTA CRUZ",1395,707,50.681003584229387,688,49.318996415770613]
["SAN ANTONIO",834,425,50.959232613908881,409,49.040767386091126]
["PROVINCIA ALAJUELA",657175,331017,50.369688439152441,326158,49.630311560847566]
["CANTÓN ALAJUELA",209680,105950,50.529378099961839,103730,49.470621900038154]
["ALAJUELA",40986,19671,47.994437124871908,21315,52.005562875128099]
["SAN JOSÉ",34416,16801,48.817410506741048,17615,51.182589493258945]
["CARRIZAL",5110,2581,50.50880626223092,2529,49.49119373776908]
["SAN ANTONIO",22469,11316,50.362721972495436,11153,49.637278027504564]
["GUÁCIMA",16119,8201,50.877846020224581,7918,49.122153979775419]
["SAN ISIDRO",12402,6220,50.153201096597321,6182,49.846798903402679]
["SABANILLA",5781,2902,50.198927521190107,2879,49.801072478809893]
["SAN RAFAEL",20354,12203,59.953817431463108,8151,40.046182568536899]
["RÍO SEGUNDO",8980,4472,49.799554565701563,4508,50.200445434298445]
["DESAMPARADOS",19908,9831,49.382157926461723,10077,50.617842073538277]
["TURRÚCARES",5855,2994,51.135781383432963,2861,48.864218616567037]
["TAMBOR",10196,5151,50.519811690859164,5045,49.480188309140836]
["GARITA",5150,2627,51.009708737864081,2523,48.990291262135919]
["SARAPIQUÍ",1954,980,50.153531218014322,974,49.846468781985671]
["CANTÓN SAN RAMÓN",66233,32892,49.661045098364866,33341,50.338954901635134]
["SAN RAMÓN",13034,6031,46.271290471075652,7003,53.728709528924355]
["SANTIAGO",3872,1985,51.265495867768593,1887,48.734504132231407]
["SAN JUAN",9590,4693,48.936392075078203,4897,51.063607924921797]
["PIEDADES NORTE",6225,3104,49.863453815261046,3121,50.136546184738947]
["PIEDADES SUR",3263,1724,52.83481458780264,1539,47.16518541219736]
["SAN RAFAEL",6115,3061,50.057236304170075,3054,49.942763695829925]
["SAN ISIDRO",3285,1669,50.80669710806697,1616,49.19330289193303]
["ÁNGELES",3681,1884,51.181744091279548,1797,48.818255908720452]
["ALFARO",4304,2123,49.326208178438662,2181,50.673791821561345]
["VOLIO",1924,960,49.896049896049902,964,50.103950103950098]
["CONCEPCIÓN",1894,961,50.739176346356921,933,49.260823653643079]
["ZAPOTAL",296,162,54.729729729729726,134,45.270270270270267]
["PEÑAS BLANCAS",5745,2994,52.114882506527415,2751,47.885117493472585]
["SAN LORENZO",3005,1541,51.281198003327788,1464,48.718801996672212]
["CANTÓN GRECIA",55270,27309,49.410168264881491,27961,50.589831735118509]
["GRECIA",15236,7339,48.168810711472823,7897,51.83118928852717]
["SAN ISIDRO",4535,2276,50.187431091510469,2259,49.812568908489524]
["SAN JOSÉ",6825,3388,49.641025641025642,3437,50.358974358974365]
["SAN ROQUE",9020,4385,48.614190687361422,4635,51.385809312638585]
["TACARES",5754,2906,50.50399721932569,2848,49.496002780674317]
["PUENTE DE PIEDRA",8042,4040,50.236259636906247,4002,49.763740363093753]
["BOLÍVAR",5858,2975,50.785250938886996,2883,49.214749061113004]
["CANTÓN SAN MATEO",4811,2478,51.506963209311998,2333,48.493036790688002]
["SAN MATEO",2424,1228,50.660066006600658,1196,49.339933993399335]
["DESMONTE",530,297,56.037735849056602,233,43.962264150943398]
["JESÚS MARÍA",845,433,51.242603550295861,412,48.757396449704146]
["LABRADOR",1012,520,51.383399209486171,492,48.616600790513836]
["CANTÓN ATENAS",21154,10573,49.981091046610572,10581,50.018908953389428]
["ATENAS",7057,3423,48.50503046620377,3634,51.49496953379623]
["JESÚS",3110,1539,49.485530546623799,1571,50.514469453376208]
["MERCEDES",2370,1233,52.025316455696199,1137,47.974683544303801]
["SAN ISIDRO",2264,1178,52.031802120141343,1086,{"$f":"+E200/B200*100","v":47.968197879858657}]
["CONCEPCIÓN",2825,1423,50.371681415929203,1402,49.628318584070797]
["SAN JOSÉ",1255,615,{"$f":"+C202/B202*100","v":49.003984063745023},640,50.996015936254977]
["SANTA EULALIA",1634,836,51.162790697674424,798,48.837209302325576]
["ESCOBAL",639,326,51.01721439749609,313,48.982785602503917]
["CANTÓN NARANJO",32709,16203,49.536824727139319,16506,50.463175272860681]
["NARANJO",12959,6246,48.198163438536923,6713,51.801836561463077]
["SAN MIGUEL",2732,1383,50.622254758418741,1349,49.377745241581259]
["SAN JOSÉ",2306,1167,50.60711188204683,1139,49.392888117953163]
["CIRRÍ SUR",3482,1774,50.947731188971858,1708,49.052268811028142]
["SAN JERÓNIMO",2453,1215,49.531186302486752,1238,50.468813697513248]
["SAN JUAN",2473,1242,50.222401940962392,1231,49.777598059037608]
["EL ROSARIO",2847,1461,51.317175974710217,1386,48.682824025289776]
["PALMITOS",3457,1715,49.609487995371708,1742,50.390512004628285]
["CANTÓN PALMARES",29557,14624,49.477281185505973,14933,50.522718814494027]
["PALMARES",4922,2406,48.882568061763507,2516,51.117431938236493]
["ZARAGOZA",7794,3900,50.038491147036183,3894,49.961508852963817]
["BUENOS AIRES",5448,2675,49.100587371512482,2773,50.899412628487518]
["SANTIAGO",1843,924,50.135648399348888,919,49.864351600651112]
["CANDELARIA",1602,831,51.87265917602997,771,48.127340823970037]
["ESQUIPULAS",4873,2366,48.553252616458032,2507,51.446747383541968]
["LA GRANJA",3075,1522,49.49593495934959,1553,50.504065040650403]
["CANTÓN POÁS",22742,11360,49.951631342889804,11382,50.048368657110188]
["SAN PEDRO",7639,3784,49.535279486843827,3855,50.464720513156166]
["SAN JUAN",2539,1272,50.09846396218984,1267,49.90153603781016]
["SAN RAFAEL",3862,1946,50.388399792853441,1916,49.611600207146559]
["CARRILLOS",6843,3429,50.109601052170106,3414,49.890398947829901]
["SABANA REDONDA",1859,929,49.973103819257666,930,50.026896180742334]
["CANTÓN OROTINA",16274,8138,50.006144770800056,8136,49.993855229199951]
["OROTINA",8262,4050,49.019607843137251,4212,50.980392156862742]
["EL MASTATE",1651,819,49.606299212598429,832,50.393700787401571]
["HACIENDA VIEJA",957,490,51.201671891327059,467,48.798328108672933]
["COYOLAR",4131,2092,50.641491164366983,2039,49.358508835633017]
["LA CEIBA",1273,687,53.967007069913585,586,46.032992930086408]
["CANTÓN SAN CARLOS",113408,57577,50.769786963882623,55831,49.230213036117384]
["QUESADA",34174,16677,48.800257505706092,17497,51.199742494293908]
["FLORENCIA",11289,5682,50.332181769864469,5607,49.667818230135531]
["BUENAVISTA",307,167,54.397394136807819,140,45.602605863192181]
["AGUAS ZARCAS",14437,7301,50.571448361848027,7136,49.428551638151966]
["VENECIA",6560,3305,50.381097560975604,3255,49.618902439024396]
["PITAL",9869,5111,51.788428412199814,4758,48.211571587800186]
["LA FORTUNA",10448,5421,51.885528330781007,5027,48.114471669218986]
["LA TIGRA",4488,2333,51.983065953654183,2155,48.01693404634581]
["LA PALMERA",4550,2512,55.208791208791212,2038,44.791208791208788]
["VENADO",1087,564,51.885924563017483,523,48.114075436982525]
["CUTRIS",5177,2752,53.158199729573106,2425,46.841800270426887]
["MONTERREY",2271,1193,52.531924262439453,1078,47.468075737560547]
["POCOSOL",8751,4559,52.096903211061594,4192,47.903096788938413]
["CANTÓN ZARCERO",9278,4581,49.374865272688076,4697,50.625134727311917]
["ZARCERO",3802,1817,47.790636507101524,1985,52.209363492898476]
["LAGUNA",1219,606,49.712879409351928,613,50.287120590648072]
["TAPESCO",964,500,51.867219917012456,464,48.132780082987551]
["GUADALUPE",533,279,52.345215759849907,254,47.654784240150093]
["PALMIRA",1000,495,49.5,505,50.5]
["ZAPOTE",442,226,51.13122171945701,216,48.868778280542983]
["BRISAS",1318,658,49.92412746585736,660,50.07587253414264]
["CANTÓN SARCHÍ",15107,7555,50.009929171907061,7552,49.990070828092939]
["SARCHÍ NORTE",6465,3172,49.064191802010825,3293,50.935808197989175]
["SARCHÍ SUR",4588,2314,50.435919790758497,2274,49.564080209241503]
["TORO AMARILLO",187,104,55.614973262032088,83,44.385026737967912]
["SAN PEDRO",2334,1179,50.514138817480728,1155,49.48586118251928]
["RODRÍGUEZ",1533,786,51.272015655577299,747,48.727984344422701]
["CANTÓN UPALA",30030,15558,51.808191808191808,14472,48.191808191808192]
["UPALA",8686,4398,50.633202855169237,4288,49.366797144830763]
["AGUAS CLARAS",3688,1924,52.169197396963121,1764,{"$f":"+E264/B264*100","v":47.830802603036879}]
["SAN JOSÉ (PIZOTE)",4744,2461,51.876053962900507,2283,48.123946037099493]
["BIJAGUA",3374,1737,{"$f":"+C266/B266*100","v":51.481920569057493},1637,48.5180794309425]
["DELICIAS",2442,1254,51.351351351351347,1188,48.648648648648653]
["DOS RÍOS",1922,1029,53.537981269510922,893,46.462018730489078]
["YOLILLAL",2350,1279,54.425531914893618,1071,45.574468085106382]
["CANALETE",2824,1476,52.266288951841354,1348,47.733711048158639]
["CANTÓN LOS CHILES",13027,6936,53.243263990174249,6091,46.756736009825744]
["LOS CHILES",7156,3801,53.116266070430406,3355,46.883733929569594]
["CAÑO NEGRO",1072,576,53.731343283582092,496,46.268656716417908]
["EL AMPARO",3277,1737,53.005797985962765,1540,46.994202014037228]
["SAN JORGE",1522,822,54.007884362680677,700,45.992115637319316]
["CANTÓN GUATUSO",11426,5929,51.890425345702781,5497,48.109574654297219]
["SAN RAFAEL",5898,3005,50.949474398101046,2893,49.050525601898947]
["BUENAVISTA",1048,572,54.580152671755719,476,45.419847328244273]
["COTE",526,293,55.703422053231947,233,44.29657794676806]
["KATIRA",3954,2059,52.07384926656551,1895,47.926150733434497]
["CANTÓN RÍO CUARTO",6469,3354,51.847271603029832,3115,48.152728396970168]
["RÍO CUARTO",2330,1194,51.24463519313305,1136,48.75536480686695]
["SANTA RITA",2566,1323,51.558846453624319,1243,48.441153546375681]
["SANTA ISABEL",1573,837,53.210425937698666,736,46.789574062301334]
["PROVINCIA CARTAGO",399475,198274,49.63364415795732,201201,50.36635584204268]
["CANTÓN CARTAGO",125036,61578,49.248216513644074,63458,50.751783486355926]
["ORIENTAL",13420,6519,48.576751117734723,6901,51.42324888226527]
["OCCIDENTAL",9540,4667,48.920335429769388,4873,51.079664570230612]
["CARMEN",13783,6705,48.646883842414567,7078,51.353116157585433]
["SAN NICOLÁS",19613,9694,49.426400856574723,9919,50.573599143425277]
["AGUACALIENTE O SAN FRANCISCO",25955,12617,48.611057599691776,13338,51.388942400308224]
["GUADALUPE O ARENILLA",11911,5913,49.643186970027706,5998,50.356813029972294]
["CORRALILLO",8665,4420,51.009809578765143,4245,48.99019042123485]
["TIERRA BLANCA",4657,2326,49.94631737169852,2331,50.053682628301473]
["DULCE NOMBRE",8845,4332,48.976823063877895,4513,51.023176936122105]
["LLANO GRANDE",3455,1751,50.68017366136035,1704,49.319826338639658]
["QUEBRADILLA",5192,2634,50.731895223420644,2558,49.268104776579349]
["CANTÓN PARAÍSO",48167,23946,49.714534847509704,24221,50.285465152490296]
["PARAÍSO",19703,9761,49.540679084403386,9942,50.459320915596606]
["SANTIAGO",4302,2203,51.208740120874005,2099,48.791259879125988]
["OROSI",7606,3868,50.854588482776755,3738,49.145411517223245]
["CACHÍ",4776,2427,50.816582914572862,2349,49.183417085427131]
["LLANOS DE SANTA LUCÍA",11780,5687,48.276740237691001,6093,51.723259762308992]
["CANTÓN LA UNIÓN",72609,35687,49.149554462945368,36922,50.850445537054632]
["TRES RÍOS",11933,5758,48.252744490069553,6175,51.747255509930447]
["SAN DIEGO",14776,7271,49.20817541959935,7505,50.791824580400643]
["SAN JUAN",7960,3809,47.85175879396985,4151,52.148241206030157]
["SAN RAFAEL",9466,4680,49.440101415592643,4786,50.55989858440735]
["CONCEPCIÓN",13034,6506,49.915605339880315,6528,50.084394660119692]
["DULCE NOMBRE",6025,2956,49.062240663900411,3069,50.937759336099589]
["SAN RAMÓN",3511,1713,48.789518655653659,1798,51.210481344346334]
["RÍO AZUL",5904,2994,50.711382113821138,2910,49.288617886178862]
["CANTÓN JIMÉNEZ",12404,6284,50.661077071912288,6120,49.338922928087712]
["JUAN VIÑAS",5636,2847,50.51454932576295,2789,49.48545067423705]
["TUCURRIQUE",3845,1952,50.767230169050713,1893,49.232769830949287]
["PEJIBAYE",2923,1485,50.803968525487505,1438,49.196031474512488]
["CANTÓN TURRIALBA",58384,29119,49.874965744039464,29265,50.125034255960529]
["TURRIALBA",22476,10967,48.794269442961379,11509,51.205730557038621]
["LA SUIZA",6984,3544,50.74455899198167,3440,49.25544100801833]
["PERALTA",328,190,57.926829268292678,138,42.073170731707314]
["SANTA CRUZ",3089,1618,52.3794108125607,1471,47.6205891874393]
["SANTA TERESITA",4125,2105,51.030303030303024,2020,48.969696969696969]
["PAVONES",3678,1861,50.598151169113649,1817,49.401848830886351]
["TUIS",1893,954,50.396196513470684,939,49.603803486529316]
["TAYUTIC",1860,966,51.935483870967744,894,48.064516129032256]
["SANTA ROSA",3941,1919,48.693225069779245,2022,51.306774930220755]
["TRES EQUIS",1450,735,50.689655172413794,715,49.310344827586206]
["LA ISABEL",4939,2422,49.038266855638796,2517,{"$f":"+E328/B328*100","v":50.961733144361212}]
["CHIRRIPÓ",3621,1838,50.759458713062685,1783,49.240541286937315]
["CANTÓN ALVARADO",11066,5528,{"$f":"+C330/B330*100","v":49.954816555214173},5538,50.045183444785835]
["PACAYAS",4580,2280,49.78165938864629,2300,50.21834061135371]
["CERVANTES",4737,2377,50.179438463162342,2360,49.820561536837658]
["CAPELLADES",1749,871,49.799885648942258,878,50.200114351057742]
["CANTÓN OREAMUNO",37179,18309,49.245541838134429,18870,50.754458161865571]
["SAN RAFAEL",22731,11001,48.39646298007127,11730,51.603537019928737]
["COT",7587,3784,49.874785817846316,3803,50.125214182153691]
["POTRERO CERRADO",1523,786,51.60866710439921,737,48.391332895600783]
["CIPRESES",2908,1494,51.375515818431914,1414,48.624484181568093]
["SANTA ROSA",2430,1244,51.193415637860085,1186,48.806584362139915]
["CANTÓN EL GUARCO",34630,17823,51.466936182500724,16807,48.533063817499276]
["EL TEJAR",20162,10261,50.892768574546174,9901,49.107231425453826]
["SAN ISIDRO",8236,4328,52.549781447304525,3908,47.450218552695482]
["TOBOSI",5817,3020,51.916795599106067,2797,48.083204400893933]
["PATIO DE AGUA",415,214,51.566265060240966,201,48.433734939759034]
["PROVINCIA HEREDIA",344746,169424,49.144587609428392,175322,50.855412390571608]
["CANTÓN HEREDIA",99320,47651,47.977245267821182,51669,52.022754732178811]
["HEREDIA",17627,8500,48.221478413797016,9127,51.778521586202984]
["MERCEDES",22413,10654,47.534912773836609,11759,52.465087226163391]
["SAN FRANCISCO",37508,17897,47.71515410045857,19611,52.28484589954143]
["ULLOA",21189,10294,48.581811317192887,10895,51.41818868280712]
["VARABLANCA",583,306,52.487135506003433,277,47.512864493996574]
["CANTÓN BARVA",33992,16651,48.985055307131091,17341,51.014944692868916]
["BARVA",6037,2922,48.401523935729671,3115,51.598476064270336]
["SAN PEDRO",8838,4361,49.343742928264312,4477,50.656257071735688]
["SAN PABLO",5840,2894,49.554794520547944,2946,50.445205479452056]
["SAN ROQUE",3033,1489,49.093306956808441,1544,50.906693043191567]
["SANTA LUCÍA",5795,2770,47.799827437446076,3025,52.200172562553924]
["SAN JOSÉ DE LA MONTAÑA",4449,2215,49.786468869408857,2234,50.21353113059115]
["CANTÓN SANTO DOMINGO",35439,17367,49.00533310759333,18072,50.99466689240667]
["SANTO DOMINGO",7678,3708,48.293826517322216,3970,51.706173482677777]
["SAN VICENTE",4831,2256,46.698406127095836,2575,53.301593872904164]
["SAN MIGUEL",5384,2678,49.739970282317984,2706,50.260029717682016]
["PARACITO",2286,1109,48.512685914260715,1177,51.487314085739278]
["SANTO TOMÁS",4182,2102,50.263032042085129,2080,49.736967957914871]
["SANTA ROSA",5349,2691,50.308468872686483,2658,49.691531127313517]
["TURES",2992,1463,48.897058823529413,1529,51.102941176470587]
["PARÁ",2737,1360,49.689440993788821,1377,50.310559006211179]
["CANTÓN SANTA BÁRBARA",27612,13665,49.489352455454153,13947,50.510647544545847]
["SANTA BÁRBARA",6960,3429,49.267241379310342,3531,50.732758620689658]
["SAN PEDRO",3145,1577,50.143084260731321,1568,49.856915739268679]
["SAN JUAN",5474,2676,48.885641213006942,2798,51.114358786993051]
["JESÚS",6306,3133,49.682841738027278,3173,50.317158261972729]
["SANTO DOMINGO",2340,1161,49.615384615384613,1179,50.384615384615387]
["PURABÁ",3387,1689,49.867139061116035,1698,50.132860938883972]
["CANTÓN SAN RAFAEL",36956,18409,49.813291481762093,18547,50.1867085182379]
["SAN RAFAEL",9588,4738,49.415936587400914,4850,50.584063412599079]
["SAN JOSECITO",7990,4056,50.76345431789737,3934,49.23654568210263]
["SANTIAGO",6147,3018,49.097120546608103,3129,50.902879453391904]
["LOS ÁNGELES",9704,4871,50.195795548227537,4833,49.804204451772463]
["CONCEPCIÓN",3527,1726,48.936773461865606,1801,51.063226538134387]
["CANTÓN SAN ISIDRO",16663,8344,50.075016503630799,8319,49.924983496369201]
["SAN ISIDRO",8158,4114,50.429026722235839,4044,49.570973277764161]
["SAN JOSÉ",4366,2183,50,2183,50]
["CONCEPCIÓN",2212,1090,49.276672694394215,1122,50.723327305605793]
["SAN FRANCISCO",1927,957,49.662688116242862,970,50.337311883757138]
["CANTÓN BELÉN",19306,9523,49.326634206982284,9783,50.673365793017709]
["SAN ANTONIO",8714,4343,49.839338994721139,4371,50.160661005278861]
["LA RIBERA",6607,3257,49.29620099894052,3350,50.70379900105948]
["LA ASUNCIÓN",3985,1923,48.255959849435385,2062,51.744040150564615]
["CANTÓN FLORES",17393,8417,48.393031679411258,8976,51.606968320588742]
["SAN JOAQUÍN",8956,4274,47.722197409557836,4682,52.277802590442157]
["BARRANTES",2869,1422,49.564308121296619,1447,{"$f":"+E392/B392*100","v":50.435691878703381}]
["LLORENTE",5568,2721,48.868534482758619,2847,51.131465517241381]
["CANTÓN SAN PABLO",22755,11017,{"$f":"+C394/B394*100","v":48.41573280597671},11738,51.58426719402329]
["SAN PABLO",17030,8257,48.48502642395772,8773,51.51497357604228]
["RINCÓN DE SABANILLA",5725,2760,48.209606986899558,2965,51.790393013100434]
["CANTÓN SARAPIQUÍ",35310,18380,52.053242707448312,16930,47.946757292551681]
["PUERTO VIEJO",10984,5836,53.131828113619804,5148,46.868171886380189]
["LA VIRGEN",6491,3363,51.81019873671238,3128,48.189801263287627]
["HORQUETAS",17036,8719,51.179854425921576,8317,48.820145574078424]
["LLANURAS DEL GASPAR",437,250,57.208237986270028,187,42.791762013729979]
["CUREÑA",362,212,58.563535911602202,150,41.436464088397791]
["PROVINCIA GUANACASTE",250585,126246,50.380509607518405,124339,49.619490392481595]
["CANTÓN LIBERIA",47203,23568,49.929029934538057,23635,50.070970065461943]
["LIBERIA",40218,20059,49.875677557312649,20159,50.124322442687351]
["CAÑAS DULCES",2280,1144,50.175438596491226,1136,49.824561403508774]
["MAYORGA",1073,565,52.656104380242311,508,47.343895619757689]
["NACASCOLO",1754,865,49.315849486887117,889,50.684150513112883]
["CURUBANDÉ",1878,935,49.787007454739083,943,50.212992545260917]
["CANTÓN NICOYA",42477,21365,50.297808225627982,21112,49.702191774372011]
["NICOYA",21862,10778,49.300155520995339,11084,50.699844479004661]
["MANSIÓN",4298,2164,50.348999534667286,2134,49.651000465332714]
["SAN ANTONIO",5579,2830,50.725936547768413,2749,49.27406345223158]
["QUEBRADA HONDA",2188,1106,50.548446069469833,1082,49.45155393053016]
["SÁMARA",2681,1437,53.5994032077583,1244,46.4005967922417]
["NOSARA",3756,1963,52.263045793397232,1793,47.736954206602768]
["BELÉN DE NOSARITA",2113,1087,51.443445338381444,1026,48.556554661618549]
["CANTÓN SANTA CRUZ",42694,21683,50.786995830795902,21011,49.213004169204105]
["SANTA CRUZ",18211,8952,49.15710284992587,9259,50.84289715007413]
["BOLSÓN",1361,728,53.490080822924327,633,46.50991917707568]
["VEINTISIETE DE ABRIL",5415,2839,52.428439519852269,2576,47.571560480147738]
["TEMPATE",3616,1878,51.935840707964601,1738,48.064159292035399]
["CARTAGENA",3043,1558,51.199474203089054,1485,48.800525796910946]
["CUAJINIQUIL",1317,715,54.290053151100992,602,45.709946848899015]
["DIRIÁ",3252,1603,49.292742927429273,1649,50.707257072570719]
["CABO VELAS",2186,1122,51.326623970722785,1064,48.673376029277222]
["TAMARINDO",4293,2288,53.296063358956438,2005,46.703936641043562]
["CANTÓN BAGACES",14260,7167,50.259467040673215,7093,49.740532959326785]
["BAGACES",8408,4230,50.309229305423408,4178,49.690770694576592]
["LA FORTUNA",2228,1096,49.192100538599639,1132,50.807899461400361]
["MOGOTE",2822,1440,51.027639971651304,1382,48.972360028348689]
["RÍO NARANJO",802,401,50,401,50]
["CANTÓN CARRILLO",25517,12897,50.542775404632202,12620,49.457224595367791]
["FILADELFIA",5936,2960,49.865229110512125,2976,50.134770889487868]
["PALMIRA",3479,1731,49.755676918654785,1748,50.244323081345208]
["SARDINAL",9886,5089,51.476835929597407,4797,48.523164070402593]
["BELÉN",6216,3117,50.144787644787648,3099,49.855212355212352]
["CANTÓN CAÑAS",20019,9968,49.792696937908985,10051,50.207303062091015]
["CAÑAS",16169,7964,49.254746737584263,8205,50.745253262415737]
["PALMIRA",713,366,51.332398316970554,347,48.667601683029453]
["SAN MIGUEL",1375,712,51.781818181818181,663,48.218181818181819]
["BEBEDERO",1262,662,52.456418383518219,600,47.543581616481774]
["POROZAL",500,264,52.800000000000004,236,47.199999999999996]
["CANTÓN ABANGARES",14024,7131,50.848545350827159,6893,49.151454649172848]
["LAS JUNTAS",7416,3728,50.269687162891039,3688,49.730312837108954]
["SIERRA",1708,898,52.576112412177991,810,47.423887587822016]
["SAN JUAN",1455,746,51.271477663230236,709,48.728522336769757]
["COLORADO",3445,1759,51.059506531204647,1686,48.940493468795353]
["CANTÓN TILARÁN",15470,7742,50.04524886877828,7728,49.95475113122172]
["TILARÁN",7428,3557,47.886375875067309,3871,52.113624124932691]
["QUEBRADA GRANDE",1974,1022,51.773049645390067,952,48.226950354609926]
["TRONADORA",1359,685,50.404709345106689,674,49.595290654893304]
["SANTA ROSA",1376,729,52.979651162790695,647,47.020348837209305]
["LÍBANO",653,366,56.049004594180708,287,43.950995405819292]
["TIERRAS MORENAS",1016,531,52.263779527559052,485,47.736220472440941]
["ARENAL",1664,852,51.201923076923073,812,{"$f":"+E456/B456*100","v":48.79807692307692}]
["CANTÓN NANDAYURE",8650,4421,51.109826589595372,4229,48.890173410404628]
["CARMONA",1957,946,{"$f":"+C458/B458*100","v":48.339294839039347},1011,51.660705160960653]
["SANTA RITA",1437,725,50.452331245650662,712,49.547668754349338]
["ZAPOTAL",895,471,52.625698324022338,424,47.374301675977655]
["SAN PABLO",1494,748,50.066934404283799,746,49.933065595716201]
["PORVENIR",744,388,52.1505376344086,356,47.8494623655914]
["BEJUCO",2123,1143,53.838907206782849,980,46.161092793217144]
["CANTÓN LA CRUZ",14091,7148,50.727414661840889,6943,49.272585338159111]
["LA CRUZ",8007,3995,49.893842887473461,4012,50.106157112526539]
["SANTA CECILIA",3840,1971,51.328125,1869,48.671875]
["LA GARITA",823,430,52.247873633049814,393,47.752126366950179]
["SANTA ELENA",1421,752,52.920478536242086,669,47.079521463757921]
["CANTÓN HOJANCHA",6180,3156,51.067961165048544,3024,48.932038834951456]
["HOJANCHA",3107,1559,50.177019633086587,1548,49.82298036691342]
["MONTE ROMO",580,315,54.310344827586206,265,45.689655172413794]
["PUERTO CARRILLO",1247,633,50.761828388131512,614,49.238171611868488]
["HUACAS",535,279,52.149532710280376,256,47.850467289719631]
["MATAMBÚ",711,370,52.039381153305207,341,47.9606188466948]
["PROVINCIA PUNTARENAS",322594,164936,51.128043299007416,157658,48.871956700992584]
["CANTÓN PUNTARENAS",88825,45366,51.073459048691248,43459,48.926540951308759]
["PUNTARENAS",7678,3882,50.560041677520182,3796,49.439958322479811]
["PITAHAYA",1413,722,51.096956829440913,691,48.903043170559094]
["CHOMES",3925,2070,52.738853503184714,1855,47.261146496815286]
["LEPANTO",8250,4217,51.11515151515151,4033,48.88484848484849]
["PAQUERA",5014,2631,52.473075388911049,2383,47.526924611088951]
["MANZANILLO",2472,1350,54.61165048543689,1122,45.38834951456311]
["GUACIMAL",711,371,52.180028129395218,340,47.819971870604782]
["BARRANCA",22638,11073,48.913331566392792,11565,51.086668433607208]
["MONTE VERDE",3429,1726,50.335374744823568,1703,49.664625255176439]
["ISLA DEL COCO",23,22,95.652173913043484,1,4.3478260869565215]
["COBANO",5651,3106,54.963723234825693,2545,45.036276765174307]
["CHACARITA",12928,6569,50.812190594059402,6359,49.187809405940598]
["CHIRA",1244,646,51.929260450160776,598,48.070739549839232]
["ACAPULCO",1022,523,51.174168297455971,499,48.825831702544029]
["EL ROBLE",11942,6177,51.725004186903369,5765,48.274995813096631]
["ARANCIBIA",485,281,57.938144329896915,204,42.061855670103093]
["CANTÓN ESPARZA",23525,11642,49.487778958554728,11883,50.512221041445272]
["ESPÍRITU SANTO",13682,6648,48.589387516444965,7034,51.410612483555042]
["SAN JUAN GRANDE",2795,1423,50.912343470483002,1372,49.087656529516991]
["MACACONA",3368,1650,48.990498812351547,1718,51.009501187648453]
["SAN RAFAEL",1133,570,50.308914386584291,563,49.691085613415709]
["SAN JERÓNIMO",715,387,54.125874125874127,328,45.874125874125873]
["CALDERA",1832,964,52.620087336244538,868,47.379912663755455]
["CANTÓN BUENOS AIRES",32950,17096,51.884673748103182,15854,48.115326251896811]
["BUENOS AIRES",16007,8087,50.52164677953396,7920,49.478353220466047]
["VOLCÁN",2835,1483,52.310405643738974,1352,47.689594356261026]
["POTRERO GRANDE",4400,2321,52.75,2079,47.25]
["BORUCA",2045,1090,53.300733496332519,955,46.699266503667481]
["PILAS",1184,648,54.729729729729726,536,45.270270270270267]
["COLINAS",900,494,54.888888888888886,406,45.111111111111114]
["CHÁNGUENA",1590,879,55.283018867924525,711,44.716981132075475]
["BIOLLEY",1647,888,53.916211293260474,759,46.083788706739526]
["BRUNKA",2342,1206,51.494449188727586,1136,48.505550811272421]
["CANTÓN MONTES DE ORO",10587,5256,49.645792009067726,5331,50.354207990932274]
["MIRAMAR",6944,3398,48.934331797235025,3546,51.065668202764982]
["LA UNIÓN",991,525,52.976791120080726,466,47.023208879919274]
["SAN ISIDRO",2652,1333,50.263951734539972,1319,49.736048265460028]
["CANTÓN OSA",23342,12298,52.686145146088592,11044,47.313854853911401]
["PUERTO CORTÉS",6401,3306,51.648179971879394,3095,48.351820028120606]
["PALMAR",7801,4018,51.506217151647228,3783,48.493782848352772]
["SIERPE",1826,973,53.285870755750274,853,46.714129244249726]
["BAHÍA BALLENA",2959,1601,54.106116931395739,1358,45.893883068604261]
["PIEDRAS BLANCAS",3164,1709,54.013906447534765,1455,45.986093552465235]
["BAHÍA DRAKE",1191,691,58.018471872376153,500,{"$f":"+E520/B520*100","v":41.981528127623847}]
["CANTÓN QUEPOS",20603,10874,52.778721545406007,9729,47.221278454593993]
["QUEPOS",15358,8091,{"$f":"+C522/B522*100","v":52.682640968876157},7267,47.317359031123843]
["SAVEGRE",2469,1302,52.733900364520046,1167,47.266099635479954]
["NARANJITO",2776,1481,53.350144092219018,1295,46.649855907780982]
["CANTÓN GOLFITO",30734,15854,51.584564326153448,14880,48.415435673846552]
["GOLFITO",8999,4565,50.727858650961224,4434,49.272141349038783]
["PUERTO JIMÉNEZ",6582,3469,52.704345183834697,3113,47.295654816165303]
["GUAYCARÁ",10530,5338,50.693257359924026,5192,49.306742640075974]
["PAVÓN",4623,2482,53.688081332468094,2141,46.311918667531906]
["CANTÓN COTO BRUS",31226,15742,50.413117274066487,15484,49.586882725933521]
["SAN VITO",9410,4656,49.479277364505847,4754,50.520722635494153]
["SABALITO",8226,4111,49.975686846583997,4115,50.024313153416003]
["AGUA BUENA",5303,2674,50.424288138789365,2629,49.575711861210635]
["LIMONCITO",3219,1630,50.636843740292015,1589,49.363156259707985]
["PITTIER",1804,1000,55.432372505543235,804,44.567627494456765]
["GUTIÉRREZ BRAUN",3264,1671,51.194852941176471,1593,48.805147058823529]
["CANTÓN PARRITA",12621,6513,51.60446874257191,6108,48.395531257428097]
["PARRITA",12621,6513,51.60446874257191,6108,48.395531257428097]
["CANTÓN CORREDORES",35404,17635,49.810755846796972,17769,50.189244153203028]
["CORREDOR",15018,7514,50.033293381275797,7504,49.966706618724203]
["LA CUESTA",3564,1750,49.102132435465769,1814,50.897867564534224]
["CANOAS",9620,4682,48.669438669438669,4938,51.330561330561331]
["LAUREL",7202,3689,51.221882810330463,3513,48.778117189669537]
["CANTÓN GARABITO",12777,6660,52.124911951162247,6117,47.875088048837753]
["JACÓ",8509,4412,51.850981313902921,4097,48.149018686097072]
["TÁRCOLES",4268,2248,52.671040299906281,2020,47.328959700093719]
["PROVINCIA LIMÓN",283879,145731,51.335604253925084,138148,48.664395746074909]
["CANTÓN LIMÓN",70958,35465,49.980270018884411,35493,50.019729981115589]
["LIMÓN",48166,23279,48.330772744259434,24887,51.669227255740566]
["VALLE LA ESTRELLA",11308,5991,52.980191015210465,5317,47.019808984789528]
["RÍO BLANCO",5871,3273,55.748594787940732,2598,44.251405212059275]
["MATAMA",5613,2922,52.05772314270444,2691,47.94227685729556]
["CANTÓN POCOCÍ",95804,49811,51.992609911903465,45993,48.007390088096528]
["GUÁPILES",23484,11658,49.642309657639245,11826,50.357690342360762]
["JIMÉNEZ",8527,4292,50.334232438137683,4235,49.665767561862317]
["RITA",17554,9307,53.01925487068474,8247,46.980745129315252]
["ROXANA",11436,6698,58.569429870584123,4738,41.430570129415877]
["CARIARI",25777,13282,51.526554680529159,12495,48.473445319470848]
["COLORADO",1772,1018,57.449209932279913,754,42.550790067720087]
["LA COLONIA",7254,3556,49.021229666390958,3698,50.978770333609049]
["CANTÓN SIQUIRRES",41285,21349,51.711275281579262,19936,48.288724718420731]
["SIQUIRRES",20044,10224,51.007782877669129,9820,48.992217122330871]
["PACUARITO",5193,2802,53.957250144425181,2391,46.042749855574812]
["FLORIDA",1522,778,51.116951379763464,744,48.883048620236529]
["GERMANIA",2169,1136,52.374366067312131,1033,47.625633932687869]
["EL CAIRO",4753,2432,51.167683568272672,2321,48.832316431727328]
["LA ALEGRÍA",4120,2089,50.703883495145632,2031,49.296116504854368]
["REVENTAZÓN",3484,1888,54.190585533869118,1596,45.809414466130882]
["CANTÓN TALAMANCA",22666,11797,52.04711903291274,10869,47.952880967087268]
["BRATSI",6368,3275,51.429020100502512,3093,48.570979899497488]
["SIXAOLA",5039,2589,51.37924191307799,2450,48.620758086922002]
["CAHUITA",6343,3369,53.113668611067325,2974,46.886331388932682]
["TELIRE",4916,2564,52.156224572823426,2352,47.843775427176567]
["CANTÓN MATINA",22938,11933,52.022844188682541,11005,47.977155811317459]
["MATINA",5418,2834,52.30712440014765,2584,47.69287559985235]
["BATÁN",11541,5977,51.78927302660081,5564,48.21072697339919]
["CARRANDI",5979,3122,52.216089647098173,2857,47.78391035290182]
["CANTÓN GUÁCIMO",30228,15376,50.866746063252613,14852,49.133253936747387]
["GUÁCIMO",13575,6723,49.524861878453038,6852,50.475138121546962]
["MERCEDES",898,472,52.561247216035632,426,47.438752783964368]
["POCORA",4833,2490,51.520794537554316,2343,48.479205462445684]
["RÍO JIMÉNEZ",6749,3499,51.844717735960884,3250,48.155282264039116]
["DUACARÍ",4173,2192,52.528157201054391,1981,47.471842798945602]
[]
[]
["Fuente: Padrón Electoral  y División Territorial  Electoral, Tribunal Supremo de Elecciones."]

{"sheet":"C4","index":4,"n_rows":110,"n_cols":6,"rows_kept":110,"cut":false,"hidden":false,"merged":[[1,0,1,5],[2,0,2,5],[3,0,3,5],[5,0,6,0],[5,1,6,1],[5,2,5,5]]}
[]
["CUADRO 4 COSTA RICA: PADRÓN NACIONAL ELECTORAL POR SEXO"]
["SEGÚN EDADES SIMPLES, ELECCIONES MUNICIPALES"]
["2 DE FEBRERO 2020"]
[]
["EDAD AL 2 DE FEBRERO DE 2020","TOTAL","SEXO"]
[null,"Total","HOMBRES","%","MUJERES","%"]
[]
["TOTAL",{"$f":"SUM(B11:B107)","v":3398338},{"$f":"SUM(C11:C107)","v":1690575},{"$f":"+C9/B9*100","v":49.747111676354741},{"$f":"SUM(E11:E107)","v":1707763},{"$f":"+E9/B9*100","v":50.252888323645259}]
[]
["18 AÑOS",{"$f":"+C11+E11","v":49003},24859,{"$f":"+C11/B11*100","v":50.729547170581391},24144,{"$f":"+E11/B11*100","v":49.270452829418609}]
["19 AÑOS",75438,38275,{"$f":"+C12/B12*100","v":50.737029083485773},37163,{"$f":"+E12/B12*100","v":49.262970916514227}]
["20 AÑOS",76172,39050,51.265556897547661,37122,48.734443102452346]
["21 AÑOS",73655,37697,51.180503699680948,35958,48.819496300319052]
["22 AÑOS",75250,38201,50.765448504983389,37049,49.234551495016611]
["23 AÑOS",76933,39196,50.948227678629451,37737,49.051772321370549]
["24 AÑOS",77377,39475,51.016451917236381,37902,48.983548082763612]
["25 AÑOS",78133,39653,50.750643134143061,38480,49.249356865856939]
["26 AÑOS",77446,39792,51.380316607700848,37654,48.619683392299152]
["27 AÑOS",77860,39455,50.674287182121759,38405,49.325712817878241]
["28 AÑOS",77317,39380,50.933171230130505,37937,49.066828769869495]
["29 AÑOS",78958,40467,51.251298158514658,38491,48.748701841485349]
["30 AÑOS",80775,40912,50.649334571340141,39863,49.350665428659859]
["31 AÑOS",78752,40057,50.864739943112561,38695,49.135260056887439]
["32 AÑOS",76226,38684,50.749088237609222,37542,49.250911762390785]
["33 AÑOS",79316,39975,50.399667154168135,39341,49.600332845831865]
["34 AÑOS",80928,41003,50.666024120205613,39925,49.333975879794387]
["35 AÑOS",75889,38175,50.303733083846147,37714,49.69626691615386]
["36 AÑOS",69768,35181,50.425696594427251,34587,49.574303405572756]
["37 AÑOS",69378,34940,50.361786156995016,34438,49.638213843004984]
["38 AÑOS",69089,34649,50.151254179391799,34440,49.848745820608201]
["39 AÑOS",67683,33987,50.214972740570005,33696,49.785027259429995]
["40 AÑOS",64963,32758,50.425626895309641,32205,49.574373104690359]
["41 AÑOS",63193,31480,49.815644137800078,31713,50.184355862199922]
["42 AÑOS",61154,30604,50.044150832324952,30550,49.955849167675048]
["43 AÑOS",56577,28380,50.161726496632909,28197,49.838273503367091]
["44 AÑOS",54544,27288,50.029334115576418,27256,49.970665884423589]
["45 AÑOS",54383,27311,50.219737785705085,27072,49.780262214294908]
["46 AÑOS",52967,26439,49.915985424887197,26528,50.084014575112803]
["47 AÑOS",53365,26614,49.871638714513253,26751,50.128361285486747]
["48 AÑOS",53560,26403,49.296116504854368,27157,50.703883495145632]
["49 AÑOS",52839,26449,50.055829974072182,26390,49.944170025927818]
["50 AÑOS",53083,26311,49.565774353371133,26772,50.43422564662886]
["51 AÑOS",53523,26655,49.801020122190458,26868,50.198979877809535]
["52 AÑOS",54953,27358,49.784361181373171,27595,50.215638818626829]
["53 AÑOS",54950,27015,49.162875341219291,27935,50.837124658780709]
["54 AÑOS",54342,27062,49.799418497662948,27280,50.200581502337052]
["55 AÑOS",53543,26454,49.407018657901126,27089,50.592981342098874]
["56 AÑOS",53183,26314,49.478216723389053,26869,50.521783276610947]
["57 AÑOS",50863,24929,49.012051982777265,25934,50.987948017222742]
["58 AÑOS",50420,24973,49.529948433161444,25447,50.470051566838556]
["59 AÑOS",49260,24044,48.810393828664225,25216,51.189606171335768]
["60 AÑOS",46496,22875,49.197780454232621,23621,50.802219545767379]
["61 AÑOS",43886,21501,48.992845098664723,22385,51.007154901335284]
["62 AÑOS",41902,20475,48.864016037420647,21427,51.13598396257936]
["63 AÑOS",40419,19673,48.672653949875063,20746,51.327346050124945]
["64 AÑOS",38760,18669,48.1656346749226,20091,51.8343653250774]
["65 AÑOS",36993,17955,48.536209553158706,19038,51.463790446841294]
["66 AÑOS",33609,16307,48.519741735844569,17302,51.480258264155431]
["67 AÑOS",31719,15224,47.996468993347833,16495,52.00353100665216]
["68 AÑOS",29321,14055,47.934927185293816,15266,52.065072814706184]
["69 AÑOS",27950,13424,48.028622540250446,14526,51.971377459749554]
["70 AÑOS",26338,12526,47.558660490545975,13812,52.441339509454025]
["71 AÑOS",23503,11154,47.457771348338511,12349,52.542228651661496]
["72 AÑOS",22024,10423,47.325644751180526,11601,52.674355248819474]
["73 AÑOS",20666,9825,47.541856188909321,10841,52.458143811090686]
["74 AÑOS",19728,9370,47.49594484995945,10358,52.50405515004055]
["75 AÑOS",18621,8762,47.054400945169434,9859,52.945599054830573]
["76 AÑOS",16563,7753,46.809152931232269,8810,53.190847068767731]
["77 AÑOS",15212,7088,46.594793584012621,8124,53.405206415987379]
["78 AÑOS",14120,6445,45.644475920679888,7675,54.355524079320119]
["79 AÑOS",13191,6096,46.213327268592224,7095,53.786672731407783]
["80 AÑOS",12175,5612,46.094455852156059,6563,53.905544147843941]
["81 AÑOS",11313,5198,45.947140457880316,6115,54.052859542119677]
["82 AÑOS",{"$f":"+C75+E75","v":10376},4670,45.0077101002313,5706,54.9922898997687]
["83 AÑOS",9415,4066,{"$f":"+C76/B76*100","v":43.186404673393518},5349,{"$f":"+E76/B76*100","v":56.813595326606482}]
["84 AÑOS",8411,3603,42.836761383902036,4808,57.163238616097964]
["85 AÑOS",7378,3225,43.711032800216856,4153,56.288967199783137]
["86 AÑOS",6499,2763,42.514232958916757,3736,57.48576704108325]
["87 AÑOS",6027,2534,42.044134727061554,3493,57.955865272938446]
["88 AÑOS",5305,2185,41.187558906691798,3120,58.812441093308202]
["89 AÑOS",4639,1915,41.280448372494071,2724,58.719551627505929]
["90 AÑOS",3846,1574,40.925637025481024,2272,59.074362974518976]
["91 AÑOS",3466,1379,39.7864974033468,2087,60.2135025966532]
["92 AÑOS",2842,1169,41.133004926108377,1673,58.866995073891623]
["93 AÑOS",2243,874,38.96567097637093,1369,61.034329023629063]
["94 AÑOS",1653,602,36.41863278886872,1051,63.58136721113128]
["95 AÑOS",1303,491,37.682271680736761,812,62.317728319263246]
["96 AÑOS",994,364,36.619718309859159,630,63.380281690140848]
["97 AÑOS",733,262,35.743519781718966,471,64.256480218281027]
["98 AÑOS",583,204,34.991423670668951,379,65.008576329331049]
["99 AÑOS",347,109,31.412103746397698,238,68.58789625360231]
["100 AÑOS",246,81,32.926829268292686,165,67.073170731707322]
["101 AÑOS",169,68,40.236686390532547,101,59.76331360946746]
["102 AÑOS",107,44,41.121495327102799,63,58.878504672897193]
["103 AÑOS",79,34,43.037974683544306,45,56.962025316455701]
["104 AÑOS",65,17,26.153846153846157,48,73.846153846153854]
["105 AÑOS",44,14,31.818181818181817,30,68.181818181818173]
["106 AÑOS",23,5,21.739130434782609,18,78.260869565217391]
["107 AÑOS",15,5,33.333333333333329,10,66.666666666666657]
["108 AÑOS",4,1,25,3,75]
["109 AÑOS",1,0,0,1,100]
["110 AÑOS",1,0,0,1,100]
["112 AÑOS",1,1,100,0,0]
["113 AÑOS",1,0,0,1,100]
["114 AÑOS",1,1,100,0,0]
["119 AÑOS",1,1,100,0,0]
[]
[]
["Fuente: Padrón Electoral, Tribunal Supremo de Elecciones."]

{"sheet":"C5","index":5,"n_rows":29,"n_cols":6,"rows_kept":29,"cut":false,"hidden":false,"merged":[[0,0,0,5],[1,0,1,5],[2,0,2,5],[4,0,5,0],[4,1,5,1]]}
["CUADRO 5 COSTA RICA: PADRÓN NACIONAL ELECTORAL POR SEXO "]
["SEGÚN GRUPOS DE EDAD, ELECCIONES MUNICIAPLES"]
["2 DE FEBRERO 2020"]
[]
["GRUPOS DE EDAD","TOTAL","SEXO"]
[null,"Total","HOMBRES","%","MUJERES","%"]
[]
["TOTAL",{"$f":"SUM(B10:B26)","v":3398338},{"$f":"SUM(C10:C26)","v":1690575},{"$f":"+C8/B8*100","v":49.747111676354741},{"$f":"SUM(E10:E26)","v":1707763},{"$f":"+E8/B8*100","v":50.252888323645259}]
[]
["18 - 19",{"$f":"+C10+E10","v":124441},63134,{"$f":"+C10/B10*100","v":50.734082818363724},61307,{"$f":"+E10/B10*100","v":49.265917181636276}]
["20 - 24",{"$f":"+C11+E11","v":379387},193619,{"$f":"+C11/B11*100","v":51.034695442911861},185768,{"$f":"+E11/B11*100","v":48.965304557088146}]
["25 - 29",{"$f":"+C12+E12","v":389714},198747,50.998167887219857,190967,49.001832112780143]
["30 - 34",395997,200631,50.664777763467903,195366,49.335222236532097]
["35 - 39",351807,176932,50.292347792966027,174875,49.707652207033973]
["40 - 44",300431,150510,50.098025836215299,149921,49.901974163784693]
["45 - 49",267114,133216,49.872339151074073,133898,50.127660848925927]
["50 - 54",270851,134401,49.621747750608272,136450,50.378252249391728]
["55 - 59",257269,126714,49.253505086116093,130555,50.746494913883907]
["60 - 64",211463,103193,48.799553586206571,108270,51.200446413793429]
["65 - 69",159592,76965,48.226101558975387,82627,51.773898441024613]
["70 - 74",112259,53298,47.477707800710853,58961,52.522292199289147]
["75 - 79",77707,36144,46.513184140424926,41563,53.486815859575067]
["80 - 84",51690,23149,44.784290965370474,28541,55.215709034629526]
["85 - 89",29848,12622,42.287590458322164,17226,57.712409541677836]
["90 - 94",14050,5598,39.843416370106759,8452,60.156583629893234]
["95 Y MÁS",4718,1702,36.07460788469691,3016,63.92539211530309]
[]
[]
["Fuente: Padrón Electoral, Tribunal Supremo de Elecciones."]

{"sheet":"G2","index":6,"n_rows":39,"n_cols":13,"rows_kept":39,"cut":false,"hidden":false,"merged":[]}
[]
[]
[null,null,null,null,null,null,null,null,null,"HOMBRES","MUJERES"]
[null,null,null,null,null,null,null,null,null,{"$f":"+'C5'!C10","v":63134},{"$f":"+'C5'!E10*-1","v":-61307},"18 - 19",{"$f":"CONCATENATE(L4,\"                                                                     \")","v":"18 - 19                                                                     "}]
[null,null,null,null,null,null,null,null,null,{"$f":"+'C5'!C11","v":193619},{"$f":"+'C5'!E11*-1","v":-185768},"20 - 24",{"$f":"CONCATENATE(L5,\"                                                                     \")","v":"20 - 24                                                                     "}]
[null,null,null,null,null,null,null,null,null,{"$f":"+'C5'!C12","v":198747},{"$f":"+'C5'!E12*-1","v":-190967},"25 - 29","25 - 29                                                                     "]
[null,null,null,null,null,null,null,null,null,{"$f":"+'C5'!C13","v":200631},{"$f":"+'C5'!E13*-1","v":-195366},"30 - 34","30 - 34                                                                     "]
[null,null,null,null,null,null,null,null,null,{"$f":"+'C5'!C14","v":176932},{"$f":"+'C5'!E14*-1","v":-174875},"35 - 39","35 - 39                                                                     "]
[null,null,null,null,null,null,null,null,null,{"$f":"+'C5'!C15","v":150510},{"$f":"+'C5'!E15*-1","v":-149921},"40 - 44","40 - 44                                                                     "]
[null,null,null,null,null,null,null,null,null,{"$f":"+'C5'!C16","v":133216},{"$f":"+'C5'!E16*-1","v":-133898},"45 - 49","45 - 49                                                                     "]
[null,null,null,null,null,null,null,null,null,{"$f":"+'C5'!C17","v":134401},{"$f":"+'C5'!E17*-1","v":-136450},"50 - 54","50 - 54                                                                     "]
[null,null,null,null,null,null,null,null,null,{"$f":"+'C5'!C18","v":126714},{"$f":"+'C5'!E18*-1","v":-130555},"55 - 59","55 - 59                                                                     "]
[null,null,null,null,null,null,null,null,null,{"$f":"+'C5'!C19","v":103193},{"$f":"+'C5'!E19*-1","v":-108270},"60 - 64","60 - 64                                                                     "]
[null,null,null,null,null,null,null,null,null,{"$f":"+'C5'!C20","v":76965},{"$f":"+'C5'!E20*-1","v":-82627},"65 - 69","65 - 69                                                                     "]
[null,null,null,null,null,null,null,null,null,{"$f":"+'C5'!C21","v":53298},{"$f":"+'C5'!E21*-1","v":-58961},"70 - 74","70 - 74                                                                     "]
[null,null,null,null,null,null,null,null,null,{"$f":"+'C5'!C22","v":36144},{"$f":"+'C5'!E22*-1","v":-41563},"75 - 79","75 - 79                                                                     "]
[null,null,null,null,null,null,null,null,null,{"$f":"+'C5'!C23","v":23149},{"$f":"+'C5'!E23*-1","v":-28541},"80 - 84","80 - 84                                                                     "]
[null,null,null,null,null,null,null,null,null,{"$f":"+'C5'!C24","v":12622},{"$f":"+'C5'!E24*-1","v":-17226},"88 - 89","88 - 89                                                                     "]
[null,null,null,null,null,null,null,null,null,{"$f":"+'C5'!C25","v":5598},{"$f":"+'C5'!E25*-1","v":-8452},"90 - 94","90 - 94                                                                     "]
[null,null,null,null,null,null,null,null,null,{"$f":"+'C5'!C26","v":1702},{"$f":"+'C5'!E26*-1","v":-3016},"95 y más","95 y más                                                                     "]
[null,null,null,null,null,null,null,null,null,null,null,null,"                                                                     "]
[null,null,null,null,null,null,null,null,null,null,null,null,"                                                                     "]
[null,null,null,null,null,null,null,null,null,null,null,null,"                                                                     "]
[null,null,null,null,null,null,null,null,null,null,null,null,"                                                                     "]
[null,null,null,null,null,null,null,null,null,null,null,null,"                                                                     "]
[null,null,null,null,null,null,null,null,null,null,null,null,"                                                                     "]
[null,null,null,null,null,null,null,null,null,null,null,null,"                                                                     "]
[null,null,null,null,null,null,null,null,null,null,null,null,"                                                                     "]
[]
[]
[]
[]
[]
[]
[]
[]
[]
[]
["Fuente: Padrón Electoral, Tribunal Supremo de Elecciones."]

{"sheet":"C6","index":7,"n_rows":67,"n_cols":9,"rows_kept":67,"cut":false,"hidden":false,"merged":[[1,0,1,8],[2,0,2,8],[3,0,3,8],[5,0,6,0],[5,1,6,1]]}
[]
["CUADRO 6 COSTA RICA: PADRÓN NACIONAL ELECTORAL POR PROVINCIA"]
["SEGÚN SEXO Y GRUPOS DE EDAD,  ELECCIONES MUNICIPALES"]
["2 DE FEBRERO 2020"]
[]
["SEXO Y GRUPOS DE EDAD","TOTAL","PROVINCIA"]
[null,null,"SAN JOSÉ","ALAJUELA","CARTAGO","HEREDIA","GUANACASTE","PUNTARENAS","LIMÓN"]
[]
["COSTA RICA",{"$f":"SUM(B10:B26)","v":3398338},{"$f":"SUM(C10:C26)","v":1139884},657175,399475,344746,250585,322594,283879]
["18 - 19",{"$f":"+B29+B48","v":124441},38128,25289,14145,12064,9571,12842,12402]
["20 - 24",379387,118942,75503,43674,36329,29303,38345,37291]
["25 - 29        ",389714,126069,76901,46441,38100,28978,37540,35685]
["30 - 34        ",395997,129577,78499,47545,39668,28769,37805,34134]
["35 - 39        ",351807,118059,67078,41117,37276,25691,33772,28814]
["40 - 44        ",300431,100101,56504,36110,32194,22320,28518,24684]
["45 - 49        ",267114,87518,50231,32605,27984,19705,26042,23029]
["50 - 54        ",270851,90339,52476,33080,27370,19780,25838,21968]
["55 - 59        ",257269,88946,49909,30515,26495,18337,23411,19656]
["60 - 64        ",211463,75367,40000,24276,21889,15058,18945,15928]
["65 - 69        ",159592,58304,29427,17901,16704,11337,14184,11735]
["70 - 74        ",112259,41888,21009,12305,11377,8094,9859,7727]
["75 - 79        ",77707,28447,15266,8867,7602,5704,6898,4923]
["80 - 84        ",51690,19278,9926,5751,5057,3928,4576,3174]
["85 - 89",29848,11450,5675,3200,2871,2415,2531,1706]
["90 - 94",14050,5661,2571,1486,1327,1112,1109,784]
["95 Y MÁS       ",{"$f":"+B45+B64","v":4718},1810,911,457,439,483,379,239]
[]
["HOMBRES",{"$f":"SUM(B29:B45)","v":1690575},554947,331017,198274,169424,126246,164936,145731]
["18 - 19",{"$f":"SUM(C29:I29)","v":63134},19296,12882,7236,6194,4875,6506,6145]
["20 - 24",193619,60348,38799,22339,18529,14976,19572,19056]
["25 - 29        ",198747,63957,39725,23766,19459,14605,18988,18247]
["30 - 34        ",200631,65131,40460,24072,20049,14555,19124,17240]
["35 - 39        ",176932,59296,34160,20587,18616,13017,16965,14291]
["40 - 44        ",150510,49981,28744,17820,15928,11179,14358,12500]
["45 - 49        ",133216,43049,25074,16017,13872,9883,13445,11876]
["50 - 54        ",134401,43938,26002,16352,13334,10091,13285,11399]
["55 - 59        ",126714,42569,24759,14955,12774,9289,12124,10244]
["60 - 64        ",103193,35218,19839,11807,10344,7596,9877,8512]
["65 - 69        ",76965,26467,14643,8537,7793,5719,7450,6356]
["70 - 74        ",53298,18739,10128,5845,5238,3929,5204,4215]
["75 - 79        ",36144,12347,7274,4165,3357,2793,3563,2645]
["80 - 84        ",23149,7832,4578,2593,2183,1889,2429,1645]
["85 - 89",12622,4314,2508,1390,1116,1149,1268,877]
["90 - 94",5598,1924,1078,638,496,498,591,373]
["95 Y MÁS       ",1702,541,364,155,142,203,187,110]
[]
["MUJERES",{"$f":"SUM(B48:B64)","v":1707763},584937,326158,201201,175322,124339,157658,138148]
["18 - 19",{"$f":"SUM(C48:I48)","v":61307},18832,12407,6909,5870,4696,6336,6257]
["20 - 24",185768,58594,36704,21335,17800,14327,18773,18235]
["25 - 29        ",190967,62112,37176,22675,18641,14373,18552,17438]
["30 - 34        ",195366,64446,38039,23473,19619,14214,18681,16894]
["35 - 39        ",174875,58763,32918,20530,18660,12674,16807,14523]
["40 - 44        ",149921,50120,27760,18290,16266,11141,14160,12184]
["45 - 49        ",133898,44469,25157,16588,14112,9822,12597,11153]
["50 - 54        ",136450,46401,26474,16728,14036,9689,12553,10569]
["55 - 59        ",130555,46377,25150,15560,13721,9048,11287,9412]
["60 - 64        ",108270,40149,20161,12469,11545,7462,9068,7416]
["65 - 69        ",82627,31837,14784,9364,8911,5618,6734,5379]
["70 - 74        ",58961,23149,10881,6460,6139,4165,4655,3512]
["75 - 79        ",41563,16100,7992,4702,4245,2911,3335,2278]
["80 - 84        ",28541,11446,5348,3158,2874,2039,2147,1529]
["85 - 89",17226,7136,3167,1810,1755,1266,1263,829]
["90 - 94",8452,3737,1493,848,831,614,518,411]
["95 Y MÁS       ",3016,1269,547,302,297,280,192,129]
[]
[]
["Fuente: Padrón Electoral, Tribunal Supremo de Elecciones."]

{"sheet":"C7","index":8,"n_rows":22,"n_cols":8,"rows_kept":22,"cut":false,"hidden":false,"merged":[]}
[]
["CUADRO 7 COSTA RICA: PADRÓN NACIONAL ELECTORAL POR GRANDES GRUPOS DE EDAD"]
["SEGÚN PROVINCIA, ELECCIONES MUNICIPALES"]
["2 DE FEBRERO 2020"]
[]
["PROVINCIA","TOTAL","JÓVENES 1/","%","ADULTOS 2/","%","ADULTOS MAYORES 3/","%"]
[]
["COSTA RICA",3398338,1365428,40.200000000000003,1583046,46.6,449864,13.2]
["SAN JOSÉ",1139884,437719,38.4,535327,47,166838,14.6]
["ALAJUELA",657175,270861,41.2,301529,45.9,84785,12.9]
["CARTAGO",399475,160648,40.200000000000003,188860,47.3,49967,12.5]
["HEREDIA",344746,133975,38.9,165394,48,45377,13.2]
["GUANACASTE",250585,102092,40.700000000000003,115420,46.1,33073,13.2]
["PUNTARENAS",322594,134111,41.6,148947,46.2,39536,12.3]
["LIMÓN",283879,126022,44.4,127569,44.9,30288,10.7]
[]
[]
["1/ Personas de 18 a 35 años"]
["2/ Personas de 36 a 64 años"]
["3/ Personas de 65 años y más"]
[]
["Fuente: Padrón Electoral, Tribunal Supremo de Elecciones."]

{"sheet":"C8","index":9,"n_rows":100,"n_cols":10,"rows_kept":100,"cut":false,"hidden":false,"merged":[[0,0,0,9],[1,0,1,9],[97,0,97,9]]}
["CUADRO 8 COSTA RICA: PADRÓN NACIONAL ELECTORAL POR  ZONA 1/, SEGÚN PROVINCIA Y CANTÓN"]
["ELECCIONES MUNICIPALES  FEBRERO 2020"]
[]
["PROVINCIA Y CANTÓN","TOTAL","URBANA","%","PREPONDERANTEMENTE URBANA","%","RURAL","%","PREPONDERANTEMENTE RURAL","%"]
[]
["COSTA RICA",3398338,1254598,36.917987557447205,1265174,37.229198508211958,140687,4.1398766102724336,737879,21.712937324068413]
["PROVINCIA SAN JOSÉ",1139884,742759,65.160928655898317,257432,22.584052412350729,74027,6.494257310392987,65666,5.7607616213579629]
["SAN JOSÉ",237491,237491,100,0,0,0,0,0,0]
["ESCAZÚ",48909,32978,67.427262875953303,15931,32.572737124046697,0,0,0,0]
["DESAMPARADOS",163721,117659,71.865551761838745,36590,22.348996158098227,6440,3.9335210510563705,3032,1.8519310290066637]
["PURISCAL",29170,0,0,10768,36.914638327048337,14602,50.058279053822417,3800,13.027082619129244]
["TARRAZÚ",12455,0,0,7923,63.613006824568444,1454,11.67402649538338,3078,24.712966680048172]
["ASERRÍ",43971,0,0,31159,70.862613995587992,2798,6.3632848923153889,10014,22.774101112096609]
["MORA",22339,0,0,12758,57.110882313442858,1735,7.7666860647298446,7846,35.122431621827296]
["GOICOECHEA",91511,74620,81.542109691731042,13497,14.74904656270831,0,0,3394,3.7088437455606429]
["SANTA ANA",37125,22578,60.816161616161615,11515,31.016835016835014,0,0,3032,8.1670033670033675]
["ALAJUELITA",51812,49788,96.093569057361222,2024,3.9064309426387709,0,0,0,0]
["VÁZQUEZ DE CORONADO",55002,17238,31.340678520781061,37764,68.659321479218931,0,0,0,0]
["ACOSTA",17156,0,0,0,0,5517,32.157845651667053,11639,67.84215434833294]
["TIBÁS",56487,56487,100,0,0,0,0,0,0]
["MORAVIA",45153,40623,89.967444023652916,4530,10.032555976347087,0,0,0,0]
["MONTES DE OCA",43075,43075,100,0,0,0,0,0,0]
["TURRUBARES",4834,0,0,0,0,3412,70.583367811336373,1422,29.416632188663634]
["DOTA",5674,0,0,0,0,1726,30.419457173070146,3948,69.580542826929857]
["CURRIDABAT",50222,50222,100,0,0,0,0,0,0]
["PÉREZ ZELEDÓN",114449,0,0,68842,60.150809530882754,31146,27.213868185829497,14461,12.635322283287753]
["LEÓN CORTÉS CASTRO",9328,0,0,4131,44.286020583190393,5197,55.7139794168096,0,0]
["PROVINCIA ALAJUELA",657175,136291,20.738920378894509,276843,42.126222086963139,20417,3.1067828204055239,223624,34.028074713736828]
["ALAJUELA",209680,106851,50.959080503624563,95094,45.351964898893556,0,0,7735,3.6889545974818772]
["SAN RAMÓN",66233,24518,37.01780079416605,4304,6.4982712545105921,296,0.44690713088641615,37115,56.037020820436943]
["GRECIA",55270,0,0,43658,78.990410711054821,0,0,11612,21.009589288945175]
["SAN MATEO",4811,0,0,0,0,530,11.016420702556641,4281,88.983579297443356]
["ATENAS",21154,0,0,12771,60.371560934102298,2264,10.70246761841732,6119,28.925971447480382]
["NARANJO",32709,0,0,15412,47.118530068176959,0,0,17297,52.881469931823041]
["PALMARES",29557,4922,16.652569611259597,21190,71.691984978177757,0,0,3445,11.655445410562642]
["POÁS",22742,0,0,14482,63.679535660891737,1859,8.1743030516225481,6401,28.146161287485711]
["OROTINA",16274,0,0,9219,56.648642005653194,1273,7.8222932284625788,5782,35.529064765884236]
["SAN CARLOS",113408,0,0,55911,49.300754796839726,8215,7.243757054176073,49282,43.455488148984202]
["ZARCERO",9278,0,0,4802,51.75684414744557,442,4.7639577495149821,4034,43.479198103039444]
["SARCHÍ",15107,0,0,0,0,0,0,15107,100]
["UPALA",30030,0,0,0,0,2442,8.1318681318681314,27588,91.868131868131869]
["LOS CHILES",13027,0,0,0,0,1522,11.683426729101097,11505,88.3165732708989]
["GUATUSO",11426,0,0,0,0,1574,13.775599509889725,9852,86.22440049011027]
["RÍO CUARTO",6469,0,0,0,0,0,0,6469,100]
["PROVINCIA CARTAGO",399475,92794,23.228988046811441,252697,63.257275173665441,10908,2.7305838913574068,43076,10.783152888165718]
["CARTAGO",125036,56356,45.071819316036979,56560,45.234972327969544,3455,2.7632041971912087,8665,6.9300041588022649]
["PARAÍSO",48167,0,0,39089,81.153071605040793,0,0,9078,18.846928394959203]
["LA UNIÓN",72609,36438,50.183861504772132,36171,49.816138495227861,0,0,0,0]
["JIMÉNEZ",12404,0,0,5636,45.436955820702998,0,0,6768,54.563044179297002]
["TURRIALBA",58384,0,0,42018,71.968347492463693,7038,12.054672513017264,9328,15.976979994519047]
["ALVARADO",11066,0,0,4737,42.806795590095788,0,0,6329,57.193204409904212]
["OREAMUNO",37179,0,0,34271,92.178380268431098,0,0,2908,7.8216197315688962]
["EL GUARCO",34630,0,0,34215,98.801617095004332,415,1.1983829049956685,0,0]
["PROVINCIA HEREDIA",344746,257884,74.804058640274292,48629,14.105747419839535,799,0.23176483556009353,37434,10.858429104326085]
["HEREDIA",99320,98737,99.413008457511083,0,0,0,0,583,0.58699154248892471]
["BARVA",33992,14865,43.730877853612618,19127,56.269122146387382,0,0,0,0]
["SANTO DOMINGO",35439,35439,100,0,0,0,0,0,0]
["SANTA BÁRBARA",27612,15579,56.421121251629728,9693,35.104302477183836,0,0,2340,8.4745762711864394]
["SAN RAFAEL",36956,23725,64.197965147743261,13231,35.802034852256739,0,0,0,0]
["SAN ISIDRO",16663,10085,60.523315129328445,6578,39.476684870671548,0,0,0,0]
["BELÉN",19306,19306,100,0,0,0,0,0,0]
["FLORES",17393,17393,100,0,0,0,0,0,0]
["SAN PABLO",22755,22755,100,0,0,0,0,0,0]
["SARAPIQUÍ",35310,0,0,0,0,799,2.2628150665533844,34511,97.737184933446613]
["PROVINCIA GUANACASTE",250585,0,0,135464,54.059101702017273,13413,5.3526747411058127,101708,40.588223556876905]
["LIBERIA",47203,0,0,41972,88.918077240853336,0,0,5231,11.081922759146664]
["NICOYA",42477,0,0,21862,51.467853191138737,4301,10.125479671351554,16314,38.406667137509707]
["SANTA CRUZ",42694,0,0,21254,49.782170796833277,1317,3.0847425867803437,20123,47.133086616386379]
["BAGACES",14260,0,0,0,0,802,5.6241234221598884,13458,94.375876577840117]
["CARRILLO",25517,0,0,25517,100,0,0,0,0]
["CAÑAS",20019,0,0,17431,87.072281332733908,500,2.4976272541085969,2088,10.4300914131575]
["ABANGARES",14024,0,0,0,0,1708,12.179121505989732,12316,87.820878494010273]
["TILARÁN",15470,0,0,7428,48.015513897866839,653,4.2210730446024565,7389,47.763413057530705]
["NANDAYURE",8650,0,0,0,0,1639,18.947976878612714,7011,81.052023121387279]
["LA CRUZ",14091,0,0,0,0,0,0,14091,100]
["HOJANCHA",6180,0,0,0,0,2493,40.339805825242721,3687,59.660194174757287]
["PROVINCIA PUNTARENAS",322594,24870,7.7093808316335704,150976,46.800622454230393,21123,6.5478589186407685,125625,38.94213779549527]
["PUNTARENAS",88825,24870,27.998874190824658,33745,37.990430622009569,3485,3.9234449760765551,26725,30.087250211089223]
["ESPARZA",23525,0,0,19845,84.357066950053138,1848,7.8554729011689695,1832,7.7874601487778961]
["BUENOS AIRES",32950,0,0,16007,48.579666160849769,5321,16.148710166919575,11622,35.271623672230653]
["MONTES DE ORO",10587,0,0,6944,65.589874374232551,991,9.3605365070369313,2652,25.04958911873052]
["OSA",23342,0,0,6401,27.422671579127751,1191,5.1023905406563275,15750,67.474937880215919]
["QUEPOS",20603,0,0,15358,74.542542348201721,0,0,5245,25.457457651798283]
["GOLFITO",30734,0,0,19529,63.54200559640789,0,0,11205,36.457994403592117]
["COTO BRUS",31226,0,0,0,0,8287,26.538781784410425,22939,73.461218215589568]
["PARRITA",12621,0,0,0,0,0,0,12621,100]
["CORREDORES",35404,0,0,24638,69.591006665913454,0,0,10766,30.408993334086542]
["GARABITO",12777,0,0,8509,66.596227596462398,0,0,4268,33.403772403537609]
["PROVINCIA LIMÓN",283879,0,0,143133,50.420425603866434,0,0,140746,49.579574396133566]
["LIMÓN",70958,0,0,48166,67.879590743820287,0,0,22792,32.120409256179713]
["POCOCÍ",95804,0,0,56515,58.990230053024931,0,0,39289,41.009769946975069]
["SIQUIRRES",41285,0,0,20044,48.55032093980865,0,0,21241,51.449679060191357]
["TALAMANCA",22666,0,0,0,0,0,0,22666,100]
["MATINA",22938,0,0,0,0,0,0,22938,100]
["GUÁCIMO",30228,0,0,18408,60.897181421198887,0,0,11820,39.102818578801113]
[]
[]
["1/ La clasificación por zona se realizó con base en el \"Manual de Clasificación Geográfica con Fines Estadísticos de Costa Rica\" Instituto de Estadística y Censos (INEC)."]
[]
["Fuente: Padrón Electoral, Tribunal Supremo de Elecciones."]

{"sheet":"C9","index":10,"n_rows":37,"n_cols":10,"rows_kept":37,"cut":false,"hidden":false,"merged":[[0,0,0,9],[1,0,1,9],[2,0,2,9],[4,0,5,0],[4,1,4,9]]}
["CUADRO 9 COSTA RICA:  ELECTORADO NATURALIZADO POR PAÍS DE ORIGEN"]
["SEGÚN SEXO Y GRUPO DE EDAD, ELECCIONES MUNICIPALES"]
["2 DE FEBRERO 2020"]
[]
["SEXO Y GRUPO DE EDAD","País de origen"]
[null,"TOTAL","NICARAGUA","COLOMBIA","EL SALVADOR","CUBA","CHINA","PERÚ","PANAMÁ","RESTO DE PAÍSES"]
[]
["COSTA RICA",{"$f":"SUM(B9:B16)","v":70592},36517,9737,4315,2419,2153,1947,1715,11789]
["MENOS DE 30",{"$f":"SUM(C9:J9)","v":5656},{"$f":"+C18+C27","v":2915},1406,139,178,160,106,37,715]
["30 - 39",{"$f":"SUM(C10:J10)","v":12985},7799,2000,360,282,375,307,155,1707]
["40 - 49",17553,9064,2757,1107,528,558,509,313,2717]
["50 - 59",14788,7065,2137,1005,656,405,463,473,2584]
["60 - 59",9813,4412,955,988,406,307,362,347,2036]
["70 - 79",6021,2930,366,509,233,221,154,261,1347]
["80 - 89",3072,1830,106,187,106,109,43,110,581]
["90 Y MÁS",704,502,10,20,30,18,3,19,102]
["HOMBRES",{"$f":"SUM(B18:B25)","v":30969},14397,4558,1879,1355,1178,1046,740,5816]
["MENOS DE 30",{"$f":"SUM(C18:J18)","v":2529},1149,720,69,111,90,53,6,331]
["30 - 39",{"$f":"SUM(C19:J19)","v":5083},2749,883,161,132,235,157,52,714]
["40 - 49",7545,3545,1256,499,282,316,252,131,1264]
["50 - 59",6700,2928,1007,436,390,199,239,220,1281]
["60 - 59",4298,1602,448,386,245,172,207,150,1088]
["70 - 79",3058,1363,193,235,140,108,110,120,789]
["80 - 89",1421,815,48,86,43,53,26,51,299]
["90 Y MÁS",335,246,3,7,12,5,2,10,50]
["MUJERES",{"$f":"SUM(B27:B34)","v":39623},22120,5179,2436,1064,975,901,975,5973]
["MENOS DE 30",{"$f":"SUM(C27:J27)","v":3127},1766,686,70,67,70,53,31,384]
["30 - 39",{"$f":"SUM(C28:J28)","v":7902},5050,1117,199,150,140,150,103,993]
["40 - 49",10008,5519,1501,608,246,242,257,182,1453]
["50 - 59",8088,4137,1130,569,266,206,224,253,1303]
["60 - 59",5515,2810,507,602,161,135,155,197,948]
["70 - 79",2963,1567,173,274,93,113,44,141,558]
["80 - 89",1651,1015,58,101,63,56,17,59,282]
["90 Y MÁS",369,256,7,13,18,13,1,9,52]
[]
[]
["Fuente: Padrón Electoral, Tribunal Supremo de Elecciones."]

{"sheet":"C10","index":11,"n_rows":16,"n_cols":6,"rows_kept":16,"cut":false,"hidden":false,"merged":[[0,0,0,5],[1,0,1,5],[11,0,11,5],[13,0,13,5]]}
[]
["CUADRO 10 COSTA RICA: NUEVOS ELECTORES 1/ POR SEXO,  SEGÚN EDAD 2/ \nELECCIONES MUNICIPALES 2 DE FEBRERO 2020"]
[]
["EDAD","TOTAL","HOMBRES","%","MUJERES","%"]
[]
["TOTAL",{"$f":"SUM(B7:B9)","v":135000},{"$f":"SUM(C7:C9)","v":67438},{"$f":"+C6/B6*100","v":49.954074074074072},{"$f":"SUM(E7:E9)","v":67562},{"$f":"+E6/B6*100","v":50.045925925925928}]
["18 AÑOS",{"$f":"+C7+E7","v":48869},24794,{"$f":"+C7/B7*100","v":50.735640180891771},24075,{"$f":"+E7/B7*100","v":49.264359819108229}]
["19 AÑOS",{"$f":"+C8+E8","v":74789},37949,{"$f":"+C8/B8*100","v":50.741419192662022},36840,{"$f":"+E8/B8*100","v":49.258580807337978}]
["NATURALIZADOS 3/",{"$f":"+C9+E9","v":11342},4695,{"$f":"+C9/B9*100","v":41.394815729148299},6647,{"$f":"+E9/B9*100","v":58.605184270851709}]
[]
[]
["1/ Personas nacidas entre 5/2/2000 y 2/2/2002, (rango de nuevos electores por edad) y Naturalizados después del 4/2/2017, ausentes en el padrón electoral para las elecciones 2020."]
["2/ Edad calculada al 2 de febrero 2020."]
["3/ Se incluyen 408  naturalizados menores de 20 años registrados en este grupo."]
[]
["Fuente: Bases de datos de Nacimientos y Padrón Electoral Febrero 2020."]

{"sheet":"C11","index":12,"n_rows":18,"n_cols":6,"rows_kept":18,"cut":false,"hidden":false,"merged":[[0,0,0,5],[1,0,1,5],[15,0,15,5]]}
[]
["CUADRO 11 COSTA RICA: NUEVOS ELECTORES 1/  POR SEXO,  SEGÚN PROVINCIA  \nELECCIONES MUNICIPALES 2 DE FEBRERO 2020"]
[]
["PROVINCIA","TOTAL","HOMBRES","%","MUJERES","%"]
[]
["TOTAL",{"$f":"SUM(B7:B13)","v":135000},{"$f":"SUM(C7:C13)","v":67438},{"$f":"+C6/B6*100","v":49.954074074074072},{"$f":"SUM(E7:E13)","v":67562},{"$f":"+E6/B6*100","v":50.045925925925928}]
["SAN JOSÉ",{"$f":"+C7+E7","v":42917},21294,{"$f":"+C7/B7*100","v":49.616702006198011},21623,{"$f":"+E7/B7*100","v":50.383297993801989}]
["ALAJUELA",27157,13615,50.134403652833527,13542,49.865596347166473]
["CARTAGO",14811,7500,50.638039295118496,7311,49.361960704881511]
["HEREDIA",13333,6740,50.551263781594535,6593,49.448736218405458]
["GUANCASTE",10218,5123,50.137013114112349,5095,49.862986885887651]
["PUNTARENAS",13499,6764,50.107415364101051,6735,49.892584635898956]
["LIMÓN",13065,6402,{"$f":"+C13/B13*100","v":49.001148105625717},6663,{"$f":"+E13/B13*100","v":50.998851894374283}]
[]
[]
["1/ Personas nacidas entre 5/2/2000 y 2/2/2002, (rango de nuevos electores por edad) y Naturalizados después del 4/2/2017 y antes del 2/2/2019, ausentes en el padrón electoral para las eleccciones 2020."]
[]
["Fuente: Bases de datos de Nacimientos  y Padrón Electoral febrero 2020."]

{"sheet":"C12","index":13,"n_rows":19,"n_cols":4,"rows_kept":19,"cut":false,"hidden":false,"merged":[[0,0,0,3],[1,0,1,3],[2,0,2,3],[4,0,5,0],[4,1,5,1]]}
["CUADRO 12 COSTA RICA: CANTONES, DISTRITOS ADMINISTRATIVOS Y ELECTORALES"]
["SEGÚN PROVINCIA, ELECCIONES MUNICIPALES"]
["2 DE FEBRERO 2020"]
[]
["PROVINCIA","CANTONES","DISTRITOS"]
[null,null,"ADMINISTRATIVOS","ELECTORALES"]
[]
["COSTA RICA",{"$f":"SUM(B10:B16)","v":82},{"$f":"SUM(C10:C16)","v":487},{"$f":"SUM(D10:D16)","v":2077}]
[]
["SAN JOSÉ",20,123,444]
["ALAJUELA",16,116,444]
["CARTAGO",8,51,196]
["HEREDIA",10,47,116]
["GUANACASTE",11,60,300]
["PUNTARENAS",11,60,381]
["LIMÓN",6,30,196]
[]
[]
["Fuente: Contraloría Electoral del Tribunal Supremo de Elecciones."]

{"sheet":"C13","index":14,"n_rows":24,"n_cols":7,"rows_kept":24,"cut":false,"hidden":false,"merged":[[19,0,19,6],[20,0,20,6],[21,0,21,6],[22,0,22,6],[0,0,0,6],[1,0,1,6],[2,0,2,6],[4,0,5,0],[4,1,5,1],[18,0,18,6]]}
["CUADRO 13 COSTA RICA: MOVIMIENTOS A LA DIVISIÓN TERRITORIAL ELECTORAL"]
["SEGÚN PROVINCIA, ELECCIONES MUNICIPALES"]
["2 DE FEBRERO 2020"]
[]
["PROVINCIA","DISTRITOS ADMINISTRATIVOS CREADOS","DISTRITOS ELECTORALES"]
[null,null,"CREADOS 1/","REFUNDIDOS 2/","ELIMINADOS 3/","REUBICADOS 4/","MODIFICADOS 5/"]
[]
["COSTA RICA",{"$f":"SUM(B10:B16)","v":5},10,3,2,19,27]
[]
["SAN JOSÉ",0,0,1,1,0,3]
["ALAJUELA",3,6,1,0,12,8]
["CARTAGO",0,2,1,1,0,2]
["HEREDIA",0,0,0,0,0,0]
["GUANACASTE",1,0,0,0,0,3]
["PUNTARENAS",0,1,0,0,2,5]
["LIMÓN",1,1,0,0,5,6]
[]
[]
["1/ El TSE crea los distritos electorales, ejerciendo su facultad legal de dividir un Distrito Administrativo en los electorales que sean necesarios, con el fin de procurar la mayor comodidad del electorado para la emisión de sus votos.  (Art. 143 Código El Electoral)."]
["2/Refundición: Es el traslado de los poblados y electores de un distrito electoral que perdió funcionalidad a otro.  Regalmento para la formulación de la División Territorial Electoral. "]
["3/ Eliminación de un distrito electoral porque deja de cumplir los requisitos mínimos para su existencia y/o funcionalidad.   Regalmento para la formulación de la División Territorial Electoral. "]
["4/ Rehubicados: Es el traslado de la  cabecera del distrito electoral de un poblado a otro por la pérdida de su funcionalidad. "]
["5/ Modificados: Procedimiento a través del cual el TSE crea, elimina, reubica o refunde un distrito electoral, en virtud de  un cambio sustancial en sus condiciones originales. Esta gestión también puede conllevar el cambio de nombre, coordenadas y/o simbología de un poblado o distrito electoral."]
["Fuente: Contraloría Electoral del Tribunal Supremo de Elecciones."]

{"sheet":"C14","index":15,"n_rows":19,"n_cols":9,"rows_kept":19,"cut":false,"hidden":false,"merged":[[18,0,18,8],[0,0,0,8],[1,0,1,8],[2,0,2,8],[4,0,5,0],[4,1,4,2],[4,3,4,4],[4,5,4,6],[4,7,4,8]]}
["CUADRO 14 COSTA RICA: JUNTAS RECEPTORAS Y ELECTORADO EN CENTROS PENITENCIARIOS"]
[" HOGARES DE ANCIANOS, ZONAS INDÍGENAS Y CENTROS DE SALUD MENTAL"]
["SEGÚN PROVINCIA, ELECCIONES MUNICIPALES 2 DE FEBRERO 2020"]
[]
["PROVINCIA","CENTROS PENITENCIARIOS",null,"HOGARES DE ANCIANOS",null,"ZONAS INDÍGENAS",null,"CENTROS DE SALUD MENTAL"]
[null,"JUNTAS","ELECTORADO","JUNTAS","ELECTORADO","JUNTAS","ELECTORADO","JUNTAS","ELECTORADO"]
[]
["COSTA RICA",{"$f":"SUM(B10:B16)","v":39},10148,50,2471,97,38537,1,129]
[]
["SAN JOSÉ",{"$f":"+'C15'!C10","v":6},{"$f":"+'C15'!D10","v":1901},{"$f":"+'C16'!C9","v":14},{"$f":"+'C16'!D9","v":760},{"$f":"+'C17'!C9","v":5},{"$f":"+'C17'!D9","v":1706},1,129]
["ALAJUELA",{"$f":"+'C15'!C15","v":17},{"$f":"+'C15'!D15","v":4329},{"$f":"+'C16'!C24","v":9},{"$f":"+'C16'!D24","v":692},{"$f":"+'C17'!C14","v":2},{"$f":"+'C17'!D14","v":790},0,0]
["CARTAGO",{"$f":"+'C15'!C27","v":2},{"$f":"+'C15'!D27","v":538},{"$f":"+'C16'!C34","v":2},{"$f":"+'C16'!D34","v":140},{"$f":"+'C17'!C17","v":13},{"$f":"+'C17'!D17","v":3621},0,0]
["HEREDIA",{"$f":"+'C15'!C29","v":1},{"$f":"+'C15'!D29","v":63},{"$f":"+'C16'!C37","v":4},{"$f":"+'C16'!D37","v":186},0,0,0,0]
["GUANACASTE",{"$f":"+'C15'!C31","v":3},{"$f":"+'C15'!D31","v":752},{"$f":"+'C16'!C42","v":7},{"$f":"+'C16'!D42","v":168},{"$f":"+'C17'!C30","v":2},{"$f":"+'C17'!D30","v":909},0,0]
["PUNTARENAS",{"$f":"+'C15'!C35","v":3},{"$f":"+'C15'!D35","v":737},{"$f":"+'C16'!C50","v":9},{"$f":"+'C16'!D50","v":343},{"$f":"+'C17'!C33","v":41},{"$f":"+'C17'!D33","v":15092},0,0]
["LIMÓN",{"$f":"+'C15'!C38","v":7},{"$f":"+'C15'!D38","v":1828},{"$f":"+'C16'!C60","v":5},{"$f":"+'C16'!D60","v":182},{"$f":"+'C17'!C69","v":34},{"$f":"+'C17'!D69","v":16419},0,0]
[]
[]
["Fuente:  Padrón Electoral y Departamento de Programas Electorales, Tribunal Supremo de Elecciones."]

{"sheet":"C15","index":16,"n_rows":46,"n_cols":6,"rows_kept":46,"cut":false,"hidden":false,"merged":[[45,0,45,5],[0,0,0,5],[1,0,1,5],[2,0,2,5],[4,0,5,0],[4,1,5,1],[4,2,5,2],[4,3,5,3],[4,4,4,5]]}
["CUADRO 15 COSTA RICA: JUNTAS RECEPTORAS Y ELECTORADO EN CENTROS PENITENCIARIOS POR SEXO"]
["SEGÚN PROVINCIA Y DISTRITO ELECTORAL, ELECCIONES MUNICIPALES"]
["2 DE FEBRERO 2020"]
[]
["CÓDIGO ELECTORAL","PROVINCIA Y DISTRITO ELECTORAL","NÚMERO DE JUNTAS","ELECTORADO","SEXO"]
[null,null,null,null,"HOMBRES","MUJERES"]
[]
[null,"COSTA RICA",{"$f":"+C10+C15+C27+C31+C35+C38+C29","v":39},{"$f":"+D10+D15+D27+D31+D35+D38+D29","v":10148},{"$f":"+E10+E15+E27+E31+E35+E38+E29","v":9752},{"$f":"+F10+F15+F27+F31+F35+F38+F29","v":396}]
[]
[null,"SAN JOSÉ",{"$f":"SUM(C11:C14)","v":6},{"$f":"SUM(D11:D14)","v":1901},1525,376]
[101030,"C.P. CRISTO REY",2,591,591,0]
[103034,"C.P. VILMA CURLING RIVERA",1,376,0,376]
[119105,"C.P. ANTONIO BASTIDA DE PAZ",2,736,736,0]
[119124,"C.P. PABRU PRESBERI",1,198,198,0]
[null,"ALAJUELA",{"$f":"SUM(C16:C26)","v":17},{"$f":"SUM(D16:D26)","v":4329},4329,0]
[201058,"C.P. REYNALDO VILLALOBOS ZUÑIGA",2,535,535,0]
[201059,"C.P. LUIS PAULINO MORA MORA",2,562,562,0]
[201060,"C.P. ÁMBITO A Y B [MÍNIMA]",2,730,730,0]
[201062,"C.P. ÁMBITO C [MEDIANA ABIERTA]",1,322,322,0]
[201063,"C.P. ÁMBITOS D [MED CERRADA]",2,476,476,0]
[201064,"C.P. GERARDO RODRÍGUEZ ECHEVERRÍA",2,763,763,0]
[201065,"C.P. ADULTO MAYOR",1,107,107,0]
[201071,"C.P. ADULTO JOVEN",1,139,139,0]
[201074,"C.P. ÁMBITO E [INDICIADOS] Y PENSIONES",1,214,214,0]
[201075,"C.P. CENTRO NACIONAL DE ATENCIÓN ESPECIFICA",1,20,20,0]
[210093,"C.P. NELSON MANDELA",2,461,461,0]
[null,"CARTAGO",{"$f":"SUM(C28)","v":2},{"$f":"SUM(D28)","v":538},538,0]
[308017,"C.P. JORGE DEBRAVO",2,538,538,0]
[null,"HEREDIA",{"$f":"SUM(C30:C30)","v":1},{"$f":"SUM(D30:D30)","v":63},55,8]
[406007,"C.P. SAN ISIDRO JUVENIL ZURQUI",1,63,55,8]
[null,"GUANACASTE",{"$f":"SUM(C32:C34)","v":3},{"$f":"SUM(D32:D34)","v":752},740,12]
[501011,"C.P. CALLE REAL [MODULO B CASITAS]",1,331,319,12]
[501022,"C.P. CALLE REAL [MODULO D1-D2]",1,298,298,0]
[501024,"C.P. CALLE REAL (MODULO D3-D4)",1,123,123,0]
[null,"PUNTARENAS",{"$f":"SUM(C36:C37)","v":3},{"$f":"SUM(D36:D37)","v":737},737,0]
[601094,"C.P. 26 DE JULIO [SENTENCIADOS]",2,647,647,0]
[601109,"C.P. 26 DE JULIO [INDICIADOS]",1,90,90,0]
[null,"LIMÓN",{"$f":"SUM(C39:C43)","v":7},{"$f":"SUM(D39:D43)","v":1828},1828,0]
[701037,"C.P. LIMÓN [SANDOVAL]",2,588,588,0]
[702035,"C.P. CARLOS LUIS FALLAS [MODULOS A-B-C]",2,542,542,0]
[702049,"C.P. CARLOS LUIS FALLAS [MODULOS D-E]",1,370,370,0]
[702053,"C.P. CARLOS LUIS FALLAS (MODULO AGROPECUARIO)",1,163,163,0]
[702054,"C.P. 20 DE DICIEMBRE",1,165,165,0]
[]
[]
["Fuente:  Padrón Electoral y Departamento de Programas Electorales, Tribunal Supremo de Elecciones."]

{"sheet":"C16","index":17,"n_rows":68,"n_cols":6,"rows_kept":68,"cut":false,"hidden":false,"merged":[[67,0,67,5],[0,0,0,5],[1,0,1,5],[2,0,2,5],[4,0,5,0],[4,1,5,1],[4,2,5,2],[4,3,5,3],[4,4,4,5]]}
["CUADRO 16 COSTA RICA: JUNTAS RECEPTORAS Y ELECTORADO EN HOGARES DE ANCIANOS  POR SEXO"]
["SEGÚN PROVINCIA Y DISTRITO ELECTORAL, ELECCIONES MUNICIPALES"]
["2 DE FEBRERO 2020"]
[]
["CÓDIGO ELECTORAL","PROVINCIA Y DISTRITO ELECTORAL","NÚMERO DE JUNTAS","ELECTORADO","SEXO"]
[null,null,null,null,"HOMBRES","MUJERES"]
[]
[null,"COSTA RICA",{"$f":"+C9+C24+C34+C42+C50+C60+C37","v":50},{"$f":"+D9+D24+D34+D42+D50+D60+D37","v":2471},{"$f":"+E9+E24+E34+E42+E50+E60+E37","v":1320},{"$f":"+F9+F24+F34+F42+F50+F60+F37","v":1151}]
[null,"SAN JOSÉ",{"$f":"SUM(C10:C23)","v":14},{"$f":"SUM(D10:D23)","v":760},342,418]
[102008,"H.A. MAGDALA",1,48,22,26]
[103036,"H.A. OFELIA CARVAJAL DE NARANJO",1,63,24,39]
[103037,"H.A. SAN CAYETANO",1,43,15,28]
[103040,"H.A.C.G. MANANTIAL DE VIDA SAN RAFAEL",1,30,15,15]
[104045,"H.A. CORAZÓN DE JESÚS",1,43,23,20]
[105016,"H.A. LOS SANTOS",1,45,23,22]
[106024,"H.A. SAN FRANCISCO DE ASÍS",1,42,22,20]
[108002,"H.A. CARLOS MARÍA ULLOA",1,191,83,108]
[108013,"H.A. CORTEZA AMARILLA-EMMANUEL",1,15,3,12]
[112031,"H.A. ACOSTA",1,30,16,14]
[114006,"H.A. CASA NAZARETH",1,26,10,16]
[115007,"H.A. MONTES DE OCA",1,69,28,41]
[118010,"H.A. CURRIDABAT",1,34,10,24]
[119108,"H.A. MONSEÑOR DELFÍN QUESADA CASTRO",1,81,48,33]
[null,"ALAJUELA",{"$f":"SUM(C25:C33)","v":9},{"$f":"SUM(D25:D33)","v":692},347,345]
[201066,"H.A. SANTIAGO CRESPO CALVO",1,179,77,102]
[202045,"H.A. SAN RAMÓN",1,41,22,19]
[203045,"H.A. JAFETH JIMÉNEZ MORALES",1,118,53,65]
[205016,"H.A. HORTENSIA RODRÍGUEZ S. DE B",1,68,39,29]
[206022,"H.A. JOSÉ DEL OLMO",1,56,22,34]
[207009,"H.A. PALMARES",1,69,36,33]
[209012,"H.A. PRESBÍTERO JESÚS MARÍA VARGAS",1,44,27,17]
[210094,"H.A. SAN VICENTE DE PAÚL",1,63,44,19]
[211012,"H.A. SAN RAFAEL",1,54,27,27]
[null,"CARTAGO",{"$f":"SUM(C35:C36)","v":2},{"$f":"SUM(D35:D36)","v":140},75,65]
[301033,"H.A. ASILO DE LA VEJEZ",1,78,34,44]
[305068,"H.A. SAN BUENAVENTURA",1,62,41,21]
[null,"HEREDIA",{"$f":"SUM(C38:C41)","v":4},{"$f":"SUM(D38:D41)","v":186},100,86]
[402012,"H.A. REINA DE LOS ANGELES",1,18,7,11]
[406008,"H.A. SEÑORA DE LOS ANGELES",1,80,39,41]
[409004,"H.A. ALFREDO Y DELIA GONZÁLEZ FLORES",1,61,33,28]
[410045,"H.A. SAN AGUSTÍN",1,27,21,6]
[null,"GUANACASTE",{"$f":"SUM(C43:C49)","v":7},{"$f":"SUM(D43:D49)","v":168},105,63]
[501012,"H.A. LIBERIA",1,33,22,11]
[502084,"H.A. SAN BLAS",1,22,12,10]
[503045,"H.A. NUESTRA SEÑORA DEL ROSARIO",1,20,12,8]
[506017,"H.A. MARY BLANCO",1,28,20,8]
[507023,"H.A. SAN JORGE",1,22,16,6]
[508024,"H.A. TILARÁN",1,22,11,11]
[509027,"H.A. SAGRADO CORAZON DE JESÚS",1,21,12,9]
[null,"PUNTARENAS",{"$f":"SUM(C51:C59)","v":9},{"$f":"SUM(D51:D59)","v":343},235,108]
[601106,"H.A. MARÍA INMACULADA",1,34,20,14]
[601103,"H.A. MIGUEL MORENO",1,30,17,13]
[602018,"H.A. CARLOS VENEGAS",1,14,7,7]
[604014,"H.A. FRAY CASIANO DE MADRID",1,58,35,23]
[605037,"H.A. PALMAR SUR",1,67,53,14]
[606038,"H.A. PAQUITA",1,27,17,10]
[607037,"H.A. GOLFITO",1,39,31,8]
[608045,"H.A. COTO BRUS",1,27,22,5]
[610030,"H.A. NEILY",1,47,33,14]
[null,"LIMÓN",{"$f":"SUM(C61:C65)","v":5},{"$f":"SUM(D61:D65)","v":182},116,66]
[701038,"H.A. VICTOR CASCO TORRES",1,28,10,18]
[702037,"H.A. GUÁPILES",1,36,29,7]
[702052,"H.A. CARIARI",1,69,47,22]
[704021,"H.A. SANTA LUISA",1,26,13,13]
[706018,"H.A. DAVID GARRO",1,23,17,6]
[]
[]
["Fuente: Padrón Electoral y Departamento de Programas Electorales, Tribunal Supremo de Elecciones."]

{"sheet":"C17","index":18,"n_rows":93,"n_cols":6,"rows_kept":93,"cut":false,"hidden":false,"merged":[[92,0,92,4],[0,0,0,5],[1,0,1,5],[2,0,2,5],[4,0,5,0],[4,1,5,1],[4,2,5,2],[4,3,5,3],[4,4,4,5]]}
["CUADRO 17 COSTA RICA: JUNTAS RECEPTORAS Y ELECTORADO EN ZONAS INDÍGENAS"]
["SEGÚN PROVINCIA Y DISTRITO ELECTORAL,  ELECCIONES MUNICIPALES"]
["2 DE FEBRERO 2020"]
[]
["CÓDIGO ELECTORAL","PROVINCIA Y DISTRITO ELECTORAL","NÚMERO DE JUNTAS","ELECTORADO","SEXO"]
[null,null,null,null,"HOMBRES","MUJERES"]
[]
[null,"COSTA RICA",{"$f":"+C9+C14+C17+C30+C33+C69","v":97},{"$f":"+D9+D14+D17+D30+D33+D69","v":38537},{"$f":"+E9+E14+E17+E30+E33+E69","v":20194},{"$f":"+F9+F14+F17+F30+F33+F69","v":18343}]
[null,"SAN JOSÉ",{"$f":"SUM(C10:C13)","v":5},{"$f":"SUM(D10:D13)","v":1706},900,806]
[104024,"ZAPATÓN (SAN CARLOS)",1,365,199,166]
[104044,"BAJO REY",1,40,21,19]
[107014,"QUITIRRISÍ",2,994,527,467]
[119069,"CHINA KICHÁ",1,307,153,154]
[null,"ALAJUELA",{"$f":"SUM(C15:C16)","v":2},{"$f":"SUM(D15:D16)","v":790},400,390]
[215003,"MARGARITA",1,468,231,237]
[215010,"TONJIBE",1,322,169,153]
[null,"CARTAGO",{"$f":"SUM(C18:C29)","v":13},{"$f":"SUM(D18:D29)","v":3621},1838,1783]
[305017,"GRANO DE ORO O XARA",2,877,439,438]
[305057,"SIMIRIÑAC (JACUY)",1,320,165,155]
[305058,"ALTO PACUARE ARRIBA (DUCLAC)",1,253,121,132]
[305059,"JAKI (CAPILLA DOS CHIRRIPÓ ARRIBA)",1,379,203,176]
[305060,"BOLORIÑAC (CAPILLA UNO)",1,329,170,159]
[305061,"NIMARI-ÑAC (RÍO PEJE)",1,225,120,105]
[305062,"NAMALDI",1,112,56,56]
[305063,"TSIPIRI (QUEBRADA PLATANILLO)",1,529,265,264]
[305073,"QUETZAL",1,359,177,182]
[305075,"JAMO (SITIO HILDA PARTE OESTE)",1,77,42,35]
[305076,"ALTO PACUARE ABAJO (JEKUI)",1,130,66,64]
[305077,"JACBATA (CERRO AZUL)",1,31,14,17]
[null,"GUANACASTE",{"$f":"SUM(C31:C32)","v":2},{"$f":"SUM(D31:D32)","v":909},472,437]
[502080,"MATAMBUGUITO",1,198,102,96]
[511011,"MATAMBÚ",1,711,370,341]
[null,"PUNTARENAS",{"$f":"SUM(C34:C68)","v":41},{"$f":"SUM(D34:D68)","v":15092},7963,7129]
[603003,"SALITRE",1,469,254,215]
[603006,"BORUCA",2,1222,643,579]
[603007,"LAS PILAS",1,136,83,53]
[603008,"COLINAS (MAÍZ DE LOS UVA)",1,336,185,151]
[603011,"CURRÉ",1,390,194,196]
[603012,"LA DANTA O CONCEPCIÓN",1,441,232,209]
[603014,"UJARRÁS",2,962,502,460]
[603019,"BAJO LAS BRISAS",2,869,441,428]
[603022,"TÉRRABA",1,612,313,299]
[603023,"SAN RAFAEL DE CABAGRA",2,887,453,434]
[603027,"BIJAGUAL",1,472,264,208]
[603028,"CAJÓN",1,254,150,104]
[603029,"GUAGARAL",1,234,127,107]
[603030,"MAÍZ DE BORUCA",1,330,182,148]
[603031,"CHÁNGUENA (LA FILA)",1,258,156,102]
[603032,"PILÓN",1,471,260,211]
[603033,"LAS VEGAS DE RÍO CHÁNGUENA",1,109,64,45]
[603034,"LA BONGA",1,275,152,123]
[603035,"SAN VICENTE (UPIAV-2)",1,135,69,66]
[603036,"PARAÍSO",1,235,129,106]
[603041,"PUENTE DE SALITRE",1,348,180,168]
[603051,"SHAMBA",1,179,103,76]
[607021,"LA PEÑA DE BURICA",1,209,113,96]
[607024,"GUAYMÍ DE BURICA",1,244,135,109]
[607025,"ALTO CONTE (MOLO DUBTDO)",1,339,179,160]
[607027,"PROGRESO DE CONTEBURICA",1,254,139,115]
[608016,"SAN GERARDO",1,116,64,52]
[608042,"LA CASONA (GUAYMÍ)",2,1170,590,580]
[610003,"BAJO LOS INDIOS",1,270,138,132]
[610006,"ABROJO NORTE (VEGAS DE ABROJO NORTE)",1,652,333,319]
[610012,"BARRIO NUEVO DE VERACRUZ O COLORADITO SUR",2,901,445,456]
[610020,"CARACOL DE LA VACA",1,410,213,197]
[610021,"VEREH",1,380,189,191]
[610026,"VEGAS DEL RÍO LA VACA (NIBIRIBOTDA)",1,217,124,93]
[610027,"ABROJO - MONTEZUMA",1,306,165,141]
[null,"LIMÓN",{"$f":"SUM(C70:C90)","v":34},{"$f":"SUM(D70:D90)","v":16419},8621,7798]
[701009,"VESTA",1,464,258,206]
[701021,"BOCUARE",1,232,131,101]
[701034,"ALTO CWEN",1,438,220,218]
[701035,"XIQIARI",1,581,292,289]
[701036,"SINOLI",1,230,121,109]
[701042,"ALMIRANTE",1,430,218,212]
[701044,"JAKKUE (SITIO HILDA PARTE ESTE)",1,50,28,22]
[703004,"PACUARITO",1,721,408,313]
[704001,"BRATSI (BAMBÚ O DON DIEGO)",1,438,217,221]
[704002,"AMUBRI",3,2009,1034,975]
[704003,"COROMA (COLOQCHA)",1,404,217,187]
[704006,"PUERTO VIEJO",1,1718,964,754]
[704007,"BRIBRÍ [FIELDS]",3,3381,1747,1634]
[704008,"SHIROLES [XIROLES]",6,2183,1107,1076]
[704013,"KATSI",4,690,368,322]
[704015,"SEPEQUE",1,1129,575,554]
[704019,"SIBUJÚ",2,340,191,149]
[704020,"BAJO TELIRE [BAJO BLEY]",1,211,116,95]
[704022,"YORKIN",1,232,133,99]
[704023,"ALTO TELIRE [BAJO PIEDRA MESA]",1,241,121,120]
[705017,"PALMERA [CATSAQIBI]",1,297,155,142]
[]
[]
["Fuente: Padrón Electoral y Departamento de Programas Electorales, Tribunal Supremo de Elecciones."]

{"sheet":"T1","index":19,"n_rows":21,"n_cols":2,"rows_kept":21,"cut":false,"hidden":false,"merged":[[1,0,1,1]]}
[]
["TABLA 1 COSTA RICA: PARTIDOS POLÍTICOS A ESCALA NACIONAL QUE PARTICIPAN EN LAS ELECCIONES MUNICIPALES DE 2 DE FEBRERO 2020"]
[]
["PARTIDO POLÍTICO","DIVISA"]
[]
["ACCESIBILIDAD SIN EXCLUSIÓN"]
["ACCIÓN CIUDADANA"]
["ALIANZA DEMÓCRATA CRISTIANA"]
["FRENTE AMPLIO"]
["INTEGRACIÓN NACIONAL"]
["LIBERACIÓN NACIONAL"]
["LIBERAL PROGRESISTA"]
["NUEVA GENERACIÓN"]
["NUEVA REPÚBLICA"]
["RENOVACIÓN COSTARRICENSE"]
["REPUBLICANO SOCIAL CRISTIANO"]
["RESTAURACIÓN NACIONAL"]
["UNIDAD SOCIAL CRISTIANA"]
["UNIDOS PODEMOS"]
[]
["Fuente: Tribunal Supremo de Elecciones."]

{"sheet":"T2","index":20,"n_rows":16,"n_cols":2,"rows_kept":16,"cut":false,"hidden":false,"merged":[[1,0,1,1]]}
[]
["TABLA 2 COSTA RICA: PARTIDOS POLÍTICOS A ESCALA PROVINCIAL QUE PARTICIPAN EN LAS ELECCIONES MUNICIPALES DE 2 DE FEBRERO 2020"]
[]
["PARTIDO POLÍTICO","DIVISA"]
[]
["ACTUEMOS YA (CARTAGO)"]
["AUTENTICO LIMONENSE  (LIMÓN)"]
["COMUNAL UNIDO (SAN JOSÉ)"]
["IZQUIERDA UNIDA (LIMÓN)"]
["JUSTICIA SOCIAL COSTARRICENSE (LIMÓN)"]
["NUESTRO PUEBLO (SAN JOSÉ)"]
["RECUPERANDO VALORES (LIMÓN)"]
["UNIÓN GUANACASTECA (GUANACASTE)"]
["VERDE ECOLOGISTA (CARTAGO)"]
[]
["Fuente: Tribunal Supremo de Elecciones."]

{"sheet":"T3","index":21,"n_rows":70,"n_cols":2,"rows_kept":70,"cut":false,"hidden":false,"merged":[[1,0,1,1]]}
[]
["TABLA 3 COSTA RICA: PARTIDOS POLÍTICOS  A ESCALA CANTONAL QUE PARTICIPAN EN LAS ELECCIONES MUNICIPALES DE 2 DE FEBRERO 2020"]
[]
["PARTIDO POLÍTICO","DIVISA"]
[]
["ACCIÓN CANTONAL SIQUIRRES INDEPENDIENTE (SIQUIRRES, LIMÓN)"]
["ACCIÓN NARANJEÑA (NARANJO, ALAJUELA)"]
["ACUERDO DE ALIANZA DE QUEPOS (QUEPOS, PUNTARENAS)"]
["ALIANZA POR PALMARES (PALMARES, ALAJUELA)"]
["ALIANZA POR SAN JOSÉ (SAN JOSÉ, SAN JOSÉ)"]
["ALIANZA POR SARCHÍ (SARCHÍ, ALAJUELA)"]
["ALIANZA SOCIAL POR LA UNIÓN (LA UNIÓN. CARTAGO)"]
["ANTICORRUPCIÓN COSTARRICENSE (SAN JOSÉ, SAN JOSÉ)"]
["AUTÉNTICO LABRADOR DE CORONADO (VÁZQUEZ DE CORONADO, SAN JOSÉ)"]
["AUTÉNTICO NICOYANO (NICOYA, GUANACASTE)"]
["AUTÉNTICO SANTACRUCEÑO (SANTA CRUZ, GUANACASTE)"]
["AUTÉNTICO SIQUIRREÑO (SIQUIRRES, LIMÓN)"]
["AUTÓNOMO OROMONTANO (MONTES DE ORO, PUNTARENAS)"]
["AVANCE ISIDREÑO"]
["AVANCE MONTES DE OCA (MONTES DE OCA, SAN JOSÉ)"," "]
["AVANTE POCOCÍ (POCOCÍ, LIMÓN)"]
["BARVA UNIDA (BARVA, HEREDIA)"]
["CANTONAL DE CARRILLO (CARRILLO , GUANACASTE)"]
["COALICIÓN ALIANZA POR NICOYA"]
["COALICIÓN ASERRI DE TODOS"]
["COALICIÓN GENTE MONTES DE OCA"]
["COALICIÓN JUNTOS"]
["COALICIÓN UNIDAD POR FLORES"]
["COALICIÓN UNIÓN BELEMITA"]
["CURRIDABAT SIGLO XXI (CURRIDABAT, SAN JOSÉ)"]
["DEL SOL (SANTA ANA, SAN JOSÉ)"]
["DESARROLLO TALAMANQUEÑO (TALAMANCA, LIMÓN)"]
["DESPERTAR ALAJUELENSE (ALAJUELA, ALAJUELA)"]
["ECOLÓGICO COMUNAL COSTARRICENSE (DESAMPARADOS, SAN JOSÉ)"]
["FUERZA SARCHISEÑA (SARCHÍ, ALAJUELA)"]
["GOICOECHEA EN ACCIÓN (GOICOECHEA, SAN JOSÉ)"]
["GUANACASTE PRIMERO (NICOYA, GUANACASTE)"]
["INNOVACIÓN CANTONAL (SAN JOSÉ, SAN JOSÉ)"]
["JUSTICIA SOCIAL (QUEPOS, PUNTARENAS)"]
["LA FUERZA DE LA UNIÓN (LA UNIÓN, CARTAGO)"]
["LA GRAN NICOYA (NICOYA, GUANACASTE)"]
["LIGA RAMONENSE (SAN RAMÓN, ALAJUELA)"]
["MOVIMIENTO AVANCE SANTO DOMINGO"]
["NANDAYURE PROGRESA (NANDAYURE, GUANACASTE)"]
["NUEVA MAYORÍA GRIEGA (GRECIA, ALAJUELA)"]
["PALMARES PRIMERO (PALMARES, ALAJUELA)"]
["PROGRESER (SAN CARLOS, AJAJUELA)"]
["PUEBLO GARABITO (GARABITO, PUNTARENAS)"]
["PURISCAL EN MARCHA (PURISCAL, SAN JOSÉ)"]
["RESCATE CANTONAL LA UNIÓN (LA UNIÓN, CARTAGO)"]
["RESTAURACIÓN PARRITEÑA (PARRITA, PUNTARENAS)"]
["SENTIR HEREDIA (HEREDIA, HEREDIA)"]
["SOMOS MORAVIA (MORAVIA, SAN JOSÉ)"]
["SOMOS SARCHÍ (SARCHÍ, ALAJUELA)"]
["TARRAZÚ PRIMERO (TARRAZÚ, SAN JOSÉ)"]
["TERRA ESCAZÚ (ESCAZÚ, SAN JOSÉ)"]
["TODOS POR GOICOECHEA (GOICOECHEA, SAN JOSÉ)"]
["TURRIALBA PRIMERO (TURRIALBA, CARTAGO)"]
["ÚNICO ABANGAREÑO (ABANGARES, GUANACASTE)"]
["UNIDOS PARA EL DESARROLLO (MORA, SAN JOSÉ)"]
["UNIDOS POR ESCAZÚ (ESCAZÚ, SAN JOSÉ)"]
["UNIÓN ATENIENSE (ATENAS, ALAJUELA)"]
["UNIÓN DE PUNTARENENSES EMPRENDEDORES (PUNTARENAS, PUNTARENAS)"]
["UNIÓN DOMINGUEÑA (SANTO DOMINGO, HEREDIA)"]
["UNIÓN GRIEGA (GRECIA, ALAJUELA)"]
["UNIÓN GUARQUEÑO (EL GUARCO,CARTAGO)"]
["YO SOY EL CAMBIO (POCOCÍ, LIMÓN)"]
["YUNTA PROGRESISTA ESCAZUCEÑA (ESCAZÚ, SAN JOSÉ) "]
[]
["Fuente: Tribunal Supremo de Elecciones."]

{"sheet":"partidos","index":22,"n_rows":149,"n_cols":3,"rows_kept":149,"cut":false,"hidden":true,"merged":[[0,0,0,1],[1,0,1,1],[2,0,2,1]]}
["CUADRO 17. COSTA RICA: PARTIDOS POLÍTICOS QUE PARTICIPAN EN LAS ELECCIONES"]
["SEGÚN ESCALA. ELECCIONES MUNICIPALES"]
["2 DE FEBRERO 2020"]
[]
["NOMBRE","DIVISA"]
[]
["ESCALA NACIONAL"]
[]
["ACCESIBILIDAD SIN EXCLUSIÓN"]
["ACCIÓN CIUDADANA"]
["ALIANZA DEMÓCRATA CRISTIANA"]
["ALIANZA PATRIÓTICA"]
["AVANCE NACIONAL"]
["CENTRO DEMOCRÁTICO Y SOCIAL"]
["DE LOS TRABAJADORES"]
["FRENTE AMPLIO"]
["INTEGRACIÓN NACIONAL"]
["LIBERACIÓN NACIONAL"]
["LIBERAL PROGRESISTA"]
["MOVIMIENTO LIBERTARIO"]
["NUEVA GENERACIÓN"]
["NUEVA REPÚBLICA"]
["PATRIA NUEVA"]
["RENOVACIÓN COSTARRICENSE"]
["REPUBLICANO SOCIAL CRISTIANO"]
["RESTAURACIÓN NACIONAL"]
["UNIDAD SOCIAL CRISTIANA"]
["UNIDOS PODEMOS"]
["UNIÓN NACIONAL"]
["ESCALA PROVINCIAL"]
["ACTUEMOS YA (CARTAGO)"]
["ALIANZA MAYOR"]
["AUTENTICO LIMONENSE  (LIMÓN)"]
["COMUNAL UNIDO (SAN JOSÉ)"]
["DE LOS TRANSPORTISTAS  (SAN JOSÉ)"]
["FUERZA UNIDAS PARA EL CAMBIO (SAN JOSÉ)"]
["GUANACASTE INDEPENDIENTE (GUANACASTE)"]
["IZQUIERDA UNIDA (LIMÓN)"]
["JUSTICIA SOCIAL COSTARRICENSE (LIMÓN)"]
["MOVIMIENTO DE LOS TRABAJADORES Y CAMPESINOS (LIMÓN)"]
["NUESTRO PUEBLO (SAN JOSÉ)"]
["PATRIA IGUALDAD Y DEMOCRACIA (PUNTARENAS)"]
["PATRIA, IGUALDAD Y DEMOCRACIA (SAN JOSÉ)"]
["PUEBLO UNIDO (PUNTARENAS)"]
["RECUPERANDO VALORES (LIMÓN)"]
["RESTAURACIÓN HEREDIANA (HEREDIA)"]
["TODOS (SAN JOSÉ)"]
["TRANSPARENCIA CARTAGINÉS (CARTAGO)"]
["UNIÓN AGRÍCOLA CARTAGINÉS (CARTAGO)"]
["UNIÓN GUANACASTECA (GUANACASTE)"]
["VAMOS (SAN JOSÉ)"]
["VERDE (CARTAGO)"]
["VIVA PUNTARENAS (PUNTARENAS)"]
["ESCALA CANTONAL"]
["ACCIÓN CANTONAL SIQUIRRES INDEPENDIENTE (SIQUIRRES, LIMÓN)"]
["ACCIÓN NARANJEÑA (NARANJO, ALAJUELA)"]
["ACCIÓN QUEPEÑA (QUEPOS, PUNTARENAS)"]
["ACUERDO CANTONAL DESAMPARADEÑO (DESAMPARADOS, SAN JOSÉ)"]
["ACUERDO DE ALIANZA DE QUEPOS (AGUIRRE, PUNTARENAS)"]
["ALIANZA CRISTIANA SANTANEÑA (SANTA ANA, SAN JOSÉ)"]
["ALIANZA POR PALMARES (PALMARES, ALAJUELA)"]
["ALIANZA POR SAN JOSÉ (SAN JOSÉ, SAN JOSÉ)"]
["ALIANZA SANCARLEÑA (SAN CARLOS, ALAJUELA)"]
["ALIANZA POR SARCHÍ (SARCHÍ, ALAJUELA)"]
["ALIANZA SOCIAL POR LA UNIÓN (LA UNIÓN. CARTAGO)"]
["ALTERNATIVA SJO (SAN JOSÉ, SAN JOSÉ)"]
["ANTICORRUPCIÓN COSTARRICENSE (SAN JOSÉ, SAN JOSÉ)"]
["AUTÉNTICO LABRADOR DE CORONADO (VÁZQUEZ DE CORONADO, SAN JOSÉ)"]
["AUTÉNTICO NICOYANO"]
["AUTÉNTICO SANTACRUCEÑO"]
["AUTENTICO SIQUIRREÑO (SIQUIRRES, LIMÓN)"]
["AUTÓNOMO OROMONTANO (MONTES DE ORO, PUNTARENAS)"]
["AVANCE ISIDREÑO"]
["AVANCE MONTES DE OCA (MONTES DE OCA, SAN JOSÉ)"," "]
["AVANTE POCOCÍ (POCOCÍ LIMÓN)"]
["BARVA UNIDA (BARVA, HEREDIA)"]
["CANTONAL DE CARRILLO (CARRILLO , GUANACASTE)"]
["CIUDADANÍA GOICOECHEA (GOICOECHEA, SAN JOSÉ)"]
["CIUDADANOS LIBRES (GOICOECHEA, SAN JOSÉ)"]
["\nCIVÍCO DE TIBÁS FUENTEOVEJUNA (TIBÁS, SAN JOSÉ)"]
["COMUNAL PRO-CURRI (CURRIDABAT, SAN JOSÉ)"]
["CORREDORES EN ACCIÓN (CORREDORES , PUNTARENAS)"]
["CURRIDABAT SIGLO XXI (CURRIDABAT, SAN JOSÉ)"]
["DEL SOL (SANTA ANA, SAN JOSÉ)"]
["DEMÓCRATA (VÁZQUES DE CORONADO, SAN JOSÉ)"]
["DEMÓCRATA COSTARRICENSE (SAN JOSÉ, SAN JOSÉ)"]
["DESARROLLO TALAMANQUEÑO (TALAMANCA, LIMÓN)"]
["DESPERTAR ALAJUELENSE (ALAJUELA, ALAJUELA)"]
["ECOLÓGICO COMUNAL COSTARRICENSE (DESAMPARADOS, SAN JOSÉ)"]
["EL PARTIDO DE NICOYA (NICOYA, GUANACASTE)"]
["EL PUENTE Y LOS CAMINOS DE MORA (MORA, SAN JOSÉ)"]
["FUERZA DEMOCRÁTICA DESAMPARADEÑA (DESAMPARADOS, SAN JOSÉ)"]
["FUERZA SARCHISEÑA (SARCHÍ, ALAJUELA)"]
["GARABITO ECOLÓGICO (GARABITO, PUNTARENAS)"]
["PARTIDO GENTE MONTES DE OCA (MONTES DE OCA, SAN JOSÉ)"]
["GOICOECHEA EN ACCIÓN (GOICOECHEA, SAN JOSÉ)"]
["GUANACASTE PRIMERO (NICOYA, GUANACASTE)"]
["HUMANISTA DE MONTES DE OCA (MONTES DE OCA, SAN JOSÉ)"]
["INDEPENDIENTE BELEMITA (BELEN, HEREDIA)"]
["INDEPENDIENTE ESCAZUCEÑO (ESCAZÚ, SAN JOSÉ)"]
["INNOVACIÓN CANTONAL (SAN JOSÉ, SAN JOSÉ)"]
["INTEGRACIÓN BARBAREÑA (SANTA BÁRBARA, HEREDIA)"]
["JUSTICIA GENERALEÑA (PÉREZ ZELEDÓN, SAN JOSÉ)"]
["JUSTICIA SOCIAL (QUEPOS, PUNTARENAS)"]
["LA FUERZA DE LA UNIÓN (LA UNIÓN, CARTAGO)"]
["LA GRAN NICOYA (NICOYA, GUANACASTE)"]
["LIGA RAMONENSE (SAN RAMÓN, ALAJUELA)"]
["LIMÓN INDEPENDIENTE (CENTRO, LIMÓN)"]
["MOVIMIENTO AVANCE SANTO DOMINGO"]
["NANDAYURE PROGRESA (NANDAYURE, GUANACASTE)"]
["NUEVA MAYORIA GRIEGA (GRECIA, ALAJUELA)"]
["ORGANIZACIÓN SOCIAL ACTIVA (OSA, PUNTARENAS)"]
["PALMARES PRIMERO (PALMARES, ALAJUELA)"]
["PARRITA INDEPENDIENTE (PARRITA, PUNTARENAS)"]
["PROGRESER (SAN CARLOS, AJAJUELA)"]
["PROGRESO COMUNAL DESAMPARADEÑO (DESAMPARADOS, SAN JOSÉ)"]
["PUEBLO GARABITO (GARABITO, PUNTARENAS)"]
["PURISCAL EN MARCHA (PURISCAL, SAN JOSÉ)"]
["PURISCALEÑOS DE CORAZÓN (PURISCAL, SAN JOSÉ)"]
["RECICLARTE"]
["RENOVACIÓN CARTAGO (CENTRAL, CARTAGO)"]
["RENOVEMOS ALAJUELA (ALAJUELA, ALAJUELA)"]
["RESCATE CANTONAL LA UNIÓN (LA UNIÓN, CARTAGO)"]
["RESTAURACIÓN PARRITEÑA (PARRITA, PUNTARENAS)"]
["SENTIR HEREDIA (HEREDIA, HEREDIA)"]
["SOBERANO (SAN JOSÉ, SAN JOSÉ)"]
["SOLIDARIDAD (CENTRAL, SAN JOSÉ)"]
["SOMOS MORAVIA (MORAVIA, SAN JOSÉ)"]
["SOMOS SARCHÍ (SARCHÍ, ALAJUELA)",null,"YO SOY EL CAMBIO"]
["TARRAZÚ PRIMERO (TARRAZÚ, SAN JOSÉ)"]
["TERRA ESCAZÚ (ESCAZÚ, SAN JOSÉ)"]
["TODO POR FLORES (FLORES( HEREDIA)"]
["TODOS POR GOICOECHEA (GOICOECHEA, SAN JOSÉ)"]
["TURRIALBA PRIMERO (TURRIALBA, CARTAGO)"]
["ÚNICO ABANGAREÑO"]
["UNIDOS PARA EL DESARROLLO (MORA, SAN JOSÉ)"]
["UNIDOS POR ESCAZÚ (ESCAZÚ, SAN JOSÉ)"]
["UNIÓN ATENIENSE (ATENAS, ALAJUELA)"]
["UNIÓN CARIBEÑA (POCOCÍ, LIMÓN)"]
["UNIÓN DOMINGUEÑA (SANTO DOMINGO, HEREDIA)"]
["UNIÓN DE PUNTARENENSES EMPRENDEDORES (PUNTARENAS, PUNTARENAS)"]
["UNIÓN GRIEGA (GRECIA, ALAJUELA)"]
["UNIÓN PALMAREÑA (PALMARES, ALAJUELA)"]
["UNIÓN GUARQUEÑO (EL GUARCO, CARTAGO)"]
["UNIÓN PALMAREÑA (PALMARES, ALAJUELA)"]
["UNIÓN POASEÑA (POÁS, ALAJUELA)"]
["YO SOY EL CAMBIO (POCOCÍ, LIMÓN)"]
["YUNTA PROGRESISTA ESCAZUCEÑA (ESCAZÚ, SAN JOSÉ) "]
["Fuente: Página Web Tribunal Supremo de Elecciones."]

{"sheet":"C18","index":23,"n_rows":66,"n_cols":6,"rows_kept":66,"cut":false,"hidden":false,"merged":[]}
["CUADRO 18 COSTA RICA: CANDIDATURAS INSCRITAS POR ELECCIÓN, SEGÚN PROVINCIA Y TIPO DE CANDIDATURA"]
["ELECCIONES 2002, 2006, 2010, 2016 y 2020"]
[]
["PROVINCIA Y TIPO DE CANDIDATURA",2002,2006,2010,2016,2020]
[]
["COSTA RICA",{"$f":"SUM(B7:B13)","v":25234},{"$f":"SUM(C7:C13)","v":26708},{"$f":"SUM(D7:D13)","v":23096},{"$f":"SUM(E7:E13)","v":31879},{"$f":"SUM(F7:F13)","v":33873}]
["SAN JOSÉ",{"$f":"+B16+B25+B34+B43","v":6907},{"$f":"+C16+C25+C34+C43","v":7262},{"$f":"+D16+D25+D34+D43","v":6414},{"$f":"+E16+E25+E34+E43","v":8540},{"$f":"+F16+F25+F34+F43","v":8718}]
["ALAJUELA",{"$f":"+B17+B26+B35+B44+B52+B58","v":5056},5368,4508,6759,{"$f":"+F17+F26+F35+F44+F52+F58","v":7081}]
["CARTAGO",2886,3297,2370,3577,{"$f":"+F18+F27+F36+F45+F53+F59","v":4129}]
["HEREDIA",{"$f":"+B19+B28+B37+B46","v":2647},{"$f":"+C19+C28+C37+C46","v":2473},{"$f":"+D19+D28+D37+D46","v":2453},{"$f":"+E19+E28+E37+E46","v":2972},{"$f":"+F19+F28+F37+F46","v":2924}]
["GUANACASTE",{"$f":"+B20+B29+B38+B47+B54+B60","v":2722},2980,2454,3299,{"$f":"+F20+F29+F38+F47+F54+F60","v":4100}]
["PUNTARENAS",3012,3246,2911,4056,{"$f":"+F21+F30+F39+F48+F55+F61","v":3773}]
["LIMÓN",{"$f":"+B22+B31+B40+B49","v":2004},{"$f":"+C22+C31+C40+C49","v":2082},{"$f":"+D22+D31+D40+D49","v":1986},{"$f":"+E22+E31+E40+E49","v":2676},{"$f":"+F22+F31+F40+F49","v":3148}]
[]
["ALCALDÍA Y VICEALCALDÍA",{"$f":"SUM(B16:B22)","v":1089},{"$f":"SUM(C16:C22)","v":1099},{"$f":"SUM(D16:D22)","v":1008},{"$f":"SUM(E16:E22)","v":1780},{"$f":"SUM(F16:F22)","v":2018}]
["SAN JOSÉ",266,273,258,468,494]
["ALAJUELA",185,184,182,313,348]
["CARTAGO",112,118,87,200,255]
["HEREDIA",135,119,117,199,234]
["GUANACASTE",144,146,115,180,249]
["PUNTARENAS",141,157,146,259,232]
["LIMÓN",106,102,103,161,206]
[]
["REGIDURÍA 1/",{"$f":"SUM(B25:B31)","v":8973},{"$f":"SUM(C25:C31)","v":10789},{"$f":"SUM(D25:D31)","v":7234},{"$f":"SUM(E25:E31)","v":7016},{"$f":"SUM(F25:F31)","v":7845}]
["SAN JOSÉ",2500,3210,2175,2033,2184]
["ALAJUELA",1686,1866,1177,1218,1333]
["CARTAGO",1115,1465,779,821,970]
["HEREDIA",1071,1137,818,721,792]
["GUANACASTE",828,1183,739,644,877]
["PUNTARENAS",1090,1048,802,870,844]
["LIMÓN",683,880,744,709,845]
[]
["SINDICATURA",{"$f":"SUM(B34:B40)","v":3488},{"$f":"SUM(C34:C40)","v":3726},{"$f":"SUM(D34:D40)","v":3578},{"$f":"SUM(E34:E40)","v":6085},{"$f":"SUM(F34:F40)","v":6760}]
["SAN JOSÉ",936,943,958,1630,1699]
["ALAJUELA",726,790,809,1399,1469]
["CARTAGO",371,484,338,741,917]
["HEREDIA",349,335,356,523,595]
["GUANACASTE",437,438,380,596,779]
["PUNTARENAS",385,467,459,747,697]
["LIMÓN",284,269,278,449,604]
[]
["CONCEJALÍA DE DISTRITO",{"$f":"SUM(B43:B49)","v":11454},{"$f":"SUM(C43:C49)","v":10832},{"$f":"SUM(D43:D49)","v":11004},{"$f":"SUM(E43:E49)","v":16546},{"$f":"SUM(F43:F49)","v":16777}]
["SAN JOSÉ",3205,2836,3023,4409,4341]
["ALAJUELA",2430,2495,2321,3775,3870]
["CARTAGO",1222,1182,1109,1703,1882]
["HEREDIA",1092,882,1162,1529,1303]
["GUANACASTE",1289,1176,1181,1813,2136]
["PUNTARENAS",1285,1430,1347,1960,1752]
["LIMÓN",931,831,861,1357,1493]
[]
["INTENDENCIA Y VICEINTENDENCIA",{"$f":"SUM(B52:B55)","v":26},{"$f":"SUM(C52:C55)","v":34},{"$f":"SUM(D52:D55)","v":61},{"$f":"SUM(E52:E55)","v":103},{"$f":"SUM(F52:F55)","v":106}]
["ALAJUELA",4,4,4,11,12]
["CARTAGO",6,6,14,26,29]
["GUANACASTE",3,4,8,14,14]
["PUNTARENAS",13,20,35,52,51]
[]
["CONCEJALÍA MUNICIPALE DE DISTRITO",{"$f":"SUM(B58:B61)","v":204},{"$f":"SUM(C58:C61)","v":228},{"$f":"SUM(D58:D61)","v":211},{"$f":"SUM(E58:E61)","v":349},{"$f":"SUM(F58:F61)","v":367}]
["ALAJUELA",25,29,15,43,49]
["CARTAGO",60,42,43,86,76]
["GUANACASTE",21,33,31,52,45]
["PUNTARENAS",98,124,122,168,197]
[]
[]
["1/ Los candidaturas a regidores se presentaros en las elecciones generales en el mes de febrero en los años 2002, 2006 y 2010."]
[]
["Fuente: Cómputo de Votos y Declaratorias de Elección, y Departamento de Registro de Partidos Políticos."]

{"sheet":"C19","index":24,"n_rows":20,"n_cols":4,"rows_kept":20,"cut":false,"hidden":false,"merged":[]}
[]
["CUADRO 19 COSTA RICA: PUESTOS A ELEGIR, POR CARGO, SEGÚN TIPO DE CANDIDATURA ELECCIONES MUNICIPALES 2 DE FEBRERO 2020"]
[]
["PUESTOS A ELEGIR","TOTAL","PROPIEDAD","SUPLENCIA"]
[]
["TOTAL",{"$f":"SUM(B8:B16)","v":6138},{"$f":"SUM(C8:C16)","v":3118},{"$f":"SUM(D8:D16)","v":3020}]
[]
["ALCALDÍA",82,82,"NA"]
["VICEALCALDÍA PRIMERA",82,82,"NA"]
["VICEALCALDÍA SEGUNDA",82,"NA",82]
["REGIDURÍA",{"$f":"+C11+D11","v":1016},508,508]
["SINDICATURA",972,486,486]
["CONCEJALÍA DE DISTRITO",3824,{"$f":"486*4-C16","v":1912},{"$f":"486*4-D16","v":1912}]
["INTENDENCIA",{"$f":"+C14","v":8},8,"NA"]
["VICEINTENDENCIA",{"$f":"+C15","v":8},8,"NA"]
["CONCEJALÍA MUNICIPAL DE DISTRITO",64,32,32]
[]
[]
["Nota: No se considera la Isla del Coco debido a que no se presentaron candidatos para ese distrito"]
["Fuente: Convocatoria Elecciones y División Territorial Administrativa"]

{"sheet":"C20","index":25,"n_rows":37,"n_cols":6,"rows_kept":37,"cut":false,"hidden":false,"merged":[[3,2,3,5],[4,0,5,0],[4,1,5,1],[4,2,4,3],[4,4,4,5]]}
["CUADRO 20  COSTA RICA: COMPOSICIÓN DE LAS PAPELETAS POR SEXO, SEGÚN TIPO DE CANDIDATURA Y CARGO"]
["ELECCIONES MUNICIPALES 2 DE FEBRERO 2020"]
["(CIFRAS ABSOLUTAS Y RELATIVAS)"]
[]
["TIPO DE CANDIDATURA Y CARGO","TOTAL","HOMBRES",null,"MUJERES"]
[null,null,"ABSOLUTO","%","ABSOLUTO","%"]
[]
["TOTAL",{"$f":"SUM(B9:B17)","v":33873},{"$f":"SUM(C9:C17)","v":17177},{"$f":"+C8/B8*100","v":50.710005018746493},{"$f":"SUM(E9:E17)","v":16696},{"$f":"+E8/B8*100","v":49.289994981253507}]
["ALCALDÍA",{"$f":"+C9+E9","v":692},{"$f":"+C20","v":533},{"$f":"+C9/B9*100","v":77.02312138728324},{"$f":"+E20","v":159},{"$f":"+E9/B9*100","v":22.976878612716764}]
["VICEALCALDÍA PRIMERA",677,{"$f":"+C21","v":154},{"$f":"+C10/B10*100","v":22.747415066469721},{"$f":"+E21","v":523},77.252584933530272]
["VICEALCALDÍA SEGUNDA",649,{"$f":"+C30","v":457},{"$f":"+C11/B11*100","v":70.416024653312789},{"$f":"+E30","v":192},29.583975346687215]
["REGIDURÍA",{"$f":"+C12+E12","v":7845},{"$f":"+C22+C31","v":4039},51.485022307202044,{"$f":"+E22+E31","v":3806},48.514977692797963]
["SINDICATURA",6760,{"$f":"+C23+C32","v":3406},50.384615384615387,{"$f":"+E23+E32","v":3354},49.615384615384613]
["CONCEJALÍA DE DISTRITO",16777,{"$f":"+C24+C33","v":8351},49.776479704357158,{"$f":"+E24+E33","v":8426},50.223520295642842]
["INTENDENCIA",54,{"$f":"+C26","v":40},74.074074074074076,{"$f":"+E26","v":14},25.925925925925924]
["VICEINTENDENCIA",52,{"$f":"+C27","v":14},26.923076923076923,{"$f":"+E27","v":38},73.076923076923066]
["CONCEJALÍA MUNICIPAL DE DISTRITO",{"$f":"+C17+E17","v":367},{"$f":"+C25+C34","v":183},49.863760217983646,{"$f":"+E25+E34","v":184},50.136239782016347]
[]
["TOTAL EN PROPIEDAD",{"$f":"SUM(B20:B27)","v":18554},{"$f":"SUM(C20:C27)","v":9849},{"$f":"+C19/B19*100","v":53.082893176673494},{"$f":"SUM(E20:E27)","v":8705},{"$f":"+E19/B19*100","v":46.917106823326506}]
["ALCALDÍA",{"$f":"+C20+E20","v":692},533,{"$f":"+C20/B20*100","v":77.02312138728324},159,{"$f":"+E20/B20*100","v":22.976878612716764}]
["VICEALCALDÍA PRIMERA",677,154,{"$f":"+C21/B21*100","v":22.747415066469721},523,{"$f":"+E21/B21*100","v":77.252584933530272}]
["REGIDURÍA",{"$f":"+C22+E22","v":4015},2140,53.300124533001245,1875,46.699875466998755]
["SINDICATURA",3692,2269,61.457204767063921,1423,38.542795232936079]
["CONCEJALÍA DE DISTRITO",9180,4603,50.141612200435723,4577,49.858387799564269]
["CONCEJALÍA MUNICIPAL DE DISTRITO",192,96,50,96,50]
["INTENDENCIA",54,40,74.074074074074076,14,25.925925925925924]
["VICEINTENDENCIA",52,14,26.923076923076923,38,73.076923076923066]
[]
["TOTAL EN SUPLENCIA",{"$f":"SUM(B31:B34)","v":14670},{"$f":"SUM(C31:C34)","v":6871},{"$f":"+C29/B29*100","v":46.837082481254264},{"$f":"SUM(E31:E34)","v":7799},{"$f":"+E29/B29*100","v":53.162917518745743}]
["VICEALCALDÍA SEGUNDA",{"$f":"+C30+E30","v":649},457,70.416024653312789,192,29.583975346687215]
["REGIDURÍA",{"$f":"+C31+E31","v":3830},1899,49.582245430809401,1931,50.417754569190599]
["SINDICATURA",{"$f":"+C32+E32","v":3068},1137,37.059973924380699,1931,62.940026075619294]
["CONCEJALÍA DE DISTRITO",{"$f":"+C33+E33","v":7597},3748,49.335263919968412,3849,50.664736080031588]
["CONCEJALÍA MUNICIPAL DE DISTRITO",{"$f":"+C34+E34","v":175},87,49.714285714285715,88,50.285714285714292]
[]
[]
["Fuente: Departamento de Registro de Partidos Políticos, Base de datos de candidaturas febrero 2020"]

{"sheet":"G3","index":26,"n_rows":34,"n_cols":6,"rows_kept":34,"cut":false,"hidden":false,"merged":[]}
[]
[]
[null,null,"Sexo"]
["Tipo de candidatura","MUJER","HOMBRE",null,"MUJER","HOMBRE"]
[{"$f":"+'C20'!A10","v":"VICEALCALDÍA PRIMERA"},{"$f":"+'C20'!E10","v":523},{"$f":"+'C20'!C10","v":154},{"$f":"+B5+C5","v":677},{"$f":"+C5/D5","v":0.2274741506646972},{"$f":"+B5/D5","v":0.77252584933530277}]
[{"$f":"+'C20'!A16","v":"VICEINTENDENCIA"},{"$f":"+'C20'!E16","v":38},{"$f":"+'C20'!C16","v":14},52,0.26923076923076922,0.73076923076923073]
[{"$f":"+'C20'!A14","v":"CONCEJALÍA DE DISTRITO"},{"$f":"+'C20'!E14","v":8426},{"$f":"+'C20'!C14","v":8351},16777,0.49776479704357157,0.50223520295642843]
[{"$f":"+'C20'!A17","v":"CONCEJALÍA MUNICIPAL DE DISTRITO"},{"$f":"+'C20'!E17","v":184},{"$f":"+'C20'!C17","v":183},367,0.49863760217983649,0.50136239782016345]
[{"$f":"+'C20'!A13","v":"SINDICATURA"},{"$f":"+'C20'!E13","v":3354},{"$f":"+'C20'!C13","v":3406},6760,0.50384615384615383,0.49615384615384617]
[{"$f":"+'C20'!A12","v":"REGIDURÍA"},{"$f":"+'C20'!E12","v":3806},{"$f":"+'C20'!C12","v":4039},7845,0.51485022307202044,0.48514977692797961]
[{"$f":"+'C20'!A11","v":"VICEALCALDÍA SEGUNDA"},{"$f":"+'C20'!E11","v":192},{"$f":"+'C20'!C11","v":457},649,0.70416024653312792,0.29583975346687214]
[{"$f":"+'C20'!A15","v":"INTENDENCIA"},{"$f":"+'C20'!E15","v":14},{"$f":"+'C20'!C15","v":40},54,0.7407407407407407,0.25925925925925924]
[{"$f":"+'C20'!A9","v":"ALCALDÍA"},{"$f":"+'C20'!E9","v":159},{"$f":"+'C20'!C9","v":533},692,0.77023121387283233,0.22976878612716764]
[]
[]
[]
[]
[]
[]
[]
[]
[]
[]
[]
[]
[]
[]
[]
[]
[]
[]
[]
[]
["Fuente: Departamento de Registro de Partidos Políticos, base de datos de Candidaturas 2020, Tribunal Supremo de Elecciones."]

{"sheet":"C21","index":27,"n_rows":99,"n_cols":21,"rows_kept":99,"cut":false,"hidden":false,"merged":[[5,7,5,8],[5,19,5,20],[5,9,5,10],[5,11,6,11],[5,12,5,13],[5,14,5,15],[5,16,6,16],[5,17,5,18],[0,0,0,20],[1,0,1,20],[2,0,2,20],[4,0,6,0],[4,1,4,5],[4,6,4,10],[4,11,4,15],[4,16,4,20],[5,1,6,1],[5,2,5,3],[5,4,5,5],[5,6,6,6]]}
["CUADRO 21 COSTA RICA: CANDIDATURAS A ALCALDÍAS Y VICEALCALDÍAS POR SEXO, SEGÚN PARTIDO POLÍTICO"]
["ELECCIONES MUNICIPALES 2 DE FEBRERO 2020"]
["(CIFRAS ABSOLUTAS Y RELATIVAS)"]
[]
["PARTIDO POLÍTICO","TOTAL",null,null,null,null,"ALCALDÍA",null,null,null,null,"VICEALCALDÍA PRIMERA",null,null,null,null,"VICEALCALDÍA SEGUNDA"]
["PARTIDO POLITICO","TOTAL","HOMBRES",null,"MUJERES",null,"TOTAL","HOMBRES",null,"MUJERES",null,"TOTAL","HOMBRES",null,"MUJERES",null,"TOTAL","HOMBRES",null,"MUJERES"]
[null,"ABS","ABS","%","ABS","%","ABS","ABS","%","ABS","%","ABS","ABS","%","ABS","%","ABS","ABS","%","ABS","%"]
[]
["TOTAL",{"$f":"SUM(B11:B96)","v":2018},{"$f":"SUM(C11:C96)","v":1144},{"$f":"C9/B9*100","v":56.689791873141729},{"$f":"SUM(E11:E96)","v":874},{"$f":"E9/B9*100","v":43.310208126858271},{"$f":"SUM(G11:G96)","v":692},{"$f":"SUM(H11:H96)","v":533},{"$f":"H9/G9*100","v":77.02312138728324},{"$f":"SUM(J11:J96)","v":159},{"$f":"J9/G9*100","v":22.976878612716764},{"$f":"SUM(L11:L96)","v":677},{"$f":"SUM(M11:M96)","v":154},{"$f":"M9/L9*100","v":22.747415066469721},{"$f":"SUM(O11:O96)","v":523},{"$f":"O9/L9*100","v":77.252584933530272},{"$f":"SUM(Q11:Q96)","v":649},{"$f":"SUM(R11:R96)","v":457},{"$f":"R9/Q9*100","v":70.416024653312789},{"$f":"SUM(T11:T96)","v":192},{"$f":"T9/Q9*100","v":29.583975346687215}]
[]
["ACCESIBILIDAD SIN EXCLUSIÓN",{"$f":"+C11+E11","v":12},{"$f":"+H11+M11+R11","v":7},{"$f":"C11/B11*100","v":58.333333333333336},{"$f":"+J11+O11+T11","v":5},{"$f":"E11/B11*100","v":41.666666666666671},{"$f":"+H11+J11","v":4},4,{"$f":"H11/G11*100","v":100},0,{"$f":"J11/G11*100","v":0},{"$f":"+M11+O11","v":4},0,{"$f":"M11/L11*100","v":0},4,{"$f":"O11/L11*100","v":100},{"$f":"+R11+T11","v":4},3,{"$f":"R11/Q11*100","v":75},1,{"$f":"T11/Q11*100","v":25}]
["ACCIÓN CANTONAL SIQUIRRES INDEPENDIENTE",3,2,{"$f":"C12/B12*100","v":66.666666666666657},1,{"$f":"E12/B12*100","v":33.333333333333329},1,1,100,0,0,1,0,0,1,100,1,1,100,0,0]
["ACCIÓN CIUDADANA",125,72,57.599999999999994,53,42.4,44,30,68.181818181818173,14,31.818181818181817,42,14,33.333333333333329,28,66.666666666666657,39,28,71.794871794871796,11,28.205128205128204]
["ACCIÓN NARANJEÑA",3,2,66.666666666666657,1,33.333333333333329,1,1,{"$f":"H14/G14*100","v":100},0,{"$f":"J14/G14*100","v":0},1,0,0,1,{"$f":"O14/L14*100","v":100},1,1,{"$f":"R14/Q14*100","v":100},0,{"$f":"T14/Q14*100","v":0}]
["ACTUEMOS YA",21,12,57.142857142857139,9,42.857142857142854,7,5,71.428571428571431,2,28.571428571428569,7,2,28.571428571428569,5,71.428571428571431,7,5,71.428571428571431,2,28.571428571428569]
["ACUERDO DE ALIANZA DE QUEPOS",3,2,66.666666666666657,1,33.333333333333329,1,1,100,0,0,1,0,0,1,100,1,1,100,0,0]
["ALIANZA DEMÓCRATA CRISTIANA",46,22,47.826086956521742,24,52.173913043478258,16,13,81.25,3,18.75,16,3,18.75,13,81.25,14,6,42.857142857142854,8,57.142857142857139]
["ALIANZA POR PALMARES",3,2,66.666666666666657,1,33.333333333333329,1,1,100,0,0,1,0,0,1,100,1,1,100,0,0]
["ALIANZA POR SAN JOSÉ",3,1,33.333333333333329,2,66.666666666666657,1,0,0,1,100,1,1,100,0,0,1,0,0,1,100]
["ALIANZA POR SARCHÍ",3,2,66.666666666666657,1,33.333333333333329,1,1,100,0,0,1,0,0,1,100,1,1,100,0,0]
["ALIANZA SOCIAL POR LA UNIÓN",3,2,66.666666666666657,1,33.333333333333329,1,1,100,0,0,1,0,0,1,100,1,1,100,0,0]
["ANTICORRUPCIÓN COSTARRICENSE",3,1,33.333333333333329,2,66.666666666666657,1,1,100,0,0,1,0,0,1,100,1,0,0,1,100]
["AUTÉNTICO LABRADOR DE CORONADO",3,2,66.666666666666657,1,33.333333333333329,1,1,100,0,0,1,0,0,1,100,1,1,100,0,0]
["AUTÉNTICO LIMONENSE",6,3,50,3,50,2,2,100,0,0,2,0,0,2,100,2,1,50,1,50]
["AUTÉNTICO NICOYANO",3,2,66.666666666666657,1,33.333333333333329,1,1,100,0,0,1,0,0,1,100,1,1,100,0,0]
["AUTÉNTICO SANTACRUCEÑO",3,1,33.333333333333329,2,66.666666666666657,1,1,100,0,0,1,0,0,1,100,1,0,0,1,100]
["AUTÉNTICO SIQUIRREÑO",3,2,66.666666666666657,1,33.333333333333329,1,1,100,0,0,1,0,0,1,100,1,1,100,0,0]
["AUTÓNOMO OROMONTANO",0,0,0,0,0,0,0,0,0,0,0,0,0,0,0,0,0,0,0,0]
["AVANCE ISIDREÑO",3,1,33.333333333333329,2,66.666666666666657,1,1,100,0,0,1,0,0,1,100,1,0,0,1,100]
["AVANCE MONTES DE OCA",3,2,66.666666666666657,1,33.333333333333329,1,1,100,0,0,1,0,0,1,100,1,1,100,0,0]
["AVANTE POCOCÍ",3,2,66.666666666666657,1,33.333333333333329,1,1,100,0,0,1,0,0,1,100,1,1,100,0,0]
["BARVA UNIDA",3,1,33.333333333333329,2,66.666666666666657,1,0,0,1,100,1,1,100,0,0,1,0,0,1,100]
["CANTONAL DE CARRILLO",3,1,33.333333333333329,2,66.666666666666657,1,0,0,1,100,1,1,100,0,0,1,0,0,1,100]
["COALICIÓN ALIANZA POR NICOYA",3,1,33.333333333333329,2,66.666666666666657,1,1,100,0,0,1,0,0,1,100,1,0,0,1,100]
["COALICIÓN ASERRI DE TODOS",2,1,50,1,50,1,0,0,1,100,1,1,100,0,0,0,0,0,0,0]
["COALICIÓN GENTE MONTES DE OCA",3,2,66.666666666666657,1,33.333333333333329,1,1,100,0,0,1,0,0,1,100,1,1,100,0,0]
["COALICIÓN JUNTOS",3,1,33.333333333333329,2,66.666666666666657,1,1,100,0,0,1,0,0,1,100,1,0,0,1,100]
["COALICIÓN UNIDAD POR FLORES",3,1,33.333333333333329,2,66.666666666666657,1,0,0,1,100,1,1,100,0,0,1,0,0,1,100]
["COALICIÓN UNIÓN BELEMITA",3,1,33.333333333333329,2,66.666666666666657,1,1,100,0,0,1,0,0,1,100,1,0,0,1,100]
["COMUNAL UNIDO",27,17,62.962962962962962,10,37.037037037037038,9,4,44.444444444444443,5,55.555555555555557,9,5,55.555555555555557,4,44.444444444444443,9,8,88.888888888888886,1,11.111111111111111]
["CURRIDABAT SIGLO XXI",2,1,50,1,50,1,1,100,0,0,1,0,0,1,100,0,0,0,0,0]
["DEL SOL",3,2,66.666666666666657,1,33.333333333333329,1,0,0,1,100,1,1,100,0,0,1,1,100,0,0]
["DESARROLLO TALAMANQUEÑO",{"$f":"+C43+E43","v":3},{"$f":"+H43+M43+R43","v":2},{"$f":"C43/B43*100","v":66.666666666666657},{"$f":"+J43+O43+T43","v":1},{"$f":"E43/B43*100","v":33.333333333333329},{"$f":"+H43+J43","v":1},1,{"$f":"H43/G43*100","v":100},0,{"$f":"J43/G43*100","v":0},{"$f":"+M43+O43","v":1},0,{"$f":"M43/L43*100","v":0},1,{"$f":"O43/L43*100","v":100},{"$f":"+R43+T43","v":1},1,{"$f":"R43/Q43*100","v":100},0,{"$f":"T43/Q43*100","v":0}]
["DESPERTAR ALAJUELENSE",3,2,66.666666666666657,1,33.333333333333329,1,0,0,1,100,1,1,100,0,0,1,1,100,0,0]
["ECOLÓGICO COMUNAL COSTARRICENSE",3,1,33.333333333333329,2,66.666666666666657,1,1,100,0,0,1,0,0,1,100,1,0,0,1,100]
["FRENTE AMPLIO",90,47,52.222222222222229,43,47.777777777777779,31,18,58.064516129032263,13,41.935483870967744,30,12,40,18,60,29,17,58.620689655172406,12,41.379310344827587]
["FUERZA SARCHISEÑA",3,1,33.333333333333329,2,66.666666666666657,1,0,0,1,100,1,1,100,0,0,1,0,0,1,100]
["GOICOECHEA EN ACCIÓN",3,2,66.666666666666657,1,33.333333333333329,1,1,100,0,0,1,0,0,1,100,1,1,100,0,0]
["GUANACASTE PRIMERO",3,2,66.666666666666657,1,33.333333333333329,1,1,100,0,0,1,0,0,1,100,1,1,100,0,0]
["INNOVACIÓN CANTONAL",3,2,66.666666666666657,1,33.333333333333329,1,1,100,0,0,1,0,0,1,100,1,1,100,0,0]
["INTEGRACIÓN NACIONAL",95,57,60,38,40,32,28,87.5,4,12.5,32,4,12.5,28,87.5,31,25,80.645161290322577,6,19.35483870967742]
["IZQUIERDA COSTARRICENSE",18,9,50,9,50,6,3,50,3,50,6,3,50,3,50,6,3,50,3,50]
["JUSTICIA SOCIAL",3,2,66.666666666666657,1,33.333333333333329,1,1,100,0,0,1,0,0,1,100,1,1,100,0,0]
["JUSTICIA SOCIAL COSTARRICENSE",11,5,45.454545454545453,6,54.54545454545454,4,2,50,2,50,4,2,50,2,50,3,1,33.333333333333329,2,66.666666666666657]
["LA FUERZA DE LA UNIÓN",3,2,66.666666666666657,1,33.333333333333329,1,1,100,0,0,1,0,0,1,100,1,1,100,0,0]
["LA GRAN NICOYA",3,1,33.333333333333329,2,66.666666666666657,1,1,100,0,0,1,0,0,1,100,1,0,0,1,100]
["LIBERACIÓN NACIONAL",246,142,57.72357723577236,104,42.276422764227647,82,66,80.487804878048792,16,19.512195121951219,82,16,19.512195121951219,66,80.487804878048792,82,60,73.170731707317074,22,26.829268292682929]
["LIBERAL PROGRESISTA",20,13,65,7,35,7,6,85.714285714285708,1,14.285714285714285,7,1,14.285714285714285,6,85.714285714285708,6,6,100,0,0]
["LIGA RAMONENSE",0,0,0,0,0,0,0,0,0,0,0,0,0,0,0,0,0,0,0,0]
["MOVIMIENTO AVANCE SANTO DOMINGO",3,2,{"$f":"C60/B60*100","v":66.666666666666657},1,{"$f":"E60/B60*100","v":33.333333333333329},1,1,{"$f":"H60/G60*100","v":100},0,{"$f":"J60/G60*100","v":0},1,0,{"$f":"M60/L60*100","v":0},1,{"$f":"O60/L60*100","v":100},1,1,{"$f":"R60/Q60*100","v":100},0,{"$f":"T60/Q60*100","v":0}]
["NANDAYURE PROGRESA",3,2,66.666666666666657,1,33.333333333333329,1,1,100,0,0,1,0,0,1,100,1,1,100,0,0]
["NUESTRO PUEBLO",33,17,51.515151515151516,16,48.484848484848484,11,8,72.727272727272734,3,27.27272727272727,11,3,27.27272727272727,8,72.727272727272734,11,6,54.54545454545454,5,45.454545454545453]
["NUEVA GENERACIÓN",103,54,52.427184466019419,49,47.572815533980581,35,29,82.857142857142861,6,17.142857142857142,34,6,17.647058823529413,28,82.35294117647058,34,19,55.882352941176471,15,44.117647058823529]
["NUEVA MAYORÍA GRIEGA",3,2,66.666666666666657,1,33.333333333333329,1,1,100,0,0,1,0,0,1,100,1,1,100,0,0]
["NUEVA REPÚBLICA",221,132,59.728506787330318,89,40.271493212669682,74,55,74.324324324324323,19,25.675675675675674,74,19,25.675675675675674,55,74.324324324324323,73,58,79.452054794520549,15,20.547945205479451]
["PALMARES PRIMERO",3,1,33.333333333333329,2,66.666666666666657,1,0,0,1,100,1,1,100,0,0,1,0,0,1,100]
["PROGRESER",3,2,66.666666666666657,1,33.333333333333329,1,1,100,0,0,1,0,0,1,100,1,1,100,0,0]
["PUEBLO GARABITO",{"$f":"+C68+E68","v":3},{"$f":"+H68+M68+R68","v":2},{"$f":"C68/B68*100","v":66.666666666666657},{"$f":"+J68+O68+T68","v":1},{"$f":"E68/B68*100","v":33.333333333333329},{"$f":"+H68+J68","v":1},1,{"$f":"H68/G68*100","v":100},0,{"$f":"J68/G68*100","v":0},{"$f":"+M68+O68","v":1},0,{"$f":"M68/L68*100","v":0},1,{"$f":"O68/L68*100","v":100},{"$f":"+R68+T68","v":1},1,{"$f":"R68/Q68*100","v":100},0,{"$f":"T68/Q68*100","v":0}]
["PURISCAL EN MARCHA",3,2,66.666666666666657,1,33.333333333333329,1,1,100,0,0,1,0,0,1,100,1,1,100,0,0]
["RECUPERANDO VALORES",11,7,63.636363636363633,4,36.363636363636367,4,3,75,1,25,4,1,25,3,75,3,3,100,0,0]
["RENOVACIÓN COSTARRICENSE",15,8,53.333333333333336,7,46.666666666666664,5,5,100,0,0,5,0,0,5,100,5,3,60,2,40]
["REPUBLICANO SOCIAL CRISTIANO",125,72,57.599999999999994,53,42.4,43,38,88.372093023255815,5,11.627906976744185,43,5,11.627906976744185,38,88.372093023255815,39,29,74.358974358974365,10,25.641025641025639]
["RESCATE CANTONAL LA UNIÓN",3,1,33.333333333333329,2,66.666666666666657,1,1,100,0,0,1,0,0,1,100,1,0,0,1,100]
["RESTAURACIÓN NACIONAL",212,123,58.018867924528308,89,41.981132075471699,79,56,70.886075949367083,23,29.11392405063291,68,19,27.941176470588236,49,72.058823529411768,65,48,73.846153846153854,17,26.153846153846157]
["RESTAURACIÓN PARRITEÑA",3,2,66.666666666666657,1,33.333333333333329,1,1,100,0,0,1,0,0,1,100,1,1,100,0,0]
["SENTIR HEREDIA",3,2,66.666666666666657,1,33.333333333333329,1,1,100,0,0,1,0,0,1,100,1,1,100,0,0]
["SOMOS MORAVIA",3,2,66.666666666666657,1,33.333333333333329,1,1,100,0,0,1,0,0,1,100,1,1,100,0,0]
["SOMOS SARCHÍ",3,2,66.666666666666657,1,33.333333333333329,1,1,100,0,0,1,0,0,1,100,1,1,100,0,0]
["TARRAZU PRIMERO",3,2,66.666666666666657,1,33.333333333333329,1,1,100,0,0,1,0,0,1,100,1,1,100,0,0]
["TERRA ESCAZÚ",3,1,33.333333333333329,2,66.666666666666657,1,1,100,0,0,1,0,0,1,100,1,0,0,1,100]
["TODOS POR GOICOECHEA",3,2,66.666666666666657,1,33.333333333333329,1,0,0,1,100,1,1,100,0,0,1,1,100,0,0]
["TURRIALBA PRIMERO",3,2,66.666666666666657,1,33.333333333333329,1,1,100,0,0,1,0,0,1,100,1,1,100,0,0]
["ÚNICO ABANGAREÑO",3,2,66.666666666666657,1,33.333333333333329,1,1,100,0,0,1,0,0,1,100,1,1,100,0,0]
["UNIDAD SOCIAL CRISTIANA",210,121,57.619047619047613,89,42.38095238095238,71,60,84.507042253521121,11,15.492957746478872,71,11,15.492957746478872,60,84.507042253521121,68,50,73.529411764705884,18,26.47058823529412]
["UNIDOS PARA EL DESARROLLO",3,1,33.333333333333329,2,66.666666666666657,1,1,100,0,0,1,0,0,1,100,1,0,0,1,100]
["UNIDOS PODEMOS",146,79,54.109589041095894,67,45.890410958904113,50,36,72,14,28.000000000000004,50,14,28.000000000000004,36,72,46,29,63.04347826086957,17,36.95652173913043]
["UNIDOS POR ESCAZÚ",3,2,66.666666666666657,1,33.333333333333329,1,1,100,0,0,1,0,0,1,100,1,1,100,0,0]
["UNIÓN ATENIENSE",3,2,66.666666666666657,1,33.333333333333329,1,1,100,0,0,1,0,0,1,100,1,1,100,0,0]
["UNIÓN DE PUNTARENENSES EMPRENDEDORES",3,1,33.333333333333329,2,66.666666666666657,1,0,0,1,100,1,1,100,0,0,1,0,0,1,100]
["UNIÓN DOMINGUEÑA",3,2,66.666666666666657,1,33.333333333333329,1,1,100,0,0,1,0,0,1,100,1,1,100,0,0]
["UNIÓN GRIEGA",3,2,66.666666666666657,1,33.333333333333329,1,1,100,0,0,1,0,0,1,100,1,1,100,0,0]
["UNIÓN GUANACASTECA",21,10,47.619047619047613,11,52.380952380952387,7,5,71.428571428571431,2,28.571428571428569,7,2,28.571428571428569,5,71.428571428571431,7,3,42.857142857142854,4,57.142857142857139]
["UNIÓN GUARQUEÑO",3,2,66.666666666666657,1,33.333333333333329,1,1,100,0,0,1,0,0,1,100,1,1,100,0,0]
["VERDE ECOLOGISTA",23,14,60.869565217391312,9,39.130434782608695,8,8,100,0,0,8,0,0,8,100,7,6,85.714285714285708,1,14.285714285714285]
["YO SOY EL CAMBIO",3,2,66.666666666666657,1,33.333333333333329,1,1,100,0,0,1,0,0,1,100,1,1,100,0,0]
["YUNTA PROGRESISTA ESCAZUCEÑA",{"$f":"+C96+E96","v":3},{"$f":"+H96+M96+R96","v":1},{"$f":"C96/B96*100","v":33.333333333333329},{"$f":"+J96+O96+T96","v":2},{"$f":"E96/B96*100","v":66.666666666666657},{"$f":"+H96+J96","v":1},0,{"$f":"H96/G96*100","v":0},1,{"$f":"J96/G96*100","v":100},{"$f":"+M96+O96","v":1},1,{"$f":"M96/L96*100","v":100},0,{"$f":"O96/L96*100","v":0},{"$f":"+R96+T96","v":1},0,{"$f":"R96/Q96*100","v":0},1,{"$f":"T96/Q96*100","v":100}]
[]
[]
[{"$f":"+'G3'!A34","v":"Fuente: Departamento de Registro de Partidos Políticos, base de datos de Candidaturas 2020, Tribunal Supremo de Elecciones."}]

{"sheet":"C22","index":28,"n_rows":101,"n_cols":21,"rows_kept":101,"cut":false,"hidden":false,"merged":[[0,0,0,20],[1,0,1,20],[2,0,2,20],[4,6,4,10],[5,6,6,6],[4,1,4,5],[5,1,6,1],[4,0,6,0],[5,11,6,11],[5,16,6,16]]}
["CUADRO 22  COSTA RICA: CANDIDATURAS A ALCALDÍA  Y VICEALCALDÍAS POR SEXO, SEGÚN PROVINCIA Y CANTÓN"]
["ELECCIONES MUNICIPALES 2 DE FEBRERO 2020"]
["(CIFRAS ABSOLUTAS Y RELATIVAS)"]
[]
["PROVINCIA Y CANTÓN ","TOTAL",null,null,null,null,"ALCALDÍA",null,null,null,null,"VICEALCALDÍA PRIMERA",null,null,null,null,"VICEALCALDÍA SEGUNDA"]
[null,"TOTAL","HOMBRES",null,"MUJERES",null,"TOTAL","HOMBRES",null,"MUJERES",null,"TOTAL","HOMBRES",null,"MUJERES",null,"TOTAL","HOMBRES",null,"MUJERES"]
[null,null,"ABS","%","ABS","%",null,"ABS","%","ABS","%",null,"ABS","%","ABS","%",null,"ABS","%","ABS","%"]
[]
["COSTA RICA",{"$f":"+B10+B31+B48+B57+B68+B80+B92","v":2018},{"$f":"+C10+C31+C48+C57+C68+C80+C92","v":1144},{"$f":"C9/$B9*100","v":56.689791873141729},{"$f":"+E10+E31+E48+E57+E68+E80+E92","v":874},{"$f":"E9/$B9*100","v":43.310208126858271},{"$f":"G10+G31+G48+G57+G68+G80+G92","v":692},{"$f":"H10+H31+H48+H57+H68+H80+H92","v":533},{"$f":"H9/$G9*100","v":77.02312138728324},{"$f":"J10+J31+J48+J57+J68+J80+J92","v":159},{"$f":"J9/$G9*100","v":22.976878612716764},{"$f":"L10+L31+L48+L57+L68+L80+L92","v":677},{"$f":"M10+M31+M48+M57+M68+M80+M92","v":154},{"$f":"M9/$L9*100","v":22.747415066469721},{"$f":"O10+O31+O48+O57+O68+O80+O92","v":523},{"$f":"O9/$L9*100","v":77.252584933530272},{"$f":"Q10+Q31+Q48+Q57+Q68+Q80+Q92","v":649},{"$f":"R10+R31+R48+R57+R68+R80+R92","v":457},{"$f":"R9/$Q9*100","v":70.416024653312789},{"$f":"T10+T31+T48+T57+T68+T80+T92","v":192},{"$f":"T9/$Q9*100","v":29.583975346687215}]
["PROVINCIA SAN JOSÉ",{"$f":"SUM(B11:B30)","v":494},{"$f":"SUM(C11:C30)","v":281},{"$f":"C10/$B10*100","v":56.882591093117405},{"$f":"SUM(E11:E30)","v":213},{"$f":"E10/$B10*100","v":43.117408906882595},{"$f":"SUM(G11:G30)","v":169},{"$f":"SUM(H11:H30)","v":132},78.10650887573965,{"$f":"SUM(J11:J30)","v":37},21.893491124260358,{"$f":"SUM(L11:L30)","v":167},{"$f":"SUM(M11:M30)","v":36},21.556886227544911,{"$f":"SUM(O11:O30)","v":131},78.443113772455092,{"$f":"SUM(Q11:Q30)","v":158},{"$f":"SUM(R11:R30)","v":113},71.51898734177216,{"$f":"SUM(T11:T30)","v":45},28.481012658227851]
["SAN JOSÉ",{"$f":"+C11+E11","v":44},{"$f":"+H11+M11+R11","v":26},{"$f":"C11/$B11*100","v":59.090909090909093},{"$f":"+J11+O11+T11","v":18},{"$f":"E11/$B11*100","v":40.909090909090914},{"$f":"+H11+J11","v":15},13,86.666666666666671,2,13.333333333333334,{"$f":"+M11+O11","v":15},2,13.333333333333334,13,86.666666666666671,{"$f":"+R11+T11","v":14},11,78.571428571428569,3,21.428571428571427]
["ESCAZÚ",{"$f":"+C12+E12","v":29},{"$f":"+H12+M12+R12","v":16},{"$f":"C12/$B12*100","v":55.172413793103445},{"$f":"+J12+O12+T12","v":13},44.827586206896555,{"$f":"+H12+J12","v":10},7,70,3,30,10,3,30,7,70,9,6,66.666666666666657,3,33.333333333333329]
["DESAMPARADOS",41,23,{"$f":"C13/$B13*100","v":56.09756097560976},18,43.902439024390247,14,13,92.857142857142861,1,7.1428571428571423,14,1,7.1428571428571423,13,92.857142857142861,13,9,69.230769230769226,4,30.76923076923077]
["PURISCAL",27,16,59.259259259259252,11,40.74074074074074,9,7,77.777777777777786,2,22.222222222222221,9,2,22.222222222222221,7,77.777777777777786,9,7,77.777777777777786,2,22.222222222222221]
["TARRAZÚ",21,13,61.904761904761905,8,38.095238095238095,7,6,85.714285714285708,1,14.285714285714285,7,1,14.285714285714285,6,85.714285714285708,7,6,85.714285714285708,1,14.285714285714285]
["ASERRÍ",23,14,60.869565217391312,9,39.130434782608695,8,6,75,2,25,8,2,25,6,75,7,6,85.714285714285708,1,14.285714285714285]
["MORA",22,12,54.54545454545454,10,45.454545454545453,8,4,50,4,50,7,3,42.857142857142854,4,57.142857142857139,7,5,71.428571428571431,2,28.571428571428569]
["GOICOECHEA",50,29,57.999999999999993,21,42,17,14,82.35294117647058,3,17.647058823529413,17,3,17.647058823529413,14,82.35294117647058,16,12,75,4,25]
["SANTA ANA",31,17,54.838709677419352,14,45.161290322580641,11,7,63.636363636363633,4,36.363636363636367,11,4,36.363636363636367,7,63.636363636363633,9,6,66.666666666666657,3,33.333333333333329]
["ALAJUELITA",27,16,59.259259259259252,11,40.74074074074074,9,7,77.777777777777786,2,22.222222222222221,9,2,22.222222222222221,7,77.777777777777786,9,7,77.777777777777786,2,22.222222222222221]
["VÁZQUEZ DE CORONADO",24,15,62.5,9,37.5,8,7,87.5,1,12.5,8,1,12.5,7,87.5,8,7,87.5,1,12.5]
["ACOSTA",11,6,54.54545454545454,5,45.454545454545453,4,3,75,1,25,4,1,25,3,75,3,2,66.666666666666657,1,33.333333333333329]
["TIBÁS",21,11,52.380952380952387,10,47.619047619047613,7,7,100,0,0,7,0,0,7,100,7,4,57.142857142857139,3,42.857142857142854]
["MORAVIA",30,17,56.666666666666664,13,43.333333333333336,10,8,80,2,20,10,2,20,8,80,10,7,70,3,30]
["MONTES DE OCA",27,13,48.148148148148145,14,51.851851851851848,9,6,66.666666666666657,3,33.333333333333329,9,3,33.333333333333329,6,66.666666666666657,9,4,44.444444444444443,5,55.555555555555557]
["TURRUBARES",9,5,55.555555555555557,4,44.444444444444443,3,2,66.666666666666657,1,33.333333333333329,3,1,33.333333333333329,2,66.666666666666657,3,2,66.666666666666657,1,33.333333333333329]
["DOTA",6,4,66.666666666666657,2,33.333333333333329,2,2,100,0,0,2,0,0,2,100,2,2,100,0,0]
["CURRIDABAT",21,11,52.380952380952387,10,47.619047619047613,8,6,75,2,25,7,2,28.571428571428569,5,71.428571428571431,6,3,50,3,50]
["PÉREZ ZELEDÓN",24,13,54.166666666666664,11,45.833333333333329,8,5,62.5,3,37.5,8,3,37.5,5,62.5,8,5,62.5,3,37.5]
["LEÓN CORTÉS CASTRO",6,4,66.666666666666657,2,33.333333333333329,2,2,100,0,0,2,0,0,2,100,2,2,100,0,0]
["PROVINCIA ALAJUELA",{"$f":"SUM(B32:B47)","v":348},{"$f":"SUM(C32:C47)","v":201},{"$f":"C31/$B31*100","v":57.758620689655174},{"$f":"SUM(E32:E47)","v":147},{"$f":"E31/$B31*100","v":42.241379310344826},{"$f":"SUM(G32:G47)","v":120},{"$f":"SUM(H32:H47)","v":100},83.333333333333343,{"$f":"SUM(J32:J47)","v":20},16.666666666666664,{"$f":"SUM(L32:L47)","v":116},{"$f":"SUM(M32:M47)","v":19},16.379310344827587,{"$f":"SUM(O32:O47)","v":97},83.620689655172413,{"$f":"SUM(Q32:Q47)","v":112},{"$f":"SUM(R32:R47)","v":82},73.214285714285708,{"$f":"SUM(T32:T47)","v":30},26.785714285714285]
["ALAJUELA",{"$f":"+C32+E32","v":33},{"$f":"+H32+M32+R32","v":21},{"$f":"C32/$B32*100","v":63.636363636363633},{"$f":"+J32+O32+T32","v":12},{"$f":"E32/$B32*100","v":36.363636363636367},{"$f":"+H32+J32","v":11},10,{"$f":"H32/$G32*100","v":90.909090909090907},1,9.0909090909090917,{"$f":"+M32+O32","v":11},1,9.0909090909090917,10,90.909090909090907,{"$f":"+R32+T32","v":11},10,90.909090909090907,1,9.0909090909090917]
["SAN RAMÓN",{"$f":"+C33+E33","v":21},{"$f":"+H33+M33+R33","v":14},{"$f":"C33/$B33*100","v":66.666666666666657},{"$f":"+J33+O33+T33","v":7},{"$f":"E33/$B33*100","v":33.333333333333329},{"$f":"+H33+J33","v":7},7,{"$f":"H33/$G33*100","v":100},0,{"$f":"J33/$G33*100","v":0},{"$f":"+M33+O33","v":7},0,{"$f":"M33/$L33*100","v":0},7,{"$f":"O33/$L33*100","v":100},{"$f":"+R33+T33","v":7},7,{"$f":"R33/$Q33*100","v":100},0,{"$f":"T33/$Q33*100","v":0}]
["GRECIA",30,17,56.666666666666664,13,43.333333333333336,10,8,80,2,20,10,2,20,8,80,10,7,70,3,30]
["SAN MATEO",20,11,55.000000000000007,9,45,7,5,71.428571428571431,2,28.571428571428569,7,2,28.571428571428569,5,71.428571428571431,6,4,66.666666666666657,2,33.333333333333329]
["ATENAS",25,15,60,10,40,9,8,88.888888888888886,1,11.111111111111111,8,1,12.5,7,87.5,8,6,75,2,25]
["NARANJO",24,13,54.166666666666664,11,45.833333333333329,9,8,88.888888888888886,1,11.111111111111111,8,1,12.5,7,87.5,7,4,57.142857142857139,3,42.857142857142854]
["PALMARES",27,15,55.555555555555557,12,44.444444444444443,9,8,88.888888888888886,1,11.111111111111111,9,1,11.111111111111111,8,88.888888888888886,9,6,66.666666666666657,3,33.333333333333329]
["POÁS",18,11,61.111111111111114,7,38.888888888888893,6,6,100,0,0,6,0,0,6,100,6,5,83.333333333333343,1,16.666666666666664]
["OROTINA",18,10,55.555555555555557,8,44.444444444444443,6,5,83.333333333333343,1,16.666666666666664,6,1,16.666666666666664,5,83.333333333333343,6,4,66.666666666666657,2,33.333333333333329]
["SAN CARLOS",29,16,55.172413793103445,13,44.827586206896555,10,9,90,1,10,10,1,10,9,90,9,6,66.666666666666657,3,33.333333333333329]
["ZARCERO",15,8,53.333333333333336,7,46.666666666666664,5,3,60,2,40,5,2,40,3,60,5,3,60,2,40]
["SARCHÍ",22,12,54.54545454545454,10,45.454545454545453,8,5,62.5,3,37.5,7,2,28.571428571428569,5,71.428571428571431,7,5,71.428571428571431,2,28.571428571428569]
["UPALA",15,9,60,6,40,5,3,60,2,40,5,2,40,3,60,5,4,80,1,20]
["LOS CHILES",13,9,69.230769230769226,4,30.76923076923077,5,5,100,0,0,4,0,0,4,100,4,4,100,0,0]
["GUATUSO",17,9,52.941176470588239,8,47.058823529411761,6,4,66.666666666666657,2,33.333333333333329,6,2,33.333333333333329,4,66.666666666666657,5,3,60,2,40]
["RIO CUARTO",21,11,52.380952380952387,10,47.619047619047613,7,6,85.714285714285708,1,14.285714285714285,7,1,14.285714285714285,6,85.714285714285708,7,4,57.142857142857139,3,42.857142857142854]
["PROVINCIA CARTAGO",{"$f":"SUM(B49:B56)","v":255},{"$f":"SUM(C49:C56)","v":146},{"$f":"C48/$B48*100","v":57.254901960784309},{"$f":"SUM(E49:E56)","v":109},{"$f":"E48/$B48*100","v":42.745098039215684},{"$f":"SUM(G49:G56)","v":87},{"$f":"SUM(H49:H56)","v":66},{"$f":"H48/$G48*100","v":75.862068965517238},{"$f":"SUM(J49:J56)","v":21},{"$f":"J48/$G48*100","v":24.137931034482758},{"$f":"SUM(L49:L56)","v":87},{"$f":"SUM(M49:M56)","v":21},{"$f":"M48/$L48*100","v":24.137931034482758},{"$f":"SUM(O49:O56)","v":66},{"$f":"O48/$L48*100","v":75.862068965517238},{"$f":"SUM(Q49:Q56)","v":81},{"$f":"SUM(R49:R56)","v":59},{"$f":"R48/$Q48*100","v":72.839506172839506},{"$f":"SUM(T49:T56)","v":22},{"$f":"T48/$Q48*100","v":27.160493827160494}]
["CARTAGO",{"$f":"+C49+E49","v":36},{"$f":"+H49+M49+R49","v":21},{"$f":"C49/$B49*100","v":58.333333333333336},{"$f":"+J49+O49+T49","v":15},{"$f":"E49/$B49*100","v":41.666666666666671},{"$f":"+H49+J49","v":12},9,{"$f":"H49/$G49*100","v":75},3,{"$f":"J49/$G49*100","v":25},{"$f":"+M49+O49","v":12},3,{"$f":"M49/$L49*100","v":25},9,{"$f":"O49/$L49*100","v":75},{"$f":"+R49+T49","v":12},9,{"$f":"R49/$Q49*100","v":75},3,{"$f":"T49/$Q49*100","v":25}]
["PARAÍSO",{"$f":"+C50+E50","v":38},{"$f":"+H50+M50+R50","v":20},{"$f":"C50/$B50*100","v":52.631578947368418},{"$f":"+J50+O50+T50","v":18},{"$f":"E50/$B50*100","v":47.368421052631575},{"$f":"+H50+J50","v":13},10,{"$f":"H50/$G50*100","v":76.923076923076934},3,{"$f":"J50/$G50*100","v":23.076923076923077},{"$f":"+M50+O50","v":13},3,{"$f":"M50/$L50*100","v":23.076923076923077},10,{"$f":"O50/$L50*100","v":76.923076923076934},{"$f":"+R50+T50","v":12},7,{"$f":"R50/$Q50*100","v":58.333333333333336},5,{"$f":"T50/$Q50*100","v":41.666666666666671}]
["LA UNIÓN",48,29,60.416666666666664,19,39.583333333333329,16,13,81.25,3,18.75,16,3,18.75,13,81.25,16,13,81.25,3,18.75]
["JIMÉNEZ",25,15,60,10,40,9,7,77.777777777777786,2,22.222222222222221,9,2,22.222222222222221,7,77.777777777777786,7,6,85.714285714285708,1,14.285714285714285]
["TURRIALBA",30,17,56.666666666666664,13,43.333333333333336,10,7,70,3,30,10,3,30,7,70,10,7,70,3,30]
["ALVARADO",21,10,47.619047619047613,11,52.380952380952387,7,5,71.428571428571431,2,28.571428571428569,7,2,28.571428571428569,5,71.428571428571431,7,3,42.857142857142854,4,57.142857142857139]
["OREAMUNO",30,17,56.666666666666664,13,43.333333333333336,10,7,70,3,30,10,3,30,7,70,10,7,70,3,30]
["EL GUARCO",27,17,62.962962962962962,10,37.037037037037038,10,8,80,2,20,10,2,20,8,80,7,7,100,0,0]
["PROVINCIA HEREDIA",{"$f":"SUM(B58:B67)","v":234},{"$f":"SUM(C58:C67)","v":130},{"$f":"C57/$B57*100","v":55.555555555555557},{"$f":"SUM(E58:E67)","v":104},{"$f":"E57/$B57*100","v":44.444444444444443},{"$f":"SUM(G58:G67)","v":81},{"$f":"SUM(H58:H67)","v":54},{"$f":"H57/$G57*100","v":66.666666666666657},{"$f":"SUM(J58:J67)","v":27},{"$f":"J57/$G57*100","v":33.333333333333329},{"$f":"SUM(L58:L67)","v":78},{"$f":"SUM(M58:M67)","v":27},{"$f":"M57/$L57*100","v":34.615384615384613},{"$f":"SUM(O58:O67)","v":51},{"$f":"O57/$L57*100","v":65.384615384615387},{"$f":"SUM(Q58:Q67)","v":75},{"$f":"SUM(R58:R67)","v":49},{"$f":"R57/$Q57*100","v":65.333333333333329},{"$f":"SUM(T58:T67)","v":26},{"$f":"T57/$Q57*100","v":34.666666666666671}]
["HEREDIA",{"$f":"+C58+E58","v":27},{"$f":"+H58+M58+R58","v":17},{"$f":"C58/$B58*100","v":62.962962962962962},{"$f":"+J58+O58+T58","v":10},{"$f":"E58/$B58*100","v":37.037037037037038},{"$f":"+H58+J58","v":9},8,{"$f":"H58/$G58*100","v":88.888888888888886},1,{"$f":"J58/$G58*100","v":11.111111111111111},{"$f":"+M58+O58","v":9},1,{"$f":"M58/$L58*100","v":11.111111111111111},8,{"$f":"O58/$L58*100","v":88.888888888888886},{"$f":"+R58+T58","v":9},8,{"$f":"R58/$Q58*100","v":88.888888888888886},1,{"$f":"T58/$Q58*100","v":11.111111111111111}]
["BARVA",{"$f":"+C59+E59","v":30},{"$f":"+H59+M59+R59","v":16},{"$f":"C59/$B59*100","v":53.333333333333336},{"$f":"+J59+O59+T59","v":14},{"$f":"E59/$B59*100","v":46.666666666666664},{"$f":"+H59+J59","v":10},7,{"$f":"H59/$G59*100","v":70},3,{"$f":"J59/$G59*100","v":30},{"$f":"+M59+O59","v":10},3,{"$f":"M59/$L59*100","v":30},7,{"$f":"O59/$L59*100","v":70},{"$f":"+R59+T59","v":10},6,{"$f":"R59/$Q59*100","v":60},4,{"$f":"T59/$Q59*100","v":40}]
["SANTO DOMINGO",22,15,68.181818181818173,7,31.818181818181817,8,6,75,2,25,7,2,28.571428571428569,5,71.428571428571431,7,7,100,0,0]
["SANTA BÁRBARA",29,15,51.724137931034484,14,48.275862068965516,10,5,50,5,50,10,5,50,5,50,9,5,55.555555555555557,4,44.444444444444443]
["SAN RAFAEL",23,13,56.521739130434781,10,43.478260869565219,8,4,50,4,50,8,4,50,4,50,7,5,71.428571428571431,2,28.571428571428569]
["SAN ISIDRO",22,12,54.54545454545454,10,45.454545454545453,8,4,50,4,50,7,4,57.142857142857139,3,42.857142857142854,7,4,57.142857142857139,3,42.857142857142854]
["BELÉN",21,9,42.857142857142854,12,57.142857142857139,7,4,57.142857142857139,3,42.857142857142854,7,3,42.857142857142854,4,57.142857142857139,7,2,28.571428571428569,5,71.428571428571431]
["FLORES",18,9,50,9,50,6,3,50,3,50,6,3,50,3,50,6,3,50,3,50]
["SAN PABLO",14,8,57.142857142857139,6,42.857142857142854,5,5,100,0,0,5,0,0,5,100,4,3,75,1,25]
["SARAPIQUÍ",28,16,57.142857142857139,12,42.857142857142854,10,8,80,2,20,9,2,22.222222222222221,7,77.777777777777786,9,6,66.666666666666657,3,33.333333333333329]
["PROVINCIA GUANACASTE",{"$f":"SUM(B69:B79)","v":249},{"$f":"SUM(C69:C79)","v":137},{"$f":"C68/$B68*100","v":55.020080321285135},{"$f":"SUM(E69:E79)","v":112},{"$f":"E68/$B68*100","v":44.979919678714857},{"$f":"SUM(G69:G79)","v":86},{"$f":"SUM(H69:H79)","v":65},{"$f":"H68/$G68*100","v":75.581395348837205},{"$f":"SUM(J69:J79)","v":21},{"$f":"J68/$G68*100","v":24.418604651162788},{"$f":"SUM(L69:L79)","v":82},{"$f":"SUM(M69:M79)","v":19},{"$f":"M68/$L68*100","v":23.170731707317074},{"$f":"SUM(O69:O79)","v":63},{"$f":"O68/$L68*100","v":76.829268292682926},{"$f":"SUM(Q69:Q79)","v":81},{"$f":"SUM(R69:R79)","v":53},{"$f":"R68/$Q68*100","v":65.432098765432102},{"$f":"SUM(T69:T79)","v":28},{"$f":"T68/$Q68*100","v":34.567901234567898}]
["LIBERIA",{"$f":"+C69+E69","v":33},{"$f":"+H69+M69+R69","v":17},{"$f":"C69/$B69*100","v":51.515151515151516},{"$f":"+J69+O69+T69","v":16},{"$f":"E69/$B69*100","v":48.484848484848484},{"$f":"+H69+J69","v":11},7,{"$f":"H69/$G69*100","v":63.636363636363633},4,{"$f":"J69/$G69*100","v":36.363636363636367},{"$f":"+M69+O69","v":11},4,{"$f":"M69/$L69*100","v":36.363636363636367},7,{"$f":"O69/$L69*100","v":63.636363636363633},{"$f":"+R69+T69","v":11},6,{"$f":"R69/$Q69*100","v":54.54545454545454},5,{"$f":"T69/$Q69*100","v":45.454545454545453}]
["NICOYA",{"$f":"+C70+E70","v":33},{"$f":"+H70+M70+R70","v":20},{"$f":"C70/$B70*100","v":60.606060606060609},{"$f":"+J70+O70+T70","v":13},{"$f":"E70/$B70*100","v":39.393939393939391},{"$f":"+H70+J70","v":11},10,{"$f":"H70/$G70*100","v":90.909090909090907},1,{"$f":"J70/$G70*100","v":9.0909090909090917},{"$f":"+M70+O70","v":11},1,{"$f":"M70/$L70*100","v":9.0909090909090917},10,{"$f":"O70/$L70*100","v":90.909090909090907},{"$f":"+R70+T70","v":11},9,{"$f":"R70/$Q70*100","v":81.818181818181827},2,{"$f":"T70/$Q70*100","v":18.181818181818183}]
["SANTA CRUZ",24,14,58.333333333333336,10,41.666666666666671,9,8,88.888888888888886,1,11.111111111111111,8,1,12.5,7,87.5,7,5,71.428571428571431,2,28.571428571428569]
["BAGACES",24,11,45.833333333333329,13,54.166666666666664,8,5,62.5,3,37.5,8,3,37.5,5,62.5,8,3,37.5,5,62.5]
["CARRILLO",18,10,55.555555555555557,8,44.444444444444443,6,5,83.333333333333343,1,16.666666666666664,6,1,16.666666666666664,5,83.333333333333343,6,4,66.666666666666657,2,33.333333333333329]
["CAÑAS",22,13,59.090909090909093,9,40.909090909090914,8,7,87.5,1,12.5,7,0,0,7,100,7,6,85.714285714285708,1,14.285714285714285]
["ABANGARES",30,18,60,12,40,10,7,70,3,30,10,3,30,7,70,10,8,80,2,20]
["TILARÁN",7,4,57.142857142857139,3,42.857142857142854,3,3,100,0,0,2,0,0,2,100,2,1,50,1,50]
["NANDAYURE",21,11,52.380952380952387,10,47.619047619047613,7,5,71.428571428571431,2,28.571428571428569,7,2,28.571428571428569,5,71.428571428571431,7,4,57.142857142857139,3,42.857142857142854]
["LA CRUZ",24,12,50,12,50,8,5,62.5,3,37.5,8,3,37.5,5,62.5,8,4,50,4,50]
["HOJANCHA",13,7,53.846153846153847,6,46.153846153846153,5,3,60,2,40,4,1,25,3,75,4,3,75,1,25]
["PROVINCIA PUNTARENAS",{"$f":"SUM(B81:B91)","v":232},{"$f":"SUM(C81:C91)","v":130},{"$f":"C80/$B80*100","v":56.034482758620683},{"$f":"SUM(E81:E91)","v":102},{"$f":"E80/$B80*100","v":43.96551724137931},{"$f":"SUM(G81:G91)","v":79},{"$f":"SUM(H81:H91)","v":64},{"$f":"H80/$G80*100","v":81.012658227848107},{"$f":"SUM(J81:J91)","v":15},{"$f":"J80/$G80*100","v":18.9873417721519},{"$f":"SUM(L81:L91)","v":77},{"$f":"SUM(M81:M91)","v":14},{"$f":"M80/$L80*100","v":18.181818181818183},{"$f":"SUM(O81:O91)","v":63},{"$f":"O80/$L80*100","v":81.818181818181827},{"$f":"SUM(Q81:Q91)","v":76},{"$f":"SUM(R81:R91)","v":52},{"$f":"R80/$Q80*100","v":68.421052631578945},{"$f":"SUM(T81:T91)","v":24},{"$f":"T80/$Q80*100","v":31.578947368421051}]
["PUNTARENAS",{"$f":"+C81+E81","v":27},{"$f":"+H81+M81+R81","v":14},{"$f":"C81/$B81*100","v":51.851851851851848},{"$f":"+J81+O81+T81","v":13},{"$f":"E81/$B81*100","v":48.148148148148145},{"$f":"+H81+J81","v":9},6,{"$f":"H81/$G81*100","v":66.666666666666657},3,{"$f":"J81/$G81*100","v":33.333333333333329},{"$f":"+M81+O81","v":9},3,{"$f":"M81/$L81*100","v":33.333333333333329},6,{"$f":"O81/$L81*100","v":66.666666666666657},{"$f":"+R81+T81","v":9},5,{"$f":"R81/$Q81*100","v":55.555555555555557},4,{"$f":"T81/$Q81*100","v":44.444444444444443}]
["ESPARZA",{"$f":"+C82+E82","v":21},{"$f":"+H82+M82+R82","v":13},{"$f":"C82/$B82*100","v":61.904761904761905},{"$f":"+J82+O82+T82","v":8},{"$f":"E82/$B82*100","v":38.095238095238095},{"$f":"+H82+J82","v":7},5,{"$f":"H82/$G82*100","v":71.428571428571431},2,{"$f":"J82/$G82*100","v":28.571428571428569},{"$f":"+M82+O82","v":7},2,{"$f":"M82/$L82*100","v":28.571428571428569},5,{"$f":"O82/$L82*100","v":71.428571428571431},{"$f":"+R82+T82","v":7},6,{"$f":"R82/$Q82*100","v":85.714285714285708},1,{"$f":"T82/$Q82*100","v":14.285714285714285}]
["BUENOS AIRES",18,10,55.555555555555557,8,44.444444444444443,6,5,83.333333333333343,1,16.666666666666664,6,1,16.666666666666664,5,83.333333333333343,6,4,66.666666666666657,2,33.333333333333329]
["MONTES DE ORO",16,7,43.75,9,56.25,6,4,66.666666666666657,2,33.333333333333329,5,1,20,4,80,5,2,40,3,60]
["OSA",19,11,57.894736842105267,8,42.105263157894733,7,6,85.714285714285708,1,14.285714285714285,6,1,16.666666666666664,5,83.333333333333343,6,4,66.666666666666657,2,33.333333333333329]
["QUEPOS",30,17,56.666666666666664,13,43.333333333333336,10,8,80,2,20,10,2,20,8,80,10,7,70,3,30]
["GOLFITO",24,13,54.166666666666664,11,45.833333333333329,8,5,62.5,3,37.5,8,3,37.5,5,62.5,8,5,62.5,3,37.5]
["COTO BRUS",15,7,46.666666666666664,8,53.333333333333336,5,5,100,0,0,5,0,0,5,100,5,2,40,3,60]
["PARRITA",17,10,58.82352941176471,7,41.17647058823529,6,5,83.333333333333343,1,16.666666666666664,6,1,16.666666666666664,5,83.333333333333343,5,4,80,1,20]
["CORREDORES",24,16,66.666666666666657,8,33.333333333333329,8,8,100,0,0,8,0,0,8,100,8,8,100,0,0]
["GARABITO",21,12,57.142857142857139,9,42.857142857142854,7,7,100,0,0,7,0,0,7,100,7,5,71.428571428571431,2,28.571428571428569]
["PROVINCIA LIMÓN",{"$f":"SUM(B93:B98)","v":206},{"$f":"SUM(C93:C98)","v":119},{"$f":"C92/$B92*100","v":57.766990291262132},{"$f":"SUM(E93:E98)","v":87},{"$f":"E92/$B92*100","v":42.23300970873786},{"$f":"SUM(G93:G98)","v":70},{"$f":"SUM(H93:H98)","v":52},{"$f":"H92/$G92*100","v":74.285714285714292},{"$f":"SUM(J93:J98)","v":18},{"$f":"J92/$G92*100","v":25.714285714285712},{"$f":"SUM(L93:L98)","v":70},{"$f":"SUM(M93:M98)","v":18},{"$f":"M92/$L92*100","v":25.714285714285712},{"$f":"SUM(O93:O98)","v":52},{"$f":"O92/$L92*100","v":74.285714285714292},{"$f":"SUM(Q93:Q98)","v":66},{"$f":"SUM(R93:R98)","v":49},{"$f":"R92/$Q92*100","v":74.242424242424249},{"$f":"SUM(T93:T98)","v":17},{"$f":"T92/$Q92*100","v":25.757575757575758}]
["LIMÓN",{"$f":"+C93+E93","v":36},{"$f":"+H93+M93+R93","v":20},55.555555555555557,{"$f":"+J93+O93+T93","v":16},44.444444444444443,{"$f":"+H93+J93","v":12},6,50,6,50,{"$f":"+M93+O93","v":12},6,50,6,50,{"$f":"+R93+T93","v":12},8,66.666666666666657,4,33.333333333333329]
["POCOCÍ",45,29,64.444444444444443,16,35.555555555555557,15,10,66.666666666666657,5,33.333333333333329,15,5,33.333333333333329,10,66.666666666666657,15,14,93.333333333333329,1,6.666666666666667]
["SIQUIRRES",33,18,54.54545454545454,15,45.454545454545453,12,10,83.333333333333343,2,16.666666666666664,12,2,16.666666666666664,10,83.333333333333343,9,6,66.666666666666657,3,33.333333333333329]
["TALAMANCA",27,16,59.259259259259252,11,40.74074074074074,9,8,88.888888888888886,1,11.111111111111111,9,1,11.111111111111111,8,88.888888888888886,9,7,77.777777777777786,2,22.222222222222221]
["MATINA",33,19,57.575757575757578,14,42.424242424242422,11,10,90.909090909090907,1,9.0909090909090917,11,1,9.0909090909090917,10,90.909090909090907,11,8,72.727272727272734,3,27.27272727272727]
["GUÁCIMO",32,17,53.125,15,46.875,11,8,72.727272727272734,3,27.27272727272727,11,3,27.27272727272727,8,72.727272727272734,10,6,60,4,40]
[]
[]
[{"$f":"+'G3'!A34","v":"Fuente: Departamento de Registro de Partidos Políticos, base de datos de Candidaturas 2020, Tribunal Supremo de Elecciones."}]

{"sheet":"C23","index":29,"n_rows":99,"n_cols":16,"rows_kept":99,"cut":false,"hidden":false,"merged":[[0,0,0,15],[1,0,1,15],[2,0,2,15],[5,11,6,11],[5,12,5,13],[5,14,5,15],[4,0,6,0],[4,1,4,5],[4,6,4,10],[4,11,4,15],[5,1,6,1],[5,2,5,3],[5,4,5,5],[5,6,6,6],[5,7,5,8],[5,9,5,10]]}
["CUADRO 23 COSTA RICA: CANDIDATURAS A REGIDURÍAS EN PROPIEDAD Y SUPLENCIA POR SEXO,  SEGÚN PARTIDO POLÍTICO"]
["ELECCIONES MUNICIPALES 2 DE FEBRERO 2020"]
["(CIFRAS ABSOLUTAS Y RELATIVAS)"]
[]
["PARTIDO POLÍTICO","REGIDURÍAS",null,null,null,null,"EN PROPIEDAD",null,null,null,null,"EN SUPLENCIA"]
["PARTIDO POLITICO","TOTAL","HOMBRES",null,"MUJERES",null,"TOTAL","HOMBRES",null,"MUJERES",null,"TOTAL","HOMBRES",null,"MUJERES"]
[null,"ABS","ABS","%","ABS","%","ABS","ABS","%","ABS","%","ABS","ABS","%","ABS","%"]
[]
["TOTAL",{"$f":"SUM(B11:B96)","v":7845},{"$f":"SUM(C11:C96)","v":4039},{"$f":"C9/B9*100","v":51.485022307202044},{"$f":"SUM(E11:E96)","v":3806},{"$f":"E9/B9*100","v":48.514977692797963},{"$f":"SUM(G11:G96)","v":4015},{"$f":"SUM(H11:H96)","v":2140},{"$f":"H9/G9*100","v":53.300124533001245},{"$f":"SUM(J11:J96)","v":1875},{"$f":"J9/G9*100","v":46.699875466998755},{"$f":"SUM(L11:L96)","v":3830},{"$f":"SUM(M11:M96)","v":1899},{"$f":"M9/L9*100","v":49.582245430809401},{"$f":"SUM(O11:O96)","v":1931},{"$f":"O9/L9*100","v":50.417754569190599}]
[]
["ACCESIBILIDAD SIN EXCLUSIÓN",{"$f":"+C11+E11","v":59},{"$f":"+H11+M11","v":30},{"$f":"C11/B11*100","v":50.847457627118644},{"$f":"+J11+O11","v":29},{"$f":"E11/B11*100","v":49.152542372881356},{"$f":"+H11+J11","v":29},16,{"$f":"H11/G11*100","v":55.172413793103445},13,{"$f":"J11/G11*100","v":44.827586206896555},{"$f":"+M11+O11","v":30},14,{"$f":"M11/L11*100","v":46.666666666666664},16,{"$f":"O11/L11*100","v":53.333333333333336}]
["ACCIÓN CANTONAL SIQUIRRES INDEPENDIENTE",14,7,50,7,50,7,4,57.142857142857139,3,42.857142857142854,7,3,42.857142857142854,4,57.142857142857139]
["ACCIÓN CIUDADANA",558,280,50.179211469534046,278,49.820788530465947,281,136,48.398576512455513,145,51.601423487544487,277,144,51.985559566786996,133,48.014440433212997]
["ACCIÓN NARANJEÑA",10,5,50,5,50,5,3,60,2,40,5,2,40,3,60]
["ACTUEMOS YA",72,36,50,36,50,37,20,54.054054054054056,17,45.945945945945951,35,16,45.714285714285715,19,54.285714285714285]
["ACUERDO DE ALIANZA DE QUEPOS",10,5,50,5,50,5,3,60,2,40,5,2,40,3,60]
["ALIANZA DEMÓCRATA CRISTIANA",{"$f":"+C17+E17","v":179},{"$f":"+H17+M17","v":90},{"$f":"C17/B17*100","v":50.279329608938554},{"$f":"+J17+O17","v":89},{"$f":"E17/B17*100","v":49.720670391061446},{"$f":"+H17+J17","v":91},49,{"$f":"H17/G17*100","v":53.846153846153847},42,{"$f":"J17/G17*100","v":46.153846153846153},{"$f":"+M17+O17","v":88},41,{"$f":"M17/L17*100","v":46.590909090909086},47,{"$f":"O17/L17*100","v":53.409090909090907}]
["ALIANZA POR PALMARES",8,4,50,4,50,5,3,60,2,40,3,1,33.333333333333329,2,66.666666666666657]
["ALIANZA POR SAN JOSÉ",20,11,55.000000000000007,9,45,11,6,54.54545454545454,5,45.454545454545453,9,5,55.555555555555557,4,44.444444444444443]
["ALIANZA POR SARCHÍ",10,5,50,5,50,5,2,40,3,60,5,3,60,2,40]
["ALIANZA SOCIAL POR LA UNIÓN",18,9,50,9,50,9,5,55.555555555555557,4,44.444444444444443,9,4,44.444444444444443,5,55.555555555555557]
["ANTICORRUPCIÓN COSTARRICENSE",12,6,50,6,50,9,5,55.555555555555557,4,44.444444444444443,3,1,33.333333333333329,2,66.666666666666657]
["AUTÉNTICO LABRADOR DE CORONADO",13,6,46.153846153846153,7,53.846153846153847,6,3,50,3,50,7,3,42.857142857142854,4,57.142857142857139]
["AUTÉNTICO LIMONENSE",31,15,48.387096774193552,16,51.612903225806448,15,8,53.333333333333336,7,46.666666666666664,16,7,43.75,9,56.25]
["AUTÉNTICO NICOYANO",14,8,57.142857142857139,6,42.857142857142854,7,4,57.142857142857139,3,42.857142857142854,7,4,57.142857142857139,3,42.857142857142854]
["AUTÉNTICO SANTACRUCEÑO",14,7,50,7,50,7,4,57.142857142857139,3,42.857142857142854,7,3,42.857142857142854,4,57.142857142857139]
["AUTÉNTICO SIQUIRREÑO",14,7,50,7,50,7,4,57.142857142857139,3,42.857142857142854,7,3,42.857142857142854,4,57.142857142857139]
["AUTÓNOMO OROMONTANO",8,4,50,4,50,4,2,50,2,50,4,2,50,2,50]
["AVANCE ISIDREÑO",9,4,44.444444444444443,5,55.555555555555557,4,2,50,2,50,5,2,40,3,60]
["AVANCE MONTES DE OCA",6,3,50,3,50,3,2,66.666666666666657,1,33.333333333333329,3,1,33.333333333333329,2,66.666666666666657]
["AVANTE POCOCÍ",7,4,57.142857142857139,3,42.857142857142854,4,2,50,2,50,3,2,66.666666666666657,1,33.333333333333329]
["BARVA UNIDA",10,5,50,5,50,5,2,40,3,60,5,3,60,2,40]
["CANTONAL DE CARRILLO",8,4,50,4,50,4,2,50,2,50,4,2,50,2,50]
["COALICIÓN ALIANZA POR NICOYA",13,7,53.846153846153847,6,46.153846153846153,7,4,57.142857142857139,3,42.857142857142854,6,3,50,3,50]
["COALICIÓN ASERRI DE TODOS",6,3,50,3,50,3,2,66.666666666666657,1,33.333333333333329,3,1,33.333333333333329,2,66.666666666666657]
["COALICIÓN GENTE MONTES DE OCA",11,6,54.54545454545454,5,45.454545454545453,6,3,50,3,50,5,3,60,2,40]
["COALICIÓN JUNTOS",16,8,50,8,50,11,6,54.54545454545454,5,45.454545454545453,5,2,40,3,60]
["COALICIÓN UNIDAD POR FLORES",10,5,50,5,50,5,2,40,3,60,5,3,60,2,40]
["COALICIÓN UNIÓN BELEMITA",9,4,44.444444444444443,5,55.555555555555557,5,2,40,3,60,4,2,50,2,50]
["COMUNAL UNIDO",124,64,51.612903225806448,60,48.387096774193552,65,35,53.846153846153847,30,46.153846153846153,59,29,49.152542372881356,30,50.847457627118644]
["CURRIDABAT SIGLO XXI",13,6,46.153846153846153,7,53.846153846153847,7,3,42.857142857142854,4,57.142857142857139,6,3,50,3,50]
["DEL SOL",14,7,50,7,50,7,3,42.857142857142854,4,57.142857142857139,7,4,57.142857142857139,3,42.857142857142854]
["DESARROLLO TALAMANQUEÑO",10,5,50,5,50,5,3,60,2,40,5,2,40,3,60]
["DESPERTAR ALAJUELENSE",22,11,50,11,50,11,5,45.454545454545453,6,54.54545454545454,11,6,54.54545454545454,5,45.454545454545453]
["ECOLÓGICO COMUNAL COSTARRICENSE",21,11,52.380952380952387,10,47.619047619047613,10,5,50,5,50,11,6,54.54545454545454,5,45.454545454545453]
["FRENTE AMPLIO",363,182,50.137741046831948,181,49.862258953168045,186,93,50,93,50,177,89,50.282485875706215,88,49.717514124293785]
["FUERZA SARCHISEÑA",10,5,50,5,50,5,3,60,2,40,5,2,40,3,60]
["GOICOECHEA EN ACCIÓN",8,4,50,4,50,4,2,50,2,50,4,2,50,2,50]
["GUANACASTE PRIMERO",{"$f":"+C49+E49","v":12},{"$f":"+H49+M49","v":7},{"$f":"C49/B49*100","v":58.333333333333336},{"$f":"+J49+O49","v":5},{"$f":"E49/B49*100","v":41.666666666666671},{"$f":"+H49+J49","v":5},3,{"$f":"H49/G49*100","v":60},2,{"$f":"J49/G49*100","v":40},{"$f":"+M49+O49","v":7},4,{"$f":"M49/L49*100","v":57.142857142857139},3,{"$f":"O49/L49*100","v":42.857142857142854}]
["INNOVACIÓN CANTONAL",18,10,55.555555555555557,8,44.444444444444443,9,5,55.555555555555557,4,44.444444444444443,9,5,55.555555555555557,4,44.444444444444443]
["INTEGRACIÓN NACIONAL",294,145,49.319727891156461,149,50.680272108843539,151,76,50.331125827814574,75,49.668874172185426,143,69,48.251748251748253,74,51.748251748251747]
["IZQUIERDA COSTARRICENSE",53,26,49.056603773584904,27,50.943396226415096,31,16,51.612903225806448,15,48.387096774193552,22,10,45.454545454545453,12,54.54545454545454]
["JUSTICIA SOCIAL",10,6,60,4,40,5,3,60,2,40,5,3,60,2,40]
["JUSTICIA SOCIAL COSTARRICENSE",50,25,50,25,50,27,14,51.851851851851848,13,48.148148148148145,23,11,47.826086956521742,12,52.173913043478258]
["LA FUERZA DE LA UNIÓN",6,3,50,3,50,3,2,66.666666666666657,1,33.333333333333329,3,1,33.333333333333329,2,66.666666666666657]
["LA GRAN NICOYA",14,7,50,7,50,7,4,57.142857142857139,3,42.857142857142854,7,3,42.857142857142854,4,57.142857142857139]
["LIBERACIÓN NACIONAL",977,514,52.610030706243606,463,47.389969293756394,491,270,54.989816700610994,221,45.010183299388999,486,244,50.205761316872433,242,49.794238683127574]
["LIBERAL PROGRESISTA",90,47,52.222222222222229,43,47.777777777777779,48,26,54.166666666666664,22,45.833333333333329,42,21,50,21,50]
["LIGA RAMONENSE",14,8,57.142857142857139,6,42.857142857142854,7,4,57.142857142857139,3,42.857142857142854,7,4,57.142857142857139,3,42.857142857142854]
["MOVIMIENTO AVANCE SANTO DOMINGO",10,5,50,5,50,5,3,60,2,40,5,2,40,3,60]
["NANDAYURE PROGRESA",10,5,50,5,50,5,3,60,2,40,5,2,40,3,60]
["NUESTRO PUEBLO",171,86,50.292397660818708,85,49.707602339181285,87,45,51.724137931034484,42,48.275862068965516,84,41,48.80952380952381,43,51.19047619047619]
["NUEVA GENERACIÓN",392,201,51.275510204081634,191,48.724489795918366,200,105,52.5,95,47.5,192,96,50,96,50]
["NUEVA MAYORÍA GRIEGA",12,7,58.333333333333336,5,41.666666666666671,7,4,57.142857142857139,3,42.857142857142854,5,3,60,2,40]
["NUEVA REPÚBLICA",784,403,51.403061224489797,381,48.596938775510203,406,216,53.201970443349758,190,46.798029556650242,378,187,49.470899470899468,191,50.529100529100532]
["PALMARES PRIMERO",10,5,50,5,50,5,3,60,2,40,5,2,40,3,60]
["PROGRESER",11,5,45.454545454545453,6,54.54545454545454,6,3,50,3,50,5,2,40,3,60]
["PUEBLO GARABITO",9,5,55.555555555555557,4,44.444444444444443,4,2,50,2,50,5,3,60,2,40]
["PURISCAL EN MARCHA",10,6,60,4,40,5,3,60,2,40,5,3,60,2,40]
["RECUPERANDO VALORES",52,27,51.923076923076927,25,48.07692307692308,25,13,52,12,48,27,14,51.851851851851848,13,48.148148148148145]
["RENOVACIÓN COSTARRICENSE",63,34,53.968253968253968,29,46.031746031746032,33,19,57.575757575757578,14,42.424242424242422,30,15,50,15,50]
["REPUBLICANO SOCIAL CRISTIANO",535,277,51.77570093457944,258,48.22429906542056,269,146,54.27509293680297,123,45.724907063197023,266,131,49.248120300751879,135,50.751879699248128]
["RESCATE CANTONAL LA UNIÓN",{"$f":"+C73+E73","v":18},{"$f":"+H73+M73","v":9},{"$f":"C73/B73*100","v":50},{"$f":"+J73+O73","v":9},{"$f":"E73/B73*100","v":50},{"$f":"+H73+J73","v":9},5,{"$f":"H73/G73*100","v":55.555555555555557},4,{"$f":"J73/G73*100","v":44.444444444444443},{"$f":"+M73+O73","v":9},4,{"$f":"M73/L73*100","v":44.444444444444443},5,{"$f":"O73/L73*100","v":55.555555555555557}]
["RESTAURACIÓN NACIONAL",721,381,52.843273231622746,340,47.156726768377254,389,212,54.498714652956295,177,45.501285347043705,332,169,50.903614457831324,163,49.096385542168676]
["RESTAURACIÓN PARRITEÑA",8,5,62.5,3,37.5,3,2,66.666666666666657,1,33.333333333333329,5,3,60,2,40]
["SENTIR HEREDIA",18,9,50,9,50,9,4,44.444444444444443,5,55.555555555555557,9,5,55.555555555555557,4,44.444444444444443]
["SOMOS MORAVIA",14,7,50,7,50,7,4,57.142857142857139,3,42.857142857142854,7,3,42.857142857142854,4,57.142857142857139]
["SOMOS SARCHÍ",10,5,50,5,50,5,3,60,2,40,5,2,40,3,60]
["TARRAZÚ PRIMERO",9,5,55.555555555555557,4,44.444444444444443,5,3,60,2,40,4,2,50,2,50]
["TERRA ESCAZÚ",1,1,100,0,0,1,1,100,0,0,0,0,{"$error":"#DIV/0!"},0,{"$error":"#DIV/0!"}]
["TODOS POR GOICOECHEA",10,5,50,5,50,5,2,40,3,60,5,3,60,2,40]
["TURRIALBA PRIMERO",14,7,50,7,50,7,4,57.142857142857139,3,42.857142857142854,7,3,42.857142857142854,4,57.142857142857139]
["ÚNICO ABANGAREÑO",10,5,50,5,50,5,2,40,3,60,5,3,60,2,40]
["UNIDAD SOCIAL CRISTIANA",770,400,51.94805194805194,370,48.051948051948052,387,207,53.488372093023251,180,46.511627906976742,383,193,50.391644908616186,190,49.608355091383807]
["UNIDOS PARA EL DESARROLLO",10,6,60,4,40,5,3,60,2,40,5,3,60,2,40]
["UNIDOS PODEMOS",637,328,51.49136577708007,309,48.508634222919937,323,177,54.798761609907118,146,45.201238390092882,314,151,48.089171974522294,163,51.910828025477706]
["UNIDOS POR ESCAZÚ",14,8,57.142857142857139,6,42.857142857142854,7,4,57.142857142857139,3,42.857142857142854,7,4,57.142857142857139,3,42.857142857142854]
["UNIÓN ATENIENSE",10,5,50,5,50,5,3,60,2,40,5,2,40,3,60]
["UNIÓN DE PUNTARENENSES EMPRENDEDORES",8,4,50,4,50,4,2,50,2,50,4,2,50,2,50]
["UNIÓN DOMINGUEÑA",7,3,42.857142857142854,4,57.142857142857139,4,2,50,2,50,3,1,33.333333333333329,2,66.666666666666657]
["UNIÓN GRIEGA",13,7,53.846153846153847,6,46.153846153846153,7,4,57.142857142857139,3,42.857142857142854,6,3,50,3,50]
["UNIÓN GUANACASTECA",79,39,49.367088607594937,40,50.632911392405063,40,22,55.000000000000007,18,45,39,17,43.589743589743591,22,56.410256410256409]
["UNIÓN GUARQUEÑO",10,5,50,5,50,5,3,60,2,40,5,2,40,3,60]
["VERDE ECOLOGISTA",71,37,52.112676056338024,34,47.887323943661968,34,19,55.882352941176471,15,44.117647058823529,37,18,48.648648648648653,19,51.351351351351347]
["YO SOY EL CAMBIO",8,4,50,4,50,4,2,50,2,50,4,2,50,2,50]
["YUNTA PROGRESISTA ESCAZUCEÑA",14,7,50,7,50,7,4,57.142857142857139,3,42.857142857142854,7,3,42.857142857142854,4,57.142857142857139]
[]
[]
[{"$f":"+'G3'!A34","v":"Fuente: Departamento de Registro de Partidos Políticos, base de datos de Candidaturas 2020, Tribunal Supremo de Elecciones."}]

{"sheet":"C24","index":30,"n_rows":101,"n_cols":21,"rows_kept":101,"cut":false,"hidden":false,"merged":[[0,0,0,15],[1,0,1,15],[2,0,2,15],[4,0,6,0],[5,6,6,6],[5,11,6,11],[4,1,4,5],[5,1,6,1]]}
["CUADRO 24  COSTA RICA: CANDIDATURAS A REGIDURÍAS EN PROPIEDAD Y SUPLENCIA POR SEXO, SEGÚN PROVINCIA Y CANTÓN"]
[" ELECCIONES MUNICIPALES 2 DE FEBRERO 2020"]
["(CIFRAS ABSOLUTAS Y RELATIVAS)"]
[]
["PROVINCIA Y CANTÓN ","REGIDURÍAS",null,null,null,null,"EN PROPIEDAD",null,null,null,null,"EN SUPLENCIA"]
[null,"TOTAL","HOMBRES",null,"MUJERES",null,"TOTAL","HOMBRES",null,"MUJERES",null,"TOTAL","HOMBRES",null,"MUJERES"]
[null,null,"ABS","%","ABS","%",null,"ABS","%","ABS","%",null,"ABS","%","ABS","%"]
[]
["COSTA RICA",{"$f":"G9+L9","v":7845},{"$f":"H9+M9","v":4039},{"$f":"C9/$B9*100","v":51.485022307202044},{"$f":"J9+O9","v":3806},{"$f":"E9/$B9*100","v":48.514977692797963},{"$f":"+G10+G31+G48+G57+G68+G80+G92","v":4015},{"$f":"+H10+H31+H48+H57+H68+H80+H92","v":2140},{"$f":"H9/$G9*100","v":53.300124533001245},{"$f":"+J10+J31+J48+J57+J68+J80+J92","v":1875},{"$f":"J9/$G9*100","v":46.699875466998755},{"$f":"+L10+L31+L48+L57+L68+L80+L92","v":3830},{"$f":"+M10+M31+M48+M57+M68+M80+M92","v":1899},{"$f":"M9/$L9*100","v":49.582245430809401},{"$f":"+O10+O31+O48+O57+O68+O80+O92","v":1931},{"$f":"O9/$L9*100","v":50.417754569190599}," "," ","Cargo"]
["PROVINCIA SAN JOSÉ",{"$f":"+G10+L10","v":2184},{"$f":"+H10+M10","v":1131},51.785714285714292,{"$f":"+J10+O10","v":1053},48.214285714285715,{"$f":"SUM(G11:G30)","v":1122},{"$f":"SUM(H11:H30)","v":602},53.65418894830659,{"$f":"SUM(J11:J30)","v":520},46.345811051693403,{"$f":"SUM(L11:L30)","v":1062},{"$f":"SUM(M11:M30)","v":529},49.811676082862519,{"$f":"SUM(O11:O30)","v":533},50.188323917137481,null,null,"Sexo",null,"Total"]
["SAN JOSÉ",{"$f":"+G11+L11","v":269},{"$f":"+H11+M11","v":141},52.416356877323423,{"$f":"+J11+O11","v":128},47.583643122676577,{"$f":"+H11+J11","v":142},77,54.225352112676063,65,45.774647887323944,{"$f":"+M11+O11","v":127},64,50.393700787401571,63,49.606299212598429,null,null,"HOMBRE","MUJER"]
["ESCAZÚ",{"$f":"+G12+L12","v":117},{"$f":"+H12+M12","v":62},52.991452991452995,{"$f":"+J12+O12","v":55},47.008547008547005,60,35,58.333333333333336,25,41.666666666666671,57,27,47.368421052631575,30,52.631578947368418]
["DESAMPARADOS",247,129,52.226720647773284,118,47.773279352226723,127,66,51.968503937007867,61,48.031496062992126,120,63,52.5,57,47.5]
["PURISCAL",70,37,52.857142857142861,33,47.142857142857139,36,19,52.777777777777779,17,47.222222222222221,34,18,52.941176470588239,16,47.058823529411761]
["TARRAZÚ",61,32,52.459016393442624,29,47.540983606557376,31,18,58.064516129032263,13,41.935483870967744,30,14,46.666666666666664,16,53.333333333333336]
["ASERRÍ",95,50,52.631578947368418,45,47.368421052631575,48,27,56.25,21,43.75,47,23,48.936170212765958,24,51.063829787234042]
["MORA",68,35,51.470588235294116,33,48.529411764705884,39,21,53.846153846153847,18,46.153846153846153,29,14,48.275862068965516,15,51.724137931034484]
["GOICOECHEA",227,119,52.42290748898678,108,47.577092511013213,116,61,52.586206896551722,55,47.413793103448278,111,58,52.252252252252248,53,47.747747747747752]
["SANTA ANA",137,69,50.364963503649641,68,49.635036496350367,70,36,51.428571428571423,34,48.571428571428569,67,33,49.253731343283583,34,50.746268656716417]
["ALAJUELITA",105,53,50.476190476190474,52,49.523809523809526,52,28,53.846153846153847,24,46.153846153846153,53,25,47.169811320754718,28,52.830188679245282]
["VÁZQUEZ DE CORONADO",107,55,51.401869158878498,52,48.598130841121495,54,28,51.851851851851848,26,48.148148148148145,53,27,50.943396226415096,26,49.056603773584904]
["ACOSTA",42,22,52.380952380952387,20,47.619047619047613,24,13,54.166666666666664,11,45.833333333333329,18,9,50,9,50]
["TIBÁS",96,48,50,48,50,48,24,50,24,50,48,24,50,24,50]
["MORAVIA",113,{"$f":"+H24+M24","v":58},51.327433628318587,{"$f":"+J24+O24","v":55},48.672566371681413,56,30,53.571428571428569,26,46.428571428571431,57,28,49.122807017543856,29,50.877192982456144]
["MONTES DE OCA",104,55,52.884615384615387,49,47.115384615384613,52,27,51.923076923076927,25,48.07692307692308,52,28,53.846153846153847,24,46.153846153846153]
["TURRUBARES",31,17,54.838709677419352,14,45.161290322580641,17,10,58.82352941176471,7,41.17647058823529,14,7,50,7,50]
["DOTA",28,13,46.428571428571431,15,53.571428571428569,15,8,53.333333333333336,7,46.666666666666664,13,5,38.461538461538467,8,61.53846153846154]
["CURRIDABAT",105,52,49.523809523809526,53,50.476190476190474,53,29,54.716981132075468,24,45.283018867924532,52,23,44.230769230769226,29,55.769230769230774]
["PÉREZ ZELEDÓN",140,72,51.428571428571423,68,48.571428571428569,70,39,55.714285714285715,31,44.285714285714285,70,33,47.142857142857139,37,52.857142857142861]
["LEÓN CORTÉS CASTRO",22,{"$f":"+H30+M30","v":12},54.54545454545454,10,45.454545454545453,12,6,50,6,50,10,6,60,4,40]
["PROVINCIA ALAJUELA",{"$f":"+G31+L31","v":1333},{"$f":"+H31+M31","v":688},51.612903225806448,{"$f":"+J31+O31","v":645},48.387096774193552,682,{"$f":"SUM(H32:H47)","v":360},52.785923753665685,{"$f":"SUM(J32:J47)","v":322},47.214076246334315,{"$f":"+M31+O31","v":651},{"$f":"SUM(M32:M47)","v":328},50.384024577572958,{"$f":"SUM(O32:O47)","v":323},49.615975422427034]
["ALAJUELA",{"$f":"+G32+L32","v":222},{"$f":"+H32+M32","v":113},50.900900900900901,{"$f":"+J32+O32","v":109},49.099099099099099,112,58,51.785714285714292,54,48.214285714285715,{"$f":"+M32+O32","v":110},55,50,55,50]
["SAN RAMÓN",{"$f":"+G33+L33","v":108},{"$f":"+H33+M33","v":56},{"$f":"C33/$B33*100","v":51.851851851851848},{"$f":"+J33+O33","v":52},{"$f":"E33/$B33*100","v":48.148148148148145},{"$f":"+H33+J33","v":55},29,{"$f":"H33/$G33*100","v":52.72727272727272},26,{"$f":"J33/$G33*100","v":47.272727272727273},{"$f":"+M33+O33","v":53},27,{"$f":"M33/$L33*100","v":50.943396226415096},26,{"$f":"O33/$L33*100","v":49.056603773584904}]
["GRECIA",115,59,51.304347826086961,56,48.695652173913047,59,30,50.847457627118644,29,49.152542372881356,56,29,51.785714285714292,27,48.214285714285715]
["SAN MATEO",66,34,51.515151515151516,32,48.484848484848484,35,20,57.142857142857139,15,42.857142857142854,31,14,45.161290322580641,17,54.838709677419352]
["ATENAS",79,44,55.696202531645568,35,44.303797468354425,41,24,58.536585365853654,17,41.463414634146339,38,20,52.631578947368418,18,47.368421052631575]
["NARANJO",79,39,49.367088607594937,40,50.632911392405063,40,22,55.000000000000007,18,45,39,17,43.589743589743591,22,56.410256410256409]
["PALMARES",84,47,55.952380952380956,37,44.047619047619044,42,24,57.142857142857139,18,42.857142857142854,42,23,54.761904761904766,19,45.238095238095241]
["POÁS",50,25,50,25,50,26,14,53.846153846153847,12,46.153846153846153,24,11,45.833333333333329,13,54.166666666666664]
["OROTINA",51,27,52.941176470588239,24,47.058823529411761,27,14,51.851851851851848,13,48.148148148148145,24,13,54.166666666666664,11,45.833333333333329]
["SAN CARLOS",163,84,51.533742331288344,79,48.466257668711656,83,42,50.602409638554214,41,49.397590361445779,80,42,52.5,38,47.5]
["ZARCERO",44,22,50,22,50,22,12,54.54545454545454,10,45.454545454545453,22,10,45.454545454545453,12,54.54545454545454]
["SARCHÍ",67,33,49.253731343283583,34,50.746268656716417,34,16,47.058823529411761,18,52.941176470588239,33,17,51.515151515151516,16,48.484848484848484]
["UPALA",61,32,52.459016393442624,29,47.540983606557376,31,16,51.612903225806448,15,48.387096774193552,30,16,53.333333333333336,14,46.666666666666664]
["LOS CHILES",29,15,51.724137931034484,14,48.275862068965516,16,9,56.25,7,43.75,13,6,46.153846153846153,7,53.846153846153847]
["GUATUSO",52,26,50,26,50,27,14,51.851851851851848,13,48.148148148148145,25,12,48,13,52]
["RIO CUARTO",63,32,50.793650793650791,31,49.206349206349202,32,16,50,16,50,31,16,51.612903225806448,15,48.387096774193552]
["PROVINCIA CARTAGO",{"$f":"+G48+L48","v":970},{"$f":"+H48+M48","v":493},{"$f":"C48/$B48*100","v":50.824742268041234},{"$f":"+J48+O48","v":477},{"$f":"E48/$B48*100","v":49.175257731958759},{"$f":"+H48+J48","v":491},{"$f":"SUM(H49:H56)","v":262},{"$f":"H48/$G48*100","v":53.360488798370675},{"$f":"SUM(J49:J56)","v":229},{"$f":"J48/$G48*100","v":46.639511201629333},479,{"$f":"SUM(M49:M56)","v":231},{"$f":"M48/$L48*100","v":48.225469728601247},{"$f":"SUM(O49:O56)","v":248},{"$f":"O48/$L48*100","v":51.774530271398746}]
["CARTAGO",{"$f":"+G49+L49","v":165},{"$f":"+H49+M49","v":87},{"$f":"C49/$B49*100","v":52.72727272727272},{"$f":"+J49+O49","v":78},{"$f":"E49/$B49*100","v":47.272727272727273},{"$f":"+H49+J49","v":84},45,{"$f":"H49/$G49*100","v":53.571428571428569},39,{"$f":"J49/$G49*100","v":46.428571428571431},81,42,{"$f":"M49/$L49*100","v":51.851851851851848},39,{"$f":"O49/$L49*100","v":48.148148148148145}]
["PARAÍSO",{"$f":"+G50+L50","v":135},{"$f":"+H50+M50","v":71},{"$f":"C50/$B50*100","v":52.592592592592588},{"$f":"+J50+O50","v":64},{"$f":"E50/$B50*100","v":47.407407407407412},{"$f":"+H50+J50","v":69},36,{"$f":"H50/$G50*100","v":52.173913043478258},33,{"$f":"J50/$G50*100","v":47.826086956521742},{"$f":"+M50+O50","v":66},35,{"$f":"M50/$L50*100","v":53.030303030303031},31,{"$f":"O50/$L50*100","v":46.969696969696969}]
["LA UNIÓN",233,113,48.497854077253216,120,51.502145922746777,116,61,52.586206896551722,55,47.413793103448278,117,52,44.444444444444443,65,55.555555555555557]
["JIMÉNEZ",70,35,50,35,50,38,20,52.631578947368418,18,47.368421052631575,32,15,46.875,17,53.125]
["TURRIALBA",129,67,51.937984496124031,62,48.062015503875969,65,34,52.307692307692314,31,47.692307692307693,64,33,51.5625,31,48.4375]
["ALVARADO",71,36,50.704225352112672,35,49.295774647887328,35,20,57.142857142857139,15,42.857142857142854,36,16,44.444444444444443,20,55.555555555555557]
["OREAMUNO",82,42,51.219512195121951,40,48.780487804878049,41,22,53.658536585365859,19,46.341463414634148,41,20,48.780487804878049,21,51.219512195121951]
["EL GUARCO",85,42,49.411764705882355,43,50.588235294117645,43,24,55.813953488372093,19,44.186046511627907,42,18,42.857142857142854,24,57.142857142857139]
["PROVINCIA HEREDIA",{"$f":"+G57+L57","v":792},{"$f":"+H57+M57","v":409},{"$f":"C57/$B57*100","v":51.641414141414145},{"$f":"+J57+O57","v":383},{"$f":"E57/$B57*100","v":48.358585858585855},{"$f":"+H57+J57","v":404},{"$f":"SUM(H58:H67)","v":213},{"$f":"H57/$G57*100","v":52.722772277227726},{"$f":"SUM(J58:J67)","v":191},{"$f":"J57/$G57*100","v":47.277227722772274},{"$f":"+M57+O57","v":388},{"$f":"SUM(M58:M67)","v":196},{"$f":"M57/$L57*100","v":50.515463917525771},{"$f":"SUM(O58:O67)","v":192},{"$f":"O57/$L57*100","v":49.484536082474229}]
["HEREDIA",{"$f":"+G58+L58","v":150},{"$f":"+H58+M58","v":78},{"$f":"C58/$B58*100","v":52},{"$f":"+J58+O58","v":72},{"$f":"E58/$B58*100","v":48},{"$f":"+H58+J58","v":75},40,{"$f":"H58/$G58*100","v":53.333333333333336},35,{"$f":"J58/$G58*100","v":46.666666666666664},{"$f":"+M58+O58","v":75},38,{"$f":"M58/$L58*100","v":50.666666666666671},37,{"$f":"O58/$L58*100","v":49.333333333333336}]
["BARVA",{"$f":"+G59+L59","v":84},{"$f":"+H59+M59","v":43},{"$f":"C59/$B59*100","v":51.19047619047619},{"$f":"+J59+O59","v":41},{"$f":"E59/$B59*100","v":48.80952380952381},{"$f":"+H59+J59","v":41},19,{"$f":"H59/$G59*100","v":46.341463414634148},22,{"$f":"J59/$G59*100","v":53.658536585365859},{"$f":"+M59+O59","v":43},24,{"$f":"M59/$L59*100","v":55.813953488372093},19,{"$f":"O59/$L59*100","v":44.186046511627907}]
["SANTO DOMINGO",74,38,51.351351351351347,36,48.648648648648653,37,20,54.054054054054056,17,45.945945945945951,37,18,48.648648648648653,19,51.351351351351347]
["SANTA BÁRBARA",83,44,53.01204819277109,39,46.987951807228917,42,25,59.523809523809526,17,40.476190476190474,41,19,46.341463414634148,22,53.658536585365859]
["SAN RAFAEL",85,42,49.411764705882355,43,50.588235294117645,43,23,53.488372093023251,20,46.511627906976742,42,19,45.238095238095241,23,54.761904761904766]
["SAN ISIDRO",61,31,50.819672131147541,30,49.180327868852459,32,19,59.375,13,40.625,29,12,41.379310344827587,17,58.620689655172406]
["BELÉN",44,23,52.272727272727273,21,47.727272727272727,24,11,45.833333333333329,13,54.166666666666664,20,12,60,8,40]
["FLORES",55,28,50.909090909090907,27,49.090909090909093,28,15,53.571428571428569,13,46.428571428571431,27,13,48.148148148148145,14,51.851851851851848]
["SAN PABLO",42,23,54.761904761904766,19,45.238095238095241,23,12,52.173913043478258,11,47.826086956521742,19,11,57.894736842105267,8,42.105263157894733]
["SARAPIQUÍ",114,59,51.754385964912288,55,48.245614035087719,59,29,49.152542372881356,30,50.847457627118644,55,30,54.54545454545454,25,45.454545454545453]
["PROVINCIA GUANACASTE",{"$f":"+G68+L68","v":877},{"$f":"+H68+M68","v":448},{"$f":"C68/$B68*100","v":51.083238312428733},{"$f":"+J68+O68","v":429},{"$f":"E68/$B68*100","v":48.916761687571267},{"$f":"+H68+J68","v":449},{"$f":"SUM(H69:H79)","v":240},{"$f":"H68/$G68*100","v":53.452115812917597},{"$f":"SUM(J69:J79)","v":209},{"$f":"J68/$G68*100","v":46.547884187082403},{"$f":"+M68+O68","v":428},{"$f":"SUM(M69:M79)","v":208},{"$f":"M68/$L68*100","v":48.598130841121495},{"$f":"SUM(O69:O79)","v":220},{"$f":"O68/$L68*100","v":51.401869158878498}]
["LIBERIA",{"$f":"+G69+L69","v":134},{"$f":"+H69+M69","v":70},{"$f":"C69/$B69*100","v":52.238805970149251},{"$f":"+J69+O69","v":64},{"$f":"E69/$B69*100","v":47.761194029850742},{"$f":"+H69+J69","v":70},37,{"$f":"H69/$G69*100","v":52.857142857142861},33,{"$f":"J69/$G69*100","v":47.142857142857139},{"$f":"+M69+O69","v":64},33,{"$f":"M69/$L69*100","v":51.5625},31,{"$f":"O69/$L69*100","v":48.4375}]
["NICOYA",{"$f":"+G70+L70","v":137},{"$f":"+H70+M70","v":73},{"$f":"C70/$B70*100","v":53.284671532846716},{"$f":"+J70+O70","v":64},{"$f":"E70/$B70*100","v":46.715328467153284},{"$f":"+H70+J70","v":70},40,{"$f":"H70/$G70*100","v":57.142857142857139},30,{"$f":"J70/$G70*100","v":42.857142857142854},{"$f":"+M70+O70","v":67},33,{"$f":"M70/$L70*100","v":49.253731343283583},34,{"$f":"O70/$L70*100","v":50.746268656716417}]
["SANTA CRUZ",115,56,48.695652173913047,59,51.304347826086961,58,30,51.724137931034484,28,48.275862068965516,57,26,45.614035087719294,31,54.385964912280706]
["BAGACES",66,33,50,33,50,32,16,50,16,50,34,17,50,17,50]
["CARRILLO",65,33,50.769230769230766,32,49.230769230769234,34,18,52.941176470588239,16,47.058823529411761,31,15,48.387096774193552,16,51.612903225806448]
["CAÑAS",73,38,52.054794520547944,35,47.945205479452049,38,21,55.26315789473685,17,44.736842105263158,35,17,48.571428571428569,18,51.428571428571423]
["ABANGARES",91,47,51.648351648351657,44,48.35164835164835,46,24,52.173913043478258,22,47.826086956521742,45,23,51.111111111111107,22,48.888888888888886]
["TILARÁN",32,16,50,16,50,18,10,55.555555555555557,8,44.444444444444443,14,6,42.857142857142854,8,57.142857142857139]
["NANDAYURE",54,27,50,27,50,27,16,59.259259259259252,11,40.74074074074074,27,11,40.74074074074074,16,59.259259259259252]
["LA CRUZ",79,40,50.632911392405063,39,49.367088607594937,40,20,50,20,50,39,20,51.282051282051277,19,48.717948717948715]
["HOJANCHA",31,15,48.387096774193552,16,51.612903225806448,16,8,50,8,50,15,7,46.666666666666664,8,53.333333333333336]
["PROVINCIA PUNTARENAS",{"$f":"+G80+L80","v":844},{"$f":"+H80+M80","v":436},{"$f":"C80/$B80*100","v":51.658767772511851},{"$f":"+J80+O80","v":408},{"$f":"E80/$B80*100","v":48.341232227488149},{"$f":"+H80+J80","v":432},{"$f":"SUM(H81:H91)","v":231},{"$f":"H80/$G80*100","v":53.472222222222221},{"$f":"SUM(J81:J91)","v":201},{"$f":"J80/$G80*100","v":46.527777777777779},{"$f":"+M80+O80","v":412},{"$f":"SUM(M81:M91)","v":205},{"$f":"M80/$L80*100","v":49.757281553398059},{"$f":"SUM(O81:O91)","v":207},{"$f":"O80/$L80*100","v":50.242718446601941}]
["PUNTARENAS",{"$f":"+G81+L81","v":125},{"$f":"+H81+M81","v":66},{"$f":"C81/$B81*100","v":52.800000000000004},{"$f":"+J81+O81","v":59},{"$f":"E81/$B81*100","v":47.199999999999996},{"$f":"+H81+J81","v":64},34,{"$f":"H81/$G81*100","v":53.125},30,{"$f":"J81/$G81*100","v":46.875},{"$f":"+M81+O81","v":61},32,{"$f":"M81/$L81*100","v":52.459016393442624},29,{"$f":"O81/$L81*100","v":47.540983606557376}]
["ESPARZA",{"$f":"+G82+L82","v":61},{"$f":"+H82+M82","v":30},{"$f":"C82/$B82*100","v":49.180327868852459},{"$f":"+J82+O82","v":31},{"$f":"E82/$B82*100","v":50.819672131147541},{"$f":"+H82+J82","v":31},16,{"$f":"H82/$G82*100","v":51.612903225806448},15,{"$f":"J82/$G82*100","v":48.387096774193552},{"$f":"+M82+O82","v":30},14,{"$f":"M82/$L82*100","v":46.666666666666664},16,{"$f":"O82/$L82*100","v":53.333333333333336}]
["BUENOS AIRES",84,43,51.19047619047619,41,48.80952380952381,42,23,54.761904761904766,19,45.238095238095241,42,20,47.619047619047613,22,52.380952380952387]
["MONTES DE ORO",46,23,50,23,50,24,12,50,12,50,22,11,50,11,50]
["OSA",56,29,51.785714285714292,27,48.214285714285715,32,17,53.125,15,46.875,24,12,50,12,50]
["QUEPOS",104,54,51.923076923076927,50,48.07692307692308,52,30,57.692307692307686,22,42.307692307692307,52,24,46.153846153846153,28,53.846153846153847]
["GOLFITO",76,37,48.684210526315788,39,51.315789473684212,40,21,52.5,19,47.5,36,16,44.444444444444443,20,55.555555555555557]
["COTO BRUS",45,26,57.777777777777771,19,42.222222222222221,25,14,56.000000000000007,11,44,20,12,60,8,40]
["PARRITA",68,36,52.941176470588239,32,47.058823529411761,33,18,54.54545454545454,15,45.454545454545453,35,18,51.428571428571423,17,48.571428571428569]
["CORREDORES",112,58,51.785714285714292,54,48.214285714285715,55,28,50.909090909090907,27,49.090909090909093,57,30,52.631578947368418,27,47.368421052631575]
["GARABITO",67,34,50.746268656716417,33,49.253731343283583,34,18,52.941176470588239,16,47.058823529411761,33,16,48.484848484848484,17,51.515151515151516]
["PROVINCIA LIMÓN",{"$f":"+G92+L92","v":845},434,{"$f":"C92/$B92*100","v":51.360946745562131},{"$f":"+J92+O92","v":411},{"$f":"E92/$B92*100","v":48.639053254437869},{"$f":"+H92+J92","v":435},{"$f":"SUM(H93:H98)","v":232},{"$f":"H92/$G92*100","v":53.333333333333336},{"$f":"SUM(J93:J98)","v":203},{"$f":"J92/$G92*100","v":46.666666666666664},{"$f":"+M92+O92","v":410},{"$f":"SUM(M93:M98)","v":202},{"$f":"M92/$L92*100","v":49.268292682926827},{"$f":"SUM(O93:O98)","v":208},{"$f":"O92/$L92*100","v":50.731707317073173}]
["LIMÓN",137,71,51.824817518248182,66,48.175182481751825,71,37,52.112676056338024,34,47.887323943661968,66,34,51.515151515151516,32,48.484848484848484]
["POCOCÍ",221,113,51.13122171945701,108,48.868778280542983,116,61,52.586206896551722,55,47.413793103448278,105,52,49.523809523809526,53,50.476190476190474]
["SIQUIRRES",146,75,51.369863013698634,71,48.630136986301373,75,41,54.666666666666664,34,45.333333333333329,71,34,47.887323943661968,37,52.112676056338024]
["TALAMANCA",100,53,53,47,47,51,28,54.901960784313729,23,45.098039215686278,49,25,51.020408163265309,24,48.979591836734691]
["MATINA",100,51,51,49,49,52,30,57.692307692307686,22,42.307692307692307,48,21,43.75,27,56.25]
["GUÁCIMO",141,71,50.354609929078009,70,49.645390070921984,70,35,50,35,50,71,36,50.704225352112672,35,49.295774647887328]
[]
[]
[{"$f":"+'G3'!A34","v":"Fuente: Departamento de Registro de Partidos Políticos, base de datos de Candidaturas 2020, Tribunal Supremo de Elecciones."}]

{"sheet":"C25","index":31,"n_rows":93,"n_cols":16,"rows_kept":93,"cut":false,"hidden":false,"merged":[[0,0,0,15],[1,0,1,15],[2,0,2,15],[5,11,6,11],[5,12,5,13],[5,14,5,15],[4,0,6,0],[4,1,4,5],[4,6,4,10],[4,11,4,15],[5,1,6,1],[5,2,5,3],[5,4,5,5],[5,6,6,6],[5,7,5,8],[5,9,5,10]]}
["CUADRO 25 COSTA RICA: CANDIDATURAS A SÍNDICATURAS EN PROPIEDAD Y SUPLENCIA POR SEXO, SEGÚN PARTIDO POLÍTICO"]
["ELECCIONES MUNICIPALES 2 DE FEBRERO 2020"]
["(CIFRAS ABSOLUTAS Y RELATIVAS)"]
[]
["PARTIDO POLÍTICO","SÍNDICATURAS",null,null,null,null,"EN PROPIEDAD",null,null,null,null,"EN SUPLENCIA"]
["PARTIDO POLITICO","TOTAL","HOMBRES",null,"MUJERES",null,"TOTAL","HOMBRES",null,"MUJERES",null,"TOTAL","HOMBRES",null,"MUJERES"]
[null,"ABS","ABS","%","ABS","%","ABS","ABS","%","ABS","%","ABS","ABS","%","ABS","%"]
[]
["TOTAL",{"$f":"SUM(B11:B90)","v":6760},{"$f":"SUM(C11:C90)","v":3406},{"$f":"C9/B9*100","v":50.384615384615387},{"$f":"SUM(E11:E90)","v":3354},{"$f":"E9/B9*100","v":49.615384615384613},{"$f":"SUM(G11:G90)","v":3692},{"$f":"SUM(H11:H90)","v":2269},{"$f":"H9/G9*100","v":61.457204767063921},{"$f":"SUM(J11:J90)","v":1423},{"$f":"J9/G9*100","v":38.542795232936079},{"$f":"SUM(L11:L90)","v":3068},{"$f":"SUM(M11:M90)","v":1137},{"$f":"M9/L9*100","v":37.059973924380699},{"$f":"SUM(O11:O90)","v":1931},{"$f":"O9/L9*100","v":62.940026075619294}]
[]
["ACCESIBILIDAD SIN EXCLUSIÓN",{"$f":"+C11+E11","v":38},{"$f":"+H11+M11","v":19},{"$f":"C11/B11*100","v":50},{"$f":"+J11+O11","v":19},{"$f":"E11/B11*100","v":50},{"$f":"+H11+J11","v":20},13,{"$f":"H11/G11*100","v":65},7,{"$f":"J11/G11*100","v":35},{"$f":"+M11+O11","v":18},6,{"$f":"M11/L11*100","v":33.333333333333329},12,{"$f":"O11/L11*100","v":66.666666666666657}]
["ACCIÓN CANTONAL SIQUIRRES INDEPENDIENTE",{"$f":"+C12+E12","v":14},{"$f":"+H12+M12","v":7},{"$f":"C12/B12*100","v":50},{"$f":"+J12+O12","v":7},{"$f":"E12/B12*100","v":50},{"$f":"+H12+J12","v":7},6,{"$f":"H12/G12*100","v":85.714285714285708},1,{"$f":"J12/G12*100","v":14.285714285714285},{"$f":"+M12+O12","v":7},1,{"$f":"M12/L12*100","v":14.285714285714285},6,{"$f":"O12/L12*100","v":85.714285714285708}]
["ACCIÓN CIUDADANA",479,238,49.686847599164928,241,50.313152400835072,265,133,50.188679245283019,132,49.811320754716981,214,105,49.065420560747661,109,50.934579439252339]
["ACCIÓN NARANJEÑA",14,7,50,7,50,8,6,75,2,25,6,1,16.666666666666664,5,83.333333333333343]
["ACTUEMOS YA",62,32,51.612903225806448,30,48.387096774193552,33,27,81.818181818181827,6,18.181818181818183,29,5,17.241379310344829,24,82.758620689655174]
["ACUERDO DE ALIANZA DE QUEPOS",5,3,60,2,40,3,3,100,0,0,2,0,0,2,100]
["ALIANZA DEMÓCRATA CRISTIANA",168,87,51.785714285714292,81,48.214285714285715,96,57,59.375,39,40.625,72,30,41.666666666666671,42,58.333333333333336]
["ALIANZA POR PALMARES",14,7,50,7,50,7,3,42.857142857142854,4,57.142857142857139,7,4,57.142857142857139,3,42.857142857142854]
["ALIANZA POR SAN JOSÉ",22,11,50,11,50,11,5,45.454545454545453,6,54.54545454545454,11,6,54.54545454545454,5,45.454545454545453]
["ALIANZA POR SARCHÍ",10,5,50,5,50,5,3,60,2,40,5,2,40,3,60]
["ALIANZA SOCIAL POR LA UNIÓN",15,7,46.666666666666664,8,53.333333333333336,8,4,50,4,50,7,3,42.857142857142854,4,57.142857142857139]
["ANTICORRUPCIÓN COSTARRICENSE",8,4,50,4,50,5,3,60,2,40,3,1,33.333333333333329,2,66.666666666666657]
["AUTÉNTICO LABRADOR DE CORONADO",8,4,50,4,50,5,2,40,3,60,3,2,66.666666666666657,1,33.333333333333329]
["AUTÉNTICO LIMONENSE",20,10,50,10,50,10,5,50,5,50,10,5,50,5,50]
["AUTÉNTICO SANTACRUCEÑO",18,9,50,9,50,9,3,33.333333333333329,6,66.666666666666657,9,6,66.666666666666657,3,33.333333333333329]
["AUTÉNTICO SIQUIRREÑO",8,4,50,4,50,5,2,40,3,60,3,2,66.666666666666657,1,33.333333333333329]
["AUTÓNOMO OROMONTANO",6,3,50,3,50,3,2,66.666666666666657,1,33.333333333333329,3,1,33.333333333333329,2,66.666666666666657]
["AVANCE MONTES DE OCA",6,3,50,3,50,3,1,33.333333333333329,2,66.666666666666657,3,2,66.666666666666657,1,33.333333333333329]
["AVANTE POCOCÍ",11,5,45.454545454545453,6,54.54545454545454,7,4,57.142857142857139,3,42.857142857142854,4,1,25,3,75]
["BARVA UNIDA",10,6,60,4,40,6,3,50,3,50,4,3,75,1,25]
["CANTONAL DE CARRILLO",8,4,50,4,50,4,2,50,2,50,4,2,50,2,50]
["COALICIÓN ALIANZA POR NICOYA",12,6,50,6,50,7,3,42.857142857142854,4,57.142857142857139,5,3,60,2,40]
["COALICIÓN ASERRI DE TODOS",11,6,54.54545454545454,5,45.454545454545453,7,3,42.857142857142854,4,57.142857142857139,4,3,75,1,25]
["COALICIÓN GENTE MONTES DE OCA",5,2,40,3,60,3,1,33.333333333333329,2,66.666666666666657,2,1,50,1,50]
["COALICIÓN JUNTOS",17,9,52.941176470588239,8,47.058823529411761,9,5,55.555555555555557,4,44.444444444444443,8,4,50,4,50]
["COALICIÓN UNIDAD POR FLORES",6,3,50,3,50,3,2,66.666666666666657,1,33.333333333333329,3,1,33.333333333333329,2,66.666666666666657]
["COALICIÓN UNIÓN BELEMITA",6,3,50,3,50,3,2,66.666666666666657,1,33.333333333333329,3,1,33.333333333333329,2,66.666666666666657]
["COMUNAL UNIDO",115,55,47.826086956521742,60,52.173913043478258,61,28,45.901639344262293,33,54.098360655737707,54,27,50,27,50]
["CURRIDABAT SIGLO XXI",8,4,50,4,50,4,2,50,2,50,4,2,50,2,50]
["DEL SOL",9,4,44.444444444444443,5,55.555555555555557,5,3,60,2,40,4,1,25,3,75]
["DESARROLLO TALAMANQUEÑO",7,4,57.142857142857139,3,42.857142857142854,4,3,75,1,25,3,1,33.333333333333329,2,66.666666666666657]
["DESPERTAR ALAJUELENSE",28,14,50,14,50,14,8,57.142857142857139,6,42.857142857142854,14,6,42.857142857142854,8,57.142857142857139]
["ECOLÓGICO COMUNAL COSTARRICENSE",25,13,52,12,48,13,6,46.153846153846153,7,53.846153846153847,12,7,58.333333333333336,5,41.666666666666671]
["FRENTE AMPLIO",231,116,50.216450216450212,115,49.783549783549788,136,70,51.470588235294116,66,48.529411764705884,95,46,48.421052631578945,49,51.578947368421055]
["FUERZA SARCHISEÑA",8,5,62.5,3,37.5,5,3,60,2,40,3,2,66.666666666666657,1,33.333333333333329]
["GUANACASTE PRIMERO",13,7,53.846153846153847,6,46.153846153846153,7,4,57.142857142857139,3,42.857142857142854,6,3,50,3,50]
["INNOVACIÓN CANTONAL",7,5,71.428571428571431,2,28.571428571428569,5,4,80,1,20,2,1,50,1,50]
["INTEGRACIÓN NACIONAL",270,137,50.74074074074074,133,49.25925925925926,156,89,57.051282051282051,67,42.948717948717949,114,48,42.105263157894733,66,57.894736842105267]
["IZQUIERDA COSTARRICENSE",14,7,50,7,50,11,6,54.54545454545454,5,45.454545454545453,3,1,33.333333333333329,2,66.666666666666657]
["JUSTICIA SOCIAL",6,3,50,3,50,3,1,33.333333333333329,2,66.666666666666657,3,2,66.666666666666657,1,33.333333333333329]
["JUSTICIA SOCIAL COSTARRICENSE",38,20,52.631578947368418,18,47.368421052631575,21,13,61.904761904761905,8,38.095238095238095,17,7,41.17647058823529,10,58.82352941176471]
["LA FUERZA DE LA UNIÓN",8,4,50,4,50,5,4,80,1,20,3,0,0,3,100]
["LA GRAN NICOYA",11,5,45.454545454545453,6,54.54545454545454,7,4,57.142857142857139,3,42.857142857142854,4,1,25,3,75]
["LIBERACIÓN NACIONAL",960,481,50.104166666666671,479,49.895833333333336,485,314,64.742268041237111,171,35.257731958762889,475,167,35.157894736842103,308,64.84210526315789]
["LIBERAL PROGRESISTA",61,31,50.819672131147541,30,49.180327868852459,34,23,67.64705882352942,11,32.352941176470587,27,8,29.629629629629626,19,70.370370370370367]
["MOVIMIENTO AVANCE SANTO DOMINGO",13,7,53.846153846153847,6,46.153846153846153,8,5,62.5,3,37.5,5,2,40,3,60]
["NANDAYURE PROGRESA",11,6,54.54545454545454,5,45.454545454545453,6,5,83.333333333333343,1,16.666666666666664,5,1,20,4,80]
["NUESTRO PUEBLO",127,61,48.031496062992126,66,51.968503937007867,68,39,57.352941176470587,29,42.647058823529413,59,22,37.288135593220339,37,62.711864406779661]
["NUEVA GENERACIÓN",356,176,49.438202247191008,180,50.561797752808992,193,127,65.803108808290162,66,34.196891191709845,163,49,30.061349693251532,114,69.938650306748457]
["NUEVA MAYORÍA GRIEGA",14,7,50,7,50,7,3,42.857142857142854,4,57.142857142857139,7,4,57.142857142857139,3,42.857142857142854]
["NUEVA REPÚBLICA",633,332,52.448657187993689,301,47.551342812006318,372,239,64.247311827956992,133,35.752688172043015,261,93,35.632183908045981,168,64.367816091954026]
["PALMARES PRIMERO",2,1,50,1,50,1,0,0,1,100,1,1,100,0,0]
["PROGRESER",26,13,50,13,50,13,10,76.923076923076934,3,23.076923076923077,13,3,23.076923076923077,10,76.923076923076934]
["PURISCAL EN MARCHA",18,9,50,9,50,9,4,44.444444444444443,5,55.555555555555557,9,5,55.555555555555557,4,44.444444444444443]
["RECUPERANDO VALORES",39,19,48.717948717948715,20,51.282051282051277,21,9,42.857142857142854,12,57.142857142857139,18,10,55.555555555555557,8,44.444444444444443]
["RENOVACIÓN COSTARRICENSE",36,16,44.444444444444443,20,55.555555555555557,23,11,47.826086956521742,12,52.173913043478258,13,5,38.461538461538467,8,61.53846153846154]
["REPUBLICANO SOCIAL CRISTIANO",474,236,49.789029535864984,238,50.210970464135016,260,161,61.923076923076927,99,38.076923076923073,214,75,35.046728971962615,139,64.953271028037392]
["RESCATE CANTONAL LA UNIÓN",16,8,50,8,50,8,6,75,2,25,8,2,25,6,75]
["RESTAURACIÓN NACIONAL",565,286,50.619469026548671,279,49.380530973451329,319,202,63.322884012539184,117,36.677115987460816,246,84,34.146341463414636,162,65.853658536585371]
["RESTAURACIÓN PARRITEÑA",1,1,100,0,0,1,1,100,0,0,0,0,0,0,0]
["SENTIR HEREDIA",8,4,50,4,50,4,2,50,2,50,4,2,50,2,50]
["SOMOS MORAVIA",6,3,50,3,50,3,1,33.333333333333329,2,66.666666666666657,3,2,66.666666666666657,1,33.333333333333329]
["SOMOS SARCHÍ",8,4,50,4,50,4,3,75,1,25,4,1,25,3,75]
["TARRAZÚ PRIMERO",6,3,50,3,50,3,2,66.666666666666657,1,33.333333333333329,3,1,33.333333333333329,2,66.666666666666657]
["TODOS POR GOICOECHEA",14,7,50,7,50,7,5,71.428571428571431,2,28.571428571428569,7,2,28.571428571428569,5,71.428571428571431]
["TURRIALBA PRIMERO",{"$f":"+C76+E76","v":24},{"$f":"+H76+M76","v":12},{"$f":"C76/B76*100","v":50},{"$f":"+J76+O76","v":12},{"$f":"E76/B76*100","v":50},{"$f":"+H76+J76","v":12},9,{"$f":"H76/G76*100","v":75},3,{"$f":"J76/G76*100","v":25},{"$f":"+M76+O76","v":12},3,{"$f":"M76/L76*100","v":25},9,{"$f":"O76/L76*100","v":75}]
["ÚNICO ABANGAREÑO",7,4,57.142857142857139,3,42.857142857142854,4,3,75,1,25,3,1,33.333333333333329,2,66.666666666666657]
["UNIDAD SOCIAL CRISTIANA",797,400,50.188205771643666,397,49.811794228356341,410,279,68.048780487804876,131,31.951219512195124,387,121,31.266149870801037,266,68.73385012919897]
["UNIDOS PARA EL DESARROLLO",12,6,50,6,50,6,2,33.333333333333329,4,66.666666666666657,6,4,66.666666666666657,2,33.333333333333329]
["UNIDOS PODEMOS",527,265,50.284629981024665,262,49.715370018975328,289,187,64.705882352941174,102,35.294117647058826,238,78,32.773109243697476,160,67.226890756302524]
["UNIDOS POR ESCAZÚ",5,2,40,3,60,3,2,66.666666666666657,1,33.333333333333329,2,0,0,2,100]
["UNIÓN ATENIENSE",16,8,50,8,50,8,7,87.5,1,12.5,8,1,12.5,7,87.5]
["UNIÓN DE PUNTARENENSES EMPRENDEDORES",24,13,54.166666666666664,11,45.833333333333329,13,7,53.846153846153847,6,46.153846153846153,11,6,54.54545454545454,5,45.454545454545453]
["UNIÓN DOMINGUEÑA",10,6,60,4,40,6,3,50,3,50,4,3,75,1,25]
["UNIÓN GRIEGA",12,7,58.333333333333336,5,41.666666666666671,7,4,57.142857142857139,3,42.857142857142854,5,3,60,2,40]
["UNIÓN GUANACASTECA",62,30,48.387096774193552,32,51.612903225806448,34,17,50,17,50,28,13,46.428571428571431,15,53.571428571428569]
["UNIÓN GUARQUEÑO",7,3,42.857142857142854,4,57.142857142857139,4,3,75,1,25,3,0,0,3,100]
["VERDE ECOLOGISTA",52,26,50,26,50,32,21,65.625,11,34.375,20,5,25,15,75]
["YO SOY EL CAMBIO",6,3,50,3,50,3,1,33.333333333333329,2,66.666666666666657,3,2,66.666666666666657,1,33.333333333333329]
["YUNTA PROGRESISTA ESCAZUCEÑA",6,3,50,3,50,3,1,33.333333333333329,2,66.666666666666657,3,2,66.666666666666657,1,33.333333333333329]
[]
[]
[{"$f":"+'G3'!A34","v":"Fuente: Departamento de Registro de Partidos Políticos, base de datos de Candidaturas 2020, Tribunal Supremo de Elecciones."}]

{"sheet":"C26","index":32,"n_rows":101,"n_cols":21,"rows_kept":101,"cut":false,"hidden":false,"merged":[[0,0,0,15],[1,0,1,15],[2,0,2,15],[4,0,6,0],[5,6,6,6],[5,11,6,11],[5,1,6,1],[4,1,4,5]]}
["CUADRO 26 COSTA RICA: CANDIDATURA A SÍNDICATURAS EN PROPIEDAD Y SUPLENCIA POR SEXO, SEGÚN PROVINCIA Y CANTÓN"]
[" ELECCIONES MUNICIPALES 2 DE FEBRERO 2020"]
["(CIFRAS ABSOLUTAS Y RELATIVAS)"]
[]
["PROVINCIA Y CANTÓN ","SINDICATURAS",null,null,null,null,"EN PROPIEDAD",null,null,null,null,"EN SUPLENCIA"]
[null,"TOTAL","HOMBRES",null,"MUJERES",null,"TOTAL","HOMBRES",null,"MUJERES",null,"TOTAL","HOMBRES",null,"MUJERES"]
[null,null,"ABS","%","ABS","%",null,"ABS","%","ABS","%",null,"ABS","%","ABS","%"]
[]
["COSTA RICA",{"$f":"G9+L9","v":6760},{"$f":"H9+M9","v":3406},{"$f":"C9/$B9*100","v":50.384615384615387},{"$f":"J9+O9","v":3354},{"$f":"E9/$B9*100","v":49.615384615384613},{"$f":"+G10+G31+G48+G57+G68+G80+G92","v":3692},{"$f":"+H10+H31+H48+H57+H68+H80+H92","v":2269},{"$f":"H9/$G9*100","v":61.457204767063921},{"$f":"+J10+J31+J48+J57+J68+J80+J92","v":1423},{"$f":"J9/$G9*100","v":38.542795232936079},{"$f":"+L10+L31+L48+L57+L68+L80+L92","v":3068},{"$f":"+M10+M31+M48+M57+M68+M80+M92","v":1137},{"$f":"M9/$L9*100","v":37.059973924380699},{"$f":"+O10+O31+O48+O57+O68+O80+O92","v":1931},{"$f":"O9/$L9*100","v":62.940026075619294}," "," ","Cargo"]
["PROVINCIA SAN JOSÉ",{"$f":"+G10+L10","v":1699},{"$f":"+H10+M10","v":852},{"$f":"C10/$B10*100","v":50.147145379635084},{"$f":"+J10+O10","v":847},{"$f":"E10/$B10*100","v":49.852854620364923},{"$f":"SUM(G11:G30)","v":943},{"$f":"SUM(H11:H30)","v":543},{"$f":"H10/$G10*100","v":57.582184517497346},{"$f":"SUM(J11:J30)","v":400},{"$f":"J10/$G10*100","v":42.417815482502654},{"$f":"SUM(L11:L30)","v":756},{"$f":"SUM(M11:M30)","v":309},{"$f":"M10/$L10*100","v":40.873015873015873},{"$f":"SUM(O11:O30)","v":447},{"$f":"O10/$L10*100","v":59.126984126984127},null,null,"Sexo",null,"Total"]
["SAN JOSÉ",{"$f":"+G11+L11","v":250},{"$f":"+H11+M11","v":128},{"$f":"C11/$B11*100","v":51.2},{"$f":"+J11+O11","v":122},{"$f":"E11/$B11*100","v":48.8},{"$f":"+H11+J11","v":144},83,{"$f":"H11/$G11*100","v":57.638888888888886},61,{"$f":"J11/$G11*100","v":42.361111111111107},{"$f":"+M11+O11","v":106},45,{"$f":"M11/$L11*100","v":42.452830188679243},61,{"$f":"O11/$L11*100","v":57.547169811320757},null,null,"HOMBRE","MUJER"]
["ESCAZÚ",{"$f":"+G12+L12","v":50},{"$f":"+H12+M12","v":25},{"$f":"C12/$B12*100","v":50},{"$f":"+J12+O12","v":25},{"$f":"E12/$B12*100","v":50},{"$f":"+H12+J12","v":27},17,{"$f":"H12/$G12*100","v":62.962962962962962},10,{"$f":"J12/$G12*100","v":37.037037037037038},{"$f":"+M12+O12","v":23},8,{"$f":"M12/$L12*100","v":34.782608695652172},15,{"$f":"O12/$L12*100","v":65.217391304347828}]
["DESAMPARADOS",245,121,49.387755102040813,124,50.612244897959179,133,65,48.872180451127818,68,51.127819548872175,112,56,50,56,50]
["PURISCAL",112,59,52.678571428571431,53,47.321428571428569,62,32,51.612903225806448,30,48.387096774193552,50,27,54,23,46]
["TARRAZÚ",38,19,50,19,50,19,16,84.210526315789465,3,15.789473684210526,19,3,15.789473684210526,16,84.210526315789465]
["ASERRÍ",64,31,48.4375,33,51.5625,41,26,63.414634146341463,15,36.585365853658537,23,5,21.739130434782609,18,78.260869565217391]
["MORA",65,32,49.230769230769234,33,50.769230769230766,35,19,54.285714285714285,16,45.714285714285715,30,13,43.333333333333336,17,56.666666666666664]
["GOICOECHEA",171,86,50.292397660818708,85,49.707602339181285,93,52,55.913978494623649,41,44.086021505376344,78,34,43.589743589743591,44,56.410256410256409]
["SANTA ANA",103,49,47.572815533980581,54,52.427184466019419,60,31,51.666666666666671,29,48.333333333333336,43,18,41.860465116279073,25,58.139534883720934]
["ALAJUELITA",80,40,50,40,50,45,27,60,18,40,35,13,37.142857142857146,22,62.857142857142854]
["VÁZQUEZ DE CORONADO",73,37,50.684931506849317,36,49.315068493150683,41,24,58.536585365853654,17,41.463414634146339,32,13,40.625,19,59.375]
["ACOSTA",24,14,58.333333333333336,10,41.666666666666671,14,11,78.571428571428569,3,21.428571428571427,10,3,30,7,70]
["TIBÁS",58,29,50,29,50,30,15,50,15,50,28,14,50,14,50]
["MORAVIA",53,26,49.056603773584904,27,50.943396226415096,28,16,57.142857142857139,12,42.857142857142854,25,10,40,15,60]
["MONTES DE OCA",62,31,50,31,50,32,13,40.625,19,59.375,30,18,60,12,40]
["TURRUBARES",21,10,47.619047619047613,11,52.380952380952387,12,7,58.333333333333336,5,41.666666666666671,9,3,33.333333333333329,6,66.666666666666657]
["DOTA",14,7,50,7,50,7,3,42.857142857142854,4,57.142857142857139,7,4,57.142857142857139,3,42.857142857142854]
["CURRIDABAT",53,26,49.056603773584904,27,50.943396226415096,31,20,64.516129032258064,11,35.483870967741936,22,6,27.27272727272727,16,72.727272727272734]
["PÉREZ ZELEDÓN",141,71,50.354609929078009,70,49.645390070921984,77,59,76.623376623376629,18,23.376623376623375,64,12,18.75,52,81.25]
["LEÓN CORTÉS CASTRO",22,11,50,11,50,12,7,58.333333333333336,5,41.666666666666671,10,4,40,6,60]
["PROVINCIA ALAJUELA",{"$f":"+G31+L31","v":1469},{"$f":"+H31+M31","v":736},{"$f":"C31/$B31*100","v":50.102110279101431},{"$f":"+J31+O31","v":733},{"$f":"E31/$B31*100","v":49.897889720898569},{"$f":"+H31+J31","v":786},{"$f":"SUM(H32:H47)","v":496},{"$f":"H31/$G31*100","v":63.104325699745544},{"$f":"SUM(J32:J47)","v":290},{"$f":"J31/$G31*100","v":36.895674300254456},{"$f":"+M31+O31","v":683},{"$f":"SUM(M32:M47)","v":240},{"$f":"M31/$L31*100","v":35.13909224011713},{"$f":"SUM(O32:O47)","v":443},{"$f":"O31/$L31*100","v":64.860907759882863}]
["ALAJUELA",{"$f":"+G32+L32","v":234},{"$f":"+H32+M32","v":117},{"$f":"C32/$B32*100","v":50},{"$f":"+J32+O32","v":117},{"$f":"E32/$B32*100","v":50},{"$f":"+H32+J32","v":125},83,{"$f":"H32/$G32*100","v":66.400000000000006},42,{"$f":"J32/$G32*100","v":33.6},{"$f":"+M32+O32","v":109},34,{"$f":"M32/$L32*100","v":31.192660550458719},75,{"$f":"O32/$L32*100","v":68.807339449541288}]
["SAN RAMÓN",{"$f":"+G33+L33","v":161},{"$f":"+H33+M33","v":78},{"$f":"C33/$B33*100","v":48.447204968944099},{"$f":"+J33+O33","v":83},{"$f":"E33/$B33*100","v":51.552795031055901},{"$f":"+H33+J33","v":86},52,{"$f":"H33/$G33*100","v":60.465116279069761},34,{"$f":"J33/$G33*100","v":39.534883720930232},{"$f":"+M33+O33","v":75},26,{"$f":"M33/$L33*100","v":34.666666666666671},49,{"$f":"O33/$L33*100","v":65.333333333333329}]
["GRECIA",106,53,50,53,50,57,28,49.122807017543856,29,50.877192982456144,49,25,51.020408163265309,24,48.979591836734691]
["SAN MATEO",33,17,51.515151515151516,16,48.484848484848484,19,8,42.105263157894733,11,57.894736842105267,14,9,64.285714285714292,5,35.714285714285715]
["ATENAS",120,60,50,60,50,63,41,65.079365079365076,22,34.920634920634917,57,19,33.333333333333329,38,66.666666666666657]
["NARANJO",112,55,49.107142857142854,57,50.892857142857139,63,41,65.079365079365076,22,34.920634920634917,49,14,28.571428571428569,35,71.428571428571431]
["PALMARES",87,47,54.022988505747129,40,45.977011494252871,47,30,63.829787234042556,17,36.170212765957451,40,17,42.5,23,57.499999999999993]
["POÁS",49,27,55.102040816326522,22,44.897959183673471,27,15,55.555555555555557,12,44.444444444444443,22,12,54.54545454545454,10,45.454545454545453]
["OROTINA",52,26,50,26,50,26,13,50,13,50,26,13,50,13,50]
["SAN CARLOS",226,111,49.115044247787608,115,50.884955752212392,118,82,69.491525423728817,36,30.508474576271187,108,29,26.851851851851855,79,73.148148148148152]
["ZARCERO",54,28,51.851851851851848,26,48.148148148148145,30,20,66.666666666666657,10,33.333333333333329,24,8,33.333333333333329,16,66.666666666666657]
["SARCHÍ",65,33,50.769230769230766,32,49.230769230769234,35,23,65.714285714285708,12,34.285714285714285,30,10,33.333333333333329,20,66.666666666666657]
["UPALA",68,33,48.529411764705884,35,51.470588235294116,37,23,62.162162162162161,14,37.837837837837839,31,10,32.258064516129032,21,67.741935483870961]
["LOS CHILES",27,13,48.148148148148145,14,51.851851851851848,15,7,46.666666666666664,8,53.333333333333336,12,6,50,6,50]
["GUATUSO",33,17,51.515151515151516,16,48.484848484848484,17,14,82.35294117647058,3,17.647058823529413,16,3,18.75,13,81.25]
["RIO CUARTO",42,21,50,21,50,21,16,76.19047619047619,5,23.809523809523807,21,5,23.809523809523807,16,76.19047619047619]
["PROVINCIA CARTAGO",{"$f":"+G48+L48","v":917},{"$f":"+H48+M48","v":464},{"$f":"C48/$B48*100","v":50.599781897491823},{"$f":"+J48+O48","v":453},{"$f":"E48/$B48*100","v":49.400218102508184},{"$f":"+H48+J48","v":496},{"$f":"SUM(H49:H56)","v":332},{"$f":"H48/$G48*100","v":66.935483870967744},{"$f":"SUM(J49:J56)","v":164},{"$f":"J48/$G48*100","v":33.064516129032256},{"$f":"+M48+O48","v":421},{"$f":"SUM(M49:M56)","v":132},{"$f":"M48/$L48*100","v":31.353919239904986},{"$f":"SUM(O49:O56)","v":289},{"$f":"O48/$L48*100","v":68.646080760095003}]
["CARTAGO",{"$f":"+G49+L49","v":200},{"$f":"+H49+M49","v":101},{"$f":"C49/$B49*100","v":50.5},{"$f":"+J49+O49","v":99},{"$f":"E49/$B49*100","v":49.5},{"$f":"+H49+J49","v":112},80,{"$f":"H49/$G49*100","v":71.428571428571431},32,{"$f":"J49/$G49*100","v":28.571428571428569},{"$f":"+M49+O49","v":88},21,{"$f":"M49/$L49*100","v":23.863636363636363},67,{"$f":"O49/$L49*100","v":76.13636363636364}]
["PARAÍSO",{"$f":"+G50+L50","v":110},{"$f":"+H50+M50","v":57},{"$f":"C50/$B50*100","v":51.81818181818182},{"$f":"+J50+O50","v":53},{"$f":"E50/$B50*100","v":48.18181818181818},{"$f":"+H50+J50","v":58},46,{"$f":"H50/$G50*100","v":79.310344827586206},12,{"$f":"J50/$G50*100","v":20.689655172413794},{"$f":"+M50+O50","v":52},11,{"$f":"M50/$L50*100","v":21.153846153846153},41,{"$f":"O50/$L50*100","v":78.84615384615384}]
["LA UNIÓN",202,102,50.495049504950494,100,49.504950495049506,110,65,59.090909090909093,45,40.909090909090914,92,37,40.217391304347828,55,59.782608695652172]
["JIMÉNEZ",34,16,47.058823529411761,18,52.941176470588239,19,14,73.68421052631578,5,26.315789473684209,15,2,13.333333333333334,13,86.666666666666671]
["TURRIALBA",197,101,51.26903553299492,96,48.73096446700508,102,67,65.686274509803923,35,34.313725490196077,95,34,35.789473684210527,61,64.21052631578948]
["ALVARADO",36,19,52.777777777777779,17,47.222222222222221,21,14,66.666666666666657,7,33.333333333333329,15,5,33.333333333333329,10,66.666666666666657]
["OREAMUNO",73,38,52.054794520547944,35,47.945205479452049,39,26,66.666666666666657,13,33.333333333333329,34,12,35.294117647058826,22,64.705882352941174]
["EL GUARCO",65,30,46.153846153846153,35,53.846153846153847,35,20,57.142857142857139,15,42.857142857142854,30,10,33.333333333333329,20,66.666666666666657]
["PROVINCIA HEREDIA",{"$f":"+G57+L57","v":595},{"$f":"+H57+M57","v":305},{"$f":"C57/$B57*100","v":51.260504201680668},{"$f":"+J57+O57","v":290},{"$f":"E57/$B57*100","v":48.739495798319325},{"$f":"+H57+J57","v":335},{"$f":"SUM(H58:H67)","v":195},{"$f":"H57/$G57*100","v":58.208955223880601},{"$f":"SUM(J58:J67)","v":140},{"$f":"J57/$G57*100","v":41.791044776119399},{"$f":"+M57+O57","v":260},{"$f":"SUM(M58:M67)","v":110},{"$f":"M57/$L57*100","v":42.307692307692307},{"$f":"SUM(O58:O67)","v":150},{"$f":"O57/$L57*100","v":57.692307692307686}]
["HEREDIA",{"$f":"+G58+L58","v":84},{"$f":"+H58+M58","v":42},{"$f":"C58/$B58*100","v":50},{"$f":"+J58+O58","v":42},{"$f":"E58/$B58*100","v":50},{"$f":"+H58+J58","v":45},26,{"$f":"H58/$G58*100","v":57.777777777777771},19,{"$f":"J58/$G58*100","v":42.222222222222221},{"$f":"+M58+O58","v":39},16,{"$f":"M58/$L58*100","v":41.025641025641022},23,{"$f":"O58/$L58*100","v":58.974358974358978}]
["BARVA",{"$f":"+G59+L59","v":96},{"$f":"+H59+M59","v":52},{"$f":"C59/$B59*100","v":54.166666666666664},{"$f":"+J59+O59","v":44},{"$f":"E59/$B59*100","v":45.833333333333329},{"$f":"+H59+J59","v":54},32,{"$f":"H59/$G59*100","v":59.259259259259252},22,{"$f":"J59/$G59*100","v":40.74074074074074},{"$f":"+M59+O59","v":42},20,{"$f":"M59/$L59*100","v":47.619047619047613},22,{"$f":"O59/$L59*100","v":52.380952380952387}]
["SANTO DOMINGO",84,44,52.380952380952387,40,47.619047619047613,48,27,56.25,21,43.75,36,17,47.222222222222221,19,52.777777777777779]
["SANTA BÁRBARA",87,45,51.724137931034484,42,48.275862068965516,52,28,53.846153846153847,24,46.153846153846153,35,17,48.571428571428569,18,51.428571428571423]
["SAN RAFAEL",60,28,46.666666666666664,32,53.333333333333336,34,17,50,17,50,26,11,42.307692307692307,15,57.692307692307686]
["SAN ISIDRO",36,19,52.777777777777779,17,47.222222222222221,20,14,70,6,30,16,5,31.25,11,68.75]
["BELÉN",24,11,45.833333333333329,13,54.166666666666664,15,6,40,9,60,9,5,55.555555555555557,4,44.444444444444443]
["FLORES",30,15,50,15,50,16,10,62.5,6,37.5,14,5,35.714285714285715,9,64.285714285714292]
["SAN PABLO",{"$f":"+G66+L66","v":18},9,50,{"$f":"+J66+O66","v":9},50,10,5,50,5,50,8,4,50,4,50]
["SARAPIQUÍ",76,40,{"$f":"C67/$B67*100","v":52.631578947368418},{"$f":"+J67+O67","v":36},{"$f":"E67/$B67*100","v":47.368421052631575},{"$f":"+H67+J67","v":41},30,{"$f":"H67/$G67*100","v":73.170731707317074},11,{"$f":"J67/$G67*100","v":26.829268292682929},{"$f":"+M67+O67","v":35},10,{"$f":"M67/$L67*100","v":28.571428571428569},25,{"$f":"O67/$L67*100","v":71.428571428571431}]
["PROVINCIA GUANACASTE",779,386,{"$f":"C68/$B68*100","v":49.550706033376123},{"$f":"+J68+O68","v":393},{"$f":"E68/$B68*100","v":50.449293966623877},{"$f":"+H68+J68","v":425},{"$f":"SUM(H69:H79)","v":262},{"$f":"H68/$G68*100","v":61.647058823529413},{"$f":"SUM(J69:J79)","v":163},{"$f":"J68/$G68*100","v":38.352941176470587},{"$f":"+M68+O68","v":354},{"$f":"SUM(M69:M79)","v":124},{"$f":"M68/$L68*100","v":35.028248587570623},{"$f":"SUM(O69:O79)","v":230},{"$f":"O68/$L68*100","v":64.971751412429384}]
["LIBERIA",86,43,{"$f":"C69/$B69*100","v":50},{"$f":"+J69+O69","v":43},{"$f":"E69/$B69*100","v":50},{"$f":"+H69+J69","v":48},27,{"$f":"H69/$G69*100","v":56.25},21,{"$f":"J69/$G69*100","v":43.75},{"$f":"+M69+O69","v":38},16,{"$f":"M69/$L69*100","v":42.105263157894733},22,{"$f":"O69/$L69*100","v":57.894736842105267}]
["NICOYA",{"$f":"+G70+L70","v":117},{"$f":"+H70+M70","v":57},{"$f":"C70/$B70*100","v":48.717948717948715},{"$f":"+J70+O70","v":60},{"$f":"E70/$B70*100","v":51.282051282051277},{"$f":"+H70+J70","v":66},39,{"$f":"H70/$G70*100","v":59.090909090909093},27,{"$f":"J70/$G70*100","v":40.909090909090914},{"$f":"+M70+O70","v":51},18,{"$f":"M70/$L70*100","v":35.294117647058826},33,{"$f":"O70/$L70*100","v":64.705882352941174}]
["SANTA CRUZ",145,72,49.655172413793103,73,50.344827586206897,80,47,58.75,33,41.25,65,25,38.461538461538467,40,61.53846153846154]
["BAGACES",55,27,49.090909090909093,28,50.909090909090907,30,11,36.666666666666664,19,63.333333333333329,25,16,64,9,36]
["CARRILLO",55,27,49.090909090909093,28,50.909090909090907,28,14,50,14,50,27,13,48.148148148148145,14,51.851851851851848]
["CAÑAS",61,30,49.180327868852459,31,50.819672131147541,32,20,62.5,12,37.5,29,10,34.482758620689658,19,65.517241379310349]
["ABANGARES",64,32,50,32,50,34,25,73.529411764705884,9,26.47058823529412,30,7,23.333333333333332,23,76.666666666666671]
["TILARÁN",47,24,51.063829787234042,23,48.936170212765958,26,20,76.923076923076934,6,23.076923076923077,21,4,19.047619047619047,17,80.952380952380949]
["NANDAYURE",74,37,50,37,50,40,34,85,6,15,34,3,8.8235294117647065,31,91.17647058823529]
["LA CRUZ",49,23,46.938775510204081,26,53.061224489795919,27,16,59.259259259259252,11,40.74074074074074,22,7,31.818181818181817,15,68.181818181818173]
["HOJANCHA",26,14,53.846153846153847,12,46.153846153846153,14,9,64.285714285714292,5,35.714285714285715,12,5,41.666666666666671,7,58.333333333333336]
["PROVINCIA PUNTARENAS",{"$f":"+G80+L80","v":697},{"$f":"+H80+M80","v":355},{"$f":"C80/$B80*100","v":50.932568149210901},{"$f":"+J80+O80","v":342},{"$f":"E80/$B80*100","v":49.067431850789092},{"$f":"+H80+J80","v":373},{"$f":"SUM(H81:H91)","v":253},{"$f":"H80/$G80*100","v":67.828418230563003},{"$f":"SUM(J81:J91)","v":120},{"$f":"J80/$G80*100","v":32.171581769436997},{"$f":"+M80+O80","v":324},{"$f":"SUM(M81:M91)","v":102},{"$f":"M80/$L80*100","v":31.481481481481481},{"$f":"SUM(O81:O91)","v":222},{"$f":"O80/$L80*100","v":68.518518518518519}]
["PUNTARENAS",{"$f":"+G81+L81","v":196},{"$f":"+H81+M81","v":98},{"$f":"C81/$B81*100","v":50},{"$f":"+J81+O81","v":98},{"$f":"E81/$B81*100","v":50},{"$f":"+H81+J81","v":105},71,{"$f":"H81/$G81*100","v":67.61904761904762},34,{"$f":"J81/$G81*100","v":32.38095238095238},{"$f":"+M81+O81","v":91},27,{"$f":"M81/$L81*100","v":29.670329670329672},64,{"$f":"O81/$L81*100","v":70.329670329670336}]
["ESPARZA",{"$f":"+G82+L82","v":66},{"$f":"+H82+M82","v":33},{"$f":"C82/$B82*100","v":50},{"$f":"+J82+O82","v":33},{"$f":"E82/$B82*100","v":50},{"$f":"+H82+J82","v":34},22,{"$f":"H82/$G82*100","v":64.705882352941174},12,{"$f":"J82/$G82*100","v":35.294117647058826},{"$f":"+M82+O82","v":32},11,{"$f":"M82/$L82*100","v":34.375},21,{"$f":"O82/$L82*100","v":65.625}]
["BUENOS AIRES",87,45,51.724137931034484,42,48.275862068965516,46,35,76.08695652173914,11,23.913043478260871,41,10,24.390243902439025,31,75.609756097560975]
["MONTES DE ORO",32,16,50,16,50,17,10,58.82352941176471,7,41.17647058823529,15,6,40,9,60]
["OSA",55,30,54.54545454545454,25,45.454545454545453,31,27,87.096774193548384,4,12.903225806451612,24,3,12.5,21,87.5]
["QUEPOS",62,32,51.612903225806448,30,48.387096774193552,33,20,60.606060606060609,13,39.393939393939391,29,12,41.379310344827587,17,58.620689655172406]
["GOLFITO",61,30,49.180327868852459,31,50.819672131147541,32,17,53.125,15,46.875,29,13,44.827586206896555,16,55.172413793103445]
["COTO BRUS",50,26,52,24,48,27,20,74.074074074074076,7,25.925925925925924,23,6,26.086956521739129,17,73.91304347826086]
["PARRITA",10,6,60,4,40,6,5,83.333333333333343,1,16.666666666666664,4,1,25,3,75]
["CORREDORES",61,30,49.180327868852459,31,50.819672131147541,33,21,63.636363636363633,12,36.363636363636367,28,9,32.142857142857146,19,67.857142857142861]
["GARABITO",17,9,52.941176470588239,8,47.058823529411761,9,5,55.555555555555557,4,44.444444444444443,8,4,50,4,50]
["PROVINCIA LIMÓN",{"$f":"+G92+L92","v":604},308,{"$f":"C92/$B92*100","v":50.993377483443716},{"$f":"+J92+O92","v":296},{"$f":"E92/$B92*100","v":49.006622516556291},{"$f":"+H92+J92","v":334},{"$f":"SUM(H93:H98)","v":188},{"$f":"H92/$G92*100","v":56.287425149700596},{"$f":"SUM(J93:J98)","v":146},{"$f":"J92/$G92*100","v":43.712574850299404},{"$f":"+M92+O92","v":270},{"$f":"SUM(M93:M98)","v":120},{"$f":"M92/$L92*100","v":44.444444444444443},{"$f":"SUM(O93:O98)","v":150},{"$f":"O92/$L92*100","v":55.555555555555557}]
["LIMÓN",76,38,50,38,50,40,20,50,20,50,36,18,50,18,50]
["POCOCÍ",178,91,51.123595505617978,87,48.876404494382022,98,57,58.163265306122447,41,41.836734693877553,80,34,42.5,46,57.499999999999993]
["SIQUIRRES",137,70,51.094890510948908,67,48.9051094890511,77,43,55.844155844155843,34,44.155844155844157,60,27,45,33,55.000000000000007]
["TALAMANCA",70,37,52.857142857142861,33,47.142857142857139,39,27,69.230769230769226,12,30.76923076923077,31,10,32.258064516129032,21,67.741935483870961]
["MATINA",57,28,49.122807017543856,29,50.877192982456144,31,16,51.612903225806448,15,48.387096774193552,26,12,46.153846153846153,14,53.846153846153847]
["GUÁCIMO",86,44,51.162790697674424,42,48.837209302325576,49,25,51.020408163265309,24,48.979591836734691,37,19,51.351351351351347,18,48.648648648648653]
[]
[]
[{"$f":"+'G3'!A34","v":"Fuente: Departamento de Registro de Partidos Políticos, base de datos de Candidaturas 2020, Tribunal Supremo de Elecciones."}]

{"sheet":"C27","index":33,"n_rows":91,"n_cols":16,"rows_kept":91,"cut":false,"hidden":false,"merged":[[0,0,0,15],[1,0,1,15],[2,0,2,15],[5,11,6,11],[5,12,5,13],[5,14,5,15],[4,0,6,0],[4,1,4,5],[4,6,4,10],[4,11,4,15],[5,1,6,1],[5,2,5,3],[5,4,5,5],[5,6,6,6],[5,7,5,8],[5,9,5,10]]}
["                                                                                                                                                                                                                                                                                                                                                                                                                                                                                    "]
[" ELECCIONES MUNICIPALES 2 DE FEBRERO 2020"]
["(CIFRAS ABSOLUTAS Y RELATIVAS)"]
[]
["PARTIDO POLÍTICO","CONCEJALÍAS DE DISTRITO",null,null,null,null,"EN PROPIEDAD",null,null,null,null,"EN SUPLENCIA"]
["PARTIDO POLITICO","TOTAL","HOMBRES",null,"MUJERES",null,"TOTAL","HOMBRES",null,"MUJERES",null,"TOTAL","HOMBRES",null,"MUJERES"]
[null,"ABS","ABS","%","ABS","%","ABS","ABS","%","ABS","%","ABS","ABS","%","ABS","%"]
[]
["TOTAL",{"$f":"SUM(B11:B88)","v":16777},{"$f":"SUM(C11:C88)","v":8351},{"$f":"C9/B9*100","v":49.776479704357158},{"$f":"SUM(E11:E88)","v":8426},{"$f":"E9/B9*100","v":50.223520295642842},{"$f":"SUM(G11:G88)","v":9180},{"$f":"SUM(H11:H88)","v":4603},{"$f":"H9/G9*100","v":50.141612200435723},{"$f":"SUM(J11:J88)","v":4577},{"$f":"J9/G9*100","v":49.858387799564269},{"$f":"SUM(L11:L88)","v":7597},{"$f":"SUM(M11:M88)","v":3748},{"$f":"M9/L9*100","v":49.335263919968412},{"$f":"SUM(O11:O88)","v":3849},{"$f":"O9/L9*100","v":50.664736080031588}]
[]
["ACCESIBILIDAD SIN EXCLUSIÓN",{"$f":"+C11+E11","v":101},{"$f":"+H11+M11","v":49},{"$f":"C11/B11*100","v":48.514851485148512},{"$f":"+J11+O11","v":52},{"$f":"E11/B11*100","v":51.485148514851488},{"$f":"+H11+J11","v":51},25,{"$f":"H11/G11*100","v":49.019607843137251},26,{"$f":"J11/G11*100","v":50.980392156862742},{"$f":"+M11+O11","v":50},24,{"$f":"M11/L11*100","v":48},26,{"$f":"O11/L11*100","v":52}]
["ACCIÓN CANTONAL SIQUIRRES INDEPENDIENTE",{"$f":"+C12+E12","v":33},{"$f":"+H12+M12","v":15},{"$f":"C12/B12*100","v":45.454545454545453},{"$f":"+J12+O12","v":18},{"$f":"E12/B12*100","v":54.54545454545454},{"$f":"+H12+J12","v":20},11,{"$f":"H12/G12*100","v":55.000000000000007},9,{"$f":"J12/G12*100","v":45},{"$f":"+M12+O12","v":13},4,{"$f":"M12/L12*100","v":30.76923076923077},9,{"$f":"O12/L12*100","v":69.230769230769226}]
["ACCIÓN CIUDADANA",1079,538,49.860982391102873,541,50.139017608897127,637,314,49.293563579277865,323,50.706436420722135,442,224,50.678733031674206,218,49.321266968325794]
["ACCIÓN NARANJEÑA",25,11,44,14,56.000000000000007,25,11,44,14,56.000000000000007,0,0,0,0,0]
["ACTUEMOS YA",114,56,49.122807017543856,58,50.877192982456144,66,31,46.969696969696969,35,53.030303030303031,48,25,52.083333333333336,23,47.916666666666671]
["ACUERDO DE ALIANZA DE QUEPOS",23,11,47.826086956521742,12,52.173913043478258,11,5,45.454545454545453,6,54.54545454545454,12,6,50,6,50]
["ALIANZA DEMÓCRATA CRISTIANA",320,162,50.625,158,49.375,180,94,52.222222222222229,86,47.777777777777779,140,68,48.571428571428569,72,51.428571428571423]
["ALIANZA POR PALMARES",55,27,49.090909090909093,28,50.909090909090907,27,14,51.851851851851848,13,48.148148148148145,28,13,46.428571428571431,15,53.571428571428569]
["ALIANZA POR SAN JOSÉ",77,37,48.051948051948052,40,51.94805194805194,41,19,46.341463414634148,22,53.658536585365859,36,18,50,18,50]
["ALIANZA POR SARCHÍ",5,3,60,2,40,3,2,66.666666666666657,1,33.333333333333329,2,1,50,1,50]
["ALIANZA SOCIAL POR LA UNIÓN",26,14,53.846153846153847,12,46.153846153846153,14,9,64.285714285714292,5,35.714285714285715,12,5,41.666666666666671,7,58.333333333333336]
["AUTÉNTICO LABRADOR DE CORONADO",6,4,66.666666666666657,2,33.333333333333329,6,4,66.666666666666657,2,33.333333333333329,0,0,0,0,0]
["AUTÉNTICO LIMONENSE",69,33,47.826086956521742,36,52.173913043478258,34,17,50,17,50,35,16,45.714285714285715,19,54.285714285714285]
["AUTÉNTICO SANTACRUCEÑO",63,31,49.206349206349202,32,50.793650793650791,33,16,48.484848484848484,17,51.515151515151516,30,15,50,15,50]
["AUTÉNTICO SIQUIRREÑO",14,6,42.857142857142854,8,57.142857142857139,12,6,50,6,50,2,0,0,2,100]
["AUTÓNOMO OROMONTANO",9,5,55.555555555555557,4,44.444444444444443,5,3,60,2,40,4,2,50,2,50]
["AVANCE MONTES DE OCA",1,0,0,1,100,1,0,0,1,100,0,0,0,0,0]
["AVANTE POCOCÍ",3,2,66.666666666666657,1,33.333333333333329,3,2,66.666666666666657,1,33.333333333333329,0,0,0,0,0]
["CANTONAL DE CARRILLO",19,10,52.631578947368418,9,47.368421052631575,10,5,50,5,50,9,5,55.555555555555557,4,44.444444444444443]
["COALICIÓN ALIANZA POR NICOYA",32,18,56.25,14,43.75,17,10,58.82352941176471,7,41.17647058823529,15,8,53.333333333333336,7,46.666666666666664]
["COALICIÓN ASERRI DE TODOS",31,16,51.612903225806448,15,48.387096774193552,16,9,56.25,7,43.75,15,7,46.666666666666664,8,53.333333333333336]
["COALICIÓN GENTE MONTES DE OCA",15,7,46.666666666666664,8,53.333333333333336,7,3,42.857142857142854,4,57.142857142857139,8,4,50,4,50]
["COALICIÓN JUNTOS",46,23,50,23,50,26,12,46.153846153846153,14,53.846153846153847,20,11,55.000000000000007,9,45]
["COALICIÓN UNIDAD POR FLORES",17,9,52.941176470588239,8,47.058823529411761,9,5,55.555555555555557,4,44.444444444444443,8,4,50,4,50]
["COALICIÓN UNIÓN BELEMITA",10,6,60,4,40,5,3,60,2,40,5,3,60,2,40]
["COMUNAL UNIDO",236,116,49.152542372881356,120,50.847457627118644,147,74,50.34013605442177,73,49.65986394557823,89,42,47.191011235955052,47,52.80898876404494]
["CURRIDABAT SIGLO XXI",31,15,48.387096774193552,16,51.612903225806448,16,8,50,8,50,15,7,46.666666666666664,8,53.333333333333336]
["DEL SOL",26,11,42.307692307692307,15,57.692307692307686,14,6,42.857142857142854,8,57.142857142857139,12,5,41.666666666666671,7,58.333333333333336]
["DESARROLLO TALAMANQUEÑO",31,15,48.387096774193552,16,51.612903225806448,15,7,46.666666666666664,8,53.333333333333336,16,8,50,8,50]
["DESPERTAR ALAJUELENSE",105,54,51.428571428571423,51,48.571428571428569,52,27,51.923076923076927,25,48.07692307692308,53,27,50.943396226415096,26,49.056603773584904]
["ECOLÓGICO COMUNAL COSTARRICENSE",67,32,47.761194029850742,35,52.238805970149251,34,15,44.117647058823529,19,55.882352941176471,33,17,51.515151515151516,16,48.484848484848484]
["FRENTE AMPLIO",393,196,49.872773536895679,197,50.127226463104321,215,107,49.767441860465119,108,50.232558139534888,178,89,50,89,50]
["GUANACASTE PRIMERO",2,1,50,1,50,2,1,50,1,50,0,0,0,0,0]
["INNOVACIÓN CANTONAL",9,4,44.444444444444443,5,55.555555555555557,5,2,40,3,60,4,2,50,2,50]
["INTEGRACIÓN NACIONAL",585,291,49.743589743589745,294,50.256410256410255,322,162,50.310559006211179,160,49.689440993788821,263,129,49.049429657794676,134,50.950570342205324]
["IZQUIERDA COSTARRICENSE",7,3,42.857142857142854,4,57.142857142857139,7,3,42.857142857142854,4,57.142857142857139,0,0,0,0,0]
["JUSTICIA SOCIAL",12,6,50,6,50,12,6,50,6,50,0,0,0,0,0]
["JUSTICIA SOCIAL COSTARRICENSE",101,51,50.495049504950494,50,49.504950495049506,50,26,52,24,48,51,25,49.019607843137251,26,50.980392156862742]
["LA GRAN NICOYA",19,10,52.631578947368418,9,47.368421052631575,8,4,50,4,50,11,6,54.54545454545454,5,45.454545454545453]
["LIBERACIÓN NACIONAL",3408,1703,49.970657276995304,1705,50.029342723004703,1759,882,50.142126208072767,877,49.857873791927233,1649,821,49.787750151607035,828,50.212249848392965]
["LIBERAL PROGRESISTA",114,56,49.122807017543856,58,50.877192982456144,72,36,50,36,50,42,20,47.619047619047613,22,52.380952380952387]
["MOVIMIENTO AVANCE SANTO DOMINGO",48,25,52.083333333333336,23,47.916666666666671,28,15,53.571428571428569,13,46.428571428571431,20,10,50,10,50]
["NANDAYURE PROGRESA",37,20,54.054054054054056,17,45.945945945945951,21,12,57.142857142857139,9,42.857142857142854,16,8,50,8,50]
["NUESTRO PUEBLO",344,168,48.837209302325576,176,51.162790697674424,176,87,49.43181818181818,89,50.56818181818182,168,81,48.214285714285715,87,51.785714285714292]
["NUEVA GENERACIÓN",965,482,49.948186528497409,483,50.051813471502591,535,267,49.906542056074763,268,50.093457943925237,430,215,50,215,50]
["NUEVA MAYORÍA GRIEGA",35,17,48.571428571428569,18,51.428571428571423,23,11,47.826086956521742,12,52.173913043478258,12,6,50,6,50]
["NUEVA REPÚBLICA",1107,545,49.232158988256543,562,50.767841011743457,650,332,51.076923076923073,318,48.923076923076927,457,213,46.608315098468275,244,53.391684901531733]
["PALMARES PRIMERO",8,4,50,4,50,4,2,50,2,50,4,2,50,2,50]
["PROGRESER",98,49,50,49,50,50,25,50,25,50,48,24,50,24,50]
["PUEBLO GARABITO",11,5,45.454545454545453,6,54.54545454545454,7,3,42.857142857142854,4,57.142857142857139,4,2,50,2,50]
["PURISCAL EN MARCHA",72,36,50,36,50,36,18,50,18,50,36,18,50,18,50]
["RECUPERANDO VALORES",106,52,49.056603773584904,54,50.943396226415096,55,26,47.272727272727273,29,52.72727272727272,51,26,50.980392156862742,25,49.019607843137251]
["RENOVACIÓN COSTARRICENSE",102,49,48.03921568627451,53,51.960784313725497,55,26,47.272727272727273,29,52.72727272727272,47,23,48.936170212765958,24,51.063829787234042]
["REPUBLICANO SOCIAL CRISTIANO",1114,556,49.910233393177741,558,50.089766606822259,619,317,51.211631663974153,302,48.788368336025847,495,239,48.282828282828284,256,51.717171717171716]
["RESCATE CANTONAL LA UNIÓN",40,19,47.5,21,52.5,23,13,56.521739130434781,10,43.478260869565219,17,6,35.294117647058826,11,64.705882352941174]
["RESTAURACIÓN NACIONAL",1531,762,49.771391247550625,769,50.228608752449375,831,408,49.097472924187727,423,50.902527075812273,700,354,50.571428571428569,346,49.428571428571431]
["RESTAURACIÓN PARRITEÑA",3,2,66.666666666666657,1,33.333333333333329,3,2,66.666666666666657,1,33.333333333333329,0,0,0,0,0]
["SENTIR HEREDIA",33,15,45.454545454545453,18,54.54545454545454,17,8,47.058823529411761,9,52.941176470588239,16,7,43.75,9,56.25]
["SOMOS MORAVIA",16,8,50,8,50,8,4,50,4,50,8,4,50,4,50]
["SOMOS SARCHÍ",34,17,50,17,50,17,9,52.941176470588239,8,47.058823529411761,17,8,47.058823529411761,9,52.941176470588239]
["TARRAZÚ PRIMERO",20,12,60,8,40,10,6,60,4,40,10,6,60,4,40]
["TERRA ESCAZÚ",12,6,50,6,50,12,6,50,6,50,0,0,0,0,0]
["TODOS POR GOICOECHEA",52,27,51.923076923076927,25,48.07692307692308,26,14,53.846153846153847,12,46.153846153846153,26,13,50,13,50]
["TURRIALBA PRIMERO",86,42,48.837209302325576,44,51.162790697674424,43,21,48.837209302325576,22,51.162790697674424,43,21,48.837209302325576,22,51.162790697674424]
["ÚNICO ABANGAREÑO",14,7,50,7,50,6,2,33.333333333333329,4,66.666666666666657,8,5,62.5,3,37.5]
["UNIDAD SOCIAL CRISTIANA",{"$f":"+C76+E76","v":1871},{"$f":"+H76+M76","v":931},{"$f":"C76/B76*100","v":49.759486905398184},{"$f":"+J76+O76","v":940},{"$f":"E76/B76*100","v":50.240513094601816},{"$f":"+H76+J76","v":1024},511,{"$f":"H76/G76*100","v":49.90234375},513,{"$f":"J76/G76*100","v":50.09765625},{"$f":"+M76+O76","v":847},420,{"$f":"M76/L76*100","v":49.586776859504134},427,{"$f":"O76/L76*100","v":50.413223140495866}]
["UNIDOS PARA EL DESARROLLO",12,5,41.666666666666671,7,58.333333333333336,9,3,33.333333333333329,6,66.666666666666657,3,2,66.666666666666657,1,33.333333333333329]
["UNIDOS PODEMOS",1160,579,49.913793103448278,581,50.086206896551722,638,325,50.940438871473361,313,49.059561128526646,522,254,48.659003831417621,268,51.340996168582379]
["UNIDOS POR ESCAZÚ",12,6,50,6,50,6,3,50,3,50,6,3,50,3,50]
["UNIÓN ATENIENSE",61,32,52.459016393442624,29,47.540983606557376,30,17,56.666666666666664,13,43.333333333333336,31,15,48.387096774193552,16,51.612903225806448]
["UNIÓN DE PUNTARENENSES EMPRENDEDORES",62,31,50,31,50,32,17,53.125,15,46.875,30,14,46.666666666666664,16,53.333333333333336]
["UNIÓN DOMINGUEÑA",27,14,51.851851851851848,13,48.148148148148145,15,8,53.333333333333336,7,46.666666666666664,12,6,50,6,50]
["UNIÓN GRIEGA",46,23,50,23,50,23,11,47.826086956521742,12,52.173913043478258,23,12,52.173913043478258,11,47.826086956521742]
["UNIÓN GUANACASTECA",212,104,49.056603773584904,108,50.943396226415096,108,52,48.148148148148145,56,51.851851851851848,104,52,50,52,50]
["UNIÓN GUARQUEÑO",6,4,66.666666666666657,2,33.333333333333329,3,1,33.333333333333329,2,66.666666666666657,3,3,100,0,0]
["VERDE ECOLOGISTA",40,20,50,20,50,28,15,53.571428571428569,13,46.428571428571431,12,5,41.666666666666671,7,58.333333333333336]
["YO SOY EL CAMBIO",17,8,47.058823529411761,9,52.941176470588239,8,4,50,4,50,9,4,44.444444444444443,5,55.555555555555557]
["YUNTA PROGRESISTA ESCAZUCEÑA",24,12,50,12,50,12,6,50,6,50,12,6,50,6,50]
[]
[]
[{"$f":"+'G3'!A34","v":"Fuente: Departamento de Registro de Partidos Políticos, base de datos de Candidaturas 2020, Tribunal Supremo de Elecciones."}]

{"sheet":"C28","index":34,"n_rows":101,"n_cols":16,"rows_kept":101,"cut":false,"hidden":false,"merged":[[0,0,0,15],[1,0,1,15],[2,0,2,15],[4,0,6,0],[5,6,6,6],[5,11,6,11],[5,1,6,1],[4,1,4,5]]}
["CUADRO 28  COSTA RICA: CANDIDATURAS A CONCEJALÍAS DE DISTRITO EN PROPIEDAD Y SUPLENCIA POR SEXO, SEGÚN PROVINCIA Y CANTÓN"]
[" ELECCIONES MUNICIPLAES 2 DE FEBRERO 2020"]
["(CIFRAS ABSOLUTAS Y RELATIVAS)"]
[]
["PROVINCIA Y CANTÓN ","CONCEJALÍAS DE DISTRITO",null,null,null,null,"EN PROPIEDAD",null,null,null,null,"EN SUPLENCIA"]
[null,"TOTAL","HOMBRES",null,"MUJERES",null,"TOTAL","HOMBRES",null,"MUJERES",null,"TOTAL","HOMBRES",null,"MUJERES"]
[null,null,"ABS","%","ABS","%",null,"ABS","%","ABS","%",null,"ABS","%","ABS","%"]
[]
["COSTA RICA",{"$f":"G9+L9","v":16777},{"$f":"H9+M9","v":8351},{"$f":"C9/$B9*100","v":49.776479704357158},{"$f":"J9+O9","v":8426},{"$f":"E9/$B9*100","v":50.223520295642842},{"$f":"+G10+G31+G48+G57+G68+G80+G92","v":9180},{"$f":"+H10+H31+H48+H57+H68+H80+H92","v":4603},{"$f":"H9/$G9*100","v":50.141612200435723},{"$f":"+J10+J31+J48+J57+J68+J80+J92","v":4577},{"$f":"J9/$G9*100","v":49.858387799564269},{"$f":"+L10+L31+L48+L57+L68+L80+L92","v":7597},{"$f":"+M10+M31+M48+M57+M68+M80+M92","v":3748},{"$f":"M9/$L9*100","v":49.335263919968412},{"$f":"+O10+O31+O48+O57+O68+O80+O92","v":3849},{"$f":"O9/$L9*100","v":50.664736080031588}]
["PROVINCIA SAN JOSÉ",{"$f":"+G10+L10","v":4341},{"$f":"+H10+M10","v":2152},{"$f":"C10/$B10*100","v":49.573830914535819},{"$f":"+J10+O10","v":2189},{"$f":"E10/$B10*100","v":50.426169085464181},{"$f":"+H10+J10","v":2382},{"$f":"SUM(H11:H30)","v":1188},{"$f":"H10/$G10*100","v":49.874055415617129},{"$f":"SUM(J11:J30)","v":1194},{"$f":"J10/$G10*100","v":50.125944584382879},{"$f":"+M10+O10","v":1959},{"$f":"SUM(M11:M30)","v":964},{"$f":"M10/$L10*100","v":49.208779989790706},{"$f":"SUM(O11:O30)","v":995},{"$f":"O10/$L10*100","v":50.791220010209294}]
["SAN JOSÉ",{"$f":"+G11+L11","v":725},{"$f":"+H11+M11","v":357},{"$f":"C11/$B11*100","v":49.241379310344833},{"$f":"+J11+O11","v":368},{"$f":"E11/$B11*100","v":50.758620689655174},{"$f":"+H11+J11","v":387},189,{"$f":"H11/$G11*100","v":48.837209302325576},198,{"$f":"J11/$G11*100","v":51.162790697674424},{"$f":"+M11+O11","v":338},168,{"$f":"M11/$L11*100","v":49.704142011834321},170,{"$f":"O11/$L11*100","v":50.295857988165679}]
["ESCAZÚ",{"$f":"+G12+L12","v":150},{"$f":"+H12+M12","v":75},{"$f":"C12/$B12*100","v":50},{"$f":"+J12+O12","v":75},{"$f":"E12/$B12*100","v":50},{"$f":"+H12+J12","v":82},42,{"$f":"H12/$G12*100","v":51.219512195121951},40,{"$f":"J12/$G12*100","v":48.780487804878049},{"$f":"+M12+O12","v":68},33,{"$f":"M12/$L12*100","v":48.529411764705884},35,{"$f":"O12/$L12*100","v":51.470588235294116}]
["DESAMPARADOS",601,292,48.585690515806988,309,51.414309484193012,322,156,48.447204968944099,166,51.552795031055901,279,136,48.74551971326165,143,51.25448028673835]
["PURISCAL",267,132,49.438202247191008,135,50.561797752808992,146,73,50,73,50,121,59,48.760330578512395,62,51.239669421487598]
["TARRAZÚ",111,59,53.153153153153156,52,46.846846846846844,54,29,53.703703703703709,25,46.296296296296298,57,30,52.631578947368418,27,47.368421052631575]
["ASERRÍ",176,86,48.863636363636367,90,51.136363636363633,98,49,50,49,50,78,37,47.435897435897431,41,52.564102564102569]
["MORA",146,74,50.684931506849317,72,49.315068493150683,88,42,47.727272727272727,46,52.272727272727273,58,32,55.172413793103445,26,44.827586206896555]
["GOICOECHEA",502,254,50.597609561752989,248,49.402390438247011,272,138,50.735294117647058,134,49.264705882352942,230,116,50.434782608695649,114,49.565217391304351]
["SANTA ANA",157,79,50.318471337579616,78,49.681528662420384,94,49,52.12765957446809,45,47.872340425531917,63,30,47.619047619047613,33,52.380952380952387]
["ALAJUELITA",150,73,48.666666666666671,77,51.333333333333329,80,40,50,40,50,70,33,47.142857142857139,37,52.857142857142861]
["VÁZQUEZ DE CORONADO",183,92,50.27322404371585,91,49.72677595628415,106,56,52.830188679245282,50,47.169811320754718,77,36,46.753246753246749,41,53.246753246753244]
["ACOSTA",95,47,49.473684210526315,48,50.526315789473685,53,27,50.943396226415096,26,49.056603773584904,42,20,47.619047619047613,22,52.380952380952387]
["TIBÁS",153,75,49.019607843137251,78,50.980392156862742,92,48,52.173913043478258,44,47.826086956521742,61,27,44.26229508196721,34,55.737704918032783]
["MORAVIA",104,50,48.07692307692308,54,51.923076923076927,63,29,46.031746031746032,34,53.968253968253968,41,21,51.219512195121951,20,48.780487804878049]
["MONTES DE OCA",148,71,47.972972972972968,77,52.027027027027032,79,37,46.835443037974684,42,53.164556962025308,69,34,49.275362318840585,35,50.724637681159422]
["TURRUBARES",71,36,50.704225352112672,35,49.295774647887328,39,20,51.282051282051277,19,48.717948717948715,32,16,50,16,50]
["DOTA",22,11,50,11,50,16,8,50,8,50,6,3,50,3,50]
["CURRIDABAT",104,52,50,52,50,60,32,53.333333333333336,28,46.666666666666664,44,20,45.454545454545453,24,54.54545454545454]
["PÉREZ ZELEDÓN",418,208,49.760765550239235,210,50.239234449760758,221,110,49.773755656108598,111,50.226244343891402,197,98,49.746192893401016,99,50.253807106598977]
["LEÓN CORTÉS CASTRO",58,29,50,29,50,30,14,46.666666666666664,16,53.333333333333336,28,15,53.571428571428569,13,46.428571428571431]
["PROVINCIA ALAJUELA",{"$f":"+G31+L31","v":3870},{"$f":"+H31+M31","v":1927},{"$f":"C31/$B31*100","v":49.793281653746767},{"$f":"+J31+O31","v":1943},{"$f":"E31/$B31*100","v":50.206718346253233},{"$f":"+H31+J31","v":2105},{"$f":"SUM(H32:H47)","v":1048},{"$f":"H31/$G31*100","v":49.786223277909741},{"$f":"SUM(J32:J47)","v":1057},{"$f":"J31/$G31*100","v":50.213776722090266},{"$f":"+M31+O31","v":1765},{"$f":"SUM(M32:M47)","v":879},{"$f":"M31/$L31*100","v":49.801699716713884},{"$f":"SUM(O32:O47)","v":886},{"$f":"O31/$L31*100","v":50.198300283286123}]
["ALAJUELA",{"$f":"+G32+L32","v":761},{"$f":"+H32+M32","v":379},49.802890932982919,{"$f":"+J32+O32","v":382},{"$f":"E32/$B32*100","v":50.197109067017088},{"$f":"+H32+J32","v":411},203,{"$f":"H32/$G32*100","v":49.391727493917273},208,{"$f":"J32/$G32*100","v":50.608272506082727},{"$f":"+M32+O32","v":350},176,{"$f":"M32/$L32*100","v":50.285714285714292},174,{"$f":"O32/$L32*100","v":49.714285714285715}]
["SAN RAMÓN",{"$f":"+G33+L33","v":330},{"$f":"+H33+M33","v":160},48.484848484848484,{"$f":"+J33+O33","v":170},{"$f":"E33/$B33*100","v":51.515151515151516},{"$f":"+H33+J33","v":182},81,{"$f":"H33/$G33*100","v":44.505494505494504},101,{"$f":"J33/$G33*100","v":55.494505494505496},{"$f":"+M33+O33","v":148},79,{"$f":"M33/$L33*100","v":53.378378378378379},69,{"$f":"O33/$L33*100","v":46.621621621621621}]
["GRECIA",312,154,49.358974358974365,158,50.641025641025635,177,88,49.717514124293785,89,50.282485875706215,135,66,48.888888888888886,69,51.111111111111107]
["SAN MATEO",67,34,50.746268656716417,33,49.253731343283583,34,18,52.941176470588239,16,47.058823529411761,33,16,48.484848484848484,17,51.515151515151516]
["ATENAS",280,140,50,140,50,150,77,51.333333333333329,73,48.666666666666671,130,63,48.46153846153846,67,51.538461538461533]
["NARANJO",245,122,49.795918367346935,123,50.204081632653065,148,74,50,74,50,97,48,49.484536082474229,49,50.515463917525771]
["PALMARES",273,138,50.549450549450547,135,49.450549450549453,139,71,51.079136690647488,68,48.920863309352519,134,67,50,67,50]
["POÁS",137,65,47.445255474452551,72,52.554744525547449,74,35,47.297297297297298,39,52.702702702702695,63,30,47.619047619047613,33,52.380952380952387]
["OROTINA",152,77,50.657894736842103,75,49.34210526315789,83,40,48.192771084337352,43,51.807228915662648,69,37,53.623188405797109,32,46.376811594202898]
["SAN CARLOS",564,279,49.468085106382979,285,50.531914893617028,304,152,50,152,50,260,127,48.846153846153847,133,51.153846153846146]
["ZARCERO",105,52,49.523809523809526,53,50.476190476190474,54,30,55.555555555555557,24,44.444444444444443,51,22,43.137254901960787,29,56.862745098039213]
["SRCHÍ",150,78,52,72,48,84,45,53.571428571428569,39,46.428571428571431,66,33,50,33,50]
["UPALA",197,99,50.253807106598977,98,49.746192893401016,108,52,48.148148148148145,56,51.851851851851848,89,47,52.80898876404494,42,47.191011235955052]
["LOS CHILES",78,40,51.282051282051277,38,48.717948717948715,42,23,54.761904761904766,19,45.238095238095241,36,17,47.222222222222221,19,52.777777777777779]
["GUATUSO",89,45,50.561797752808992,44,49.438202247191008,46,25,54.347826086956516,21,45.652173913043477,43,20,46.511627906976742,23,53.488372093023251]
["RÍO CUARTO",130,65,50,65,50,69,34,49.275362318840585,35,50.724637681159422,61,31,50.819672131147541,30,49.180327868852459]
["PROVINCIA CARTAGO",{"$f":"+G48+L48","v":1882},{"$f":"+H48+M48","v":944},{"$f":"C48/$B48*100","v":50.159404888416582},{"$f":"+J48+O48","v":938},{"$f":"E48/$B48*100","v":49.840595111583426},{"$f":"+H48+J48","v":1068},{"$f":"SUM(H49:H56)","v":538},{"$f":"H48/$G48*100","v":50.374531835205993},{"$f":"SUM(J49:J56)","v":530},{"$f":"J48/$G48*100","v":49.625468164794007},{"$f":"+M48+O48","v":814},{"$f":"SUM(M49:M56)","v":406},{"$f":"M48/$L48*100","v":49.877149877149876},{"$f":"SUM(O49:O56)","v":408},{"$f":"O48/$L48*100","v":50.122850122850124}]
["CARTAGO",{"$f":"+G49+L49","v":440},{"$f":"+H49+M49","v":221},{"$f":"C49/$B49*100","v":50.227272727272734},{"$f":"+J49+O49","v":219},{"$f":"E49/$B49*100","v":49.772727272727273},{"$f":"+H49+J49","v":243},120,{"$f":"H49/$G49*100","v":49.382716049382715},123,{"$f":"J49/$G49*100","v":50.617283950617285},{"$f":"+M49+O49","v":197},101,{"$f":"M49/$L49*100","v":51.26903553299492},96,{"$f":"O49/$L49*100","v":48.73096446700508}]
["PARAÍSO",{"$f":"+G50+L50","v":237},{"$f":"+H50+M50","v":115},{"$f":"C50/$B50*100","v":48.52320675105485},{"$f":"+J50+O50","v":122},{"$f":"E50/$B50*100","v":51.47679324894515},{"$f":"+H50+J50","v":129},63,{"$f":"H50/$G50*100","v":48.837209302325576},66,{"$f":"J50/$G50*100","v":51.162790697674424},{"$f":"+M50+O50","v":108},52,{"$f":"M50/$L50*100","v":48.148148148148145},56,{"$f":"O50/$L50*100","v":51.851851851851848}]
["LA UNIÓN",272,135,49.632352941176471,137,50.367647058823529,170,86,50.588235294117645,84,49.411764705882355,102,49,48.03921568627451,53,51.960784313725497]
["JIMÉNEZ",61,32,52.459016393442624,29,47.540983606557376,34,18,52.941176470588239,16,47.058823529411761,27,14,51.851851851851848,13,48.148148148148145]
["TURRIALBA",488,242,49.590163934426229,246,50.409836065573764,270,136,50.370370370370367,134,49.629629629629626,218,106,48.623853211009177,112,51.37614678899083]
["ALVARADO",49,26,53.061224489795919,23,46.938775510204081,34,18,52.941176470588239,16,47.058823529411761,15,8,53.333333333333336,7,46.666666666666664]
["OREAMUNO",188,97,51.595744680851062,91,48.404255319148938,101,53,52.475247524752476,48,47.524752475247524,87,44,50.574712643678168,43,49.425287356321839]
["EL GUARCO",147,76,51.700680272108848,71,48.299319727891152,87,44,50.574712643678168,43,49.425287356321839,60,32,53.333333333333336,28,46.666666666666664]
["PROVINCIA HEREDIA",{"$f":"+G57+L57","v":1303},{"$f":"+H57+M57","v":654},{"$f":"C57/$B57*100","v":50.191864927091324},{"$f":"+J57+O57","v":649},{"$f":"E57/$B57*100","v":49.808135072908669},{"$f":"+H57+J57","v":741},{"$f":"SUM(H58:H67)","v":381},{"$f":"H57/$G57*100","v":51.417004048582996},{"$f":"SUM(J58:J67)","v":360},{"$f":"J57/$G57*100","v":48.582995951417004},{"$f":"+M57+O57","v":562},{"$f":"SUM(M58:M67)","v":273},{"$f":"M57/$L57*100","v":48.57651245551601},{"$f":"SUM(O58:O67)","v":289},{"$f":"O57/$L57*100","v":51.423487544483983}]
["HEREDIA",{"$f":"+G58+L58","v":189},{"$f":"+H58+M58","v":96},{"$f":"C58/$B58*100","v":50.793650793650791},{"$f":"+J58+O58","v":93},{"$f":"E58/$B58*100","v":49.206349206349202},{"$f":"+H58+J58","v":111},55,{"$f":"H58/$G58*100","v":49.549549549549546},56,{"$f":"J58/$G58*100","v":50.450450450450447},{"$f":"+M58+O58","v":78},41,{"$f":"M58/$L58*100","v":52.564102564102569},37,{"$f":"O58/$L58*100","v":47.435897435897431}]
["BARVA",{"$f":"+G59+L59","v":191},{"$f":"+H59+M59","v":98},{"$f":"C59/$B59*100","v":51.308900523560212},{"$f":"+J59+O59","v":93},{"$f":"E59/$B59*100","v":48.691099476439788},{"$f":"+H59+J59","v":106},57,{"$f":"H59/$G59*100","v":53.773584905660378},49,{"$f":"J59/$G59*100","v":46.226415094339622},{"$f":"+M59+O59","v":85},41,{"$f":"M59/$L59*100","v":48.235294117647058},44,{"$f":"O59/$L59*100","v":51.764705882352949}]
["SANTO DOMINGO",174,90,51.724137931034484,84,48.275862068965516,109,58,53.211009174311933,51,46.788990825688074,65,32,49.230769230769234,33,50.769230769230766]
["SANTA BÁRBARA",163,79,48.466257668711656,84,51.533742331288344,103,51,49.514563106796118,52,50.485436893203882,60,28,46.666666666666664,32,53.333333333333336]
["SAN RAFAEL",135,64,47.407407407407412,71,52.592592592592588,71,35,49.295774647887328,36,50.704225352112672,64,29,45.3125,35,54.6875]
["SAN ISIDRO",117,58,49.572649572649574,59,50.427350427350426,60,30,50,30,50,57,28,49.122807017543856,29,50.877192982456144]
["BELÉN",62,31,50,31,50,35,18,51.428571428571423,17,48.571428571428569,27,13,48.148148148148145,14,51.851851851851848]
["FLORES",56,29,51.785714285714292,27,48.214285714285715,36,19,52.777777777777779,17,47.222222222222221,20,10,50,10,50]
["SAN PABLO",51,26,50.980392156862742,25,49.019607843137251,28,14,50,14,50,23,12,52.173913043478258,11,47.826086956521742]
["SARAPIQUÍ",165,83,50.303030303030305,82,49.696969696969695,82,44,53.658536585365859,38,46.341463414634148,83,39,46.987951807228917,44,53.01204819277109]
["PROVINCIA GUANACASTE",{"$f":"+G68+L68","v":2136},{"$f":"+H68+M68","v":1059},{"$f":"C68/$B68*100","v":49.578651685393261},{"$f":"+J68+O68","v":1077},{"$f":"E68/$B68*100","v":50.421348314606739},{"$f":"+H68+J68","v":1135},{"$f":"SUM(H69:H79)","v":568},{"$f":"H68/$G68*100","v":50.044052863436129},{"$f":"SUM(J69:J79)","v":567},{"$f":"J68/$G68*100","v":49.955947136563879},{"$f":"+M68+O68","v":1001},{"$f":"SUM(M69:M79)","v":491},{"$f":"M68/$L68*100","v":49.05094905094905},{"$f":"SUM(O69:O79)","v":510},{"$f":"O68/$L68*100","v":50.949050949050942}]
["LIBERIA",{"$f":"+G69+L69","v":206},{"$f":"+H69+M69","v":101},{"$f":"C69/$B69*100","v":49.029126213592235},{"$f":"+J69+O69","v":105},{"$f":"E69/$B69*100","v":50.970873786407765},{"$f":"+H69+J69","v":108},53,{"$f":"H69/$G69*100","v":49.074074074074076},55,{"$f":"J69/$G69*100","v":50.925925925925931},{"$f":"+M69+O69","v":98},48,{"$f":"M69/$L69*100","v":48.979591836734691},50,{"$f":"O69/$L69*100","v":51.020408163265309}]
["NICOYA",{"$f":"+G70+L70","v":289},{"$f":"+H70+M70","v":147},{"$f":"C70/$B70*100","v":50.865051903114193},{"$f":"+J70+O70","v":142},{"$f":"E70/$B70*100","v":49.134948096885807},{"$f":"+H70+J70","v":153},80,{"$f":"H70/$G70*100","v":52.287581699346411},73,{"$f":"J70/$G70*100","v":47.712418300653596},{"$f":"+M70+O70","v":136},67,{"$f":"M70/$L70*100","v":49.264705882352942},69,{"$f":"O70/$L70*100","v":50.735294117647058}]
["SANTA CRUZ",437,216,49.427917620137301,221,50.572082379862707,233,113,48.497854077253216,120,51.502145922746777,204,103,50.490196078431367,101,49.509803921568633]
["BAGACES",166,77,46.385542168674696,89,53.614457831325304,89,41,46.067415730337082,48,53.932584269662918,77,36,46.753246753246749,41,53.246753246753244]
["CARRILLO",189,94,49.735449735449734,95,50.264550264550266,98,49,50,49,50,91,45,49.450549450549453,46,50.549450549450547]
["CAÑAS",202,103,50.990099009900987,99,49.009900990099013,103,53,51.456310679611647,50,48.543689320388353,99,50,50.505050505050505,49,49.494949494949495]
["ABANGARES",114,58,50.877192982456144,56,49.122807017543856,65,33,50.769230769230766,32,49.230769230769234,49,25,51.020408163265309,24,48.979591836734691]
["TILARÁN",122,58,47.540983606557376,64,52.459016393442624,65,33,50.769230769230766,32,49.230769230769234,57,25,43.859649122807014,32,56.140350877192979]
["NANDAYURE",198,100,50.505050505050505,98,49.494949494949495,109,57,52.293577981651374,52,47.706422018348626,89,43,48.314606741573037,46,51.68539325842697]
["LA CRUZ",135,67,49.629629629629626,68,50.370370370370367,72,36,50,36,50,63,31,49.206349206349202,32,50.793650793650791]
["HOJANCHA",78,38,48.717948717948715,40,51.282051282051277,40,20,50,20,50,38,18,47.368421052631575,20,52.631578947368418]
["PROVINCIA PUNTARENAS",{"$f":"+G80+L80","v":1752},{"$f":"+H80+M80","v":872},{"$f":"C80/$B80*100","v":49.771689497716892},{"$f":"+J80+O80","v":880},{"$f":"E80/$B80*100","v":50.228310502283101},{"$f":"+H80+J80","v":950},{"$f":"SUM(H81:H91)","v":474},{"$f":"H80/$G80*100","v":49.894736842105267},{"$f":"SUM(J81:J91)","v":476},{"$f":"J80/$G80*100","v":50.10526315789474},{"$f":"+M80+O80","v":802},{"$f":"SUM(M81:M91)","v":398},{"$f":"M80/$L80*100","v":49.625935162094763},{"$f":"SUM(O81:O91)","v":404},{"$f":"O80/$L80*100","v":50.374064837905244}]
["PUNTARENAS",{"$f":"+G81+L81","v":384},{"$f":"+H81+M81","v":184},{"$f":"C81/$B81*100","v":47.916666666666671},{"$f":"+J81+O81","v":200},{"$f":"E81/$B81*100","v":52.083333333333336},{"$f":"+H81+J81","v":213},101,{"$f":"H81/$G81*100","v":47.417840375586856},112,{"$f":"J81/$G81*100","v":52.582159624413151},{"$f":"+M81+O81","v":171},83,{"$f":"M81/$L81*100","v":48.538011695906427},88,{"$f":"O81/$L81*100","v":51.461988304093566}]
["ESPARZA",{"$f":"+G82+L82","v":172},{"$f":"+H82+M82","v":86},{"$f":"C82/$B82*100","v":50},{"$f":"+J82+O82","v":86},{"$f":"E82/$B82*100","v":50},{"$f":"+H82+J82","v":97},47,{"$f":"H82/$G82*100","v":48.453608247422679},50,{"$f":"J82/$G82*100","v":51.546391752577314},{"$f":"+M82+O82","v":75},39,{"$f":"M82/$L82*100","v":52},36,{"$f":"O82/$L82*100","v":48}]
["BUENOS AIRES",196,96,48.979591836734691,100,51.020408163265309,103,51,49.514563106796118,52,50.485436893203882,93,45,48.387096774193552,48,51.612903225806448]
["MONTES DE ORO",64,34,53.125,30,46.875,33,18,54.54545454545454,15,45.454545454545453,31,16,51.612903225806448,15,48.387096774193552]
["OSA",134,72,53.731343283582092,62,46.268656716417908,73,38,52.054794520547944,35,47.945205479452049,61,34,55.737704918032783,27,44.26229508196721]
["QUEPOS",169,83,49.112426035502956,86,50.887573964497044,99,49,49.494949494949495,50,50.505050505050505,70,34,48.571428571428569,36,51.428571428571423]
["GOLFITO",217,108,49.769585253456221,109,50.230414746543786,113,58,51.327433628318587,55,48.672566371681413,104,50,48.07692307692308,54,51.923076923076927]
["COTO BRUS",151,77,50.993377483443716,74,49.006622516556291,78,41,52.564102564102569,37,47.435897435897431,73,36,49.315068493150683,37,50.684931506849317]
["PARRITA",43,22,51.162790697674424,21,48.837209302325576,23,12,52.173913043478258,11,47.826086956521742,20,10,50,10,50]
["CORREDORES",177,88,49.717514124293785,89,50.282485875706215,91,46,50.549450549450547,45,49.450549450549453,86,42,48.837209302325576,44,51.162790697674424]
["GARABITO",45,22,48.888888888888886,23,51.111111111111107,27,13,48.148148148148145,14,51.851851851851848,18,9,50,9,50]
["PROVINCIA LIMÓN",{"$f":"+G92+L92","v":1493},743,{"$f":"C92/$B92*100","v":49.765572672471535},{"$f":"+J92+O92","v":750},{"$f":"E92/$B92*100","v":50.234427327528465},{"$f":"+H92+J92","v":799},{"$f":"SUM(H93:H98)","v":406},{"$f":"H92/$G92*100","v":50.813516896120149},{"$f":"SUM(J93:J98)","v":393},{"$f":"J92/$G92*100","v":49.186483103879851},{"$f":"+M92+O92","v":694},{"$f":"SUM(M93:M98)","v":337},{"$f":"M92/$L92*100","v":48.559077809798275},{"$f":"SUM(O93:O98)","v":357},{"$f":"O92/$L92*100","v":51.440922190201732}]
["LIMÓN",213,108,50.704225352112672,105,49.295774647887328,113,58,51.327433628318587,55,48.672566371681413,100,50,50,50,50]
["POCOCÍ",475,238,50.10526315789474,237,49.894736842105267,255,129,50.588235294117645,126,49.411764705882355,220,109,49.545454545454547,111,50.454545454545453]
["SIQUIRRES",226,109,48.230088495575217,117,51.769911504424783,132,69,52.272727272727273,63,47.727272727272727,94,40,42.553191489361701,54,57.446808510638306]
["TALAMANCA",196,97,49.489795918367349,99,50.510204081632651,104,54,51.923076923076927,50,48.07692307692308,92,43,46.739130434782609,49,53.260869565217398]
["MATINA",193,96,49.740932642487046,97,50.259067357512954,97,47,48.453608247422679,50,51.546391752577314,96,49,51.041666666666664,47,48.958333333333329]
["GUÁCIMO",190,95,50,95,50,98,49,50,49,50,92,46,50,46,50]
[]
[]
[{"$f":"+'G3'!A34","v":"Fuente: Departamento de Registro de Partidos Políticos, base de datos de Candidaturas 2020, Tribunal Supremo de Elecciones."}]

{"sheet":"C29","index":35,"n_rows":30,"n_cols":16,"rows_kept":30,"cut":false,"hidden":false,"merged":[[0,0,0,15],[1,0,1,15],[2,0,2,15],[5,11,6,11],[5,12,5,13],[5,14,5,15],[4,0,6,0],[4,1,4,5],[4,6,4,10],[4,11,4,15],[5,1,6,1],[5,2,5,3],[5,4,5,5],[5,6,6,6],[5,7,5,8],[5,9,5,10]]}
["CUADRO 29 COSTA RICA: CANDIDATURAS A INTENDENCIAS Y VICEINTENDENCIAS POR SEXO, SEGÚN PARTIDO POLÍTICO"]
["ELECCIONES MUNICIPALES 2 DE FEBRERO 2020"]
["(CIFRAS ABSOLUTAS Y RELATIVAS)"]
[]
["PARTIDO POLÍTICO","TOTAL",null,null,null,null,"INTENDENCIAS",null,null,null,null,"VICEINTENDENCIAS"]
["PARTIDO POLITICO","TOTAL","HOMBRES",null,"MUJERES",null,"TOTAL","HOMBRES",null,"MUJERES",null,"TOTAL","HOMBRES",null,"MUJERES"]
[null,"ABS","ABS","%","ABS","%","ABS","ABS","%","ABS","%","ABS","ABS","%","ABS","%"]
[]
["TOTAL",{"$f":"SUM(B11:B26)","v":106},{"$f":"SUM(C11:C26)","v":54},{"$f":"C9/B9*100","v":50.943396226415096},{"$f":"SUM(E11:E26)","v":52},{"$f":"E9/B9*100","v":49.056603773584904},{"$f":"SUM(G11:G26)","v":54},{"$f":"SUM(H11:H26)","v":40},{"$f":"H9/G9*100","v":74.074074074074076},{"$f":"SUM(J11:J26)","v":14},{"$f":"J9/G9*100","v":25.925925925925924},{"$f":"SUM(L11:L26)","v":52},{"$f":"SUM(M11:M26)","v":14},{"$f":"M9/L9*100","v":26.923076923076923},{"$f":"SUM(O11:O26)","v":38},{"$f":"O9/L9*100","v":73.076923076923066}]
[]
["ACCIÓN CIUDADANA",{"$f":"+C11+E11","v":8},{"$f":"+H11+M11","v":4},{"$f":"C11/B11*100","v":50},{"$f":"+J11+O11","v":4},{"$f":"E11/B11*100","v":50},{"$f":"+H11+J11","v":4},3,{"$f":"H11/G11*100","v":75},1,{"$f":"J11/G11*100","v":25},{"$f":"+M11+O11","v":4},1,{"$f":"M11/L11*100","v":25},3,{"$f":"O11/L11*100","v":75}]
["ACTUEMOS YA",{"$f":"+C12+E12","v":2},{"$f":"+H12+M12","v":1},{"$f":"C12/B12*100","v":50},{"$f":"+J12+O12","v":1},{"$f":"E12/B12*100","v":50},{"$f":"+H12+J12","v":1},1,{"$f":"H12/G12*100","v":100},0,{"$f":"J12/G12*100","v":0},{"$f":"+M12+O12","v":1},0,{"$f":"M12/L12*100","v":0},1,{"$f":"O12/L12*100","v":100}]
["ALIANZA DEMÓCRATA CRISTIANA",2,1,50,1,50,1,0,0,1,100,1,1,100,0,0]
["FRENTE AMPLIO",2,1,50,1,50,1,1,100,0,0,1,0,0,1,100]
["INTEGRACIÓN NACIONAL",12,6,50,6,50,6,5,83.333333333333343,1,16.666666666666664,6,1,16.666666666666664,5,83.333333333333343]
["LIBERACIÓN NACIONAL",16,8,50,8,50,8,3,37.5,5,62.5,8,5,62.5,3,37.5]
["LIBERAL PROGRESISTA",2,1,50,1,50,1,1,100,0,0,1,0,0,1,100]
["NUEVA GENERACIÓN",11,6,54.54545454545454,5,45.454545454545453,6,6,100,0,0,5,0,0,5,100]
["NUEVA REPÚBLICA",12,6,50,6,50,6,5,83.333333333333343,1,16.666666666666664,6,1,16.666666666666664,5,83.333333333333343]
["REPUBLICANO SOCIAL CRISTIANO",8,4,50,4,50,4,4,100,0,0,4,0,0,4,100]
["RESTAURACIÓN NACIONAL",6,3,50,3,50,3,2,66.666666666666657,1,33.333333333333329,3,1,33.333333333333329,2,66.666666666666657]
["ÚNICO ABANGAREÑO",2,1,50,1,50,1,0,0,1,100,1,1,100,0,0]
["UNIDAD SOCIAL CRISTIANA",{"$f":"+C23+E23","v":12},{"$f":"+H23+M23","v":6},{"$f":"C23/B23*100","v":50},{"$f":"+J23+O23","v":6},{"$f":"E23/B23*100","v":50},{"$f":"+H23+J23","v":6},5,{"$f":"H23/G23*100","v":83.333333333333343},1,{"$f":"J23/G23*100","v":16.666666666666664},{"$f":"+M23+O23","v":6},1,{"$f":"M23/L23*100","v":16.666666666666664},5,{"$f":"O23/L23*100","v":83.333333333333343}]
["UNIDOS PODEMOS",{"$f":"+C24+E24","v":4},{"$f":"+H24+M24","v":2},{"$f":"C24/B24*100","v":50},{"$f":"+J24+O24","v":2},{"$f":"E24/B24*100","v":50},{"$f":"+H24+J24","v":2},1,{"$f":"H24/G24*100","v":50},1,{"$f":"J24/G24*100","v":50},{"$f":"+M24+O24","v":2},1,{"$f":"M24/L24*100","v":50},1,{"$f":"O24/L24*100","v":50}]
["UNIÓN DE PUNTARENENSES EMPRENDEDORES",{"$f":"+C25+E25","v":4},{"$f":"+H25+M25","v":2},{"$f":"C25/B25*100","v":50},{"$f":"+J25+O25","v":2},{"$f":"E25/B25*100","v":50},{"$f":"+H25+J25","v":2},1,{"$f":"H25/G25*100","v":50},1,{"$f":"J25/G25*100","v":50},{"$f":"+M25+O25","v":2},1,{"$f":"M25/L25*100","v":50},1,{"$f":"O25/L25*100","v":50}]
["VERDE ECOLOGISTA",{"$f":"+C26+E26","v":3},{"$f":"+H26+M26","v":2},{"$f":"C26/B26*100","v":66.666666666666657},{"$f":"+J26+O26","v":1},{"$f":"E26/B26*100","v":33.333333333333329},{"$f":"+H26+J26","v":2},2,{"$f":"H26/G26*100","v":100},0,{"$f":"J26/G26*100","v":0},{"$f":"+M26+O26","v":1},0,{"$f":"M26/L26*100","v":0},1,{"$f":"O26/L26*100","v":100}]
[]
[]
[]
[{"$f":"+'G3'!A34","v":"Fuente: Departamento de Registro de Partidos Políticos, base de datos de Candidaturas 2020, Tribunal Supremo de Elecciones."}]

{"sheet":"C30","index":36,"n_rows":24,"n_cols":16,"rows_kept":24,"cut":false,"hidden":false,"merged":[[4,1,4,5],[5,1,6,1],[0,0,0,15],[1,0,1,15],[2,0,2,15],[4,0,6,0],[4,6,4,10],[4,11,4,15],[5,6,6,6],[5,7,5,8],[5,9,5,10],[5,11,6,11],[5,12,5,13],[5,14,5,15]]}
["CUADRO 30 COSTA RICA: CANDIDATURAS A INTENDENCIAS Y VICEINTENDENCIAS POR SEXO, SEGÚN PROVINCIA Y DISTRITO ADMINISTRATIVO"]
["ELECCIONES MUNICIPALES 2 DE FEBRERO 2020"]
["(CIFRAS ABSOLUTAS Y RELATIVAS)"]
[]
["PROVINCIA / DISTRITO ADMINISTRATIVO","TOTAL",null,null,null,null,"INTENDENCIAS",null,null,null,null,"VICEINTENDENCIAS"]
["PARTIDO POLITICO","TOTAL","HOMBRES",null,"MUJERES",null,"TOTAL","HOMBRES",null,"MUJERES",null,"TOTAL","HOMBRES",null,"MUJERES"]
[null,null,"ABS","%","ABS","%","ABS","ABS","%","ABS","%","ABS","ABS","%","ABS","%"]
[]
["COSTA RICA",{"$f":"+B10+B12+B15+B17","v":106},{"$f":"+C10+C12+C15+C17","v":54},{"$f":"C9/$B9*100","v":50.943396226415096},{"$f":"+E10+E12+E15+E17","v":52},{"$f":"E9/$B9*100","v":49.056603773584904},{"$f":"+G10+G12+G15+G17","v":54},{"$f":"+H10+H12+H15+H17","v":40},{"$f":"H9/$G9*100","v":74.074074074074076},{"$f":"+J10+J12+J15+J17","v":14},{"$f":"J9/$G9*100","v":25.925925925925924},{"$f":"+L10+L12+L15+L17","v":52},{"$f":"+M10+M12+M15+M17","v":14},{"$f":"M9/$L9*100","v":26.923076923076923},{"$f":"+O10+O12+O15+O17","v":38},{"$f":"O9/$L9*100","v":73.076923076923066}]
["PROVINCIA ALAJUELA",{"$f":"SUM(B11)","v":12},{"$f":"SUM(C11)","v":6},{"$f":"C10/$B10*100","v":50},{"$f":"SUM(E11)","v":6},50,{"$f":"SUM(G11)","v":6},{"$f":"SUM(H11)","v":4},{"$f":"H10/$G10*100","v":66.666666666666657},{"$f":"SUM(J11)","v":2},{"$f":"J10/$G10*100","v":33.333333333333329},{"$f":"SUM(L11)","v":6},{"$f":"SUM(M11)","v":2},{"$f":"M10/$L10*100","v":33.333333333333329},{"$f":"SUM(O11)","v":4},{"$f":"O10/$L10*100","v":66.666666666666657}]
["PEÑAS BLANCAS",{"$f":"+C11+E11","v":12},{"$f":"+H11+M11","v":6},{"$f":"C11/$B11*100","v":50},{"$f":"+J11+O11","v":6},50,{"$f":"+H11+J11","v":6},4,{"$f":"H11/G11*100","v":66.666666666666657},2,{"$f":"J11/G11*100","v":33.333333333333329},{"$f":"+M11+O11","v":6},2,{"$f":"M11/L11*100","v":33.333333333333329},4,{"$f":"O11/L11*100","v":66.666666666666657}]
["PROVINCIA CARTAGO",{"$f":"SUM(B13:B14)","v":29},{"$f":"SUM(C13:C14)","v":15},{"$f":"C12/$B12*100","v":51.724137931034484},{"$f":"SUM(E13:E14)","v":14},48.275862068965516,{"$f":"SUM(G13:G14)","v":15},{"$f":"SUM(H13:H14)","v":13},{"$f":"H12/$G12*100","v":86.666666666666671},{"$f":"SUM(J13:J14)","v":2},{"$f":"J12/$G12*100","v":13.333333333333334},{"$f":"SUM(L13:L14)","v":14},{"$f":"SUM(M13:M14)","v":2},{"$f":"M12/$L12*100","v":14.285714285714285},{"$f":"SUM(O13:O14)","v":12},{"$f":"O12/$L12*100","v":85.714285714285708}]
["TUCURRIQUE",{"$f":"+C13+E13","v":11},{"$f":"+H13+M13","v":6},{"$f":"C13/$B13*100","v":54.54545454545454},{"$f":"+J13+O13","v":5},45.454545454545453,{"$f":"+H13+J13","v":6},5,{"$f":"H13/G13*100","v":83.333333333333343},1,{"$f":"J13/G13*100","v":16.666666666666664},{"$f":"+M13+O13","v":5},1,{"$f":"M13/L13*100","v":20},4,{"$f":"O13/L13*100","v":80}]
["CERVANTES",{"$f":"+C14+E14","v":18},{"$f":"+H14+M14","v":9},50,{"$f":"+J14+O14","v":9},50,{"$f":"+H14+J14","v":9},8,{"$f":"H14/G14*100","v":88.888888888888886},1,{"$f":"J14/G14*100","v":11.111111111111111},{"$f":"+M14+O14","v":9},1,{"$f":"M14/L14*100","v":11.111111111111111},8,{"$f":"O14/L14*100","v":88.888888888888886}]
["PROVINCIA GUANACASTE",{"$f":"SUM(B16)","v":14},{"$f":"SUM(C16)","v":7},{"$f":"C15/$B15*100","v":50},{"$f":"SUM(E16)","v":7},50,{"$f":"SUM(G16)","v":7},{"$f":"SUM(H16)","v":3},{"$f":"H15/$G15*100","v":42.857142857142854},{"$f":"SUM(J16)","v":4},{"$f":"J15/$G15*100","v":57.142857142857139},{"$f":"SUM(L16)","v":7},{"$f":"SUM(M16)","v":4},{"$f":"M15/$L15*100","v":57.142857142857139},{"$f":"SUM(O16)","v":3},{"$f":"O15/$L15*100","v":42.857142857142854}]
["COLORADO",{"$f":"+C16+E16","v":14},{"$f":"+H16+M16","v":7},50,{"$f":"+J16+O16","v":7},50,{"$f":"+H16+J16","v":7},3,{"$f":"H16/G16*100","v":42.857142857142854},4,{"$f":"J16/G16*100","v":57.142857142857139},{"$f":"+M16+O16","v":7},4,{"$f":"M16/L16*100","v":57.142857142857139},3,{"$f":"O16/L16*100","v":42.857142857142854}]
["PROVINCIA PUNTARENAS",{"$f":"SUM(B18:B21)","v":51},{"$f":"SUM(C18:C21)","v":26},{"$f":"C17/$B17*100","v":50.980392156862742},{"$f":"SUM(E18:E21)","v":25},49.019607843137251,{"$f":"SUM(G18:G21)","v":26},{"$f":"SUM(H18:H21)","v":20},{"$f":"H17/$G17*100","v":76.923076923076934},{"$f":"SUM(J18:J21)","v":6},{"$f":"J17/$G17*100","v":23.076923076923077},{"$f":"SUM(L18:L21)","v":25},{"$f":"SUM(M18:M21)","v":6},{"$f":"M17/$L17*100","v":24},{"$f":"SUM(O18:O21)","v":19},{"$f":"O17/$L17*100","v":76}]
["LEPANTO",{"$f":"+C18+E18","v":16},{"$f":"+H18+M18","v":8},{"$f":"C18/$B18*100","v":50},{"$f":"+J18+O18","v":8},50,{"$f":"+H18+J18","v":8},7,{"$f":"H18/G18*100","v":87.5},1,{"$f":"J18/G18*100","v":12.5},{"$f":"+M18+O18","v":8},1,{"$f":"M18/L18*100","v":12.5},7,{"$f":"O18/L18*100","v":87.5}]
["PAQUERA",{"$f":"+C19+E19","v":11},{"$f":"+H19+M19","v":6},{"$f":"C19/$B19*100","v":54.54545454545454},{"$f":"+J19+O19","v":5},45.454545454545453,{"$f":"+H19+J19","v":6},5,{"$f":"H19/G19*100","v":83.333333333333343},1,{"$f":"J19/G19*100","v":16.666666666666664},{"$f":"+M19+O19","v":5},1,{"$f":"M19/L19*100","v":20},4,{"$f":"O19/L19*100","v":80}]
["MONTE VERDE",{"$f":"+C20+E20","v":12},{"$f":"+H20+M20","v":6},{"$f":"C20/$B20*100","v":50},{"$f":"+J20+O20","v":6},50,{"$f":"+H20+J20","v":6},4,{"$f":"H20/G20*100","v":66.666666666666657},2,{"$f":"J20/G20*100","v":33.333333333333329},{"$f":"+M20+O20","v":6},2,{"$f":"M20/L20*100","v":33.333333333333329},4,{"$f":"O20/L20*100","v":66.666666666666657}]
["CÓBANO",{"$f":"+C21+E21","v":12},{"$f":"+H21+M21","v":6},50,{"$f":"+J21+O21","v":6},50,{"$f":"+H21+J21","v":6},4,{"$f":"H21/G21*100","v":66.666666666666657},2,{"$f":"J21/G21*100","v":33.333333333333329},{"$f":"+M21+O21","v":6},2,{"$f":"M21/L21*100","v":33.333333333333329},4,{"$f":"O21/L21*100","v":66.666666666666657}]
[]
[]
[{"$f":"+'G3'!A34","v":"Fuente: Departamento de Registro de Partidos Políticos, base de datos de Candidaturas 2020, Tribunal Supremo de Elecciones."}]

{"sheet":"C31","index":37,"n_rows":29,"n_cols":16,"rows_kept":29,"cut":false,"hidden":false,"merged":[[0,0,0,15],[1,0,1,15],[2,0,2,15],[5,11,6,11],[5,12,5,13],[5,14,5,15],[4,0,6,0],[4,1,4,5],[4,6,4,10],[4,11,4,15],[5,1,6,1],[5,2,5,3],[5,4,5,5],[5,6,6,6],[5,7,5,8],[5,9,5,10]]}
["CUADRO 31 COSTA RICA: CANDIDATURAS A CONCEJALÍAS MUNICIPALES DE DISTRITO EN PROPIEDAD Y SUPLENCIA POR SEXO, SEGÚN PARTIDO POLÍTICO"]
["ELECCIONES MUNICIPALES 2 DE FEBRERO 2020"]
["(CIFRAS ABSOLUTAS Y RELATIVAS)"]
[]
["PARTIDO POLÍTICO","CONCEJALÍAS MUNICIPALES DE DISTRITO",null,null,null,null,"EN PROPIEDAD",null,null,null,null,"EN SUPLENCIA"]
["PARTIDO POLITICO","TOTAL","HOMBRES",null,"MUJERES",null,"TOTAL","HOMBRES",null,"MUJERES",null,"TOTAL","HOMBRES",null,"MUJERES"]
[null,"ABS","ABS","%","ABS","%","ABS","ABS","%","ABS","%","ABS","ABS","%","ABS","%"]
[]
["TOTAL",{"$f":"SUM(B11:B26)","v":367},{"$f":"SUM(C11:C26)","v":183},{"$f":"C9/B9*100","v":49.863760217983646},{"$f":"SUM(E11:E26)","v":184},{"$f":"E9/B9*100","v":50.136239782016347},{"$f":"SUM(G11:G26)","v":192},{"$f":"SUM(H11:H26)","v":96},{"$f":"H9/G9*100","v":50},{"$f":"SUM(J11:J26)","v":96},{"$f":"J9/G9*100","v":50},{"$f":"SUM(L11:L26)","v":175},{"$f":"SUM(M11:M26)","v":87},{"$f":"M9/L9*100","v":49.714285714285715},{"$f":"SUM(O11:O26)","v":88},{"$f":"O9/L9*100","v":50.285714285714292}]
[]
["ACCIÓN CIUDADANA",{"$f":"+C11+E11","v":26},{"$f":"+H11+M11","v":12},{"$f":"C11/B11*100","v":46.153846153846153},{"$f":"+J11+O11","v":14},{"$f":"E11/B11*100","v":53.846153846153847},{"$f":"+H11+J11","v":13},6,0,7,0,{"$f":"+M11+O11","v":13},6,{"$f":"M11/L11*100","v":46.153846153846153},7,{"$f":"O11/L11*100","v":53.846153846153847}]
["ACTUEMOS YA",{"$f":"+C12+E12","v":8},{"$f":"+H12+M12","v":4},{"$f":"C12/B12*100","v":50},{"$f":"+J12+O12","v":4},{"$f":"E12/B12*100","v":50},{"$f":"+H12+J12","v":4},2,1,2,1,{"$f":"+M12+O12","v":4},2,{"$f":"M12/L12*100","v":50},2,{"$f":"O12/L12*100","v":50}]
["ALIANZA DEMÓCRATA CRISTIANA",5,2,40,3,60,1,0,2,1,2,4,2,50,2,50]
["FRENTE AMPLIO",4,2,50,2,50,2,0,3,2,3,2,2,100,0,0]
["INTEGRACIÓN NACIONAL",39,19,48.717948717948715,20,51.282051282051277,20,10,4,10,4,19,9,47.368421052631575,10,52.631578947368418]
["LIBERACIÓN NACIONAL",62,31,50,31,50,31,16,5,15,5,31,15,48.387096774193552,16,51.612903225806448]
["LIBERAL PROGRESISTA",6,3,50,3,50,3,2,6,1,6,3,1,33.333333333333329,2,66.666666666666657]
["NUEVA GENERACIÓN",36,19,52.777777777777779,17,47.222222222222221,21,10,7,11,7,15,9,60,6,40]
["NUEVA REPÚBLICA",39,20,51.282051282051277,19,48.717948717948715,20,10,8,10,8,19,10,52.631578947368418,9,47.368421052631575]
["REPUBLICANO SOCIAL CRISTIANO",32,16,50,16,50,16,8,9,8,9,16,8,50,8,50]
["RESTAURACIÓN NACIONAL",16,8,50,8,50,11,6,10,5,10,5,2,40,3,60]
["ÚNICO ABANGAREÑO",8,4,50,4,50,4,2,11,2,11,4,2,50,2,50]
["UNIDAD SOCIAL CRISTIANA",46,23,50,23,50,25,13,12,12,12,21,10,47.619047619047613,11,52.380952380952387]
["UNIDOS PODEMOS",14,7,50,7,50,8,4,13,4,13,6,3,50,3,50]
["UNIÓN DE PUNTARENENSES EMPRENDEDORES",19,10,52.631578947368418,9,47.368421052631575,9,5,14,4,14,10,5,50,5,50]
["VERDE ECOLOGISTA",7,3,42.857142857142854,4,57.142857142857139,4,2,15,2,15,3,1,33.333333333333329,2,66.666666666666657]
[]
[]
[{"$f":"+'G3'!A34","v":"Fuente: Departamento de Registro de Partidos Políticos, base de datos de Candidaturas 2020, Tribunal Supremo de Elecciones."}]

{"sheet":"C32","index":38,"n_rows":26,"n_cols":16,"rows_kept":26,"cut":false,"hidden":false,"merged":[[6,4,6,5],[6,6,7,6],[6,7,6,8],[6,9,6,10],[2,0,2,15],[0,0,0,15],[1,0,1,15],[3,0,3,15],[6,11,7,11],[6,12,6,13],[6,14,6,15],[5,0,7,0],[5,1,5,5],[5,6,5,10],[5,11,5,15],[6,1,7,1],[6,2,6,3]]}
["CUADRO 32 COSTA RICA: CANDIDATURAS A CONCEJALÍAS MUNICIPALES DE DISTRITO EN PROPIEDAD Y SUPLENCIA POR SEXO"]
["SEGÚN PROVINCIA Y DISTRITO ADMINISTRATIVO. ELECCIONES MUNICIPALES "]
["2 DE FEBRERO 2020"]
["(CIFRAS ABSOLUTAS Y RELATIVAS)"]
[]
["DISTRITO ADMINISTRATIVO","TOTAL",null,null,null,null,"EN PROPIEDAD",null,null,null,null,"EN SUPLENCIA"]
["PARTIDO POLITICO","TOTAL","HOMBRES",null,"MUJERES",null,"TOTAL","HOMBRES",null,"MUJERES",null,"TOTAL","HOMBRES",null,"MUJERES"]
[null,"ABS","ABS","%","ABS","%","ABS","ABS","%","ABS","%","ABS","ABS","%","ABS","%"]
[]
["TOTAL",{"$f":"+B11+B13+B16+B18","v":367},{"$f":"+C11+C13+C16+C18","v":183},{"$f":"C10/$B10*100","v":49.863760217983646},{"$f":"+E11+E13+E16+E18","v":184},{"$f":"E10/$B10*100","v":50.136239782016347},{"$f":"+G11+G13+G16+G18","v":192},{"$f":"+H11+H13+H16+H18","v":96},{"$f":"H10/$G10*100","v":50},{"$f":"+J11+J13+J16+J18","v":83},{"$f":"J10/$G10*100","v":43.229166666666671},{"$f":"+L11+L13+L16+L18","v":175},{"$f":"+M11+M13+M16+M18","v":87},{"$f":"M10/$L10*100","v":49.714285714285715},{"$f":"+O11+O13+O16+O18","v":88},{"$f":"O10/$L10*100","v":50.285714285714292}]
["PROVINCIA ALAJUELA",{"$f":"SUM(B12)","v":49},{"$f":"SUM(C12)","v":25},{"$f":"C11/$B11*100","v":51.020408163265309},{"$f":"SUM(E12)","v":24},{"$f":"E11/$B11*100","v":48.979591836734691},{"$f":"SUM(G12)","v":25},{"$f":"SUM(H12)","v":12},{"$f":"H11/$G11*100","v":48},{"$f":"SUM(J12)","v":13},{"$f":"J11/$G11*100","v":52},{"$f":"SUM(L12)","v":24},{"$f":"SUM(M12)","v":13},{"$f":"M11/$L11*100","v":54.166666666666664},{"$f":"SUM(O12)","v":11},{"$f":"O11/$L11*100","v":45.833333333333329}]
["PEÑAS BLANCAS",{"$f":"+C12+E12","v":49},{"$f":"+H12+M12","v":25},{"$f":"C12/$B12*100","v":51.020408163265309},{"$f":"+J12+O12","v":24},{"$f":"E12/$B12*100","v":48.979591836734691},{"$f":"+H12+J12","v":25},12,{"$f":"H12/G12*100","v":48},13,{"$f":"J12/G12*100","v":52},{"$f":"+M12+O12","v":24},13,{"$f":"M12/L12*100","v":54.166666666666664},11,{"$f":"O12/L12*100","v":45.833333333333329}]
["PROVINCIA CARTAGO",{"$f":"SUM(B14:B15)","v":76},{"$f":"SUM(C14:C15)","v":36},{"$f":"C13/$B13*100","v":47.368421052631575},{"$f":"SUM(E14:E15)","v":40},{"$f":"E13/$B13*100","v":52.631578947368418},{"$f":"SUM(G14:G15)","v":40},{"$f":"SUM(H14:H15)","v":20},{"$f":"H13/$G13*100","v":50},{"$f":"SUM(J14:J15)","v":20},{"$f":"J13/$G13*100","v":50},{"$f":"SUM(L14:L15)","v":36},{"$f":"SUM(M14:M15)","v":16},{"$f":"M13/$L13*100","v":44.444444444444443},{"$f":"SUM(O14:O15)","v":20},{"$f":"O13/$L13*100","v":55.555555555555557}]
["TUCURRIQUE",{"$f":"+C14+E14","v":28},{"$f":"+H14+M14","v":14},{"$f":"C14/$B14*100","v":50},{"$f":"+J14+O14","v":14},{"$f":"E14/$B14*100","v":50},{"$f":"+H14+J14","v":15},8,{"$f":"H14/G14*100","v":53.333333333333336},7,{"$f":"J14/G14*100","v":46.666666666666664},{"$f":"+M14+O14","v":13},6,{"$f":"M14/L14*100","v":46.153846153846153},7,{"$f":"O14/L14*100","v":53.846153846153847}]
["CERVANTES",{"$f":"+C15+E15","v":48},{"$f":"+H15+M15","v":22},45.833333333333329,{"$f":"+J15+O15","v":26},54.166666666666664,{"$f":"+H15+J15","v":25},12,{"$f":"H15/G15*100","v":48},13,{"$f":"J15/G15*100","v":52},{"$f":"+M15+O15","v":23},10,{"$f":"M15/L15*100","v":43.478260869565219},13,{"$f":"O15/L15*100","v":56.521739130434781}]
["PROVINCIA GUANACASTE",{"$f":"SUM(B17)","v":45},{"$f":"SUM(C17)","v":21},{"$f":"C16/$B16*100","v":46.666666666666664},{"$f":"SUM(E17)","v":24},{"$f":"E16/$B16*100","v":53.333333333333336},{"$f":"SUM(G17)","v":24},{"$f":"SUM(H17)","v":11},{"$f":"H16/$G16*100","v":45.833333333333329},null,{"$f":"J16/$G16*100","v":0},{"$f":"SUM(L17)","v":21},{"$f":"SUM(M17)","v":10},{"$f":"M16/$L16*100","v":47.619047619047613},{"$f":"SUM(O17)","v":11},{"$f":"O16/$L16*100","v":52.380952380952387}]
["COLORADO",{"$f":"+C17+E17","v":45},{"$f":"+H17+M17","v":21},46.666666666666664,{"$f":"+J17+O17","v":24},53.333333333333336,{"$f":"+H17+J17","v":24},11,{"$f":"H17/G17*100","v":45.833333333333329},13,{"$f":"J17/G17*100","v":54.166666666666664},{"$f":"+M17+O17","v":21},10,{"$f":"M17/L17*100","v":47.619047619047613},11,{"$f":"O17/L17*100","v":52.380952380952387}]
["PROVINCIA PUNTARENAS",{"$f":"SUM(B19:B22)","v":197},{"$f":"SUM(C19:C22)","v":101},{"$f":"C18/$B18*100","v":51.26903553299492},{"$f":"SUM(E19:E22)","v":96},{"$f":"E18/$B18*100","v":48.73096446700508},{"$f":"SUM(G19:G22)","v":103},{"$f":"SUM(H19:H22)","v":53},{"$f":"H18/$G18*100","v":51.456310679611647},{"$f":"SUM(J19:J22)","v":50},{"$f":"J18/$G18*100","v":48.543689320388353},{"$f":"SUM(L19:L22)","v":94},{"$f":"SUM(M19:M22)","v":48},{"$f":"M18/$L18*100","v":51.063829787234042},{"$f":"SUM(O19:O22)","v":46},{"$f":"O18/$L18*100","v":48.936170212765958}]
["LEPANTO",{"$f":"+C19+E19","v":61},{"$f":"+H19+M19","v":31},50.819672131147541,{"$f":"+J19+O19","v":30},49.180327868852459,{"$f":"+H19+J19","v":33},17,{"$f":"H19/G19*100","v":51.515151515151516},16,{"$f":"J19/G19*100","v":48.484848484848484},{"$f":"+M19+O19","v":28},14,{"$f":"M19/L19*100","v":50},14,{"$f":"O19/L19*100","v":50}]
["PAQUERA",{"$f":"+C20+E20","v":53},{"$f":"+H20+M20","v":27},{"$f":"C20/$B20*100","v":50.943396226415096},{"$f":"+J20+O20","v":26},{"$f":"E20/$B20*100","v":49.056603773584904},{"$f":"+H20+J20","v":27},14,{"$f":"H20/G20*100","v":51.851851851851848},13,{"$f":"J20/G20*100","v":48.148148148148145},{"$f":"+M20+O20","v":26},13,{"$f":"M20/L20*100","v":50},13,{"$f":"O20/L20*100","v":50}]
["MONTE VERDE",{"$f":"+C21+E21","v":40},{"$f":"+H21+M21","v":21},{"$f":"C21/$B21*100","v":52.5},{"$f":"+J21+O21","v":19},{"$f":"E21/$B21*100","v":47.5},{"$f":"+H21+J21","v":20},11,{"$f":"H21/G21*100","v":55.000000000000007},9,{"$f":"J21/G21*100","v":45},{"$f":"+M21+O21","v":20},10,{"$f":"M21/L21*100","v":50},10,{"$f":"O21/L21*100","v":50}]
["CÓBANO",{"$f":"+C22+E22","v":43},{"$f":"+H22+M22","v":22},{"$f":"C22/$B22*100","v":51.162790697674424},{"$f":"+J22+O22","v":21},{"$f":"E22/$B22*100","v":48.837209302325576},{"$f":"+H22+J22","v":23},11,{"$f":"H22/G22*100","v":47.826086956521742},12,{"$f":"J22/G22*100","v":52.173913043478258},{"$f":"+M22+O22","v":20},11,{"$f":"M22/L22*100","v":55.000000000000007},9,{"$f":"O22/L22*100","v":45}]
[]
[]
[]
[{"$f":"+'G3'!A34","v":"Fuente: Departamento de Registro de Partidos Políticos, base de datos de Candidaturas 2020, Tribunal Supremo de Elecciones."}]

{"sheet":"C33","index":39,"n_rows":22,"n_cols":13,"rows_kept":22,"cut":false,"hidden":false,"merged":[[0,0,0,12],[1,0,1,12],[3,0,4,0],[3,1,3,3],[3,4,3,6],[3,7,3,9],[3,10,3,12]]}
["CUADRO 33 COSTA RICA: CANDIDATURAS A ALCALDÍAS Y VICEALCALDÍAS POR SEXO, SEGÚN GRUPOS DE EDAD"]
["ELECCIONES MUNICIPALES 2 DE FEBRERO 2020"]
[]
["GRUPOS DE EDAD","TOTAL",null,null,"ALCALDÍAS",null,null,"VICEALCALDÍA PRIMERA",null,null,"VICEALCALDÍA PRIMERA"]
[null,"TOTAL","HOMBRES","MUJERES","TOTAL","HOMBRES","MUJERES","TOTAL","HOMBRES","MUJERES","TOTAL","HOMBRES","MUJERES"]
[]
["TOTAL",{"$f":"SUM(B9:B19)","v":2018},1144,874,692,533,159,677,154,523,649,457,192]
[]
["18 A 24",{"$f":"+C9+D9","v":65},{"$f":"+F9+I9+L9","v":29},36,{"$f":"+F9+G9","v":5},3,2,{"$f":"+I9+J9","v":29},4,25,{"$f":"+L9+M9","v":31},22,9]
["25 A 29",156,89,67,18,15,3,58,15,43,80,59,21]
["30 A 34",230,112,118,42,30,12,93,22,71,95,60,35]
["35 A 39",238,134,104,70,56,14,81,19,62,87,59,28]
["40 A 44",249,113,136,85,57,28,92,14,78,72,42,30]
["45 A 49",215,121,94,86,66,20,70,14,56,59,41,18]
["50 A 54",251,137,114,108,79,29,84,16,68,59,42,17]
["55 A 59",256,154,102,124,92,32,76,18,58,56,44,12]
["60 A 64",187,129,58,91,77,14,48,14,34,48,38,10]
["65 A 69",107,78,29,41,36,5,29,9,20,37,33,4]
["70 Y MÁS",64,48,16,22,22,0,17,9,8,25,17,8]
[]
[]
[{"$f":"+'G3'!A34","v":"Fuente: Departamento de Registro de Partidos Políticos, base de datos de Candidaturas 2020, Tribunal Supremo de Elecciones."}]

{"sheet":"G4","index":40,"n_rows":28,"n_cols":12,"rows_kept":28,"cut":false,"hidden":false,"merged":[]}
[]
[]
["HOMBRES","MUJERES"]
[]
[{"$f":"+'C33'!C9","v":29},{"$f":"-1*'C33'!D9","v":-36},"18 - 24",{"$f":"CONCATENATE(C5,\"                                           \")","v":"18 - 24                                           "}]
[{"$f":"+'C33'!C10","v":89},{"$f":"-1*'C33'!D10","v":-67},"25 - 29","25 - 29                                           "]
[{"$f":"+'C33'!C11","v":112},{"$f":"-1*'C33'!D11","v":-118},"30 - 34","30 - 34                                           "]
[{"$f":"+'C33'!C12","v":134},{"$f":"-1*'C33'!D12","v":-104},"35 - 39","35 - 39                                           "]
[{"$f":"+'C33'!C13","v":113},{"$f":"-1*'C33'!D13","v":-136},"40 - 44","40 - 44                                           "]
[{"$f":"+'C33'!C14","v":121},{"$f":"-1*'C33'!D14","v":-94},"45 - 49","45 - 49                                           "]
[{"$f":"+'C33'!C15","v":137},{"$f":"-1*'C33'!D15","v":-114},"50 - 54","50 - 54                                           "]
[{"$f":"+'C33'!C16","v":154},{"$f":"-1*'C33'!D16","v":-102},"55 - 59","55 - 59                                           "]
[{"$f":"+'C33'!C17","v":129},{"$f":"-1*'C33'!D17","v":-58},"60 - 64","60 - 64                                           "]
[{"$f":"+'C33'!C18","v":78},{"$f":"-1*'C33'!D18","v":-29},"65 - 69","65 - 69                                           "]
[{"$f":"+'C33'!C19","v":48},{"$f":"-1*'C33'!D19","v":-16},"70 Y MÁS","70 Y MÁS                                           "]
[null,null,null,"                                           "]
[null,null,null,"                                           "]
[null,null,null,null,null,null,null,null,null,null,null,{"$f":"CONCATENATE(K18,\"                                                           \")","v":"                                                           "}]
[null,null,null,null,null,null,null,null,null,null,null,"                                                           "]
[null,null,null,null,null,null,null,null,null,null,null,"                                                           "]
[null,null,null,null,null,null,null,null,null,null,null,"                                                           "]
[null,null,null,null,null,null,null,null,null,null,null,"                                                           "]
[null,null,null,null,null,null,null,null,null,null,null,"                                                           "]
[null,null,null,null,null,null,null,null,null,null,null,"                                                           "]
[null,null,null,null,null,null,null,null,null,null,null,"                                                           "]
[null,null,null,null,null,null,null,null,null,null,null,"                                                           "]
[]
[{"$f":"+'G3'!A34","v":"Fuente: Departamento de Registro de Partidos Políticos, base de datos de Candidaturas 2020, Tribunal Supremo de Elecciones."}]

{"sheet":"C34","index":41,"n_rows":24,"n_cols":10,"rows_kept":24,"cut":false,"hidden":false,"merged":[[1,0,1,9],[2,0,2,9],[5,0,6,0],[5,1,5,3],[5,4,5,6],[5,7,5,9],[3,0,3,9]]}
[]
["CUADRO 34 COSTA RICA: CANDIDATURAS A REGIDURÍAS EN PROPIEDAD Y SUPLENCIA POR SEXO"]
["SEGÚN GRUPOS DE EDAD, ELECCIONES MUNICIPALES"]
["2 DE FEBRERO 2020"]
[]
["GRUPOS DE EDAD","REGIDURÍAS",null,null,"EN PROPIEDAD",null,null,"EN SUPLENCIA"]
[null,"TOTAL","HOMBRES","MUJERES","TOTAL","HOMBRES","MUJERES","TOTAL","HOMBRES","MUJERES"]
[]
["TOTAL",{"$f":"SUM(B11:B21)","v":7845},4039,3806,4015,2140,1875,3830,1899,1931]
[]
["18 - 24",{"$f":"+C11+D11","v":549},{"$f":"+F11+I11","v":267},282,{"$f":"+F11+G11","v":211},99,112,{"$f":"+I11+J11","v":338},168,170]
["25 - 29",691,334,357,313,151,162,378,183,195]
["30 - 34",908,427,481,435,211,224,473,216,257]
["35 - 39",1025,482,543,506,243,263,519,239,280]
["40 - 44",945,459,486,515,252,263,430,207,223]
["45 - 49",755,358,397,393,208,185,362,150,212]
["50 - 54",886,441,445,512,261,251,374,180,194]
["55 - 59",864,480,384,462,272,190,402,208,194]
["60 - 64",551,343,208,306,188,118,245,155,90]
["65 - 69",429,283,146,226,158,68,203,125,78]
["70 Y MÁS",242,165,77,136,97,39,106,68,38]
[]
[]
[{"$f":"+'G3'!A34","v":"Fuente: Departamento de Registro de Partidos Políticos, base de datos de Candidaturas 2020, Tribunal Supremo de Elecciones."}]

{"sheet":"G5","index":42,"n_rows":28,"n_cols":12,"rows_kept":28,"cut":false,"hidden":false,"merged":[]}
[]
[]
["HOMBRES","MUJERES"]
[]
[{"$f":"+'C34'!C11","v":267},{"$f":"+'C34'!D11*-1","v":-282},"18 - 24",{"$f":"CONCATENATE(C5,\"                                                             \")","v":"18 - 24                                                             "}]
[{"$f":"+'C34'!C12","v":334},{"$f":"+'C34'!D12*-1","v":-357},"25 - 29","25 - 29                                                             "]
[{"$f":"+'C34'!C13","v":427},{"$f":"+'C34'!D13*-1","v":-481},"30 - 34","30 - 34                                                             "]
[{"$f":"+'C34'!C14","v":482},{"$f":"+'C34'!D14*-1","v":-543},"35 - 39","35 - 39                                                             "]
[{"$f":"+'C34'!C15","v":459},{"$f":"+'C34'!D15*-1","v":-486},"40 - 44","40 - 44                                                             "]
[{"$f":"+'C34'!C16","v":358},{"$f":"+'C34'!D16*-1","v":-397},"45 - 49","45 - 49                                                             "]
[{"$f":"+'C34'!C17","v":441},{"$f":"+'C34'!D17*-1","v":-445},"50 - 54","50 - 54                                                             "]
[{"$f":"+'C34'!C18","v":480},{"$f":"+'C34'!D18*-1","v":-384},"55 - 59","55 - 59                                                             "]
[{"$f":"+'C34'!C19","v":343},{"$f":"+'C34'!D19*-1","v":-208},"60 - 64","60 - 64                                                             "]
[{"$f":"+'C34'!C20","v":283},{"$f":"+'C34'!D20*-1","v":-146},"65 - 69","65 - 69                                                             "]
[{"$f":"+'C34'!C21","v":165},{"$f":"+'C34'!D21*-1","v":-77},"70 Y MÁS","70 Y MÁS                                                             "]
[null,null,null,"                                                             "]
[null,null,null,"                                                             "]
[null,null,null,null,null,null,null,null,null,null,null,{"$f":"CONCATENATE(K18,\"                                                           \")","v":"                                                           "}]
[null,null,null,null,null,null,null,null,null,null,null,"                                                           "]
[null,null,null,null,null,null,null,null,null,null,null,"                                                           "]
[null,null,null,null,null,null,null,null,null,null,null,"                                                           "]
[null,null,null,null,null,null,null,null,null,null,null,"                                                           "]
[null,null,null,null,null,null,null,null,null,null,null,"                                                           "]
[null,null,null,null,null,null,null,null,null,null,null,"                                                           "]
[null,null,null,null,null,null,null,null,null,null,null,"                                                           "]
[null,null,null,null,null,null,null,null,null,null,null,"                                                           "]
[]
[{"$f":"+'G3'!A34","v":"Fuente: Departamento de Registro de Partidos Políticos, base de datos de Candidaturas 2020, Tribunal Supremo de Elecciones."}]

{"sheet":"C35","index":43,"n_rows":24,"n_cols":10,"rows_kept":24,"cut":false,"hidden":false,"merged":[[5,0,6,0],[5,1,5,3],[5,4,5,6],[5,7,5,9],[1,0,1,9],[2,0,2,9],[3,0,3,9]]}
[]
["CUADRO 35 COSTA RICA: CANDIDATURAS A SÍNDICATURAS EN PROPIEDAD Y SUPLENCIA POR SEXO"]
["SEGÚN GRUPOS DE EDAD, ELECCIONES MUNICIPALES"]
["2 DE FEBRERO 2020"]
[]
["GRUPOS DE EDAD","SÍNDICATURAS",null,null,"EN PROPIEDAD",null,null,"EN SUPLENCIA"]
[null,"TOTAL","HOMBRES","MUJERES","TOTAL","HOMBRES","MUJERES","TOTAL","HOMBRES","MUJERES"]
[]
["TOTAL",{"$f":"SUM(B11:B21)","v":6760},3406,3354,3692,2269,1423,3068,1137,1931]
[]
["18 - 24",{"$f":"+C11+D11","v":458},{"$f":"+F11+I11","v":215},243,{"$f":"+F11+G11","v":185},112,73,{"$f":"+I11+J11","v":273},103,170]
["25 - 29",534,231,303,233,119,114,301,112,189]
["30 - 34",758,348,410,355,218,137,403,130,273]
["35 - 39",835,357,478,427,229,198,408,128,280]
["40 - 44",806,383,423,445,261,184,361,122,239]
["45 - 49",783,371,412,451,257,194,332,114,218]
["50 - 54",818,437,381,495,310,185,323,127,196]
["55 - 59",681,360,321,407,246,161,274,114,160]
["60 - 64",517,313,204,304,217,87,213,96,117]
["65 - 69",315,201,114,213,151,62,102,50,52]
["70 Y MÁS",255,190,65,177,149,28,78,41,37]
[]
[]
[{"$f":"+'G3'!A34","v":"Fuente: Departamento de Registro de Partidos Políticos, base de datos de Candidaturas 2020, Tribunal Supremo de Elecciones."}]

{"sheet":"G6","index":44,"n_rows":28,"n_cols":12,"rows_kept":28,"cut":false,"hidden":false,"merged":[]}
[]
[]
["HOMBRES","MUJERES"]
[]
[{"$f":"+'C35'!C11","v":215},{"$f":"+'C35'!D11*-1","v":-243},"18 - 24",{"$f":"CONCATENATE(C5,\"                                                             \")","v":"18 - 24                                                             "}]
[{"$f":"+'C35'!C12","v":231},{"$f":"+'C35'!D12*-1","v":-303},"25 - 29","25 - 29                                                             "]
[{"$f":"+'C35'!C13","v":348},{"$f":"+'C35'!D13*-1","v":-410},"30 - 34","30 - 34                                                             "]
[{"$f":"+'C35'!C14","v":357},{"$f":"+'C35'!D14*-1","v":-478},"35 - 39","35 - 39                                                             "]
[{"$f":"+'C35'!C15","v":383},{"$f":"+'C35'!D15*-1","v":-423},"40 - 44","40 - 44                                                             "]
[{"$f":"+'C35'!C16","v":371},{"$f":"+'C35'!D16*-1","v":-412},"45 - 49","45 - 49                                                             "]
[{"$f":"+'C35'!C17","v":437},{"$f":"+'C35'!D17*-1","v":-381},"50 - 54","50 - 54                                                             "]
[{"$f":"+'C35'!C18","v":360},{"$f":"+'C35'!D18*-1","v":-321},"55 - 59","55 - 59                                                             "]
[{"$f":"+'C35'!C19","v":313},{"$f":"+'C35'!D19*-1","v":-204},"60 - 64","60 - 64                                                             "]
[{"$f":"+'C35'!C20","v":201},{"$f":"+'C35'!D20*-1","v":-114},"65 - 69","65 - 69                                                             "]
[{"$f":"+'C35'!C21","v":190},{"$f":"+'C35'!D21*-1","v":-65},"70 Y MÁS","70 Y MÁS                                                             "]
[null,null,null,"                                                             "]
[null,null,null,"                                                             "]
[null,null,null,null,null,null,null,null,null,null,null,{"$f":"CONCATENATE(K18,\"                                                           \")","v":"                                                           "}]
[null,null,null,null,null,null,null,null,null,null,null,"                                                           "]
[null,null,null,null,null,null,null,null,null,null,null,"                                                           "]
[null,null,null,null,null,null,null,null,null,null,null,"                                                           "]
[null,null,null,null,null,null,null,null,null,null,null,"                                                           "]
[null,null,null,null,null,null,null,null,null,null,null,"                                                           "]
[null,null,null,null,null,null,null,null,null,null,null,"                                                           "]
[null,null,null,null,null,null,null,null,null,null,null,"                                                           "]
[null,null,null,null,null,null,null,null,null,null,null,"                                                           "]
[]
[{"$f":"+'G3'!A34","v":"Fuente: Departamento de Registro de Partidos Políticos, base de datos de Candidaturas 2020, Tribunal Supremo de Elecciones."}]

{"sheet":"C36","index":45,"n_rows":24,"n_cols":10,"rows_kept":24,"cut":false,"hidden":false,"merged":[[0,0,0,9],[1,0,1,9],[2,0,2,9],[23,0,23,9],[4,0,5,0],[4,1,4,3],[4,4,4,6],[4,7,4,9]]}
["CUADRO 36 COSTA RICA: CANDIDATURAS A CONCEJALÍAS DE DISTRITO EN PROPIEDAD Y SUPLENCIA POR SEXO"]
["SEGÚN GRUPOS DE EDAD, ELECCIONES MUNICIPALES"]
["2 DE FEBRERO 2020"]
[]
["GRUPOS DE EDAD","CONCEJALÍAS DE DISTRITO",null,null,"EN PROPIEDAD",null,null,"EN SUPLENCIA"]
[null,"TOTAL","HOMBRES","MUJERES","TOTAL","HOMBRES","MUJERES","TOTAL","HOMBRES","MUJERES"]
[]
["TOTAL",{"$f":"SUM(B10:B20)","v":16777},{"$f":"SUM(C10:C20)","v":8351},{"$f":"SUM(D10:D20)","v":8426},{"$f":"SUM(E10:E20)","v":9180},4603,4577,7597,3748,3849]
[]
["18 - 24",{"$f":"+C10+D10","v":1875},{"$f":"+F10+I10","v":909},966,{"$f":"+F10+G10","v":979},476,503,{"$f":"+I10+J10","v":896},433,463]
["25 - 29",1737,841,896,931,442,489,806,399,407]
["30 - 34",2074,924,1150,1125,498,627,949,426,523]
["35 - 39",2034,916,1118,1122,503,619,912,413,499]
["40 - 44",1831,810,1021,1019,461,558,812,349,463]
["45 - 49",1712,815,897,954,445,509,758,370,388]
["50 - 54",1663,857,806,906,480,426,757,377,380]
["55 - 59",1415,751,664,794,432,362,621,319,302]
["60 - 64",1095,620,475,624,366,258,471,254,217]
["65 - 69",716,467,249,389,265,124,327,202,125]
["70 Y MÁS",625,441,184,337,235,102,288,206,82]
[]
[]
[]
[{"$f":"+'G3'!A34","v":"Fuente: Departamento de Registro de Partidos Políticos, base de datos de Candidaturas 2020, Tribunal Supremo de Elecciones."}]

{"sheet":"G7","index":46,"n_rows":28,"n_cols":4,"rows_kept":28,"cut":false,"hidden":false,"merged":[]}
[]
[]
["HOMBRES","MUJERES"]
[]
[{"$f":"+'C36'!C10","v":909},{"$f":"+'C36'!D10*-1","v":-966},"18 - 24",{"$f":"CONCATENATE(C5,\"                                                                  \")","v":"18 - 24                                                                  "}]
[{"$f":"+'C36'!C11","v":841},{"$f":"+'C36'!D11*-1","v":-896},"25 - 29","25 - 29                                                                  "]
[{"$f":"+'C36'!C12","v":924},{"$f":"+'C36'!D12*-1","v":-1150},"30 - 34","30 - 34                                                                  "]
[{"$f":"+'C36'!C13","v":916},{"$f":"+'C36'!D13*-1","v":-1118},"35 - 39","35 - 39                                                                  "]
[{"$f":"+'C36'!C14","v":810},{"$f":"+'C36'!D14*-1","v":-1021},"40 - 44","40 - 44                                                                  "]
[{"$f":"+'C36'!C15","v":815},{"$f":"+'C36'!D15*-1","v":-897},"45 - 49","45 - 49                                                                  "]
[{"$f":"+'C36'!C16","v":857},{"$f":"+'C36'!D16*-1","v":-806},"50 - 54","50 - 54                                                                  "]
[{"$f":"+'C36'!C17","v":751},{"$f":"+'C36'!D17*-1","v":-664},"55 - 59","55 - 59                                                                  "]
[{"$f":"+'C36'!C18","v":620},{"$f":"+'C36'!D18*-1","v":-475},"60 - 64","60 - 64                                                                  "]
[{"$f":"+'C36'!C19","v":467},{"$f":"+'C36'!D19*-1","v":-249},"65 - 69","65 - 69                                                                  "]
[{"$f":"+'C36'!C20","v":441},{"$f":"+'C36'!D20*-1","v":-184},"70 Y MÁS","70 Y MÁS                                                                  "]
[null,null,null,"                                                                  "]
[null,null,null,"                                                                  "]
[]
[]
[]
[]
[]
[]
[]
[]
[]
[]
[{"$f":"+'G3'!A34","v":"Fuente: Departamento de Registro de Partidos Políticos, base de datos de Candidaturas 2020, Tribunal Supremo de Elecciones."}]

{"sheet":"C37","index":47,"n_rows":24,"n_cols":10,"rows_kept":24,"cut":false,"hidden":false,"merged":[[0,0,0,9],[1,0,1,9],[2,0,2,9],[23,0,23,9],[4,0,5,0],[4,1,4,3],[4,4,4,6],[4,7,4,9]]}
["CUADRO 37 COSTA RICA: CANDIDATURAS A INTENDENCIAS Y VICEINTENDENCIAS POR SEXO"]
["SEGÚN GRUPOS DE EDAD, ELECCIONES MUNICIPALES"]
["2 DE FEBRERO 2020"]
[]
["GRUPOS DE EDAD","TOTAL",null,null,"INTENDENCIAS",null,null,"VICEINTENDENCIAS"]
[null,"TOTAL","HOMBRES","MUJERES","TOTAL","HOMBRES","MUJERES","TOTAL","HOMBRES","MUJERES"]
[]
["TOTAL",{"$f":"SUM(B10:B20)","v":106},54,52,54,40,14,52,14,38]
[]
["18 - 24",{"$f":"+C10+D10","v":2},{"$f":"+F10+I10","v":1},1,{"$f":"+F10+G10","v":1},1,0,{"$f":"+I10+J10","v":1},0,1]
["25 - 29",8,2,6,1,1,0,{"$f":"+I11+J11","v":7},1,6]
["30 - 34",15,6,9,8,5,3,7,1,6]
["35 - 39",17,{"$f":"+F13+I13","v":10},7,7,5,2,10,5,5]
["40 - 44",8,2,6,3,1,2,5,1,4]
["45 - 49",7,3,4,3,2,1,4,1,3]
["50 - 54",22,9,13,12,8,4,10,1,9]
["55 - 59",16,13,3,10,10,0,6,3,3]
["60 - 64",5,4,1,5,4,1,0,0,0]
["65 - 69",4,3,1,3,2,1,1,1,0]
["70 Y MÁS",2,1,1,1,1,0,1,0,1]
[]
[]
[]
[{"$f":"+'G3'!A34","v":"Fuente: Departamento de Registro de Partidos Políticos, base de datos de Candidaturas 2020, Tribunal Supremo de Elecciones."}]

{"sheet":"C38","index":48,"n_rows":24,"n_cols":10,"rows_kept":24,"cut":false,"hidden":false,"merged":[[4,0,5,0],[4,1,4,3],[4,4,4,6],[4,7,4,9],[0,0,0,9],[1,0,1,9],[2,0,2,9]]}
["CUADRO 38 COSTA RICA: CANDIDATURAS A CONCEJALES MUNICIPALES DE DISTRITO EN PROPIEDAD Y SUPLENCIA"]
["POR SEXO, SEGÚN GRUPOS DE EDAD. ELECCIONES MUNICIPALES"]
["2 DE FEBRERO 2020"]
[]
["GRUPOS DE EDAD","CONCEJALES MUNICIPALES DE DISTRITO",null,null,"EN PROPIEDAD",null,null,"EN SUPLENCIA"]
[null,"TOTAL","HOMBRES","MUJERES","TOTAL","HOMBRES","MUJERES","TOTAL","HOMBRES","MUJERES"]
[]
["TOTAL",{"$f":"SUM(B10:B20)","v":367},183,184,192,96,96,175,87,88]
[]
["18 - 24",{"$f":"+C10+D10","v":41},{"$f":"+F10+I10","v":21},20,{"$f":"+F10+G10","v":18},6,12,{"$f":"+I10+J10","v":23},15,8]
["25 - 29",34,19,15,{"$f":"+F11+G11","v":15},8,7,{"$f":"+I11+J11","v":19},11,8]
["30 - 34",38,15,23,22,8,14,16,7,9]
["35 - 39",58,32,26,32,18,14,26,14,12]
["40 - 44",57,18,39,23,7,16,34,11,23]
["45 - 49",34,20,14,20,15,5,14,5,9]
["50 - 54",39,19,20,22,10,12,17,9,8]
["55 - 59",29,16,13,19,9,10,10,7,3]
["60 - 64",20,13,7,9,7,2,11,6,5]
["65 - 69",10,5,5,7,4,3,3,1,2]
["70 Y MÁS",7,5,2,5,4,1,2,1,1]
[]
[]
[]
[{"$f":"+'G3'!A34","v":"Fuente: Departamento de Registro de Partidos Políticos, base de datos de Candidaturas 2020, Tribunal Supremo de Elecciones."}]

{"sheet":"MENUDATOS","index":49,"n_rows":57,"n_cols":3,"rows_kept":57,"cut":false,"hidden":true,"merged":[]}
["Cuadro 1 ","TOTAL Y VARIACIÓN DEL PADRÓN NACIONAL ELECTORAL 2016-2020, SEGÚN PROVINCIA Y SEXO","C1"]
["Gráfico 1 ","PADRÓN NACIONAL ELECTORAL POR PROCESO ELECTORAL, SEGÚN PROVINCIA","G1"]
["Cuadro 2 ","TOTAL Y VARIACIÓN PADRÓN NACIONAL ELECTORAL 2016-2020 POR SEXO, SEGÚN PROVINCIA Y CANTÓN","C2"]
["Cuadro 3 ","PADRÓN NACIONAL ELECTORAL POR SEXO, SEGÚN PROVINCIA, CANTÓN Y DISTRITO","C3"]
["Cuadro 4 ","PADRÓN NACIONAL ELECTORAL POR SEXO, SEGÚN EDAD SIMPLE","C4"]
["Cuadro 5 ","PADRÓN NACIONAL ELECTORAL POR SEXO, SEGÚN GRUPOS DE EDAD","C5"]
["Gráfico 2 ","DISTRIBUCIÓN DEL PADRÓN NACIONAL ELECTORAL POR SEXO Y GRUPOS DE EDAD","G2"]
["Cuadro 6 ","PADRÓN NACIONAL ELECTORAL POR PROVINCIA, SEGÚN SEXO Y GRUPOS DE EDAD","C6"]
["Cuadro 7 ","PADRÓN NACIONAL ELECTORAL POR GRANDES GRUPOS DE EDAD, SEGÚN PROVINCIA","C7"]
["Cuadro 8 ","PADRÓN NACIONAL ELECTORAL POR ZONA, SEGÚN PROVINCIA Y CANTÓN","C8"]
["Cuadro 9 ","ELECTORADO NATURALIZADO POR PAÍS DE ORIGEN, SEGÚN SEXO Y GRUPO DE EDAD","C9"]
["Cuadro 10 ","NUEVOS ELECTORES POR SEXO SEGÚN EDAD","C10"]
["Cuadro 11 ","NUEVOS ELECTORES POR SEXO SEGÚN PROVINCIA","C11"]
[null," ---- CERRAR ---- ","INICIO"]
[]
["Cuadro 12 ","CANTONES, DISTRITOS ADMINISTRATIVOS Y ELECTORALES, SEGÚN PROVINCIA","C12"]
["Cuadro 13 ","MOVIMIENTOS A LA DIVISIÓN TERRITORIAL ELECTORAL, SEGÚN PROVINCIA ","C13"]
[null," ---- CERRAR ---- ","INICIO"]
[]
["Cuadro 14 ","JUNTAS RECEPTORAS Y ELECTORADO EN CENTROS PENITENCIARIOS, HOGARES DE ANCIANOS, ZONAS INDÍGENAS Y CENTROS DE SALUD MENTAL, SEGÚN PROVINCIA","C14"]
["Cuadro 15 ","JUNTAS RECEPTORAS Y ELECTORADO POR SEXO EN CENTROS PENITENCIARIOS, SEGÚN PROVINCIA Y DISTRITO ELECTORAL","C15"]
["Cuadro 16 ","JUNTAS RECEPTORAS Y ELECTORADO POR SEXO EN HOGARES DE ANCIANOS, SEGÚN PROVINCIA Y DISTRITO ELECTORAL","C16"]
["Cuadro 17 ","JUNTAS RECEPTORAS Y ELECTORADO POR SEXO EN ZONAS INDÍGENAS, SEGÚN PROVINCIA Y DISTRITO ELECTORAL","C17"]
[null," ---- CERRAR ---- ","INICIO"]
[]
["Tabla 1 ","PARTIDOS POLÍTICOS NACIONALES QUE PARTICIPAN EN LAS ELECCIONES","T1"]
["Tabla 2","PARTIDOS POLÍTICOS PROVINCIALES QUE PARTICIPAN EN LAS ELECCIONES","T2"]
["Tabla 3","PARTIDOS POLÍTICOS CANTONALES QUE PARTICIPAN EN LAS ELECCIONES","T3"]
["Cuadro 18 ","CANDIDATURAS INSCRITAS POR ELECCIÓN, SEGÚN PROVINCIA Y TIPO DE CANDIDATURA","C18"]
["Cuadro 19 ","PUESTOS A ELEGIR POR CARGO, SEGÚN TIPO DE CANDIDATURA","C19"]
["Cuadro 20 ","COMPOSICIÓN DE LAS PAPELETAS POR SEXO, SEGÚN CANDIDATURAS Y CARGO ","C20"]
["Gráfico 3 ","DISTRIBUCIÓN DE LAS CANDIDATURAS POR SEXO, SEGÚN TIPO DE CANDIDATURA","G3"]
["Cuadro 21 ","CANDIDATURAS A ALCALDÍAS Y VICEALCALDÍAS POR SEXO SEGÚN PARTIDO","C21"]
["Cuadro 22 ","CANDIDATURAS A ALCALDÍAS Y VICEALCALDÍAS POR SEXO SEGÚN PROVINCIA Y CANTÓN","C22"]
["Cuadro 23 ","CANDIDATURAS A REGIDURÍAS EN PROPIEDAD Y SUPLENCIA POR SEXO, SEGÚN PARTIDO","C23"]
["Cuadro 24 ","CANDIDATURAS A REGIDURÍAS EN PROPIEDAD Y SUPLENCIA POR SEXO, SEGÚN PROVINCIA Y CANTÓN","C24"]
["Cuadro 25 ","CANDIDATURAS A SINDICATURAS EN PROPIEDAD Y SUPLENCIA POR SEXO, SEGÚN PARTIDO","C25"]
["Cuadro 26 ","CANDIDATURAS A SINDICATURAS EN PROPIEDAD Y SUPLENCIA POR SEXO, SEGÚN PROVINCIA Y CANTÓN","C26"]
["Cuadro 27 ","CANDIDATURAS A CONCEJALÍAS DE DISTRITO EN PROPIEDAD Y SUPLENCIA POR SEXO, SEGÚN PARTIDO","C27"]
["Cuadro 28 ","CANDIDATURAS A CONCEJALÍAS DE DISTRITO EN PROPIEDAD Y SUPLENCIA POR SEXO, SEGÚN PROVINCIA Y CANTÓN","C28"]
["Cuadro 29 ","CANDIDATURAS A INTENDENCIAS Y VICEINTENDENCIAS POR SEXO, SEGÚN PARTIDO","C29"]
["Cuadro 30 ","CANDIDATURAS A INTENDENCIAS Y VICEINTENDENCIAS POR SEXO, SEGÚN PROVINCIA Y DISTRITO ADMINISTRATIVO","C30"]
["Cuadro 31 ","CANDIDATURAS A CONCEJALÍAS MUNICIPALES DE DISTRITO EN PROPIEDAD Y SUPLENCIA POR SEXO, SEGÚN PARTIDO","C31"]
["Cuadro 32 ","CANDIDATURAS A CONCEJALÍAS MUNICIPALES DE DISTRITO EN PROPIEDAD Y SUPLENCIA POR SEXO, SEGÚN PROVINCIA Y DISTRITO ADMINISTRATIVO","C32"]
[""," ---- CERRAR ---- ","INICIO"]
[""]
["Cuadro 33 ","CANDIDATURAS A ALCALDÍAS Y VICEALCALDÍAS POR SEXO, SEGÚN GRUPOS DE EDAD","C33"]
["Gráfico 4 ","DISTRIBUCIÓN DE LAS CANDIDIDATURAS A ALCALDÍAS Y VICEALCALDÍAS POR SEXO Y GRUPOS DE EDAD ","G4"]
["Cuadro 34 ","CANDIDATURAS A REGIDURÍAS EN PROPIEDAD Y SUPLENCIA POR SEXO, SEGÚN GRUPOS DE EDAD","C34"]
["Gráfico 5 ","DISTRIBUCIÓN DE LAS CANDIDATURAS A REGIDURÍAS POR SEXO Y GRUPOS DE EDAD","G5"]
["Cuadro 35 ","CANDIDATURAS A SINDICATURAS EN PROPIEDAD Y SUPLENCIA POR SEXO, SEGÚN GRUPOS DE EDAD","C35"]
["Gráfico 6 ","DISTRIBUCIÓN DE LAS CANDIDATURAS A SINDICATURAS POR SEXO Y GRUPOS DE EDAD","G6"]
["Cuadro 36","CANDIDATURAS A CONCEJALÍAS DE DISTRITO EN PROPIEDAD Y SUPLENCIA POR SEXO, SEGÚN GRUPOS DE EDAD","C36"]
["Gráfico 7 ","DISTRIBUCIÓN DE LAS CANDIDATURAS A CONCEJALÍAS DE DISTRITO, POR SEXO Y GRUPOS DE EDAD","G7"]
["Cuadro 37","CANDIDATURAS A INTENDENCIAS Y VICEINTENDENCIAS POR SEXO, SEGÚN GRUPOS DE EDAD","C37"]
["Cuadro 38","CANDIDATURAS A CONCEJALÍAS MUNICIPALES DE DISTRITO EN PROPIEDAD Y SUPLENCIA, POR SEXO, SEGÚN GRUPOS DE EDAD","C38"]
[null," ---- CERRAR ---- ","INICIO"]