{"text_format":"1","workbook":"xlsx","n_sheets":33,"sheets":["MENU","1","2","3","G1","4","5","G2","6","7","G3","8","G4","9","G5","10","11","12","G6","G7","13","14","G8","15","16","17","18","19","20","21","22","23","24"],"not_rendered":{"charts":8,"images":0,"macros":1,"external_links":1,"defined_names":31,"comments":1,"pivot_tables":0},"unopened":[],"bounds":{"document_bytes":16777216,"sheet_cells":100000,"rows_first":2000,"rows_last":500,"rows_between":2000,"halvings":0,"cell_chars":16384,"cell_head_chars":4096},"cells_cut":0,"cells_raw":0,"read":"whole","date_system":"1900"}

{"sheet":"MENU","index":0,"n_rows":27,"n_cols":3,"rows_kept":27,"cut":false,"hidden":false,"merged":[]}
["      "]
[]
[]
[]
[]
["C1"]
[{"$f":"LEFT(C7,4)","v":""}]
[""]
[""]
["C5. ",null,"C5.  ELECTORES POR PAÍS DE ORIGEN "]
[""]
[""]
[""]
[""]
[""]
[""]
[""]
[""]
[""]
[""]
[""]
[""]
[]
[]
[null,null,"Observaciones al "]
[null,null,"correo electrónico: dejecutiva@tse.go.cr"]
[{"$f":"LEFT(C27,4)","v":""}]

{"sheet":"1","index":1,"n_rows":48,"n_cols":6,"rows_kept":48,"cut":false,"hidden":false,"merged":[[45,0,45,5],[0,0,0,5],[1,0,1,5],[2,0,2,5],[3,0,3,5],[5,0,6,0],[5,1,5,2],[5,4,5,5]]}
["CUADRO 1"]
["COSTA RICA: TOTAL Y VARIACIÓN DEL ELECTORADO"]
["ENTRE DICIEMBRE 2010 Y DICIEMBRE 2013"]
[" SEGÚN PROVINCIA Y SEXO"]
[]
["Provincia y sexo","Padrón Nacional Electoral",null,null,"Variación"]
[null,"Diciembre 2010","Diciembre 2013",null,"Absoluto","Porcentaje"]
[]
["Costa Rica",{"$f":"B13+B17+B21+B25+B29+B33+B37+B41","v":2866217},{"$f":"C13+C17+C21+C25+C29+C33+C37+C41","v":3078321},null,{"$f":"C9-B9","v":212104},{"$f":"E9/B9*100","v":7.4001375332014288}]
["Hombres",1430857,1535869,null,{"$f":"C10-B10","v":105012},{"$f":"E10/B10*100","v":7.3390981768268944}]
["Mujeres",1435360,1542452,null,{"$f":"C11-B11","v":107092},{"$f":"E11/B11*100","v":7.4609853973915952}]
[]
["San José",{"$f":"SUM(B14:B15)","v":1016678},{"$f":"+C14+C15","v":1063061},null,{"$f":"C13-B13","v":46383},{"$f":"E13/B13*100","v":4.5622114376429899}]
["Hombres",495505,518312,null,{"$f":"C14-B14","v":22807},{"$f":"E14/B14*100","v":4.6027789830576884}]
["Mujeres",521173,544749,null,{"$f":"C15-B15","v":23576},{"$f":"E15/B15*100","v":4.5236418617234584}]
[]
["Alajuela",{"$f":"+B18+B19","v":533285},{"$f":"+C18+C19","v":577493},null,{"$f":"C17-B17","v":44208},{"$f":"E17/B17*100","v":8.2897512587078204}]
["Hombres",269128,291277,null,{"$f":"C18-B18","v":22149},{"$f":"E18/B18*100","v":8.2299129038970307}]
["Mujeres",264157,286216,null,{"$f":"C19-B19","v":22059},{"$f":"E19/B19*100","v":8.3507156728763583}]
[]
["Cartago",{"$f":"+B22+B23","v":334473},{"$f":"+C22+C23","v":359985},null,{"$f":"C21-B21","v":25512},{"$f":"E21/B21*100","v":7.6275215039778992}]
["Hombres",167036,179449,null,{"$f":"C22-B22","v":12413},{"$f":"E22/B22*100","v":7.4313321679158983}]
["Mujeres",167437,180536,null,{"$f":"C23-B23","v":13099},{"$f":"E23/B23*100","v":7.8232409801895635}]
[]
["Heredia",{"$f":"+B26+B27","v":283771},{"$f":"+C26+C27","v":306901},null,{"$f":"C25-B25","v":23130},{"$f":"E25/B25*100","v":8.1509386089487652}]
["Hombres",139912,151098,null,{"$f":"C26-B26","v":11186},{"$f":"E26/B26*100","v":7.9950254445651554}]
["Mujeres",143859,155803,null,{"$f":"C27-B27","v":11944},{"$f":"E27/B27*100","v":8.3025740481999737}]
[]
["Guanacaste",{"$f":"+B30+B31","v":203614},{"$f":"+C30+C31","v":221688},null,{"$f":"C29-B29","v":18074},{"$f":"E29/B29*100","v":8.8765998408753823}]
["Hombres",103249,112201,null,{"$f":"C30-B30","v":8952},{"$f":"E30/B30*100","v":8.670301891543744}]
["Mujeres",100365,109487,null,{"$f":"C31-B31","v":9122},{"$f":"E31/B31*100","v":9.0888257858815322}]
[]
["Puntarenas",{"$f":"+B34+B35","v":265197},{"$f":"+C34+C35","v":287254},null,{"$f":"C33-B33","v":22057},{"$f":"E33/B33*100","v":8.3172132414770914}]
["Hombres",136989,147881,null,{"$f":"C34-B34","v":10892},{"$f":"E34/B34*100","v":7.9510033652337055}]
["Mujeres",128208,139373,null,{"$f":"C35-B35","v":11165},{"$f":"E35/B35*100","v":8.70850492948958}]
[]
["Limón",{"$f":"+B38+B39","v":228491},{"$f":"+C38+C39","v":249285},null,{"$f":"C37-B37","v":20794},{"$f":"E37/B37*100","v":9.1005772656253434}]
["Hombres",118700,129143,null,{"$f":"C38-B38","v":10443},{"$f":"E38/B38*100","v":8.7978096040438079}]
["Mujeres",109791,120142,null,{"$f":"C39-B39","v":10351},{"$f":"E39/B39*100","v":9.4279130347660551}]
[]
["En el extranjero 1/",{"$f":"+B42+B43","v":708},{"$f":"+C42+C43","v":12654},null,{"$f":"C41-B41","v":11946},{"$f":"E41/B41*100","v":1687.2881355932204}]
["Hombres",338,6508,null,{"$f":"C42-B42","v":6170},{"$f":"E42/B42*100","v":1825.4437869822486}]
["Mujeres",370,6146,null,{"$f":"C43-B43","v":5776},{"$f":"E43/B43*100","v":1561.081081081081}]
[]
[]
["1/ Costarricenses inscritos(as) que pueden ejercer el voto en extranjero para designar los puestos de Presidencia y Vicepresidencias, así como en consultas populares de orden nacional, según el artículo 187 del Código Electoral."]
[]
["Fuente: Sección Padrón Electoral del Tribunal Supremo de Elecciones."]

{"sheet":"2","index":2,"n_rows":110,"n_cols":8,"rows_kept":110,"cut":false,"hidden":false,"merged":[[108,0,108,7],[0,0,0,7],[1,0,1,7],[2,0,2,7],[3,0,3,7],[5,0,7,0],[5,1,5,7],[6,1,6,4],[6,5,6,7],[7,3,7,4]]}
["CUADRO 2"]
["COSTA RICA: ELECTORADO EN EL PADRÓN PARA LAS ELECCIONES DE"]
["DICIEMBRE 2010 Y EN EL PADRÓN AL 31 DE DICIEMBRE DE 2013"]
["POR SEXO,  SEGÚN PROVINCIA Y CANTÓN"]
[]
["Provincia y cantón","Padrón Nacional Electoral"]
[null,"Diciembre 2010",null,null,null,"Diciembre 2013"]
[null,"Total","Hombres","Mujeres",null,"Total","Hombres","Mujeres"]
["Costa Rica",{"$f":"SUM(B10:B17)","v":2866217},{"$f":"SUM(C10:C17)","v":1430857},{"$f":"SUM(D10:D17)","v":1435360},{"$f":"E18+E39+E55+E64+E75+E87+E99","v":0},{"$f":"F18+F39+F55+F64+F75+F87+F99+F106","v":3078321},{"$f":"G18+G39+G55+G64+G75+G87+G99+G106","v":1535869},{"$f":"H18+H39+H55+H64+H75+H87+H99+H106","v":1542452}]
["San José",{"$f":"B18","v":1016678},495505,521173,0,1063061,518312,544749]
["Alajuela",{"$f":"B39","v":533285},269128,264157,0,577493,291277,286216]
["Cartago",{"$f":"B55","v":334473},167036,167437,0,359985,179449,180536]
["Heredia",{"$f":"B64","v":283771},139912,143859,0,306901,151098,155803]
["Guanacaste",{"$f":"B75","v":203614},103249,100365,0,221688,112201,109487]
["Puntarenas",{"$f":"B87","v":265197},136989,128208,0,287254,147881,139373]
["Limón",{"$f":"B99","v":228491},118700,109791,0,249285,129143,120142]
["En el extranjero 1/",{"$f":"B106","v":708},{"$f":"C106","v":338},{"$f":"D106","v":370},null,{"$f":"F106","v":12654},{"$f":"G106","v":6508},{"$f":"H106","v":6146}]
["San José",{"$f":"SUM(C18:D18)","v":1016678},{"$f":"SUM(C19:C38)","v":495505},{"$f":"SUM(D19:D38)","v":521173},null,{"$f":"SUM(F19:F38)","v":1063061},{"$f":"SUM(G19:G38)","v":518312},{"$f":"SUM(H19:H38)","v":544749}]
["San José",{"$f":"+C19+D19","v":225542},108215,117327,null,{"$f":"SUM(G19:H19)","v":228847},110114,118733]
["Escazú",40526,19736,20790,null,43354,21195,22159]
["Desamparados",144901,71011,73890,null,152242,74550,77692]
["Puriscal",24663,12429,12234,null,26459,13322,13137]
["Tarrazú",10616,5449,5167,null,11458,5814,5644]
["Aserrí",37616,18801,18815,null,40321,20123,20198]
["Mora",17413,8641,8772,null,19190,9521,9669]
["Goicoechea",85797,41130,44667,null,87701,41925,45776]
["Santa Ana",27941,13729,14212,null,31041,15246,15795]
["Alajuelita",44907,22315,22592,null,47597,23554,24043]
["Vázquez de Coronado",45831,22200,23631,null,49673,24016,25657]
["Acosta",14354,7482,6872,null,15551,8044,7507]
["Tibás",55315,26064,29251,null,55540,26143,29397]
["Moravia",40392,19306,21086,null,42357,20301,22056]
["Montes de Oca",41135,19190,21945,null,41489,19500,21989]
["Turrubares",4187,2195,1992,null,4375,2280,2095]
["Dota",4836,2437,2399,null,5193,2610,2583]
["Curridabat",44286,21313,22973,null,46270,22273,23997]
["Pérez Zeledón",98271,49699,48572,null,105670,53322,52348]
["León Cortés",8149,4163,3986,null,8733,4459,4274]
["Alajuela",{"$f":"SUM(B40:B54)","v":533285},{"$f":"SUM(C40:C54)","v":269128},{"$f":"SUM(D40:D54)","v":264157},null,577493,{"$f":"SUM(G40:G54)","v":291277},{"$f":"SUM(H40:H54)","v":286216}]
["Alajuela",{"$f":"+C40+D40","v":173149},87161,85988,null,185688,93494,92194]
["San Ramón",53851,26770,27081,null,58067,28929,29138]
["Grecia",50974,25480,25494,null,55007,27426,27581]
["San Mateo",3822,1984,1838,null,4044,2100,1944]
["Atenas",17658,8873,8785,null,18923,9486,9437]
["Naranjo",28029,13921,14108,null,29894,14815,15079]
["Palmares",25315,12541,12774,null,27132,13436,13696]
["Poás",18233,9174,9059,null,19747,9940,9807]
["Orotina",12953,6479,6474,null,14116,7035,7081]
["San Carlos",88519,45250,43269,null,97702,49938,47764]
["Zarcero",7973,3999,3974,null,8490,4259,4231]
["Valverde Vega",12819,6382,6437,null,13710,6818,6892]
["Upala",21797,11432,10365,null,24597,12821,11776]
["Los Chiles",9243,4991,4252,null,10457,5621,4836]
["Guatuso",8950,4691,4259,null,9919,5159,4760]
["Cartago",{"$f":"SUM(B56:B63)","v":334473},{"$f":"SUM(C56:C63)","v":167036},{"$f":"SUM(D56:D63)","v":167437},null,359985,{"$f":"SUM(G56:G63)","v":179449},{"$f":"SUM(H56:H63)","v":180536}]
["Cartago",{"$f":"+C56+D56","v":106013},52424,53589,null,113463,56296,57167]
["Paraíso",39836,19941,19895,null,43000,21389,21611]
["La Unión",59152,29511,29641,null,64441,31956,32485]
["Jiménez",10600,5498,5102,null,11308,5836,5472]
["Turrialba",51904,26079,25825,null,54654,27475,27179]
["Alvarado",8697,4396,4301,null,9484,4788,4696]
["Oreamuno",30700,15159,15541,null,33361,16365,16996]
["El Guarco",27571,14028,13543,null,30274,15344,14930]
["Heredia",{"$f":"SUM(B65:B74)","v":283771},{"$f":"SUM(C65:C74)","v":139912},{"$f":"SUM(D65:D74)","v":143859},null,{"$f":"SUM(G64:H64)","v":306901},{"$f":"SUM(G65:G74)","v":151098},{"$f":"SUM(H65:H74)","v":155803}]
["Heredia",{"$f":"+C65+D65","v":85356},40946,44410,null,90600,43399,47201]
["Barva",27552,13533,14019,null,30088,14747,15341]
["Santo Domingo",30722,15184,15538,null,32559,16038,16521]
["Santa Bárbara",22788,11356,11432,null,24726,12278,12448]
["San Rafael",29538,14634,14904,null,32186,15986,16200]
["San Isidro",13112,6576,6536,null,14503,7235,7268]
["Belén",15982,7880,8102,null,17266,8510,8756]
["Flores",13761,6731,7030,null,15087,7390,7697]
["San Pablo",18343,8855,9488,null,20119,9754,10365]
["Sarapiquí",26617,14217,12400,null,29767,15761,14006]
["Guanacaste",{"$f":"SUM(B76:B86)","v":203614},{"$f":"SUM(C76:C86)","v":103249},{"$f":"SUM(D76:D86)","v":100365},null,221688,{"$f":"SUM(G76:G86)","v":112201},{"$f":"SUM(H76:H86)","v":109487}]
["Liberia",{"$f":"+C76+D76","v":37797},18911,18886,null,41245,20723,20522]
["Nicoya",35669,18012,17657,null,38300,19245,19055]
["Santa Cruz",34567,17669,16898,null,37832,19323,18509]
["Bagaces",11245,5717,5528,null,12446,6320,6126]
["Carrillo",20050,10219,9831,null,22180,11268,10912]
["Cañas",17344,8696,8648,null,18440,9272,9168]
["Abangares",11763,6040,5723,null,12801,6492,6309]
["Tilarán",13309,6702,6607,null,14132,7079,7053]
["Nandayure",7489,3909,3580,null,7979,4134,3845]
["La Cruz",9262,4732,4530,null,10846,5518,5328]
["Hojancha",5119,2642,2477,null,5487,2827,2660]
["Puntarenas",{"$f":"SUM(B88:B98)","v":265197},{"$f":"SUM(C88:C98)","v":136989},{"$f":"SUM(D88:D98)","v":128208},null,287254,{"$f":"SUM(G88:G98)","v":147881},{"$f":"SUM(H88:H98)","v":139373}]
["Puntarenas",{"$f":"+C88+D88","v":77238},39656,37582,null,82240,42269,39971]
["Esparza",18825,9370,9455,null,20599,10214,10385]
["Buenos Aires",27392,14450,12942,null,29985,15711,14274]
["Montes de Oro",8750,4337,4413,null,9616,4807,4809]
["Osa",18664,9964,8700,null,20090,10649,9441]
["Aguirre",16693,8909,7784,null,18025,9561,8464]
["Golfito",25019,13054,11965,null,27210,14223,12987]
["Coto Brus",26188,13291,12897,null,27667,13980,13687]
["Parrita",9776,5118,4658,null,10844,5604,5240]
["Corredores",27936,14168,13768,null,31122,15640,15482]
["Garabito",8716,4672,4044,null,9856,5223,4633]
["Limón",{"$f":"SUM(B100:B105)","v":228491},{"$f":"SUM(C100:C105)","v":118700},{"$f":"SUM(D100:D105)","v":109791},null,249285,{"$f":"SUM(G100:G105)","v":129143},{"$f":"SUM(H100:H105)","v":120142}]
["Limón",{"$f":"+C100+D100","v":61603},31186,30417,null,64961,32762,32199]
["Pococí",75016,39302,35714,null,83344,43586,39758]
["Siquirres",34544,18170,16374,null,37389,19658,17731]
["Talamanca",15458,8212,7246,null,17572,9254,8318]
["Matina",18313,9640,8673,null,19837,10370,9467]
["Guácimo",23557,12190,11367,null,26182,13513,12669]
["En el extranjero 1/",{"$f":"SUM(C106:D106)","v":708},338,370,null,{"$f":"SUM(G106:H106)","v":12654},6508,6146]
[]
[]
["1/ Costarricenses inscritos(as) que pueden ejercer el voto en extranjero para designar los puestos de Presidencia y Vicepresidencias, así como en consultas populares de orden nacional, según el artículo 187 del Código Electoral."]
["Fuente: Sección Padrón Electoral del Tribunal Supremo de Elecciones."]

{"sheet":"3","index":3,"n_rows":60,"n_cols":10,"rows_kept":60,"cut":false,"hidden":false,"merged":[[0,0,0,9],[1,0,1,9],[2,0,2,9],[58,0,58,9]]}
["CUADRO 3"]
["COSTA RICA: ELECTORADO POR PROVINCIA, SEGÚN SEXO Y"]
["GRUPO DE EDAD, AL 31 DE DICIEMBRE DE 2013"]
[]
["Sexo y grupo de edad","Total","San José","Alajuela","Cartago","Heredia","Guanacaste","Puntarenas","Limón","En el extranjero 1/"]
[]
["Costa Rica",{"$f":"B24+B41","v":3078321},1063061,577493,359985,306901,221688,287254,249285,12654]
["18 - 19",135379,{"$f":"C25+C42","v":42575},26423,15959,12794,10289,13848,13061,430]
["20 - 24        ",393474,127701,76070,46980,37077,29304,39029,36115,1198]
["25 - 29        ",395586,132436,75881,46873,38319,28317,37957,34457,1346]
["30 - 34        ",344546,119622,63037,39963,35692,24539,32085,27695,1913]
["35 - 39        ",294124,100001,53380,34929,30854,21161,27876,24194,1729]
["40 - 44        ",270443,90282,50257,32927,27384,19269,25751,23071,1502]
["45 - 49        ",277377,94228,52961,33486,27869,19681,25777,21999,1376]
["50 - 54        ",258002,91247,48938,29902,26237,17905,23010,19600,1163]
["55 - 59        ",210940,76736,38639,24046,21735,14591,18572,15831,790]
["60 - 64        ",158619,59115,28599,17459,16311,11088,13908,11593,546]
["65 - 69        ",115370,43579,21235,12618,11402,8284,9997,7953,302]
["70 - 74        ",83696,30915,16050,9537,8005,6084,7465,5473,167]
["75 - 79        ",61429,23260,11502,6886,5726,4701,5397,3863,94]
["80 - 84        ",41597,16316,7620,4543,3933,3281,3557,2286,61]
["85 y más",37739,15048,6901,3877,3563,3194,3025,2094,37]
[]
["Hombres",{"$f":"SUM(C24:J24)","v":1535869},{"$f":"SUM(C25:C39)","v":518312},291277,179449,151098,112201,147881,129143,{"$f":"SUM(J25:J39)","v":6508}]
["18 - 19",{"$f":"SUM(C25:J25)","v":68524},21467,13329,8092,6508,5225,7072,6623,208]
["20 - 24",{"$f":"SUM(C26:J26)","v":201403},64932,39394,24138,19037,14899,19881,18537,585]
["25 - 29        ",201483,66987,39205,23958,19313,14412,19357,17484,767]
["30 - 34        ",174584,60395,32317,20230,17891,12456,16341,13902,1052]
["35 - 39        ",148152,50260,27086,17465,15457,10586,14078,12278,942]
["40 - 44        ",135486,44791,25146,16175,13652,9754,13246,11924,798]
["45 - 49        ",138526,46340,26431,16666,13601,10001,13325,11436,726]
["50 - 54        ",127994,43948,24474,14776,12794,9137,11978,10309,578]
["55 - 59        ",103809,36224,19362,11858,10443,7421,9670,8490,341]
["60 - 64        ",77258,27196,14316,8418,7732,5670,7303,6373,250]
["65 - 69        ",55802,19990,10370,6117,5401,4064,5349,4376,135]
["70 - 74        ",39954,13825,7807,4586,3640,3078,3910,3041,67]
["75 - 79        ",28569,9850,5486,3242,2577,2385,2908,2090,31]
["80 - 84        ",18613,6639,3513,2121,1667,1591,1841,1224,17]
["85 y más",15712,5468,3041,1607,1385,1522,1622,1056,11]
[]
["Mujeres",{"$f":"SUM(C41:J41)","v":1542452},{"$f":"SUM(C42:C56)","v":544749},{"$f":"SUM(D42:D56)","v":286216},180536,155803,109487,139373,120142,{"$f":"SUM(J42:J56)","v":6146}]
["18 - 19",{"$f":"SUM(C42:J42)","v":66855},21108,13094,7867,6286,5064,6776,6438,222]
["20 - 24",{"$f":"SUM(C43:J43)","v":192071},62769,36676,22842,18040,14405,19148,17578,613]
["25 - 29        ",194103,65449,36676,22915,19006,13905,18600,16973,579]
["30 - 34        ",169962,59227,30720,19733,17801,12083,15744,13793,861]
["35 - 39        ",145972,49741,26294,17464,15397,10575,13798,11916,787]
["40 - 44        ",134957,45491,25111,16752,13732,9515,12505,11147,704]
["45 - 49        ",138851,47888,26530,16820,14268,9680,12452,10563,650]
["50 - 54        ",130008,47299,24464,15126,13443,8768,11032,9291,585]
["55 - 59        ",{"$f":"SUM(C50:J50)","v":107131},40512,19277,12188,11292,7170,8902,7341,449]
["60 - 64        ",81361,31919,14283,9041,8579,5418,6605,5220,296]
["65 - 69        ",59568,23589,10865,6501,6001,4220,4648,3577,167]
["70 - 74        ",43742,17090,8243,4951,4365,3006,3555,2432,100]
["75 - 79        ",32860,13410,6016,3644,3149,2316,2489,1773,63]
["80 - 84        ",22984,9677,4107,2422,2266,1690,1716,1062,44]
["85 y más",{"$f":"SUM(C56:J56)","v":22027},9580,3860,2270,2178,1672,1403,1038,26]
[]
[]
["1/ Costarricenses inscritos(as) que pueden ejercer el voto en extranjero para designar los puestos de Presidencia y Vicepresidencias, así como en consultas populares de orden nacional, según el artículo 187 del Código Electoral."]
["Fuente: Sección Padrón Electoral del Tribunal Supremo de Elecciones."]

{"sheet":"G1","index":4,"n_rows":31,"n_cols":9,"rows_kept":31,"cut":false,"hidden":false,"merged":[[1,8,1,16],[2,0,3,6],[2,8,2,16],[3,8,3,16],[5,0,6,0],[5,1,5,3],[5,5,5,6]]}
[]
[null,null,null,null,null,null,null,null,"GRÁFICO 1"]
["POR MES, SEGÚN PROVINCIA Y SEXO, AL 30 DE SETIEMBRE DE 2013",null,null,null,null,null,null,null,"COSTA RICA: PORCENTAJE DEL ELECTORADO, POR SEXO Y GRUPO DE EDAD"]
[null,null,null,null,null,null,null,null,"AL 31 DE DICIEMBRE DE 2013"]
[]
["GRUPOS DE EDAD","ELECTORES",null,null,null,"PORCENTAJE"]
[null,"Total","Hombres","Mujeres","Sin lugar","Hombres","Mujeres"]
[]
[null,{"$f":"SUM(B11:B25)","v":3078321},{"$f":"SUM(C11:C25)","v":1535869},{"$f":"SUM(D11:D25)","v":1542452}]
[]
["Menos de 20",{"$f":"SUM(C11:D11)","v":135379},{"$f":"'3'!B25","v":68524},{"$f":"'3'!B42","v":66855},null,{"$f":"(C11/($C$9))*-100","v":-4.4615784288894424},{"$f":"(D11/($C$9))*100","v":4.3529103068035102}]
["20 a 24 ",{"$f":"SUM(C12:D12)","v":393474},{"$f":"'3'!B26","v":201403},{"$f":"'3'!B43","v":192071},null,{"$f":"(C12/($C$9))*-100","v":-13.113292865472252},{"$f":"(D12/($C$9))*100","v":12.505688961753899}]
["25 a 29 ",395586,{"$f":"'3'!B27","v":201483},{"$f":"'3'!B44","v":194103},null,{"$f":"(C13/($C$9))*-100","v":-13.118501643043775},12.637991912070627]
["30 a 34 ",344546,{"$f":"'3'!B28","v":174584},{"$f":"'3'!B45","v":169962},null,-11.367115294338253,11.066178170143418]
["35 a 39 ",294124,{"$f":"'3'!B29","v":148152},{"$f":"'3'!B46","v":145972},null,-9.6461351847065089,9.504195995882462]
["40 a 44 ",270443,{"$f":"'3'!B30","v":135486},{"$f":"'3'!B47","v":134957},null,-8.8214554756948669,8.7870124340031612]
["45 a 49 ",277377,{"$f":"'3'!B31","v":138526},{"$f":"'3'!B48","v":138851},null,-9.0193890234128027,9.0405496822971241]
["50 a 54 ",258002,{"$f":"'3'!B32","v":127994},{"$f":"'3'!B49","v":130008},null,-8.3336534561215831,8.4647844314847163]
["55 a 59 ",210940,{"$f":"'3'!B33","v":103809},{"$f":"'3'!B50","v":107131},null,-6.7589748865300363,6.9752693751875965]
["60 a 64 ",158619,{"$f":"'3'!B34","v":77258},{"$f":"'3'!B51","v":81361},null,-5.0302467202606467,5.2973918999602176]
["65 a 69 ",115370,{"$f":"'3'!B35","v":55802},{"$f":"'3'!B52","v":59568},null,-3.633252575577735,3.8784557797572581]
["70 a 74 ",83696,{"$f":"'3'!B36","v":39954},{"$f":"'3'!B53","v":43742},null,-2.6013937386587007,2.8480293566703931]
["75 a 79",61429,{"$f":"'3'!B37","v":28569},{"$f":"'3'!B54","v":32860},null,-1.8601195805110982,2.139505387503752]
["80 a 84",41597,{"$f":"'3'!B38","v":18613},{"$f":"'3'!B55","v":22984},null,-1.2118872117348549,1.4964817962990333]
["85 y más",37739,{"$f":"'3'!B39","v":15712},{"$f":"'3'!B56","v":22027},null,-1.0230039150474424,1.4341717945996697]
[]
[]
["Al pasar a imprenta y web, se debe pegar como valores para"]
["romper el vinculo con la tabla de datos"]
[]
[null,null,null,null,null,null,null,null,"     Fuente: Cuadro 3."]

{"sheet":"4","index":5,"n_rows":62,"n_cols":7,"rows_kept":62,"cut":false,"hidden":false,"merged":[[5,0,6,0],[60,0,60,6]]}
["CUADRO 4"]
["COSTA RICA: ELECTORADO EN EL PADRÓN INSCRITO EN EL EXTRANJERO1/"]
["POR SEXO, SEGÚN CONTINENTE Y PAÍS"]
["AL 31 DE DICIEMBRE 2013 "]
[]
["Continente y país","Total",null,"Hombres",null,"Mujeres"]
[null,"Absoluto","%","Absoluto","Sin lugar","Absoluto","%"]
[]
["Total",{"$f":"B11+B35+B48+B57","v":12654},{"$f":"B9/B$9*100","v":100},{"$f":"D11+D35+D48+D57","v":6508},{"$f":"D9/D$9*100","v":100},{"$f":"F11+F35+F48+F57","v":6146},{"$f":"F9/F$9*100","v":100}]
[]
["América",{"$f":"D11+F11","v":10991},{"$f":"B11/B$9*100","v":86.857910542121061},{"$f":"SUM(D12:D33)","v":5730},{"$f":"D11/D$9*100","v":88.045482483097729},{"$f":"SUM(F12:F33)","v":5261},{"$f":"F11/F$9*100","v":85.600390497884803}]
["Estados Unidos",8316,65.718349928876236,4439,68.208358942839581,3877,63.081679140904654]
["Canadá",484,3.8248775090880351,263,4.041180086047941,221,3.5958346892287669]
["México",418,3.303303303303303,172,2.6429010448678549,246,4.002603319232021]
["Guatemala",227,1.7938991623202152,95,1.459741856177013,132,2.1477383664171819]
["Panamá",212,1.6753595700964123,108,1.6594960049170253,104,1.6921575008135372]
["El Salvador",169,1.3355460723881778,71,1.0909649661954517,98,1.5945330296127564]
["Venezuela",162,1.2802275960170697,65,0.99877074370006147,97,1.5782622844126262]
["Honduras",146,1.1537853643116802,79,1.2138905961893054,67,1.0901399284087212]
["Colombia",138,1.0905642484589853,61,0.93730792870313462,77,1.2528473804100226]
["Nicaragua",130,1.0273431326062905,62,0.95267363245236625,68,1.1064106736088513]
["Argentina",128,1.0115378536431168,71,1.0909649661954517,57,0.92743247640741955]
["Chile",115,0.90880354038248778,61,0.93730792870313462,54,0.87862024080702894]
["Perú",89,0.7033349138612297,48,0.73755377996312232,41,0.66710055320533679]
["República Dominicana",83,0.65591907697170859,44,0.67609096496619547,39,0.63455906280507646]
["Ecuador",47,0.37142405563458192,22,0.33804548248309774,25,0.40676863000325414]
["Brasil",33,0.26078710289236606,20,0.30731407498463426,13,0.21151968760169215]
["Cuba",31,0.24498182392919235,20,0.30731407498463426,11,0.17897819720143182]
["Bolivia",31,0.24498182392919235,14,0.21511985248924403,17,0.27660266840221281]
["Uruguay",15,0.11853959222380275,8,0.1229256299938537,7,0.11389521640091116]
["Paraguay",10,7.9026394815868498E-2,5,7.6828518746158564E-2,5,8.1353726000650828E-2]
["Trinidad y Tobago",4,3.1610557926347399E-2,2,3.0731407498463426E-2,2,3.2541490400260331E-2]
["Belice",3,2.3707918444760549E-2,0,0,3,4.8812235600390497E-2]
[]
["Europa",{"$f":"D35+F35","v":1382},{"$f":"B35/B$9*100","v":10.921447763553028},{"$f":"SUM(D36:D46)","v":644},{"$f":"D35/D$9*100","v":9.8955132145052254},{"$f":"SUM(F36:F46)","v":738},{"$f":"F35/F$9*100","v":12.007809957696063}]
["España",368,2.9081713292239608,197,3.0270436385986477,171,2.7822974292222584]
["Francia",191,1.5094041409830883,78,1.1985248924400738,113,1.8385942076147088]
["Alemania",166,1.3118381539434172,97,1.4904732636754763,69,1.1226814188089815]
["Suiza",162,1.2802275960170697,56,0.86047940995697614,106,1.7246989912137978]
["Italia",114,0.90090090090090091,43,0.66072526121696373,71,1.1552229092092419]
["Reino Unido",111,0.8771929824561403,44,0.67609096496619547,67,1.0901399284087212]
["Holanda",100,0.79026394815868495,42,0.64535955746773199,58,0.9437032216075496]
["Bélgica",53,0.41883989252410309,26,0.39950829748002464,27,0.43931012040351447]
["Austria",51,0.40303461356092934,24,0.36877688998156116,27,0.43931012040351447]
["Noruega",40,0.31610557926347399,20,0.30731407498463426,20,0.32541490400260331]
["Rusia",26,0.20546862652125811,17,0.26121696373693915,9,0.14643670680117149]
[]
["Asia",{"$f":"D48+F48","v":225},{"$f":"B48/B$9*100","v":1.7780938833570414},{"$f":"SUM(D49:D55)","v":106},{"$f":"D48/D$9*100","v":1.6287645974185618},{"$f":"SUM(F49:F55)","v":119},{"$f":"F48/F$9*100","v":1.9362186788154898}]
["China",71,0.56108740319266637,36,0.55316533497234166,35,0.56947608200455579]
["Israel",41,0.32400821874506086,14,0.21511985248924403,27,0.43931012040351447]
["Japón",39,0.30820293978188718,17,0.26121696373693915,22,0.35795639440286364]
["Singapur",28,0.22127390548443179,14,0.21511985248924403,14,0.22779043280182232]
["Corea",21,0.16595542911332387,11,0.16902274124154887,10,0.16270745200130166]
["Qatar",19,0.15015015015015015,8,0.1229256299938537,11,0.17897819720143182]
["India",6,4.7415836889521099E-2,6,9.2194222495390291E-2,0,0]
[]
["Oceanía",{"$f":"D57+F57","v":56},{"$f":"B57/B$9*100","v":0.44254781096886359},{"$f":"SUM(D58)","v":28},{"$f":"D57/D$9*100","v":0.43023970497848807},{"$f":"SUM(F58)","v":28},{"$f":"F57/F$9*100","v":0.45558086560364464}]
["Australia",{"$f":"D58+F58","v":56},{"$f":"B58/B$9*100","v":0.44254781096886359},28,{"$f":"D58/D$9*100","v":0.43023970497848807},28,{"$f":"F58/F$9*100","v":0.45558086560364464}]
[]
[]
["1/ Costarricenses inscritos(as) que pueden ejercer el voto en extranjero para designar los puestos de Presidencia y Vicepresidencias, así como en consultas populares de orden nacional, según el artículo 187 del Código Electoral."]
["Fuente: Sección Padrón Electoral del Tribunal Supremo de Elecciones."]

{"sheet":"5","index":6,"n_rows":61,"n_cols":10,"rows_kept":61,"cut":false,"hidden":false,"merged":[[0,0,0,9],[1,0,1,9],[2,0,2,9],[4,0,5,0],[4,1,4,9],[59,0,59,9]]}
["CUADRO 5"]
["COSTA RICA:  ELECTORADO  NATURALIZADO, POR PAÍS DE ORIGEN"]
["SEGÚN SEXO Y GRUPO DE EDAD, AL 31 DE DICIEMBRE DE 2013 1/"]
[]
["SEXO Y GRUPO DE EDAD","País de origen"]
[null,"Total","Nicaragua","Colombia","El Salvador","Cuba","China","Perú","Panamá","Resto de países"]
[]
["Costa Rica",{"$f":"SUM(B9:B23)","v":49963},{"$f":"SUM(C9:C23)","v":25046},5788,3476,2252,1855,1574,1428,{"$f":"SUM(J9:J23)","v":8544}]
["18 - 19",{"$f":"SUM(C9:J9)","v":266},{"$f":"+C26+C43","v":79},{"$f":"+D26+D43","v":106},3,17,9,8,0,44]
["20 - 24        ",{"$f":"SUM(C10:J10)","v":917},{"$f":"+C27+C44","v":352},274,15,93,18,29,5,131]
["25 - 29        ",1756,928,324,19,82,81,60,17,245]
["30 - 34        ",4035,2142,746,154,122,162,137,31,541]
["35 - 39        ",5646,2845,935,370,231,208,204,67,786]
["40 - 44        ",6401,3176,861,466,288,256,208,168,978]
["45 - 49        ",6383,3099,840,436,327,201,203,193,1084]
["50 - 54        ",5311,2415,642,445,295,168,213,192,941]
["55 - 59        ",4586,2141,407,480,220,164,180,173,821]
["60 - 64        ",3975,1807,266,403,167,180,143,158,851]
["65 - 69        ",3179,1542,174,290,138,130,93,155,657]
["70 - 74        ",2335,1250,91,168,97,97,39,83,510]
["75 - 79        ",1973,1169,64,114,60,68,30,66,402]
["80 - 84        ",1546,954,32,72,51,65,14,71,287]
["85 y más      ",1654,1147,26,41,64,48,13,49,266]
[]
["Hombres",{"$f":"SUM(B26:B40)","v":22833},{"$f":"SUM(C26:C40)","v":10690},{"$f":"SUM(D26:D40)","v":2745},1504,1235,995,862,626,4176]
["18 - 19",{"$f":"SUM(C26:J26)","v":141},41,56,0,12,7,4,0,21]
["20 - 24        ",{"$f":"SUM(C27:J27)","v":461},163,148,8,56,6,14,2,64]
["25 - 29        ",722,341,150,10,34,46,27,5,109]
["30 - 34        ",1675,801,340,76,50,107,78,10,213]
["35 - 39        ",2413,1148,394,160,116,117,105,30,343]
["40 - 44        ",2984,1431,429,219,154,146,99,76,430]
["45 - 49        ",2987,1411,395,186,191,89,102,86,527]
["50 - 54        ",2331,923,323,190,173,87,115,81,439]
["55 - 59        ",1904,749,171,171,133,93,102,77,408]
["60 - 64        ",1842,749,127,163,102,98,85,56,462]
["65 - 69        ",1628,718,104,131,85,66,68,71,385]
["70 - 74        ",1202,632,46,84,50,40,28,40,282]
["75 - 79        ",964,537,39,57,33,35,18,37,208]
["80 - 84        ",756,457,12,35,19,37,10,29,157]
["85 y más      ",823,589,11,14,27,21,7,26,128]
[]
["Mujeres",{"$f":"SUM(B43:B57)","v":27130},14356,3043,1972,1017,860,712,802,4368]
["18 - 19",{"$f":"SUM(C43:J43)","v":125},38,50,3,5,2,4,0,23]
["20 - 24        ",456,189,126,7,37,12,15,3,67]
["25 - 29        ",1034,587,174,9,48,35,33,12,136]
["30 - 34        ",2360,1341,406,78,72,55,59,21,328]
["35 - 39        ",3233,1697,541,210,115,91,99,37,443]
["40 - 44        ",3417,1745,432,247,134,110,109,92,548]
["45 - 49        ",3396,1688,445,250,136,112,101,107,557]
["50 - 54        ",2980,1492,319,255,122,81,98,111,502]
["55 - 59        ",2682,1392,236,309,87,71,78,96,413]
["60 - 64        ",2133,1058,139,240,65,82,58,102,389]
["65 - 69        ",1551,824,70,159,53,64,25,84,272]
["70 - 74        ",1133,618,45,84,47,57,11,43,228]
["75 - 79        ",1009,632,25,57,27,33,12,29,194]
["80 - 84        ",790,497,20,37,32,28,4,42,130]
["85 y más      ",831,558,15,27,37,27,6,23,138]
[]
[]
["1/ Incluye las personas menores que tramitaron su cédula y cumplirán 18 años años de edad a la fecha de la próxima elección de Presidente y Vicepresidentes de la República, según el artículo 76 de la Ley 3504: \"Ley Orgánica del Tribunal Supremo de Elecciones y del Registro Civil\"."]
["Fuente: Sección Padrón Electoral del Tribunal Supremo de Elecciones."]

{"sheet":"G2","index":7,"n_rows":31,"n_cols":5,"rows_kept":31,"cut":false,"hidden":false,"merged":[[29,0,30,0],[31,0,32,0],[33,0,34,0],[17,0,18,0],[19,0,20,0],[21,0,22,0],[23,0,24,0],[25,0,26,0],[27,0,28,0],[1,4,1,10],[2,4,2,10],[3,4,3,10],[12,0,12,3],[13,0,13,3],[14,0,14,3]]}
[]
["Costa Rica",{"$f":"'3'!B7","v":3078321},null,null,"GRÁFICO 2"]
["Resto de países",{"$f":"'5'!J8","v":8544},{"$f":"+B3/$B$11*100","v":17.100654484318394},null,"COSTA RICA: PORCENTAJE DEL ELECTORADO NATURALIZADO"]
["Panamá",{"$f":"'5'!I8","v":1428},2.8581150051037767,null,"POR PAÍS DE ORIGEN, AL 31 DE DICIEMBRE DE 2013"]
["Perú",{"$f":"'5'!H8","v":1574},3.1503312451213898]
["China",{"$f":"'5'!G8","v":1855},3.7127474331004948]
["Cuba",{"$f":"'5'!F8","v":2252},4.5073354282168809]
["El Salvador",{"$f":"'5'!E8","v":3476},6.9571482897344037]
["Colombia",{"$f":"'5'!D8","v":5788},11.584572583711946]
["Nicaragua",{"$f":"'5'!C8","v":25046},{"$f":"+B10/$B$11*100","v":50.129095530692716}]
[null,{"$f":"SUM(B3:B10)","v":49963}]
[]
["Los datos se copian del cuadro respectivo"]
["ya que el total de cada país puede variar ",null,{"$f":"SUM(D14:R14)","v":0}]
["y por tanto la posición dentros del gráfico",null," "]
[null,null,{"$f":"SUM(D16:R16)","v":0}]
[null,null," "]
[null,null,{"$f":"SUM(D18:R18)","v":0}]
[null,null," "]
[null,null,{"$f":"SUM(D20:R20)","v":0}]
[null,null," "]
[null,null,{"$f":"SUM(D22:R22)","v":0}]
[null,null," "]
[null,null,{"$f":"SUM(D24:R24)","v":0}]
[null,null," "]
[null,null,{"$f":"SUM(D26:R26)","v":0}]
[null,null," "]
[null,null,{"$f":"SUM(D28:R28)","v":0}]
[null,null," "]
[null,null,{"$f":"SUM(D30:R30)","v":0}]
[null,null," ",null,"Fuente:  Cuadro 5."]

{"sheet":"6","index":8,"n_rows":28,"n_cols":15,"rows_kept":28,"cut":false,"hidden":false,"merged":[[7,3,7,4],[7,5,7,6],[7,8,7,9],[7,10,7,11],[7,12,7,13],[0,0,0,14],[1,0,1,14],[2,0,2,14],[3,0,3,14],[5,0,7,0],[5,1,7,2],[5,3,5,13],[5,14,7,14],[6,3,6,6],[6,8,6,13]]}
["CUADRO 6"]
["COSTA RICA: MOVIMIENTOS AL PADRÓN NACIONAL ELECTORAL"]
["POR TIPO DE MOVIMIENTO, SEGÚN MES"]
["AL 31 DE DICIEMBRE DE 2013"]
[]
["Mes","Padrón Nacional Electoral anterior",null,"Tipo de movimiento",null,null,null,null,null,null,null,null,null,null,"Padrón Nacional Electoral actual"]
[null,null,null,"Inclusiones",null,null,null,null,"Exclusiones"]
[null,null,null,"Cédulas Primera vez1/",null,"Cédulas renovadas",null,null,"Defunción",null,"Cédulas vencidas2/",null,"Otras"]
[]
["Enero",3003922,null,9343,null,6619,null,null,1204,null,6803,null,11,null,3011866]
["Febrero",3011866,null,6147,null,4824,null,null,2018,null,320,null,8,null,3020491]
["Marzo",3020491,null,5492,null,2707,null,null,875,null,0,null,8,null,3027807]
["Abril",3027807,null,7988,null,3157,null,null,1679,null,0,null,16,null,3037257]
["Mayo",3037257,null,7183,null,2292,null,null,1434,null,0,null,16,null,3045282]
["Junio",3045282,null,6082,null,1495,null,null,1466,null,0,null,7,null,3051386]
["Julio",3051386,null,7951,null,1596,null,null,1308,null,0,null,33,null,3059592]
["Agosto",3059592,null,6796,null,1429,null,null,1716,null,0,null,14,null,3066087]
["Setiembre",3066087,null,9459,null,1148,null,null,0,null,1267,null,58,null,3075369]
["Octubre",3075369,null,5192,null,508,null,null,2557,null,0,null,28,null,3078484]
["Noviembre",3078484,null,7,null,3,null,null,171,null,0,null,2,null,3078321]
["Diciembre 3/",3078321,null,0,null,0,null,null,0,null,0,null,0,null,3078321]
[]
[]
["1/ Incluye nuevos electores, inclusión condicional de nuevos electores y otras inclusiones."]
["2/ No se aplican exclusiones por caducidad durante el año anterior a una elección. (Ley Orgánica del TSE, Art. 94) "]
[]
["3/ No se aplican movimientos al padrón por estar cerrado para las elecciones nacionales a celebrarse en Febrero 2014. "]
["Fuente: Sección Padrón Electoral del Tribunal Supremo de Elecciones."]

{"sheet":"7","index":9,"n_rows":26,"n_cols":9,"rows_kept":26,"cut":false,"hidden":false,"merged":[[0,0,0,8],[1,0,1,8],[2,0,2,8],[3,0,3,8],[5,0,7,0],[5,1,5,8],[6,1,6,4],[6,5,6,8]]}
["CUADRO 7"]
["COSTA RICA: SOLICITUDES  DE CÉDULA RECIBIDAS, POR CLASE DE SOLICITUD"]
["SEGÚN MES, AL 31 DE DICIEMBRE DE 2013"]
["(Absoluto y Porcentaje)"]
[]
["Mes","Clase de solicitud"]
[null,"Absoluto",null,null,null,"Porcentaje"]
[null,"Total","Primera vez","Duplicado","Traslado","Total","Primera vez","Duplicado","Traslado"]
[]
["TOTAL",682661,83290,594235,5136,100,12.200784869796284,87.046865135110991,0.7523499950927327]
[]
["Enero",69420,8910,60398,112,100,12.834917891097666,87.00374531835206,0.1613367905502737]
["Febrero",56533,6006,50355,172,99.999999999999986,10.623883395538888,89.071869527532584,0.3042470769285196]
["Marzo",44299,5163,39016,120,100,11.654890629585319,88.074222894421993,0.27088647599268606]
["Abril",63661,7741,55728,192,100.00000000000001,12.159721022289942,87.538681453323079,0.30159752438698734]
["Mayo",58060,7012,50819,229,100,12.07716155700999,87.528418877023768,0.39441956596624184]
["Junio",50387,5960,44223,204,100.00000000000001,11.828447813920258,87.766685851509322,0.40486633457042492]
["Julio",58921,7692,50946,283,100,13.054768249011389,86.464927614942042,0.48030413604657085]
["Agosto",56388,6938,48927,523,100.00000000000001,12.304036319784352,86.768461374760591,0.9275023054550614]
["Setiembre",69643,11970,55840,1833,100,17.187657050959896,80.180348348003392,2.6319946010367157]
["Octubre",62677,7320,53912,1445,100,11.678925283596854,86.015603810010049,2.3054709063930945]
["Noviembre",51561,4982,46559,20,100,9.6623416923643841,90.298869300440259,3.8789007195360832E-2]
["Diciembre",41111,3596,37512,3,100,8.7470506677045083,91.245652015275709,7.297317019775729E-3]
[]
[]
["Fuente: Sección Solicitudes Cedulares y Coordinación de Servicios Regionales del Tribunal Supremo de Elecciones."]

{"sheet":"G3","index":10,"n_rows":30,"n_cols":14,"rows_kept":30,"cut":false,"hidden":false,"merged":[[1,0,1,7],[2,0,2,7],[3,0,3,7]]}
[]
["GRÁFICO 3",null,null,null,null,null,null,null,null,null,null," "]
["COSTA RICA: PORCENTAJE DE SOLICITUDES DE CÉDULA RECIBIDAS",null,null,null,null,null,null,null,null,"SOLICITUDES CEDULARES RECIBIDAS",null,null,null," "]
["POR CLASE DE SOLICITUD, AL 31 DE DICIEMBRE DE 2013",null,null,null,null,null,null,null,null,"TOTAL",682661]
[null,null,null,null,null,null,null,null,null,"Duplicado",594235,87.046865135110991]
[null,null,null,null,null,null,null,null,null,"Primera vez",83290,12.200784869796284]
[null,null,null,null,"Sin lugar",null,null,null,null,"Traslado",5136,0.7523499950927327]
[]
[]
[]
[]
[]
[]
[]
[]
[]
[]
[]
[]
[]
[]
[]
[]
[]
[]
[]
[]
[]
[]
["Fuente: Cuadro 7."]

{"sheet":"8","index":11,"n_rows":21,"n_cols":9,"rows_kept":21,"cut":false,"hidden":false,"merged":[[0,0,0,8],[1,0,1,8],[2,0,2,8],[3,0,3,8],[5,0,7,0],[5,1,5,8],[6,5,6,8]]}
["CUADRO 8"]
["COSTA RICA: SOLICITUDES DE CÉDULA RECIBIDAS, POR CLASE DE SOLICITUD"]
["SEGÚN PROVINCIA, AL 31 DE DICIEMBRE DE 2013"]
["(Absoluto y Porcentaje)"]
[]
["Provincia","Clase de solicitud"]
[null,"Absoluto",null,null,null,"Porcentaje"]
[null,"Total","Primera vez","Duplicado","Traslado","Total","Primera vez","Duplicado","Traslado"]
[]
["Costa Rica",{"$f":"SUM(C10:E10)","v":682661},{"$f":"SUM(C12:C18)","v":83290},594235,5136,{"$f":"SUM(F12:F18)","v":99.999999999999972},99.999999999999986,100,100]
[]
["San José",{"$f":"SUM(C12:E12)","v":281270},30995,247710,2565,{"$f":"(B12/B$10*100)","v":41.202002165057031},{"$f":"(C12/C$10*100)","v":37.213350942490095},{"$f":"D12/D$10*100","v":41.685528452548233},{"$f":"E12/E$10*100","v":49.941588785046733}]
["Alajuela",{"$f":"SUM(C13:E13)","v":112741},15525,96366,850,{"$f":"(B13/B$10*100)","v":16.514932008712961},18.639692640172889,{"$f":"D13/D$10*100","v":16.216816579299437},16.549844236760126]
["Cartago",53218,7886,45035,297,7.7956701789028529,9.4681234241805754,7.5786515435812429,5.7827102803738315]
["Heredia",47996,6500,41017,479,7.0307224229888625,7.804058110217313,6.9024880729004519,{"$f":"E15/E$10*100","v":9.3263239875389417}]
["Guanacaste",53306,6361,46513,432,7.8085609109059986,7.6371713290911272,7.8273746918306726,8.4112149532710276]
["Puntarenas",65917,8080,57462,375,9.6558906983114596,9.7010445431624444,9.6699117352562531,7.3014018691588785]
["Limón",68213,7943,60132,138,9.9922216151208296,9.536559010685556,10.119228924583709,2.6869158878504673]
[]
[]
["Fuente: Sección Solicitudes Cedulares y Coordinación de Servicios Regionales del Tribunal Supremo de Elecciones."]

{"sheet":"G4","index":12,"n_rows":29,"n_cols":15,"rows_kept":29,"cut":false,"hidden":false,"merged":[[1,0,1,8],[2,0,2,8],[3,0,3,8]]}
[]
["GRÁFICO 4"]
["COSTA RICA: SOLICITUDES DE CÉDULA RECIBIDAS, POR CLASE DE SOLICITUD",null,null,null,null,null,null,null,null,null,null,"PV","DUP","TRASL"]
["SEGÚN PROVINCIA, AL 31 DE DICIEMBRE DE 2013",null,null,null,null,null,null,null,null,null,"San José",30995,247710,2565]
[null,null,null,null,null,null,null,null,null,null,"Alajuela",15525,96366,850]
[null,null,null,null,null,null,null,null,null,null,"Limón",7943,60132,138]
[null,null,null,null,"Sin lugar",null,null,null,null,null,"Puntarenas",8080,57462,375]
[null,null,null,null,null,null,null,null,null,null,"Guanacaste",6361,46513,432]
[null,null,null,null,null,null,null,null,null,null,"Cartago",7886,45035,297,682661]
[null,null,null,null,null,null,null,null,null,null,"Heredia",6500,41017,479]
[null,null,null,null,null,null,null,null,null,null,"Total",83290,594235,5136]
[]
[null,null,null,null,null,null,null,null,null,null,null,"Duplicado","Primera vez","Traslado"]
[null,null,null,null,null,null,null,null,null,null,"Heredia",41.017000000000003,6.5,0.47899999999999998]
[null,null,null,null,null,null,null,null,null,null,"Cartago",45.034999999999997,7.8860000000000001,0.29699999999999999]
[null,null,null,null,null,null,null,null,null,null,"Guanacaste",46.512999999999998,6.3609999999999998,0.432]
[null,null,null,null,null,null,null,null,null,null,"Puntarenas",57.462000000000003,8.08,0.375]
[null,null,null,null,null,null,null,null,null,null,"Limón",60.131999999999998,7.9429999999999996,0.13800000000000001]
[null,null,null,null,null,null,null,null,null,null,"Alajuela",96.366,15.525,0.85]
[null,null,null,null,null,null,null,null,null,null,"San José",247.71,30.995000000000001,2.5649999999999999]
[null,null,null,null,null,null,null,null,null,null,"Total",594.23500000000001,83.289999999999992,5.1360000000000001]
[]
[]
[]
[]
[]
[]
[]
["Fuente: Cuadro 8."]

{"sheet":"9","index":13,"n_rows":27,"n_cols":7,"rows_kept":27,"cut":false,"hidden":false,"merged":[[0,0,0,6],[1,0,1,6],[2,0,2,6],[3,0,3,6],[5,0,6,0],[5,1,5,6]]}
["CUADRO 9"]
["COSTA RICA: SOLICITUDES DE CÉDULA RECIBIDAS  "]
["POR FUENTE DE INGRESO, SEGÚN MES"]
["AL 31 DE DICIEMBRE DE 2013"]
[]
["Mes","Fuente de ingreso"]
[null,"Total","Oficina central","Oficinas regionales 1/","Consulados","Cedulación a domicilio","Cedulación ambulante"]
[]
["TOTAL",682661,235716,417537,6031,4132,19245]
[]
["Enero",69420,24406,44330,270,414,0]
["Febrero",56533,19343,34496,436,427,1831]
["Marzo",44299,15132,26691,433,266,1777]
["Abril",63661,21506,38854,546,353,2402]
["Mayo",58060,19325,36030,609,412,1684]
["Junio",50387,16932,30966,392,296,1801]
["Julio",58921,21392,36814,360,355,0]
["Agosto",56388,18852,31939,689,307,4601]
["Setiembre",69643,22600,41193,616,309,4925]
["Octubre",62677,21328,39626,1221,278,224]
["Noviembre",51561,18239,32527,300,495,0]
["Diciembre",41111,16661,24071,159,220,0]
[]
[]
["1/ El Tribunal Supremo de Elecciones cuenta con 32 Oficinas Regionales."]
[]
["Fuente: Sección Solicitudes Cedulares y Coordinación de Servicios Regionales del Tribunal Supremo de Elecciones."]

{"sheet":"G5","index":14,"n_rows":29,"n_cols":12,"rows_kept":29,"cut":false,"hidden":false,"merged":[[1,0,1,7],[2,0,2,7],[3,0,3,7],[28,0,28,6]]}
[]
["GRÁFICO 5",null,null,null,null,null,null,null,null,null,null," "]
["COSTA RICA: PORCENTAJE DE SOLICITUDES DE CÉDULA RECIBIDAS",null,null,null,null,null,null,null,null,"SOLICITUDES CEDULARES RECIBIDAS"]
["POR FUENTE DE INGRESO, AL 31 DE DICIEMBRE DE 2013",null,null,null,null,null,null,null,null,"TOTAL",682661]
[null,null,null,null,null,null,null,null,null,"Oficinas Regionales",417537,61.163154186338467]
[null,null,null,null,null,null,null,null,null,"Oficina Central",235716,34.528997555155492]
[null,null,null,null,"Sin lugar",null,null,null,null,"Cedulación Ambulante",19245,2.8191151977335749]
[null,null,null,null,null,null,null,null,null,"Consulados y domicilio",10163,1.4887330607724771]
[]
[]
[]
[]
[]
[]
[]
[]
[]
[]
[]
[]
[]
[]
[]
[]
[]
[]
[]
[]
["Fuente: Cuadro 9."]

{"sheet":"10","index":15,"n_rows":45,"n_cols":14,"rows_kept":45,"cut":false,"hidden":false,"merged":[]}
[]
["CUADRO 10"]
["SOLICITUDES DE CÉDULA RECIBIDAS EN LAS OFICINAS REGIONALES"]
["POR MES, SEGÚN OFICINA REGIONAL"]
["AL 31 DE DICIEMBRE DE 2013"]
[]
["Oficina Regional","Total","Ene","Feb","Mar","Abr","May","Jun","Jul","Ago","Set","Oct","Nov","Dic"]
[]
["TOTAL",{"$f":"SUM(B11:B42)","v":417537},44330,34496,26691,38854,36030,30966,36814,31939,41193,{"$f":"SUM(L11:L42)","v":39626},32527,24071]
[]
["Aguirre",{"$f":"SUM(C11:N11)","v":6973},725,511,443,689,608,528,616,536,661,689,552,415]
["Alajuela",37485,3981,3083,2428,3556,3159,2715,3347,2955,3777,3472,2874,2138]
["Atenas",3340,326,303,222,287,304,279,282,287,386,285,218,161]
["Buenos Aires",5108,534,397,336,458,454,413,472,380,485,481,397,301]
["Cañas",9205,973,787,515,909,860,693,795,748,875,815,686,549]
["Cartago",40353,4371,3254,2488,3676,3427,2892,4506,2917,4005,3585,2976,2256]
["Corredores",9144,948,849,644,879,868,667,742,667,842,834,679,525]
["Coto Brus",4976,533,429,333,454,455,381,438,386,484,461,339,283]
["Golfito",4931,571,502,404,448,414,345,453,350,413,420,373,238]
["Grecia",13728,1552,1131,917,1301,1186,972,1150,1089,1373,1297,1018,742]
["Guatuso",2506,259,210,165,226,181,207,211,189,249,253,203,153]
["Heredia",40782,4625,3296,2621,3673,3455,3133,3438,2853,4391,3928,3169,2200]
["Jicaral",2088,196,185,127,182,193,157,193,164,238,181,157,115]
["Liberia",18894,2098,1407,1198,1695,1587,1383,1631,1487,1773,1961,1540,1134]
["Limón",21213,2325,1764,1409,2032,1842,1537,1715,1619,1883,2054,1782,1251]
["Los Chiles",2358,260,216,121,214,232,143,204,210,227,220,183,128]
["Nicoya",8908,874,707,596,866,786,630,721,724,917,863,706,518]
["Orotina",5978,579,493,392,566,545,452,513,436,621,568,439,374]
["Osa",4063,347,392,296,400,352,288,337,311,408,383,319,230]
["Pérez Zeledón",22223,2193,1761,1393,2152,1764,1750,1961,1727,2281,2053,1815,1373]
["Pococí",28812,2946,2250,1817,2582,2428,2174,2500,2295,2676,3003,2428,1713]
["Puntarenas",23344,2435,1985,1449,2072,2010,1697,2014,1800,2252,2322,1863,1445]
["Puriscal",7165,721,580,427,704,622,547,590,522,800,654,607,391]
["San Carlos",22138,2438,1846,1389,2038,2012,1614,1896,1741,2231,2108,1606,1219]
["San Ramón",17503,2003,1540,1069,1563,1444,1316,1462,1319,1917,1537,1323,1010]
["Santa Cruz",9676,956,858,683,941,901,677,824,757,864,904,770,541]
["Sarapiquí",6685,636,571,398,666,582,535,615,539,616,633,516,378]
["Siquirres",11929,1287,967,684,1159,1080,882,936,908,1125,1217,954,730]
["Talamanca",4977,442,461,363,429,399,381,404,372,390,510,510,316]
["Tarrazú",4099,441,337,245,422,363,312,377,313,429,346,284,230]
["Turrialba",11834,1195,1045,809,1123,1040,885,1046,942,1117,1113,839,680]
["Upala",5119,560,379,310,492,477,381,425,396,487,476,402,334]
[]
[]
["FUENTE: Coordinación de Servicios Regionales del Tribunal Supremo de Elecciones."]

{"sheet":"11","index":16,"n_rows":27,"n_cols":8,"rows_kept":27,"cut":false,"hidden":false,"merged":[[0,0,0,7],[1,0,1,7],[2,0,2,7],[4,0,5,0],[4,1,5,1]]}
["CUADRO 11"]
["COSTA RICA: PRODUCTOS Y SERVICIOS BRINDADOS,  POR TIPO DE SERVICIO"]
["SEGÚN MES, AL 31 DE DICIEMBRE DE 2013"]
[]
["Mes","Total","Productos y Sevicios"]
[null,null,"Cédulas de identidad impresas","Tarjetas identidad de menores impresas","Certificaciones y constancias expedidas","Asambleas de partidos políticos fiscalizadas","Atención de consultas en materia electoral 1/","Movimientos y actualizaciones al Padrón Electoral 2/"]
[]
["Total",{"$f":"SUM(B10:B21)","v":4550630},{"$f":"SUM(C10:C21)","v":682207},150275,3055315,2597,30615,629621]
[]
["Enero",448059,70073,17285,279285,405,1530,79481]
["Febrero",470566,56958,15896,335120,467,2133,59992]
["Marzo",369161,43648,8145,270721,250,1220,45177]
["Abril",441954,63260,10657,296943,528,1592,68974]
["Mayo",392156,59484,10456,258301,252,1734,61929]
["Junio",310400,49775,9163,197022,246,1895,52299]
["Julio",371074,58852,14614,231755,205,3267,62381]
["Agosto",368379,55822,9339,240827,116,2880,59395]
["Setiembre",358857,57123,10865,222844,91,5378,62556]
["Octubre",435968,68748,15191,271875,21,2879,77254]
["Noviembre",343518,53709,14687,271943,9,2987,183]
["Diciembre",240538,44755,13977,178679,7,3120,0]
[]
[]
["1/ De Partidos Políticos, Municipalidades, Asamblea Legislativa y otros."]
["2/ No se aplican movimientos al padrón en diciembre por estar cerrado para las elecciones nacionales a celebrarse en Febrero 2014. "]
[]
["Fuente: Oficinas del Tribunal Supremo de Elecciones."]

{"sheet":"12","index":17,"n_rows":33,"n_cols":14,"rows_kept":33,"cut":false,"hidden":false,"merged":[[0,0,0,13],[1,0,1,13],[2,0,2,13],[4,0,5,0],[4,1,5,1],[4,2,4,13]]}
["CUADRO 12"]
["COSTA RICA: INSCRIPCIONES CIVILES POR MES, SEGÚN CLASE DE INSCRIPCIÓN"]
["AL 31 DE DICIEMBRE DE 2013"]
[]
["Clase de inscripción 1/","Total","Mes"]
[null,null,"Enero","Febrero","Marzo","Abril","Mayo","Junio","Julio","Agosto","Setiembre","Octubre","Noviembre","Diciembre"]
[]
["Nacimientos",73293,6900,6746,4404,6739,6263,5114,6388,6530,6190,7551,6119,4349]
["Matrimonios:",26609,3774,3171,1663,2343,2444,1703,2176,1854,1907,2017,1558,1999]
["    Católicos",8550,1740,1240,303,697,867,392,561,464,622,402,863,399]
["    Civiles",17665,1993,1898,1332,1594,1540,1304,1581,1344,1245,1584,656,1594]
["    Extranjeros2/",394,41,33,28,52,37,7,34,46,40,31,39,6]
["Defunciones",21402,2392,1645,1175,2170,1827,1788,1689,1922,1658,2419,1545,1172]
["Divorcios",13349,1277,720,1196,1426,1140,1191,1099,1186,739,1125,1230,1020]
["Separaciones Judiciales",95,3,2,0,0,1,1,0,0,67,17,3,1]
["Reconocimientos",25497,2079,2761,1603,2329,1089,2052,2556,2137,2019,2478,2431,1963]
["Legitimaciones",67,1,4,0,7,0,0,8,1,37,4,3,2]
["Adopciones",178,10,20,25,23,0,14,0,0,33,23,15,15]
["Impugnación de paternidad",355,34,41,9,56,9,53,25,15,29,36,18,30]
["Investigación de paternidad",577,75,48,24,144,11,44,76,34,29,51,17,24]
["Opciones 3/",242,2,50,7,1,0,0,2,9,119,24,17,11]
["Cartas de naturalización entregadas",3050,252,326,268,306,370,250,354,181,205,222,206,110]
["Hombres",1105,125,144,116,144,161,102,152,87,74,0,0,0]
["Mujeres",1704,127,182,152,162,209,148,202,94,131,117,123,57]
[]
[]
["1/ Todos los datos se refieren a hechos inscritos en el mes respectivo, no así a los ocurridos."]
[]
["2/ Matrimonios inscritos, pero realizados en el extranjero."]
[]
["3/ Trámite realizado en Actos Jurídicos."]
[]
["Fuente: Sección de Inscripciones, Oficina de Actos Jurídicos, Sección de Opciones y Naturalizaciones del Tribunal Supremo de Elecciones."]

{"sheet":"G6","index":18,"n_rows":29,"n_cols":13,"rows_kept":29,"cut":false,"hidden":false,"merged":[[1,0,1,7],[2,0,2,7],[3,0,3,7]]}
[]
["GRÁFICO 6",null,null,null,null,null,null,null,null,null,null,null," "]
["COSTA RICA: MATRIMONIOS INSCRITOS, SEGÚN CLASE DE INSCRIPCIÓN",null,null,null,null,null,null,null,null,null,"MATRIMONIOS INSCRITOS"]
["AL 31 DE DICIEMBRE DE 2013",null,null,null,null,null,null,null,null,null,"Civiles",17665,66.387312563418391]
[null,null,null,null,null,null,null,null,null,null,"Católicos",8550,32.131985418467437]
[null,null,null,null,null,null,null,null,null,null,"Extranjeros",394,1.4807020181141719]
[null,null,null,null,"Sin lugar",null,null,null,null,null,"Total",26609]
[]
[]
[]
[]
[]
[]
[]
[]
[]
[]
[]
[]
[]
[]
[]
[]
[]
[]
[]
[]
[]
["Fuente: Cuadro 12."]

{"sheet":"G7","index":19,"n_rows":30,"n_cols":13,"rows_kept":30,"cut":false,"hidden":false,"merged":[[1,0,1,7],[1,10,1,12],[2,0,2,7],[3,0,3,7]]}
[]
["GRÁFICO 7",null,null,null,null,null,null,null,null,null,"MATRIMONIOS vs DIVORCIOS"]
["COSTA RICA: MATRIMONIOS Y DIVORCIOS INSCRITOS ",null,null,null,null,null,null,null,null,null,null,"Matrimonios","Divorcios"]
["POR MES, AL 31 DE DICIEMBRE DE 2013",null,null,null,null,null,null,null,null,null,"ENE",3774,1277]
[null,null,null,null,null,null,null,null,null,null,"FEB",3171,720]
[null,null,null,null,null,null,null,null,null,null,"MAR",1663,1196]
[null,null,null,null,null,null,null,null,null,null,"ABR",2343,1426]
[null,null,null,null,null,null,null,null,null,null,"MAY",2444,1140]
[null,null,null,null,null,null,null,null,null,null,"JUN",1703,1191]
[null,null,null,null,null,null,null,null,null,null,"JUL",2176,1099]
[null,null,null,null,null,null,null,null,null,null,"AGO",1854,1186]
[null,null,null,null,null,null,null,null,null,null,"SET",1907,739]
[null,null,null,null,null,null,null,null,null,null,"OCT",2017,1125]
[null,null,null,null,null,null,null,null,null,null,"NOV",1558,1230]
[null,null,null,null,null,null,null,null,null,null,"DIC",1999,1020]
[null,null,null,null,null,null,null,null,null,null,null,26609,13349]
[]
[]
[]
[]
[]
[]
[]
[]
[]
[]
[]
[]
[]
["Fuente: Cuadro 12."]

{"sheet":"13","index":20,"n_rows":25,"n_cols":10,"rows_kept":25,"cut":false,"hidden":false,"merged":[[0,0,0,9],[1,0,1,9],[2,0,2,9]]}
["CUADRO 13"]
["COSTA RICA: NACIMIENTOS INSCRITOS, POR PROVINCIA Y PARTIDO ESPECIAL"]
["SEGÚN MES, AL 31 DE DICIEMBRE DE 2013"]
[]
["Mes","Total","San José","Alajuela","Cartago","Heredia","Guanacaste","Puntarenas","Limón","Partido especial 1/"]
[]
["Costa Rica",{"$f":"SUM(B9:B20)","v":73293},{"$f":"SUM(C9:C20)","v":31156},{"$f":"SUM(D9:D20)","v":11576},7352,4785,5605,4265,7119,1435]
[]
["Enero",{"$f":"SUM(C9:J9)","v":6900},3069,714,864,464,485,293,685,326]
["Febrero",{"$f":"SUM(C10:J10)","v":6746},2657,1327,632,470,593,396,639,32]
["Marzo",4404,1935,678,473,256,312,216,466,68]
["Abril",6739,3264,970,641,276,501,445,514,128]
["Mayo",6263,2646,1082,512,440,392,476,553,162]
["Junio",{"$f":"SUM(C14:J14)","v":5114},1668,809,492,420,582,306,681,156]
["Julio",6388,2706,1045,452,472,553,467,645,48]
["Agosto",6530,2885,956,741,479,554,305,476,134]
["Setiembre",6190,2362,1136,710,443,429,378,659,73]
["Octubre",7551,3321,1305,899,502,314,270,784,156]
["Noviembre",6119,2530,1072,513,334,430,473,670,97]
["Diciembre",4349,2113,482,423,229,460,240,347,55]
[]
[]
["1/ Inscripción de nacimientos de costarricenses nacidos en el extranjero."]
[]
["Fuente: Sección de Inscripciones del Tribunal Supremo de Elecciones."]

{"sheet":"14","index":21,"n_rows":23,"n_cols":9,"rows_kept":23,"cut":false,"hidden":false,"merged":[[0,0,0,8],[1,0,1,8],[2,0,2,8]]}
["CUADRO 14"]
["COSTA RICA: DEFUNCIONES INSCRITAS, POR PROVINCIA, SEGÚN MES"]
["AL 31 DE DICIEMBRE DE 2013"]
[]
["Mes","Total","San José","Alajuela","Cartago","Heredia","Guanacaste","Puntarenas","Limón"]
[]
["Costa Rica",{"$f":"SUM(B9:B20)","v":21402},{"$f":"SUM(C9:C20)","v":10189},3481,2056,1552,1568,1351,1205]
[]
["Enero",{"$f":"SUM(C9:I9)","v":2392},900,663,221,149,178,143,138]
["Febrero",{"$f":"SUM(C10:I10)","v":1645},777,188,108,136,190,119,127]
["Marzo",1175,630,135,123,80,84,67,56]
["Abril",2170,1124,220,211,155,188,164,108]
["Mayo",1827,918,321,193,121,97,86,91]
["Junio",1788,763,341,157,148,149,124,106]
["Julio",1689,854,289,196,128,89,48,85]
["Agosto",1922,971,284,163,114,129,147,114]
["Setiembre",1658,774,243,130,140,142,116,113]
["Octubre",2419,1090,431,286,165,149,175,123]
["Noviembre",1545,786,195,141,135,103,89,96]
["Diciembre",1172,602,171,127,81,70,73,48]
[]
[]
["Fuente: Sección de Inscripciones del Tribunal Supremo de Elecciones."]

{"sheet":"G8","index":22,"n_rows":26,"n_cols":12,"rows_kept":26,"cut":false,"hidden":false,"merged":[]}
[]
["GRÁFICO 8",null,null,null,null,null,null,null,null,null,"Nacimientos","Defunciones"]
["COSTA RICA: NACIMIENTOS Y DEFUNCIONES INSCRITAS",null,null,null,null,null,null,null,null,null,73293,21402]
["POR MES, AL 31 DE DICIEMBRE DE 2013",null,null,null,null,null,null,null,null,"ENE",6900,2392]
[null,null,null,null,null,null,null,null,null,"FEB",6746,1645]
[null,null,null,null,null,null,null,null,null,"MAR",4404,1175]
[null,null,null,null,"Sin lugar",null,null,null,null,"ABR",6739,2170]
[null,null,null,null,null,null,null,null,null,"MAY",6263,1827]
[null,null,null,null,null,null,null,null,null,"JUN",5114,1788]
[null,null,null,null,null,null,null,null,null,"JUL",6388,1689]
[null,null,null,null,null,null,null,null,null,"AGO",6530,1922]
[null,null,null,null,null,null,null,null,null,"SET",6190,1658]
[null,null,null,null,null,null,null,null,null,"OCT",7551,2419]
[null,null,null,null,null,null,null,null,null,"NOV",6119,1545]
[null,null,null,null,null,null,null,null,null,"DIC",4349,1172]
[]
[]
[]
[]
[]
[]
[]
[]
[]
[]
["Fuente: Cuadros 13 y 14."]

{"sheet":"15","index":23,"n_rows":24,"n_cols":10,"rows_kept":24,"cut":false,"hidden":false,"merged":[[0,0,0,9],[1,0,1,9],[2,0,2,9],[4,0,5,0],[4,1,5,1],[4,2,4,9]]}
["CUADRO 15"]
["COSTA RICA: TARJETAS DE IDENTIDAD DE MENORES IMPRESAS"]
["POR PROVINCIA, SEGÚN MES, AL 31 DE DICIEMBRE DE 2013"]
[]
["Mes","Total","Provincia"]
[null,null,"San José","Alajuela","Cartago","Heredia","Guanacaste","Puntarenas","Limón","Ambulante"]
[]
["Total",{"$f":"SUM(C8:J8)","v":150275},{"$f":"SUM(C10:C21)","v":52155},29614,14241,11846,10949,14585,16215,670]
[]
["Enero",{"$f":"SUM(C10:J10)","v":17285},5923,3898,1624,1282,1443,1309,1806,0]
["Febrero",{"$f":"SUM(C11:J11)","v":15896},5081,3083,1365,1260,1133,1762,2211,1]
["Marzo",8145,2805,1476,777,716,517,814,1019,21]
["Abril ",10657,3550,2138,1144,828,735,1120,1142,0]
["Mayo",10456,3198,2371,1067,762,914,1171,973,0]
["Junio",9163,2955,1852,1044,675,594,863,1041,139]
["Julio",14614,5780,2410,1255,1346,919,1272,1488,144]
["Agosto",9339,3499,1633,907,737,700,771,982,110]
["Setiembre",10865,3774,2332,1090,958,784,996,931,0]
["Octubre",15191,6135,3191,1182,728,987,1486,1227,255]
["Noviembre",14687,5168,2534,1486,1488,897,1363,1751,0]
["Diciembre",13977,4287,2696,1300,1066,1326,1658,1644,0]
[]
[]
["Fuente: Departamento Civil y Coordinación de Servicios Regionales del Tribunal Supremo de Elecciones."]

{"sheet":"16","index":24,"n_rows":25,"n_cols":6,"rows_kept":25,"cut":false,"hidden":false,"merged":[[0,0,0,5],[1,0,1,5],[2,0,2,5],[3,0,3,5],[5,0,6,0],[5,1,6,1],[5,2,5,5]]}
["CUADRO 16"]
["COSTA RICA: CERTIFICACIONES SOLICITADAS VÍA"]
["INTERNET, POR TIPO DE SOLICITUD, SEGÚN MES"]
["AL 31 DE DICIEMBRE DE 2013"]
[]
["Mes","Total","Tipo de solicitud"]
[null,null,"Nacimiento","Matrimonio","Defunción","No aparece matrimonio"]
[]
["Total",{"$f":"SUM(C9:F9)","v":90495},{"$f":"SUM(C11:C22)","v":51875},{"$f":"SUM(D11:D22)","v":16981},{"$f":"SUM(E11:E22)","v":5987},{"$f":"SUM(F11:F22)","v":15652}]
[]
["Enero",{"$f":"SUM(C11:F11)","v":8806},5126,1615,519,1546]
["Febrero",9006,5300,1564,551,1591]
["Marzo",5838,3345,1054,402,1037]
["Abril",8686,4894,1717,583,1492]
["Mayo",7623,4216,1518,528,1361]
["Junio",6410,3571,1284,495,1060]
["Julio",8072,4873,1398,510,1291]
["Agosto",8112,4956,1470,505,1181]
["Setiembre",7350,3863,1492,594,1401]
["Octubre",7770,4347,1565,562,1296]
["Noviembre",8223,4746,1443,501,1533]
["Diciembre",4599,2638,861,237,863]
[]
[]
["Fuente: Departamento Civil del Tribunal Supremo de Elecciones."]

{"sheet":"17","index":25,"n_rows":69,"n_cols":14,"rows_kept":69,"cut":false,"hidden":false,"merged":[]}
[]
["CUADRO 17"]
["COSTA RICA: CARTAS DE NATURALIZACIÓN ENTREGADAS, POR MES"]
["SEGÚN PAÍS DE ORIGEN, AL 31 DE DICIEMBRE DE 2013"]
[]
["País de origen","Total","Ene","Feb","Mar","Abr","May","Jun","Jul","Ago","Set","Oct","Nov","Dic"]
[]
["Total",{"$f":"SUM(B10:B66)","v":3050},252,326,268,306,370,250,354,181,205,222,206,110]
[]
["Nicaragua",{"$f":"SUM(C10:N10)","v":1455},{"$f":"97+19","v":116},{"$f":"21+128","v":149},{"$f":"108+20","v":128},154,175,116,168,87,105,100,{"$f":"91+7","v":98},59]
["Colombia",610,{"$f":"48+8","v":56},{"$f":"3+51","v":54},{"$f":"41+8","v":49},62,79,50,67,33,45,44,{"$f":"47+4","v":51},20]
["Estados Unidos",119,{"$f":"9+2","v":11},{"$f":"1+8","v":9},{"$f":"8+2","v":10},10,14,11,12,7,7,15,{"$f":"5+3","v":8},5]
["Perú",111,{"$f":"5","v":5},{"$f":"3+17","v":20},{"$f":"10+2","v":12},9,12,7,16,7,6,9,{"$f":"5","v":5},3]
["Cuba",108,{"$f":"12+1","v":13},{"$f":"3+13","v":16},{"$f":"11","v":11},9,14,5,13,4,7,7,{"$f":"5+1","v":6},3]
["El Salvador",93,{"$f":"9","v":9},{"$f":"1+9","v":10},{"$f":"5+2","v":7},7,13,8,12,6,7,7,{"$f":"2","v":2},5]
["República Dominicana",89,{"$f":"4","v":4},10,{"$f":"10+1","v":11},9,9,17,6,6,5,6,{"$f":"4","v":4},2]
["Panamá",61,{"$f":"1+2","v":3},{"$f":"3+11","v":14},{"$f":"3+4","v":7},7,7,2,7,1,1,5,{"$f":"3+1","v":4},3]
["China",55,{"$f":"3+1","v":4},{"$f":"8","v":8},{"$f":"2","v":2},1,8,8,8,0,5,2,{"$f":"6+1","v":7},2]
["Venezuela",53,{"$f":"6","v":6},7,{"$f":"2+1","v":3},5,4,5,10,1,3,3,{"$f":"2+2","v":4},2]
["Angola",1,{"$f":"1","v":1},0,0,0,0,0,0,0,0,0,0,0]
["Argelia",1,0,0,0,1,0,0,0,0,0,0,0,0]
["Argentina",6,0,0,0,1,0,2,0,2,1,0,0,0]
["Australia",3,0,0,0,1,0,0,0,1,0,0,0,1]
["Austria",1,0,0,0,0,0,0,0,0,0,1,0,0]
["Bangladesh",1,{"$f":"1","v":1},0,0,0,0,0,0,0,0,0,0,0]
["Bélgica",3,0,0,0,1,0,0,0,2,0,0,0,0]
["Bolivia",5,0,{"$f":"3","v":3},{"$f":"1","v":1},0,0,1,0,0,0,0,0,0]
["Brasil",6,0,{"$f":"1+1","v":2},0,0,1,0,0,1,0,2,0,0]
["Bulgaria",1,{"$f":"1","v":1},0,0,0,0,0,0,0,0,0,0,0]
["Canadá",11,{"$f":"1+1","v":2},{"$f":"2","v":2},0,1,1,0,2,1,0,2,0,0]
["Chile",7,0,{"$f":"1","v":1},0,0,1,1,0,1,0,3,0,0]
["Corea",3,0,0,0,0,0,0,1,1,1,0,0,0]
["Dinamarca",1,0,1,0,0,0,0,0,0,0,0,0,0]
["Dominica",1,0,0,0,0,0,0,0,0,0,1,0,0]
["Ecuador",16,{"$f":"4","v":4},0,{"$f":"3","v":3},2,0,0,3,2,0,1,{"$f":"1","v":1},0]
["España",18,{"$f":"1+1","v":2},2,{"$f":"2","v":2},2,4,0,1,1,0,1,{"$f":"3","v":3},0]
["Filipinas",8,{"$f":"1","v":1},0,{"$f":"1","v":1},2,2,1,0,0,0,0,0,1]
["Francia",7,{"$f":"1+1","v":2},1,0,0,1,0,1,1,0,0,{"$f":"1","v":1},0]
["Gran Bretaña",5,0,0,0,0,0,0,2,2,1,0,0,0]
["Guatemala",38,{"$f":"3+1","v":4},{"$f":"1+2","v":3},{"$f":"5+1","v":6},4,3,3,3,5,3,1,{"$f":"2","v":2},1]
["Haití",9,0,1,{"$f":"2","v":2},2,0,1,0,1,1,0,{"$f":"1","v":1},0]
["Holanda",2,0,0,0,0,0,1,1,0,0,0,0,0]
["Honduras",38,{"$f":"3","v":3},{"$f":"1+5","v":6},{"$f":"4+3","v":7},2,5,4,7,3,0,0,{"$f":"1","v":1},0]
["Hungría",1,0,0,0,1,0,0,0,0,0,0,0,0]
["India",3,0,0,0,0,0,0,0,0,0,1,{"$f":"1+1","v":2},0]
["Inglaterra",4,0,0,0,0,1,0,0,0,1,0,{"$f":"1","v":1},1]
["Irán",1,0,0,0,0,1,0,0,0,0,0,0,0]
["Israel",1,0,0,0,0,0,0,0,0,0,1,0,0]
["Italia",11,0,{"$f":"2","v":2},0,3,3,0,0,0,1,1,{"$f":"1","v":1},0]
["Jamaica",3,0,0,{"$f":"1","v":1},0,0,0,0,0,0,2,0,0]
["Jordania",3,0,{"$f":"1","v":1},0,0,0,0,0,0,0,2,0,0]
["Líbano",2,0,0,0,0,2,0,0,0,0,0,0,0]
["México",32,{"$f":"2","v":2},2,{"$f":"2+2","v":4},8,4,6,2,1,2,1,0,0]
["Paquistán",1,0,0,0,0,0,0,0,1,0,0,0,0]
["Paraguay",1,0,0,0,0,0,0,0,0,1,0,0,0]
["Polonia",4,0,0,0,1,0,0,2,0,0,1,0,0]
["Rumanía",1,0,0,0,0,0,0,0,0,0,1,0,0]
["Rusia",6,{"$f":"1","v":1},{"$f":"1","v":1},0,0,1,0,1,0,1,0,{"$f":"1","v":1},0]
["Sudán",1,0,0,0,0,0,0,0,0,1,0,0,0]
["Suecia",2,0,0,0,0,2,0,0,0,0,0,0,0]
["Suiza",3,0,0,0,1,0,0,1,0,0,1,0,0]
["Tailandia",1,0,0,0,0,1,0,0,0,0,0,0,0]
["Taiwán",11,0,0,{"$f":"1","v":1},0,0,0,4,2,0,0,{"$f":"2","v":2},2]
["Trinidad y Tobago",1,0,1,0,0,0,0,0,0,0,0,0,0]
["Ucrania",6,{"$f":"1","v":1},0,0,0,0,0,2,1,0,1,{"$f":"1","v":1},0]
["Uruguay",5,0,0,0,0,2,1,2,0,0,0,0,0]
[]
[]
["FUENTE: Sección de Opciones y Naturalizaciones del Tribunal Supremo de Elecciones."]

{"sheet":"18","index":26,"n_rows":23,"n_cols":9,"rows_kept":23,"cut":false,"hidden":false,"merged":[[0,0,0,8],[1,0,1,8],[2,0,2,8]]}
["CUADRO 18"]
["COSTA RICA: INGRESO DE SOLICITUDES DE DETERMINACIÓN DE PATERNIDAD"]
["POR PROVINCIA, SEGÚN MES, AL 31 DE DICIEMBRE DE 2013"]
[]
["Mes","Total","San José","Alajuela","Cartago","Heredia","Guanacaste","Puntarenas","Limón"]
[]
["Total",{"$f":"SUM(B9:B20)","v":5919},{"$f":"SUM(C9:C20)","v":2100},882,399,329,614,624,971]
[]
["Enero",{"$f":"SUM(C9:I9)","v":531},171,84,32,38,46,43,117]
["Febrero",{"$f":"SUM(C10:I10)","v":577},161,106,51,30,58,78,93]
["Marzo",{"$f":"SUM(C11:I11)","v":370},126,71,29,20,38,29,57]
["Abril",{"$f":"SUM(C12:I12)","v":444},206,73,29,23,33,35,45]
["Mayo",{"$f":"SUM(C13:I13)","v":496},131,84,34,16,51,60,120]
["Junio",583,206,0,53,40,89,85,110]
["Julio",389,179,53,15,25,34,39,44]
["Agosto",391,133,68,29,24,40,36,61]
["Setiembre",582,250,83,31,22,62,58,76]
["Octubre",915,329,145,47,51,96,99,148]
["Noviembre",423,122,79,30,36,52,40,64]
["Diciembre",218,86,36,19,4,15,22,36]
[]
[]
["Fuente: Sección de Inscripciones del Tribunal Supremo de Elecciones."]

{"sheet":"19","index":27,"n_rows":36,"n_cols":14,"rows_kept":36,"cut":false,"hidden":false,"merged":[]}
[]
["CUADRO 19"]
["COSTA RICA: INGRESO DE SOLICITUDES DE DETERMINACIÓN DE PATERNIDAD, POR MES"]
["SEGÚN NACIONALIDAD DE LOS PADRES, AL 31 DE DICIEMBRE DE 2013"]
[]
["NACIONALIDAD","TOTAL","ENE","FEB","MAR","ABR","MAY","JUN","JUL","AGO","SET","OCT","NOV","DIC"]
[]
[]
["TOTAL",{"$f":"B12+B16+B20+B24+B28+B32","v":6072},{"$f":"C12+C16+C20+C24+C28+C32","v":531},{"$f":"D12+D16+D20+D24+D28+D32","v":577},370,445,496,732,{"$f":"I12+I16+I20+I24+I28+I32","v":391},391,582,915,423,219]
[]
["Costa Rica"]
["Presunto padre",{"$f":"SUM(C12:N12)","v":5315},469,504,325,386,438,645,341,349,493,808,359,198]
["Madre",{"$f":"SUM(C13:N13)","v":5391},482,520,331,397,454,654,335,338,499,807,377,197]
[]
["Nicaragua"]
["Presunto padre",{"$f":"SUM(C16:N16)","v":659},51,65,38,52,51,77,45,34,78,93,58,17]
["Madre",{"$f":"SUM(C17:N17)","v":654},46,56,35,47,40,74,55,50,82,105,44,20]
[]
["Colombia"]
["Presunto padre",{"$f":"SUM(C20:N20)","v":15},1,1,0,1,1,0,2,2,3,3,0,1]
["Madre",{"$f":"SUM(C21:N21)","v":0},0,0,0,0,0,0,0,0,0,0,0,0]
[]
["Panamá"]
["Presunto padre",{"$f":"SUM(C24:N24)","v":13},2,{"$f":"1","v":1},0,3,2,2,0,1,1,0,1,0]
["Madre",{"$f":"SUM(C25:N25)","v":5},0,{"$f":"0","v":0},1,0,0,3,1,0,0,0,0,0]
[]
["Otros"]
["Presunto padre",{"$f":"SUM(C28:N28)","v":27},{"$f":"1+1","v":2},{"$f":"1+1+1+1+2","v":6},{"$f":"1+3+1+1","v":6},1,2,2,2,0,0,0,5,1]
["Madre",{"$f":"SUM(C29:N29)","v":10},{"$f":"0+0","v":0},{"$f":"0+1","v":1},{"$f":"2+1+0+0","v":3},0,0,0,0,3,1,1,1,0]
[]
["No Indica"]
["Presunto padre",{"$f":"SUM(C32:N32)","v":43},6,0,1,2,2,6,1,5,7,11,0,2]
["Madre",{"$f":"SUM(C33:N33)","v":12},3,0,0,1,2,1,0,0,0,2,1,2]
[]
[]
["Fuente: Sección de Inscripciones del Tribunal Supremo de Elecciones."]

{"sheet":"20","index":28,"n_rows":25,"n_cols":11,"rows_kept":25,"cut":false,"hidden":false,"merged":[[6,8,6,9],[6,10,6,11],[0,0,0,11],[1,0,1,11],[2,0,2,11],[3,0,3,11],[5,0,6,0],[5,1,6,2],[5,3,5,5],[5,8,5,11],[6,3,6,4],[6,5,6,6]]}
["CUADRO 20"]
["COSTA RICA: RESULTADO DE PRUEBAS DE ADN PARA"]
["DETERMINAR LA PATERNIDAD, SEGÚN MES"]
["AL 31 DE DICIEMBRE DE 2013"]
[]
["Mes","Total",null,"Absoluto",null,null,null,null,"Porcentaje"]
[null,null,null,"Positivo",null,"Negativo",null,null,"Positivo",null,"Negativo"]
[]
["Total",{"$f":"SUM(B11:B22)","v":3043},null,{"$f":"SUM(D11:D22)","v":2353},null,{"$f":"SUM(F11:F22)","v":690},null,null,{"$f":"+D9/B9*100","v":77.32500821557673},null,{"$f":"+F9/B9*100","v":22.674991784423266}]
[]
["Enero",{"$f":"SUM(D11:F11)","v":193},null,144,null,49,null,null,{"$f":"+D11/B11*100","v":74.611398963730565},null,{"$f":"+F11/B11*100","v":25.388601036269431}]
["Febrero",{"$f":"SUM(D12:F12)","v":261},null,222,null,39,null,null,{"$f":"+D12/B12*100","v":85.057471264367805},null,{"$f":"+F12/B12*100","v":14.942528735632186}]
["Marzo",167,null,127,null,40,null,null,76.047904191616766,null,23.952095808383234]
["Abril",297,null,217,null,80,null,null,73.063973063973066,null,26.936026936026934]
["Mayo",153,null,138,null,15,null,null,90.196078431372555,null,9.8039215686274517]
["Junio",397,null,300,null,97,null,null,75.566750629722918,null,24.433249370277078]
["Julio",246,null,177,null,69,null,null,71.951219512195124,null,28.04878048780488]
["Agosto",310,null,240,null,70,null,null,77.41935483870968,null,22.58064516129032]
["Setiembre",310,null,231,null,79,null,null,74.516129032258064,null,25.483870967741932]
["Octubre",273,null,197,null,76,null,null,72.161172161172161,null,27.838827838827839]
["Noviembre",264,null,227,null,37,null,null,85.984848484848484,null,14.015151515151514]
["Diciembre",172,null,133,null,39,null,null,77.325581395348848,null,22.674418604651162]
[]
[]
["Fuente: Sección de Inscripciones del Tribunal Supremo de Elecciones."]

{"sheet":"21","index":29,"n_rows":24,"n_cols":8,"rows_kept":24,"cut":false,"hidden":false,"merged":[[0,0,0,7],[1,0,1,7],[2,0,2,7],[4,0,5,0],[4,1,5,1],[4,2,4,7]]}
["CUADRO 21"]
["COSTA RICA: CANTIDAD DE RESOLUCIONES, POR TIPO DE RESOLUCIÓN, SEGÚN MES"]
["AL 31 DE DICIEMBRE DE 2013"]
[]
["Mes","Total","Tipo de resolución"]
[null,null,"Electorales","Inscripciones","Municipales","Naturalizaciones","Ocursos y Paternidad","Procedimientos Administrativos"]
[]
["Total",{"$f":"SUM(C8:H8)","v":5597},{"$f":"SUM(C10:C21)","v":345},866,101,3944,124,217]
[]
["Enero",{"$f":"SUM(C10:H10)","v":570},18,76,8,444,7,17]
["Febrero",553,23,101,10,397,5,17]
["Marzo",626,27,65,5,500,9,20]
["Abril",442,17,77,15,313,9,11]
["Mayo",532,26,133,8,336,12,17]
["Junio",333,44,31,3,236,6,13]
["Julio",487,39,96,11,302,9,30]
["Agosto",318,24,4,5,214,44,27]
["Setiembre",539,27,89,12,384,6,21]
["Octubre",403,39,23,12,313,8,8]
["Noviembre",441,30,117,7,263,5,19]
["Diciembre",353,31,54,5,242,4,17]
[]
[]
["Fuente: Secretaría del Tribunal Supremo de Elecciones."]

{"sheet":"22","index":30,"n_rows":28,"n_cols":10,"rows_kept":28,"cut":false,"hidden":false,"merged":[[5,0,6,0],[5,1,6,1]]}
["CUADRO 22"]
["COSTA RICA: CANTIDAD DE RESOLUCIONES ELECTORALES"]
["POR ACCIÓN TRAMITADA, SEGÚN MES"]
["AL 31 DE DICIEMBRE DE 2013"]
[]
["Mes","Total","Acción Tramitada"]
[null,"Total","Financiamiento de Partidos Políticos","Hermenéutica Electoral","Amparo Electoral","Denuncia beligerancia o participación política prohibida","Democracia semidirecta","Apelación electoral","Acción de nulidad","Otros asuntos electorales"]
[]
["Total",{"$f":"SUM(B11:B22)","v":346},29,72,144,16,9,40,27,9]
[]
["Enero",{"$f":"SUM(C11:J11)","v":18},1,3,8,0,2,2,2,0]
["Febrero",{"$f":"SUM(C12:J12)","v":23},4,2,7,0,1,4,5,0]
["Marzo",27,2,5,12,2,1,4,1,0]
["Abril",17,1,2,5,2,1,3,3,0]
["Mayo",26,1,1,15,1,0,2,5,1]
["Junio",44,2,6,32,2,0,0,2,0]
["Julio",39,4,6,21,2,1,3,1,1]
["Agosto",24,1,1,16,0,1,2,1,2]
["Setiembre",27,1,12,6,2,0,5,0,1]
["Octubre",40,3,15,13,2,1,3,2,1]
["Noviembre",30,0,12,5,2,1,6,3,1]
["Diciembre",31,9,7,4,1,0,6,2,2]
[]
[]
["Fuente: Secretaría del Tribunal Supremo de Elecciones."]
[]
[]
["Información generada por Eladio."]

{"sheet":"23","index":31,"n_rows":25,"n_cols":8,"rows_kept":25,"cut":false,"hidden":false,"merged":[[5,0,6,0],[5,1,6,1]]}
["CUADRO 23"]
["COSTA RICA: CANTIDAD DE RESOLUCIONES MUNICIPALES"]
["POR RESULTADO DE LA GESTIÓN, SEGÚN MES"]
["AL 31 DE DICIEMBRE DE 2013"]
[]
["Mes","Total","Resultado de la Gestión"]
[null,"Total","Con lugar","Rechazo de plano","Sin lugar","Revoca parcialmente resolución","Archivo","Confidencial"]
[]
["Total",{"$f":"SUM(B11:B22)","v":101},71,14,5,1,9,1]
[]
["Enero",{"$f":"SUM(C11:H11)","v":8},5,1,2,0,0,0]
["Febrero",{"$f":"SUM(C12:H12)","v":10},4,5,0,1,0,0]
["Marzo",5,3,2,0,0,0,0]
["Abril",15,13,1,0,0,1,0]
["Mayo",8,6,0,0,0,2,0]
["Junio",3,1,1,0,0,1,0]
["Julio",11,10,0,0,0,1,0]
["Agosto",5,2,0,0,0,3,0]
["Setiembre",12,10,1,0,0,1,0]
["Octubre",12,10,0,1,0,0,1]
["Noviembre",7,4,2,1,0,0,0]
["Diciembre",5,3,1,1,0,0,0]
[]
[]
["Fuente: Secretaría del Tribunal Supremo de Elecciones."]

{"sheet":"24","index":32,"n_rows":60,"n_cols":3,"rows_kept":60,"cut":false,"hidden":false,"merged":[[55,0,55,2],[0,0,0,2],[2,0,2,2],[3,0,3,2],[5,0,6,0],[5,1,6,1],[5,2,6,2]]}
["CUADRO 24"]
[]
["COSTA RICA: DONACIONES REPORTADAS PARA EL PROCESO ELECTORAL 2010-20141/ "]
["SEGÚN PARTIDO POLÍTICO 2/, AL 31 DE DICIEMBRE DE 2013"]
[]
["PARTIDO POLÍTICO ","MONTO EN COLONES","PORCENTAJE"]
[]
[]
["TOTAL ",{"$f":"SUM(B11:B51)","v":1641343092.6999998},{"$f":"SUM(C11:C51)","v":99.999999999999986}]
[]
["ACCESIBILIDAD SIN EXCLUSIÓN",7670000,{"$f":"B11/$B$9*100","v":0.46730022711966301}]
["ACCIÓN CANTONAL SIQUIRRES INDEPENDIENTE",616000,{"$f":"B12/$B$9*100","v":3.7530239883404488E-2}]
["ACCIÓN CIUDADANA",117280791.59999999,7.1454159780252757]
["ACCIÓN NARANJEÑA",48000,2.9244342766289212E-3]
["ACCIÓN QUEPEÑA",220000,1.3403657101215889E-2]
["ACUERDO CANTONAL DESAMPARADEÑO",4263500,0.25975678205015429]
["ALIANZA PATRIOTICA",255000,1.5536057094591143E-2]
["ALIANZA ZARCEREÑA",50000,3.0462857048217926E-3]
["AUTÓNOMO OROMONTANO",795000,4.8435942706666506E-2]
["BARVA UNIDA (COALICIÓN)",500000,3.0462857048217929E-2]
["CARTAGO UNIDO (COALICIÓN)",2022000,0.1231917939029933]
["CÍVICO TIBÁS FUENTEOVEJUNA",370000,2.2542514215681264E-2]
["CURRIDABAT SIGLO XXI",2816050,0.17156985718126819]
["DE LOS TRANSPORTISTAS",3402500,0.20729974221312297]
["DEL SOL",8142809.3499999996,0.49610647439988464]
["EL PUENTE Y LOS CAMINOS DE MORA",2283140,0.13910193488213654]
["FRENTE AMPLIO",169132282.65000001,10.304505097211479]
["GOICOCHEA EN ACCIÓN",1426000,8.6880068301517538E-2]
["INDEPENDIENTE BELEMITA",2987000,0.18198510800605391]
["INTEGRACIÓN BARBAREÑA",707222.45,4.3088032791280893E-2]
["INTEGRACIÓN NACIONAL",59320000,3.6141133602005748]
["LIBERACIÓN NACIONAL",558811659.75,34.045999415683291]
["MONTES DE OCA UNIDA (COALICIÓN)",864000,5.2639816979320582E-2]
["MOVIMIENTO AVANCE SANTO DOMINGO",9471818.4000000004,0.57707729981176059]
["MOVIMIENTO DE TRABAJADORES Y CAMPESINOS",2608584.0499999998,0.15892984602682272]
["MOVIMIENTO LIBERTARIO",297213840.79000002,18.107965489475149]
["NUEVA GENERACIÓN",4544066.75,0.27685051164562047]
["ORGANIZACIÓN LABORISTA DE AGUIRRE",367000,2.2359737073391957E-2]
["PATRIA NUEVA",4477100,0.27277051458115292]
["RAMONENSE (COALICIÓN)",30000,1.8277714228930758E-3]
["RENOVACIÓN COSTARRICENSE",46350245,2.8239217751697554]
["RENOVEMOS ALAJUELA",677000,4.1246708443287074E-2]
["RESTAURACIÓN NACIONAL",19719810,1.2014435060960367]
["ÚNICO ABANGAREÑO",100000,6.0925714096435853E-3]
["UNIDAD SOCIAL CRISTIANA",289548364.13999999,17.640940850684338]
["UNIDOS POR SAN CARLOS (COALICIÓN)",1719000,0.10473130253177323]
["UNIÓN ATENIENSE",165000,1.0052742825911917E-2]
["UNIÓN PALMAREÑA",1509427.77,9.1962964764240734E-2]
["VERDE",1050000,6.3971999801257645E-2]
["VIVA PUNTARENAS",50000,3.0462857048217926E-3]
["YUNTA PROGRESISTA ESCAZUCEÑA",17758880,1.0819724455529127]
[" "]
[]
["1/ Total de Donaciones reportadas por los partidos políticos de marzo 2010 a diciembre 2013. Con corte al 24-01-2013."]
[]
["2/ Los siguientes Partidos Políticos reportaron no haber recibido donaciones durante el período: Acción Naranjeña, Acción Quepeña, Acuerdo Cantonal Desamparadeño, Alianza por San José, Avance Montes de Oca, Avance Nacional, Civíco de Tibás Fuenteovejuna, Humanista de Montes de Oca, Independiente Belemita, Integración Barbareña, Nuevo Partido Socialista, Patria Igualdad y Democracia (San José), Renovemos Alajuela, Unión Agrícola Cartaginés, Unión Ateniense."]
[]
["Nota: El detalle de los contribuyentes se puede consultar en  www.tse.go.cr"]
[]
["Fuente: Departamento de Financiamiento de Partidos Políticos. "]