{"text_format":"1","workbook":"xlsx","n_sheets":63,"sheets":["C1.1","G1.1","C1.2","G1.2","M1.1","M1.2","C1.3","G1.3","C1.4","G1.4","C1.5","C1.6","G2.1","G2.2","G2.3","G2.4","G2.5","G2.6","G2.7","G2.8","G2.9","G2.10","G2.11","C3.1","G3.1","C3.2","G3.2","C3.3","G3.3","C3.4","G3.4","C3.5","G3.5","C3.6","G3.6","C3.7","G3.7","C3.8","G3.8","C3.9","G3.9","C3.10","G3.10","C3.11","G3.11","C3.12","G3.12","C3.13","G3.13","C3.14","G3.14","C3.15","G3.15","C3.16","G3.16","C3.17","G3.17","C3.18","G3.18","C3.19","G3.19","C3.20","G3.20"],"not_rendered":{"charts":35,"images":2,"macros":1,"external_links":0,"defined_names":37,"comments":0,"pivot_tables":0},"unopened":[],"bounds":{"document_bytes":16777216,"sheet_cells":100000,"rows_first":2000,"rows_last":500,"rows_between":2000,"halvings":0,"cell_chars":16384,"cell_head_chars":4096},"cells_cut":0,"cells_raw":0,"read":"whole","date_system":"1900"}

{"sheet":"C1.1","index":0,"n_rows":40,"n_cols":18,"rows_kept":40,"cut":false,"hidden":false,"merged":[[5,0,6,0],[32,0,32,15],[5,1,5,17]]}
[]
["CUADRO 1.1 COSTA RICA: ELECTORADO, AUMENTO RELATIVO, VOTOS RECIBIDOS, NULOS, BLANCOS, ABSTENCIONISMO"]
["DENSIDAD ELECTORAL POR KM2 Y RELACIÓN CON POBLACIÓN TOTAL DEL PAÍS"]
["ELECCIONES PRESIDENCIALES 1953 - 2018"]
[]
["DATOS E INDICADORES","AÑO ELECTORAL"]
[null,1953,1958,1962,1966,1970,1974,1978,1982,1986,1990,1994,1998,2002,2006,2010,2014,2018]
[]
["ELECTORADO",294016,354779,483980,554627,675285,875041,1058455,1261127,1486474,1692050,1881348,2045980,2279851,{"$f":"+C3.15!B12","v":2550613},{"$f":"C3.16!B12","v":2822491},3078320.9999999991,3322329]
[]
["AUMENTO RELATIVO ENTRE ELECCIONES 1/",null,{"$f":"+(C9-B9)/B9*100","v":20.666562363952981},{"$f":"+(D9-C9)/C9*100","v":36.417318950670705},{"$f":"+(E9-D9)/D9*100","v":14.597090788875574},21.754800974348527,29.580991729417949,20.960617845335246,19.147908980542393,17.868699980255755,13.829774351922739,11.187494459383588,8.7507468049504933,{"$f":"+(N9-M9)/M9*100","v":11.430756898894417},{"$f":"+(O9-N9)/N9*100","v":11.876302442571905},{"$f":"+(P9-O9)/O9*100","v":10.659319936031064},{"$f":"+(Q9-P9)/P9*100","v":9.0639793005539815},{"$f":"+(R9-Q9)/Q9*100","v":7.9266587207767163}]
[]
["VOTOS RECIBIDOS",{"$f":"+B9-B22","v":197489},{"$f":"+C9-C22","v":229543},391406,451490,562766,699340,860206,991679,1216300,1384326,1525979,1431913,1569418,{"$f":"+O9-O22","v":1662857},{"$f":"+P9-P22","v":1950847.0000000009},2099219,2182764]
[]
["VOTOS VÁLIDOS",{"$f":"+B13-B17-B19","v":190768},{"$f":"+C13-C17-C19","v":221549},383462,441400,540045,678157,831141,966576,1185222,1349014,1490097,1388698,1529845,{"$f":"+O13-O17-O19","v":1623992},{"$f":"+P13-P17-P19","v":1911333.0000000009},2055472.0000000005,2154697]
[]
["VOTOS NULOS",2330,3981,5020,6265,18153,16160,23691,20241,26029,29919,30663,36318,32332,{"$f":"+C3.15!B33","v":30422},{"$f":"C3.16!B28","v":32554.999999999993},38021.000000000036,22974]
[]
["VOTOS BLANCOS",4391,4013,2924,3825,4568,5023,5374,4862,5049,5393,5219,6897,7241,{"$f":"+C3.15!B35","v":8443},{"$f":"C3.16!B30","v":6959},5726.0000000000045,5093]
[]
["ABSTENCIONISMO"]
["ABSOLUTO",96527,125236,92574,103137,112519,175701,198249,269448,270174,307724,355369,614067,710433,{"$f":"+C3.15!B37","v":887756},{"$f":"C3.16!B32","v":871643.99999999919},979101.99999999953,1139565]
["RELATIVO",{"$f":"+B22/B9*100","v":32.830526229865043},{"$f":"+C22/C9*100","v":35.299721798640846},19.12764990288855,18.595740921375988,16.662446226408107,20.07917343301628,18.730035759668574,21.365651516461071,18.175494492335552,18.186460210986674,18.889062523254601,30.013343238936841,31.161378528684551,34.805593792551051,30.88208252922681,31.806364573415181,34.300185201405398]
[]
["DENSIDAD POR KM2  2/",{"$f":"+B9/$B$38","v":5.7537377690802352},{"$f":"+C9/$B$38","v":6.9428375733855185},9.4712328767123282,10.853757338551858,13.214970645792564,17.124090019569472,20.713405088062622,24.679589041095891,29.089510763209393,33.112524461839527,36.816986301369866,40.038747553816044,44.615479452054792,{"$f":"+O9/$B$38","v":49.914148727984347},{"$f":"+P9/$B$38","v":55.234657534246573},{"$f":"+Q9/$B$38","v":60.241115459882565},65.016223091976514]
[]
["RELACIÓN CON LA POBLACIÓN 3/",{"$f":"+B9/B36*100","v":33.843918958584894},33.70905124497137,38.675176622606578,36.601988263648195,37.951666049392777,44.583124014759122,48.427580874295693,51.411555550482412,54.043970347101791,55.357640028279988,55.514710004786181,54.466365492584679,55.988688563440192,58.95799339505561,61.848745425150398,{"$f":"+Q9/Q36*100","v":64.492860957373978},{"$f":"+R9/R36*100","v":66.401519928576462}]
[]
["Notas: De 1953 a 1970 para ser elector se requerían 20 años de edad como mínimo, a partir de 1974 esa edad se redujo a 18 años."]
[]
["1/ Se calcula entre  dos elecciones, tomando como base la elección presidencial anterior."]
["2/ El área de Costa Rica es de 51 100 Km2 de acuerdo con la información del Instituto Geográfico Nacional."]
["3/ Proyecciones Distritales de Población de Costa Rica 1970-2030, Centro Centroamericano de Población-Universidad de Costa Rica (CCP) e Instituto Nacional de Estadística y Censos (INEC)."]
[]
[]
["POBLACIÓN",868741,1052474,1251397,1515292,{"$f":"C1.4!Y8","v":1779329},{"$f":"C1.4!Z8","v":1962718},{"$f":"C1.4!AA8","v":2185645},{"$f":"C1.4!AB8","v":2453003},{"$f":"C1.4!AC8","v":2750490},{"$f":"C1.4!AD8","v":3056579},{"$f":"C1.4!AE8","v":3388918},{"$f":"C1.4!AF8","v":3756410},{"$f":"C1.4!AG8","v":4071985},{"$f":"C1.4!AH8","v":4326153},{"$f":"C1.4!AI8","v":4563538},{"$f":"C1.4!AJ8","v":4773119},{"$f":"C1.4!AK8","v":5003393}]
[]
["TERRITORIO",51100]
[]
["FUENTE: Tribunal Supremo de Elecciones."]

{"sheet":"G1.1","index":1,"n_rows":35,"n_cols":1,"rows_kept":35,"cut":false,"hidden":false,"merged":[[1,0,1,9],[2,0,2,9],[3,0,3,9]]}
[]
[]
["GRÁFICO 1.1 COSTA RICA: ELECTORADO, VOTOS RECIBIDOS Y ABSTENCIONISMO"]
["ELECCIONES PRESIDENCIALES 1953 - 2018"]
[]
[]
[]
[]
[]
[]
[]
[]
[]
[]
[]
[]
[]
[]
[]
[]
[]
[]
[]
[]
[]
[]
[]
[]
[]
[]
[]
[]
[]
[]
["FUENTE: Cuadro 1.1."]

{"sheet":"C1.2","index":2,"n_rows":22,"n_cols":18,"rows_kept":22,"cut":false,"hidden":false,"merged":[[4,0,5,0]]}
[]
["CUADRO 1.2 COSTA RICA: PORCENTAJE DE ABSTENCIONISMO, SEGÚN PROVINCIA, POR AÑO ELECTORAL"]
["ELECCIONES PRESIDENCIALES 1953 - 2018"]
[]
["PROVINCIA","AÑO ELECTORAL"]
[null,1953,1958,1962,1966,1970,1974,1978,1982,1986,1990,1994,1998,2002,2006,2010,2014,2018]
[]
["COSTA RICA",32.830526229865043,35.299721798640846,19.12764990288855,18.595740921375988,16.662446226408107,20.07917343301628,18.758378958009551,21.365651516461071,18.175494492335552,18.186460210986674,18.889062523254601,30.013343238936841,31.161378528684551,34.79026414434491,{"$f":"C1.1!P23","v":30.88208252922681},31.806364573415181,34.299999999999997]
[]
["SAN JOSÉ",29.4,34.6,17.600000000000001,18.2,16.2,19.600000000000001,18.7,20.9,18.2,18.5,20,30.8,30.7,33.592257260152898,30.142822143333852,29.846829109524244,31.6]
["ALAJUELA",31.6,31.9,16,14.9,14,17.8,15.2,18.7,15.3,15.1,15.5,27.1,27.8,32.002206619428989,28.47362246406535,29.380442706664912,32.1]
["CARTAGO",30.3,32.9,15,17.2,14,17.399999999999999,17.600000000000001,18.600000000000001,15.3,15,16.3,25.5,27.7,30.018902823228117,25.87641659214917,26.515827048349212,28.2]
["HEREDIA",25.7,29.7,14.4,14.2,13.3,18.399999999999999,15.7,18.899999999999999,15.1,14.8,15.9,28,28.3,30.20980271796352,26.86792750875988,27.027934089494575,28.4]
["GUANACASTE",36.1,34.5,22.3,17.5,16.3,18.3,16.2,19.399999999999999,16.399999999999999,16.5,15.8,26.1,30.2,37.891542117620105,33.777360630806527,36.785933383854818,40.6]
["PUNTARENAS",51,49.9,33.5,28,23.2,26.1,24.2,27.9,24,23.5,22.8,34.700000000000003,39,44.977560461489951,40.425892802072411,41.684014844005652,44.5]
[" LIMÓN",37.5,38.299999999999997,25.5,29.4,28.4,30.3,30.2,32.4,27.9,28,30.6,39.9,41.6,45.04207629569067,38.552523557966879,41.144874340614173,42.9]
["EXTRANJERO","NA","NA","NA","NA","NA","NA","NA","NA","NA","NA","NA","NA","NA","NA","NA",78.10178599652285,86.1]
[]
[]
["NA: No Aplica"]
[]
["FUENTE: Tribunal Supremo de Elecciones."]

{"sheet":"G1.2","index":3,"n_rows":33,"n_cols":1,"rows_kept":33,"cut":false,"hidden":false,"merged":[[1,0,1,9],[2,0,2,9],[3,0,3,9]]}
[]
[]
["GRÁFICO 1.2 COSTA RICA: PORCENTAJE DE ABSTENCIONISMO, POR AÑO ELECTORAL"]
["ELECCIONES PRESIDENCIALES 1953 - 2018"]
[]
[]
[]
[]
[]
[]
[]
[]
[]
[]
[]
[]
[]
[]
[]
[]
[]
[]
[]
[]
[]
[]
[]
[]
[]
[]
[]
[]
["FUENTE: Cuadro 1.2"]

{"sheet":"M1.1","index":4,"n_rows":58,"n_cols":1,"rows_kept":58,"cut":false,"hidden":false,"merged":[[1,0,1,15]]}
[]
["MAPA 1.1 COSTA RICA: PARTICIPACIÓN RELATIVA PARA PRESIDENCIA Y VICEPRESIDENCIAS DE LA REPÚBLICA, SEGÚN DISTRITO ADMINISTRATIVO\n ELECCIONES 4 DE FEBRERO 2018"]
[]
[]
[]
[]
[]
[]
[]
[]
[]
[]
[]
[]
[]
[]
[]
[]
[]
[]
[]
[]
[]
[]
[]
[]
[]
[]
[]
[]
[]
[]
[]
[]
[]
[]
[]
[]
[]
[]
[]
[]
[]
[]
[]
[]
[]
[]
[]
[]
[]
[]
[]
[]
[]
["Nota: Mapa elaborado con fines ilustrativos por el SIGE-DGRE a partir de coberturas digitales del TSE e IGN. Datum WGS 84, sistema de proyección de coordenadas CRTM05, setiembre de 2014"]
[]
["FUENTE: Tribunal Supremo de Elecciones."]

{"sheet":"M1.2","index":5,"n_rows":54,"n_cols":1,"rows_kept":54,"cut":false,"hidden":false,"merged":[[1,0,1,14]]}
[]
["MAPA1.2 COSTA RICA: ABSTENCIONISMO RELATIVO PARA PRESIDENCIA Y VICEPRESIDENCIAS DE LA REPÚBLICA, SEGÚN DISTRITO ADMINISTRATIVO\n ELECCIONES 4 DE FEBRERO 2018"]
[]
[]
[]
[]
[]
[]
[]
[]
[]
[]
[]
[]
[]
[]
[]
[]
[]
[]
[]
[]
[]
[]
[]
[]
[]
[]
[]
[]
[]
[]
[]
[]
[]
[]
[]
[]
[]
[]
[]
[]
[]
[]
[]
[]
[]
[]
[]
[]
[]
["Nota: Mapa elaborado con fines ilustrativos por el SIGE-DGRE a partir de coberturas digitales del TSE e IGN. Datum WGS 84, sistema de proyección de coordenadas CRTM05, setiembre de 2014"]
[]
["FUENTE: Tribunal Supremo de Elecciones."]

{"sheet":"C1.3","index":6,"n_rows":41,"n_cols":18,"rows_kept":41,"cut":false,"hidden":false,"merged":[[4,0,5,0]]}
[]
["CUADRO 1.3 COSTA RICA: DENSIDAD DEL ELECTORADO POR KM2, SEGÚN PROVINCIA, POR AÑO ELECTORAL"]
["ELECCIONES PRESIDENCIALES 1953 - 2018"]
[]
["PROVINCIA","AÑO ELECTORAL"]
[null,1953,1958,1962,1966,1970,1974,1978,1982,1986,1990,1994,1998,2002,2006,2010,2014,2018]
[]
["COSTA RICA",{"$f":"+B32/B20","v":5.7537377690802352},{"$f":"+C32/C20","v":6.9428375733855185},9.4712328767123282,10.853757338551858,13.214970645792564,17.124090019569472,20.713405088062622,24.679589041095891,29.089510763209393,33.112524461839527,36.816986301369866,40.038747553816044,44.615479452054792,{"$f":"+O32/O20","v":49.914148727984347},{"$f":"+P32/P20","v":55.234657534246573},{"$f":"+Q32/Q20","v":60.241115459882565},{"$f":"+R32/R20","v":65.016223091976514}]
[]
["SAN JOSÉ",{"$f":"+B34/B22","v":23.268289735999517},{"$f":"+C34/C22","v":28.663082220745487},39.126039590003828,44.509957912966435,54.77697899675789,71.500634326104034,86.6708955073602,102.73082422118851,118.93916510602308,{"$f":"+K34/K22","v":134.0985521254959},147.75267323143842,157.88779476026502,172.33995851708653,{"$f":"+O34/O22","v":188.65180531222941},203.01999637527942,{"$f":"+Q34/Q22","v":214.07217221450287},{"$f":"+R34/R22","v":224.48679997583523}]
["ALAJUELA",{"$f":"+B35/B23","v":5.6710048547122067},6.5807637793580955,8.8295910952874337,10.101839297445151,12.04731115353988,15.332261340728646,18.467583497053045,22.230625988339259,26.410269812134832,30.378487178619999,33.774223599619987,{"$f":"+M35/M23","v":37.226429229528371},{"$f":"+N35/N23","v":42.073967489723316},{"$f":"+O35/O23","v":47.744767374530234},{"$f":"+P35/P23","v":53.724149451756745},59.184342758874415,{"$f":"+R35/R23","v":64.666980270621764}]
["CARTAGO",11.194462135201476,12.995612336662751,18.136315194884581,20.462000787283138,24.149110146031422,29.996127591073616,35.921233282234603,42.801959886964063,51.674896869109375,59.836398723705223,67.625381240258974,74.238239558097334,83.734282340215131,94.472056249139911,105.22135137470516,115.20736589783884,{"$f":"+R36/R24","v":124.14270947012004}]
["HEREDIA",7.3982491400010542,8.9733456781759742,12.717069755888264,14.794992811387365,17.654254077938109,24.245948407590571,30.869633945306326,38.163253016582736,45.963085909566502,53.146805771966669,61.430270457436642,69.99111773517302,80.955069289192991,92.583685236622031,104.83481245624732,115.50745583331442,125.27719440868957]
["GUANACASTE",2.6420240791818328,3.1851813137344429,4.3233659181654938,5.1610784649201094,6.1718558168017825,7.5534158850810256,8.7223675659791091,9.944076894024187,11.286882279445917,12.226067011086997,12.984988230607128,13.972394437864805,15.291237004115098,17.220687703326494,19.647243634814526,21.861191178921406,23.729798012170747]
["PUNTARENAS",2.7001453084542533,3.265223878874707,4.3004023721582962,4.9194501180131889,6.114583305594242,7.8552667435372356,9.4715015236527904,11.04122339599261,12.924996160909807,14.471106518997061,15.462878882696044,16.460420977321405,18.316587798883155,20.550095023030103,{"$f":"+P39/P27","v":23.026374771540844},25.498127500401662,27.575940754627545]
[" LIMÓN",1.2282718000287314,1.599278229791087,2.2616264643272257,2.6142403782110719,3.4694379508343016,5.1292264695511349,6.3603278874073297,8.0200075746692612,10.282287027725902,12.463813541244944,14.982499902051689,16.719123427929635,{"$f":"+N40/N28","v":19.082398471135722},21.830283875966966,24.392176324369974,27.130049235350192,29.671046044411938]
[]
[]
["FUENTE: Tribunal Supremo de Elecciones."]
["TOTAL",{"$f":"SUM(B22:B28)","v":51100},{"$f":"SUM(C22:C28)","v":51100},51100,51100,51100,51100,51100,51100,51100,51100,51100,51100,51100,{"$f":"SUM(O22:O28)","v":51100},{"$f":"SUM(P22:P28)","v":51100},{"$f":"SUM(Q22:Q28)","v":51100},{"$f":"SUM(R22:R28)","v":51100}]
[]
["SAN JOSÉ",4965.8999999999996,4965.8999999999996,4965.8999999999996,4965.8999999999996,4965.8999999999996,4965.8999999999996,4965.8999999999996,4965.8999999999996,4965.8999999999996,4965.8999999999996,4965.8999999999996,4965.8999999999996,4965.8999999999996,4965.8999999999996,4965.8999999999996,4965.8999999999996,4965.8999999999996]
["ALAJUELA",9757.5300000000007,9757.5300000000007,9757.5300000000007,9757.5300000000007,9757.5300000000007,9757.5300000000007,9757.5300000000007,9757.5300000000007,9757.5300000000007,9757.5300000000007,9757.5300000000007,9757.5300000000007,9757.5300000000007,9757.5300000000007,9757.5300000000007,9757.5300000000007,9757.5300000000007]
["CARTAGO",3124.67,3124.67,3124.67,3124.67,3124.67,3124.67,3124.67,3124.67,3124.67,3124.67,3124.67,3124.67,3124.67,3124.67,3124.67,3124.67,3124.67]
["HEREDIA",2656.98,2656.98,2656.98,2656.98,2656.98,2656.98,2656.98,2656.98,2656.98,2656.98,2656.98,2656.98,2656.98,2656.98,2656.98,2656.98,2656.98]
["GUANACASTE",10140.709999999999,10140.709999999999,10140.709999999999,10140.709999999999,10140.709999999999,10140.709999999999,10140.709999999999,10140.709999999999,10140.709999999999,10140.709999999999,10140.709999999999,10140.709999999999,10140.709999999999,10140.709999999999,10140.709999999999,10140.709999999999,10140.709999999999]
["PUNTARENAS",11265.69,11265.69,11265.69,11265.69,11265.69,11265.69,11265.69,11265.69,11265.69,11265.69,11265.69,11265.69,11265.69,11265.69,11265.69,11265.69,11265.69]
[" LIMÓN",9188.52,9188.52,9188.52,9188.52,9188.52,9188.52,9188.52,9188.52,9188.52,9188.52,9188.52,9188.52,9188.52,9188.52,9188.52,9188.52,9188.52]
[]
[]
[]
["COSTA RICA",{"$f":"SUM(B34:B41)","v":294016},{"$f":"SUM(C34:C41)","v":354779},483980,554627,675285,875041,1058455,1261127,1486474,1692050,1881348,2045980,2279851,2550613,2822491,3078320.9999999991,3322329]
[]
["SAN JOSÉ",115548,142338,194296,221032,272017,355065,430399,510151,590640,665920,733725,784055,855823,936826,1008177,1063060.9999999998,1114779]
["ALAJUELA",55335,64212,86155,98569,117552,149605,180198,216916,257699,296419,329553,363238,410538,465871,524215,577492.99999999988,630990]
["CARTAGO",34979,40607,56670,63937,75458,93728,112242,133742,161467,186969,211307,231970,261642,295194,328782,359985.00000000012,387905]
["HEREDIA",19657,23842,33789,39310,46907,64421,82020,101399,122123,141210,163219,185965,215096,245993,278544,306900.99999999977,332859]
["GUANACASTE",26792,32300,43842,52337,62587,76597,88451,100840,114457,123981,131677,141690,155064,174630,199237,221688.00000000006,240637]
["PUNTARENAS",30419,36785,48447,55421,68885,88495,106703,124387,145609,163027,174200,185438,206349,231511,259408,287254,310662]
[" LIMÓN",11286,14695,20781,24021,31879,47130,58442,73692,94479,114524,137667,153624,175339,200588,224128,249284.99999999997,272633]
["EXTRANJERO","-","-","-","-","-","-","-","-","-","-","-","-","-","-","-",12654.000000000002,31864]

{"sheet":"G1.3","index":7,"n_rows":36,"n_cols":1,"rows_kept":36,"cut":false,"hidden":false,"merged":[[2,0,2,10],[3,0,3,10],[4,0,4,10]]}
[]
[]
[]
["GRÁFICO 1.3 COSTA RICA: DENSIDAD DEL ELECTORADO POR KM2, SEGÚN AÑO ELECTORAL"]
["ELECCIONES PRESIDENCIALES 1953-2018"]
[]
[]
[]
[]
[]
[]
[]
[]
[]
[]
[]
[]
[]
[]
[]
[]
[]
[]
[]
[]
[]
[]
[]
[]
[]
[]
[]
[]
[]
[]
["FUENTE: Cuadro 1.3"]

{"sheet":"C1.4","index":8,"n_rows":31,"n_cols":37,"rows_kept":31,"cut":false,"hidden":false,"merged":[[4,1,4,13],[4,0,5,0],[18,0,18,17],[1,0,1,17],[2,0,2,17]]}
[]
["CUADRO 1.4 COSTA RICA: PORCENTAJE DEL ELECTORADO INSCRITO CON RESPECTO A  LA POBLACIÓN DEL PAÍS1/"]
["SEGÚN PROVINCIA, POR AÑO ELECTORAL, ELECCIONES PRESIDENCIALES 1953 - 2018"]
[]
["PROVINCIA","AÑO ELECTORAL"]
[null,1953,1958,1962,1966,1970,1974,1978,1982,1986,1990,1994,1998,2002,2006,2010,2014,2018,null,"POBLACIÓN",1953,1958,1962,1966,1970,1974,1978,1982,1986,1990,1994,1998,2002,2006,2010,2014,2018]
[]
["COSTA RICA",{"$f":"+U20/U8*100","v":32.729211680798457},32.253750584111089,37.148390157111947,35.388998423970961,37.951666049392777,44.583124014759122,48.427580874295693,51.411555550482412,54.043970347101791,55.357640028279988,55.514710004786181,54.466365492584679,55.988688563440192,58.95799339505561,61.848745425150398,64.492860957373978,66.400920335460356,null,null,{"$f":"SUM(U10:U16)","v":898329},1099962,1302829,1567230,1779329,1962718,2185645,2453003,2750490,3056579,3388918,3756410,4071985,4326153,4563538,4773119,5003393]
[]
["SAN JOSÉ",{"$f":"+U22/U10*100","v":37.092870212834264},37.950323144849946,43.25802171183286,39.206615557628929,41.144501955754279,48.696943763269203,52.910190152584292,56.108025472102774,58.487430906127393,59.988036984455285,60.424298024850778,58.915135844715408,{"$f":"+AG22/AG10*100","v":59.588655761172745},61.160382907688117,{"$f":"+AI22/AI10*100","v":61.727062442370638},{"$f":"+AJ22/AJ10*100","v":67.41529497413886},{"$f":"+AK22/AK10*100","v":68.176197325740119},null,"SAN JOSÉ",311510,375064,449156,563762,661126,729132,813452,909230,1009858,1110088,1214288,1330821,1436218,1531753,1633282,1576884,1635144]
["ALAJUELA",33.293222225564818,31.177533065314922,35.724800238842604,34.860214673480577,38.108081823191881,43.758994278761215,47.030789588384678,50.100239280864002,52.704786603074361,54.058603502641667,53.365104348839921,51.949177509732301,53.206685925574561,56.24763054633263,59.836908568121608,{"$f":"+AJ23/AJ11*100","v":61.006626826127409},{"$f":"+AK23/AK11*100","v":62.915475557797905},null,"ALAJUELA",166205,205956,241163,282755,308470,341884,383149,432964,488948,548329,617544,699218,771591,828250,876073,946607,1002917]
["CARTAGO",30.978992489726515,29.573228461146311,35.461969275053974,35.097821790874356,39.42877446728464,43.416712988697427,46.145876587469623,48.650084028722546,52.182582644694875,54.347819767864358,55.322920157506708,54.494754201572093,56.651105991581638,60.480039337410496,64.375292475236279,69.652362184156942,{"$f":"+AK24/AK12*100","v":72.669283151771751},null,"CARTAGO",112912,137310,159805,182168,191378,215880,243233,274906,309427,344023,381952,425674,461848,488085,510727,516831,533795]
["HEREDIA",34.38401931116514,35.007708685118565,42.176675445932624,40.2008508549456,38.539972064744063,45.233430932670501,48.894187779433679,51.407118992937782,53.057739931355087,53.125811221092313,53.662570111586739,53.778351007377125,55.987901598977572,58.856336208443494,62.001037268200612,63.520326852307903,{"$f":"+AK25/AK13*100","v":64.983833555914799},null,"HEREDIA",57169,68105,80113,97784,121710,142419,167750,197247,230170,265803,304158,345799,384183,417955,449257,483154,512172]
["GUANACASTE",26.01670227228588,25.122501361126236,28.605356735066717,30.480588913608141,35.064120161574962,41.711774507988721,46.167778438925602,49.718472355069963,52.971939779054111,53.942777086469597,53.297579535335551,53.444529941610462,56.184033653027434,62.497763207810522,71.032272325375772,61.602416434869369,{"$f":"+AK26/AK14*100","v":62.858881827276981},null,"GUANACASTE",102980,128570,153265,171706,178493,183634,191586,202822,216071,229838,247060,265116,275993,279418,280488,359869,382821]
["PUNTARENAS",30.098153681752521,28.545819979357923,31.397926117952039,29.213228472632203,32.530518759887606,38.93090144426408,43.403609679505692,45.978154397767383,48.676521715875054,50.07433117301963,50.041078497273887,50.921283151090435,55.79126099405449,62.720391421666896,70.33324566802321,62.220499013366663,{"$f":"+AK27/AK15*100","v":63.822024270538222},null,"PUNTARENAS",101066,128863,154300,189712,211755,227313,245839,270535,299136,325570,348114,364166,369859,369116,368827,461671,486763]
[" LIMÓN",{"$f":"+U28/U16*100","v":24.27775507131026},26.197097728812352,31.957494579174806,30.274882472303794,29.962310967414496,38.487293395178682,41.555504991609546,44.581031948166654,47.988114587566031,49.167124605028164,49.915156525333394,47.179499778880647,47.09704453212926,48.736563842400912,50.378975193533591,58.230145549085144,60.614610221418864,null," LIMÓN",46487,56094,65027,79343,106397,122456,140636,165299,196880,232928,275802,325616,372293,411576,444884,428103,449781]
[]
[]
["1/ Proyecciones Distritales de Población de Costa Rica 1970-2030, Centro Centroamericano de Población-Universidad de Costa Rica (CCP) e Instituto Nacional de Estadística y Censos (INEC)."]
[null,null,null,null,null,null,null,null,null,null,null,null,null,null,null,null,null,null,null,"ELECTORES",{"$f":"SUM(U22:U28)","v":294016},{"$f":"SUM(V22:V28)","v":354779},483980,554627,675285,875041,1058455,1261127,1486474,1692050,1881348,2045980,2279851,{"$f":"SUM(AH22:AH28)","v":2550613},{"$f":"SUM(AI22:AI28)","v":2822491},{"$f":"SUM(AJ22:AJ29)","v":3078320.9999999991},{"$f":"SUM(AK22:AK29)","v":3322299}]
["FUENTE: Tribunal Supremo de Elecciones."]
[null,null,null,null,null,null,null,null,null,null,null,null,null,null,null,null,null,null,null,"SAN JOSÉ",115548,142338,194296,221032,272017,355065,430399,510151,590640,665920,733725,784055,855823,936826,1008177,{"$f":"+C1.3!Q34","v":1063060.9999999998},1114779]
[null,null,null,null,null,null,null,null,null,null,null,null,null,null,null,null,null,null,null,"ALAJUELA",55335,64212,86155,98569,117552,149605,180198,216916,257699,296419,329553,363238,410538,465871,524215,{"$f":"+C1.3!Q35","v":577492.99999999988},630990]
[null,null,null,null,null,null,null,null,null,null,null,null,null,null,null,null,null,null,null,"CARTAGO",34979,40607,56670,63937,75458,93728,112242,133742,161467,186969,211307,231970,261642,295194,328782,{"$f":"+C1.3!Q36","v":359985.00000000012},387905]
[null,null,null,null,null,null,null,null,null,null,null,null,null,null,null,null,null,null,null,"HEREDIA",19657,23842,33789,39310,46907,64421,82020,101399,122123,141210,163219,185965,215096,245993,278544,{"$f":"+C1.3!Q37","v":306900.99999999977},332829]
[null,null,null,null,null,null,null,null,null,null,null,null,null,null,null,null,null,null,null,"GUANACASTE",26792,32300,43842,52337,62587,76597,88451,100840,114457,123981,131677,141690,155064,174630,199237,{"$f":"+C1.3!Q38","v":221688.00000000006},240637]
[null,null,null,null,null,null,null,null,null,null,null,null,null,null,null,null,null,null,null,"PUNTARENAS",30419,36785,48447,55421,68885,88495,106703,124387,145609,163027,174200,185438,206349,231511,259408,{"$f":"+C1.3!Q39","v":287254},310662]
[null,null,null,null,null,null,null,null,null,null,null,null,null,null,null,null,null,null,null," LIMÓN",11286,14695,20781,24021,31879,47130,58442,73692,94479,114524,137667,153624,175339,200588,224128,{"$f":"+C1.3!Q40","v":249284.99999999997},272633]
[null,null,null,null,null,null,null,null,null,null,null,null,null,null,null,null,null,null,null,null,null,null,null,null,null,null,null,null,null,null,null,null,null,null,null,{"$f":"+C1.3!Q41","v":12654.000000000002},31864]
[]
[null,null,null,null,null,null,null,null,null,null,null,null,null,null,null,null,null,null,null,null,null,null,null,null,null,null,null,null,null,null,null,null,null,null,4533894]

{"sheet":"G1.4","index":9,"n_rows":35,"n_cols":1,"rows_kept":35,"cut":false,"hidden":false,"merged":[[2,0,2,10],[3,0,3,10],[4,0,4,10]]}
[]
[]
[]
["GRÁFICO 1.4 COSTA RICA: PORCENTAJE DEL ELECTORADO INSCRITO CON RESPECTO A LA POBLACIÓN TOTAL"]
["POR AÑO ELECTORAL, ELECCIONES PRESIDENCIALES 1953-2018"]
[]
[]
[]
[]
[]
[]
[]
[]
[]
[]
[]
[]
[]
[]
[]
[]
[]
[]
[]
[]
[]
[]
[]
[]
[]
[]
[]
[]
[]
["FUENTE: Cuadro 1.4"]

{"sheet":"C1.5","index":10,"n_rows":63,"n_cols":18,"rows_kept":63,"cut":false,"hidden":false,"merged":[[4,0,5,0],[4,1,4,17],[0,0,0,17],[1,0,1,17],[2,0,2,17]]}
[]
["CUADRO 1.5 COSTA RICA: VOTOS VÁLIDOS, SEGÚN PARTIDO1/, POR AÑO ELECTORAL"]
["ELECCIONES PRESIDENCIALES 1953 - 2018"]
[]
["PARTIDO ","AÑO ELECTORAL"]
[null,1953,1958,1962,1966,1970,1974,1978,1982,1986,1990,1994,1998,2002,2006,2010,2014,2018]
[]
["TOTAL DE VOTOS VÁLIDOS",{"$f":"SUM(B10:B58)","v":190768},{"$f":"SUM(C10:C58)","v":221549},431863,441400,540045,678157,831141,966576,1185222,1349014,1490097,1388698,1529845,1623992,1911333.0000000007,{"$f":"SUM(Q10:Q58)","v":2055472.0000000005},{"$f":"SUM(R10:R58)","v":2154697}]
[]
[{"$f":"+C3.17!A17","v":"ACCESIBILIDAD SIN EXCLUSIÓN"},0,0,0,0,0,0,0,0,0,0,0,0,0,0,36104,10338.999999999996,7539]
["ACCIÓN CIUDADANA",0,0,0,0,0,0,0,0,0,0,0,0,400681,646382,478877,629866.00000000023,466129]
["ACCIÓN DEMÓCRATA POPULAR",0,0,51740,0,0,0,0,0,0,0,0,0,0,0,0,0,"-"]
["ACCIÓN SOCIALISTA",0,0,0,0,7221,16081,0,0,0,0,0,0,0,0,0,0,"-"]
["ALIANZA DEMOCRÁTICA CRISTIANA",0,0,0,0,0,0,0,0,0,0,0,0,0,0,0,0,12638]
["ALIANZA DEMOCRÁTICA NACIONALISTA",0,0,0,0,0,0,0,0,0,0,0,0,0,3670,0,0,"-"]
["ALIANZA NACIONAL CRISTIANA",0,0,0,0,0,0,0,0,5647,4209,4980,3545,1271,0,0,0,"-"]
[{"$f":"C3.16!A20","v":"ALIANZA PATRIÓTICA"},0,0,0,0,0,0,0,0,0,0,0,0,0,0,3158.0000000000005,0,"-"]
["ALIANZA POPULAR",0,0,0,0,0,0,0,0,9099,0,0,0,0,0,0,0,"-"]
[{"$f":"+C3.17!A19","v":"AVANCE NACIONAL"},0,0,0,0,0,0,0,0,0,0,0,0,0,0,0,4388,"-"]
["CAMBIO 2000",0,0,0,0,0,0,0,0,0,0,0,0,3970,0,0,0,"-"]
["COALICIÓN IZQUIERDA UNIDA",0,0,0,0,0,0,0,0,0,0,0,0,0,2291,0,0,"-"]
["DEL PROGRESO",0,0,0,0,0,0,0,0,0,2547,0,0,0,0,0,0,"-"]
["DEMÓCRATA",67324,0,0,0,0,18832,1613,1747,0,0,0,12952,0,0,0,0,"-"]
["DEMÓCRATA CRISTIANO",0,0,0,0,5015,3461,0,0,0,0,0,0,0,0,0,0,"-"]
[{"$f":"+C3.17!A20","v":"DE LOS TRABAJADORES"},0,0,0,0,0,0,0,0,0,0,0,0,0,0,0,4897.0000000000018,4351]
["FRENTE AMPLIO",0,0,0,0,0,0,0,0,0,0,0,0,0,0,6782,354478.99999999994,16862]
["FRENTE NACIONAL",0,0,0,0,9554,0,0,0,0,0,0,0,0,0,0,0,"-"]
["FUERZA DEMOCRÁTICA",0,0,0,0,0,0,0,0,0,0,28274,41710,4121,3020,0,0,"-"]
["INDEPENDIENTE",0,23910,0,0,0,0,3822,1955,1129,746,1600,1377,0,0,0,0,"-"]
["INDEPENDIENTE OBRERO",0,0,0,0,0,0,0,0,0,0,0,0,801,0,0,0,"-"]
["INTEGRACIÓN NACIONAL",0,0,0,0,0,0,0,0,0,0,0,19934,6235,5136,2049,3042.0000000000027,205602]
["LIBERACIÓN NACIONAL",123444,94788,192850,218590,295883,294609,364285,568374,620314,636701,739339,618834,475030,664551,896516.00000000093,610634.00000000012,401505]
["MOVIMIENTO LIBERTARIO",0,0,0,0,0,0,0,0,0,0,0,5874,25815,137710,399787.99999999983,233063.99999999991,21890]
["MOVIMIENTO NACIONAL",0,0,0,0,0,0,0,37127,0,0,0,0,0,0,0,0,"-"]
["NACIONAL INDEPENDIENTE",0,0,0,0,0,73788,3323,0,0,0,2426,4218,0,0,0,0,"-"]
[{"$f":"+C3.17!A25","v":"NUEVA GENERACIÓN"},0,0,0,0,0,0,0,0,0,0,0,0,0,0,0,5882,16329]
["NUEVO PARTIDO DEMOCRÁTICO",0,0,0,0,0,0,0,0,0,0,0,3025,0,0,0,0,"-"]
["ORGANIZACIÓN SOCIALISTA DE LOS TRABAJADORES",0,0,0,0,0,0,1868,0,0,0,0,0,0,0,0,0,"-"]
[{"$f":"+C3.17!A26","v":"PATRIA NUEVA"},0,0,0,0,0,0,0,0,0,0,0,0,0,0,0,30815.999999999993,"-"]
["PATRIA PRIMERO",0,0,0,0,0,0,0,0,0,0,0,0,0,17594,0,0,"-"]
["PATRIÓTICO NACIONAL",0,0,0,0,0,0,0,0,0,0,0,0,1680,0,0,0,"-"]
["PUEBLO UNIDO",0,0,0,0,0,0,22740,32186,6599,9217,0,3075,0,0,0,0,"-"]
["RENOVACIÓN COSTARICENSE",0,0,0,0,0,0,0,0,0,0,0,19313,16404,15539,13945,16720.999999999996,12309]
["RENOVACIÓN DEMOCRÁTICA",0,0,0,0,0,61820,0,0,0,0,0,0,0,0,0,0,"-"]
["REPUBLICANO",0,0,135533,0,0,0,0,0,0,0,0,0,0,0,0,0,"-"]
["REPUBLICANO SOCIAL CRSITIANO",0,0,0,0,0,0,0,0,0,0,0,0,0,0,0,0,106444]
["RESCATE NACIONAL",0,0,0,0,0,0,0,0,0,0,0,2681,905,2430,0,0,"-"]
["RESTAURACIÓN NACIONAL",0,0,0,0,0,0,0,0,0,0,0,0,0,0,0,27690.999999999985,538504]
["REVOLUCIONARIO DE LOS TRABAJADORES EN LUCHA",0,0,0,0,0,0,0,0,0,1005,0,0,0,0,0,0,"-"]
["SOCIALISTA COSTARRICENSE",0,0,0,0,0,3417,0,0,0,0,0,0,0,0,0,0,"-"]
["UNIDAD (COALICIÓN)",0,0,0,0,0,0,419824,325187,0,0,0,0,0,0,0,0,"-"]
["UNIDAD SOCIAL CRISTIANA",0,0,0,0,0,0,0,0,542434,694589,711328,652160,590277,57655,74114,123652.99999999999,344595]
["UNIFICACIÓN NACIONAL",0,0,0,222810,222372,206149,13666,0,0,0,0,0,0,0,0,0,"-"]
["UNIÓN GENERAL",0,0,0,0,0,0,0,0,0,0,0,0,2655,0,0,0,"-"]
["UNIÓN GENERALEÑA",0,0,0,0,0,0,0,0,0,0,2150,0,0,0,0,0,"-"]
["UNIÓN NACIONAL",0,102851,51740,0,0,0,0,0,0,0,0,0,0,26593,0,0,"-"]
["UNIÓN PARA EL CAMBIO",0,0,0,0,0,0,0,0,0,0,0,0,0,39557,0,0,"-"]
["UNIÓN PATRIÓTICA",0,0,0,0,0,0,0,0,0,0,0,0,0,1864,0,0,"-"]
[]
[]
["1/ Ver detalle de coaliciones en los cuadros 3.4, 3.7, 3.8, 3.9, 3.10, 3.13 y 3.15."]
[]
["FUENTE: Tribunal Supremo de Elecciones."]

{"sheet":"C1.6","index":11,"n_rows":62,"n_cols":18,"rows_kept":62,"cut":false,"hidden":false,"merged":[[4,0,5,0],[4,1,4,17]]}
[]
["CUADRO 1.6 COSTA RICA: PORCENTAJE DE VOTOS VÁLIDOS, SEGÚN PARTIDO, POR AÑO ELECTORAL"]
["ELECCIONES PRESIDENCIALES 1953 - 2018"]
[]
["PARTIDO 1/","AÑO ELECTORAL"]
[null,1953,1958,1962,1966,1970,1974,1978,1982,1986,1990,1994,1998,2002,2006,2010,2014,2018]
[]
["TOTAL DE VOTOS VÁLIDOS",{"$f":"SUM(B10:B58)","v":100},{"$f":"SUM(C10:C58)","v":100},100,100,100,100,100,100,100,100,99.999999999999986,100,100.00000000000001,99.999999999999972,100,99.999999999999986,{"$f":"SUM(R10:R58)","v":100}]
[]
[{"$f":"+C1.5!A10","v":"ACCESIBILIDAD SIN EXCLUSIÓN"},{"$f":"+C1.5!B10/C1.5!B$8*100","v":0},{"$f":"+C1.5!C10/C1.5!C$8*100","v":0},{"$f":"+C1.5!D10/C1.5!D$8*100","v":0},{"$f":"+C1.5!E10/C1.5!E$8*100","v":0},{"$f":"+C1.5!F10/C1.5!F$8*100","v":0},{"$f":"+C1.5!G10/C1.5!G$8*100","v":0},{"$f":"+C1.5!H10/C1.5!H$8*100","v":0},{"$f":"+C1.5!I10/C1.5!I$8*100","v":0},{"$f":"+C1.5!J10/C1.5!J$8*100","v":0},{"$f":"+C1.5!K10/C1.5!K$8*100","v":0},{"$f":"+C1.5!L10/C1.5!L$8*100","v":0},{"$f":"+C1.5!M10/C1.5!M$8*100","v":0},{"$f":"+C1.5!N10/C1.5!N$8*100","v":0},{"$f":"+C1.5!O10/C1.5!O$8*100","v":0},{"$f":"+C1.5!P10/C1.5!P$8*100","v":1.8889434755743759},{"$f":"+C1.5!Q10/C1.5!Q$8*100","v":0.50299882460086998},{"$f":"IFERROR(C1.5!R10/C1.5!R$8*100,0)","v":0.34988678222506459}]
[{"$f":"+C1.5!A11","v":"ACCIÓN CIUDADANA"},{"$f":"+C1.5!B11/C1.5!B$8*100","v":0},{"$f":"+C1.5!C11/C1.5!C$8*100","v":0},{"$f":"+C1.5!D11/C1.5!D$8*100","v":0},{"$f":"+C1.5!E11/C1.5!E$8*100","v":0},{"$f":"+C1.5!F11/C1.5!F$8*100","v":0},{"$f":"+C1.5!G11/C1.5!G$8*100","v":0},{"$f":"+C1.5!H11/C1.5!H$8*100","v":0},{"$f":"+C1.5!I11/C1.5!I$8*100","v":0},{"$f":"+C1.5!J11/C1.5!J$8*100","v":0},{"$f":"+C1.5!K11/C1.5!K$8*100","v":0},{"$f":"+C1.5!L11/C1.5!L$8*100","v":0},{"$f":"+C1.5!M11/C1.5!M$8*100","v":0},{"$f":"+C1.5!N11/C1.5!N$8*100","v":26.190953985534481},{"$f":"+C1.5!O11/C1.5!O$8*100","v":39.802043359819507},{"$f":"+C1.5!P11/C1.5!P$8*100","v":25.054608485282255},{"$f":"+C1.5!Q11/C1.5!Q$8*100","v":30.643375341527403},{"$f":"IFERROR(C1.5!R11/C1.5!R$8*100,0)","v":21.633157701523693}]
[{"$f":"+C1.5!A12","v":"ACCIÓN DEMÓCRATA POPULAR"},{"$f":"+C1.5!B12/C1.5!B$8*100","v":0},{"$f":"+C1.5!C12/C1.5!C$8*100","v":0},{"$f":"+C1.5!D12/C1.5!D$8*100","v":11.980651271352258},{"$f":"+C1.5!E12/C1.5!E$8*100","v":0},{"$f":"+C1.5!F12/C1.5!F$8*100","v":0},{"$f":"+C1.5!G12/C1.5!G$8*100","v":0},{"$f":"+C1.5!H12/C1.5!H$8*100","v":0},{"$f":"+C1.5!I12/C1.5!I$8*100","v":0},{"$f":"+C1.5!J12/C1.5!J$8*100","v":0},{"$f":"+C1.5!K12/C1.5!K$8*100","v":0},{"$f":"+C1.5!L12/C1.5!L$8*100","v":0},{"$f":"+C1.5!M12/C1.5!M$8*100","v":0},{"$f":"+C1.5!N12/C1.5!N$8*100","v":0},{"$f":"+C1.5!O12/C1.5!O$8*100","v":0},{"$f":"+C1.5!P12/C1.5!P$8*100","v":0},{"$f":"+C1.5!Q12/C1.5!Q$8*100","v":0},{"$f":"IFERROR(C1.5!R12/C1.5!R$8*100,0)","v":0}]
[{"$f":"+C1.5!A13","v":"ACCIÓN SOCIALISTA"},{"$f":"+C1.5!B13/C1.5!B$8*100","v":0},{"$f":"+C1.5!C13/C1.5!C$8*100","v":0},{"$f":"+C1.5!D13/C1.5!D$8*100","v":0},{"$f":"+C1.5!E13/C1.5!E$8*100","v":0},{"$f":"+C1.5!F13/C1.5!F$8*100","v":1.3371107963225286},{"$f":"+C1.5!G13/C1.5!G$8*100","v":2.3712798068883751},{"$f":"+C1.5!H13/C1.5!H$8*100","v":0},{"$f":"+C1.5!I13/C1.5!I$8*100","v":0},{"$f":"+C1.5!J13/C1.5!J$8*100","v":0},{"$f":"+C1.5!K13/C1.5!K$8*100","v":0},{"$f":"+C1.5!L13/C1.5!L$8*100","v":0},{"$f":"+C1.5!M13/C1.5!M$8*100","v":0},{"$f":"+C1.5!N13/C1.5!N$8*100","v":0},{"$f":"+C1.5!O13/C1.5!O$8*100","v":0},{"$f":"+C1.5!P13/C1.5!P$8*100","v":0},{"$f":"+C1.5!Q13/C1.5!Q$8*100","v":0},{"$f":"IFERROR(C1.5!R13/C1.5!R$8*100,0)","v":0}]
[{"$f":"+C1.5!A14","v":"ALIANZA DEMOCRÁTICA CRISTIANA"},{"$f":"+C1.5!B14/C1.5!B$8*100","v":0},{"$f":"+C1.5!C14/C1.5!C$8*100","v":0},{"$f":"+C1.5!D14/C1.5!D$8*100","v":0},{"$f":"+C1.5!E14/C1.5!E$8*100","v":0},{"$f":"+C1.5!F14/C1.5!F$8*100","v":0},{"$f":"+C1.5!G14/C1.5!G$8*100","v":0},{"$f":"+C1.5!H14/C1.5!H$8*100","v":0},{"$f":"+C1.5!I14/C1.5!I$8*100","v":0},{"$f":"+C1.5!J14/C1.5!J$8*100","v":0},{"$f":"+C1.5!K14/C1.5!K$8*100","v":0},{"$f":"+C1.5!L14/C1.5!L$8*100","v":0},{"$f":"+C1.5!M14/C1.5!M$8*100","v":0},{"$f":"+C1.5!N14/C1.5!N$8*100","v":0},{"$f":"+C1.5!O14/C1.5!O$8*100","v":0},{"$f":"+C1.5!P14/C1.5!P$8*100","v":0},{"$f":"+C1.5!Q14/C1.5!Q$8*100","v":0},{"$f":"IFERROR(C1.5!R14/C1.5!R$8*100,0)","v":0.58653258439585709}]
[{"$f":"+C1.5!A15","v":"ALIANZA DEMOCRÁTICA NACIONALISTA"},{"$f":"+C1.5!B15/C1.5!B$8*100","v":0},{"$f":"+C1.5!C15/C1.5!C$8*100","v":0},{"$f":"+C1.5!D15/C1.5!D$8*100","v":0},{"$f":"+C1.5!E15/C1.5!E$8*100","v":0},{"$f":"+C1.5!F15/C1.5!F$8*100","v":0},{"$f":"+C1.5!G15/C1.5!G$8*100","v":0},{"$f":"+C1.5!H15/C1.5!H$8*100","v":0},{"$f":"+C1.5!I15/C1.5!I$8*100","v":0},{"$f":"+C1.5!J15/C1.5!J$8*100","v":0},{"$f":"+C1.5!K15/C1.5!K$8*100","v":0},{"$f":"+C1.5!L15/C1.5!L$8*100","v":0},{"$f":"+C1.5!M15/C1.5!M$8*100","v":0},{"$f":"+C1.5!N15/C1.5!N$8*100","v":0},{"$f":"+C1.5!O15/C1.5!O$8*100","v":0.22598633490805375},{"$f":"+C1.5!P15/C1.5!P$8*100","v":0},{"$f":"+C1.5!Q15/C1.5!Q$8*100","v":0},{"$f":"IFERROR(C1.5!R15/C1.5!R$8*100,0)","v":0}]
[{"$f":"+C1.5!A16","v":"ALIANZA NACIONAL CRISTIANA"},{"$f":"+C1.5!B16/C1.5!B$8*100","v":0},{"$f":"+C1.5!C16/C1.5!C$8*100","v":0},{"$f":"+C1.5!D16/C1.5!D$8*100","v":0},{"$f":"+C1.5!E16/C1.5!E$8*100","v":0},{"$f":"+C1.5!F16/C1.5!F$8*100","v":0},{"$f":"+C1.5!G16/C1.5!G$8*100","v":0},{"$f":"+C1.5!H16/C1.5!H$8*100","v":0},{"$f":"+C1.5!I16/C1.5!I$8*100","v":0},{"$f":"+C1.5!J16/C1.5!J$8*100","v":0.47645082524624077},{"$f":"+C1.5!K16/C1.5!K$8*100","v":0.31200565746537839},{"$f":"+C1.5!L16/C1.5!L$8*100","v":0.33420643085651469},{"$f":"+C1.5!M16/C1.5!M$8*100","v":0.25527508500768348},{"$f":"+C1.5!N16/C1.5!N$8*100","v":8.3080312057757483E-2},{"$f":"+C1.5!O16/C1.5!O$8*100","v":0},{"$f":"+C1.5!P16/C1.5!P$8*100","v":0},{"$f":"+C1.5!Q16/C1.5!Q$8*100","v":0},{"$f":"IFERROR(C1.5!R16/C1.5!R$8*100,0)","v":0}]
[{"$f":"+C1.5!A17","v":"ALIANZA PATRIÓTICA"},{"$f":"+C1.5!B17/C1.5!B$8*100","v":0},{"$f":"+C1.5!C17/C1.5!C$8*100","v":0},{"$f":"+C1.5!D17/C1.5!D$8*100","v":0},{"$f":"+C1.5!E17/C1.5!E$8*100","v":0},{"$f":"+C1.5!F17/C1.5!F$8*100","v":0},{"$f":"+C1.5!G17/C1.5!G$8*100","v":0},{"$f":"+C1.5!H17/C1.5!H$8*100","v":0},{"$f":"+C1.5!I17/C1.5!I$8*100","v":0},{"$f":"+C1.5!J17/C1.5!J$8*100","v":0},{"$f":"+C1.5!K17/C1.5!K$8*100","v":0},{"$f":"+C1.5!L17/C1.5!L$8*100","v":0},{"$f":"+C1.5!M17/C1.5!M$8*100","v":0},{"$f":"+C1.5!N17/C1.5!N$8*100","v":0},{"$f":"+C1.5!O17/C1.5!O$8*100","v":0},{"$f":"+C1.5!P17/C1.5!P$8*100","v":0.16522500265521495},{"$f":"+C1.5!Q17/C1.5!Q$8*100","v":0},{"$f":"IFERROR(C1.5!R17/C1.5!R$8*100,0)","v":0}]
[{"$f":"+C1.5!A18","v":"ALIANZA POPULAR"},{"$f":"+C1.5!B18/C1.5!B$8*100","v":0},{"$f":"+C1.5!C18/C1.5!C$8*100","v":0},{"$f":"+C1.5!D18/C1.5!D$8*100","v":0},{"$f":"+C1.5!E18/C1.5!E$8*100","v":0},{"$f":"+C1.5!F18/C1.5!F$8*100","v":0},{"$f":"+C1.5!G18/C1.5!G$8*100","v":0},{"$f":"+C1.5!H18/C1.5!H$8*100","v":0},{"$f":"+C1.5!I18/C1.5!I$8*100","v":0},{"$f":"+C1.5!J18/C1.5!J$8*100","v":0.76770427818585885},{"$f":"+C1.5!K18/C1.5!K$8*100","v":0},{"$f":"+C1.5!L18/C1.5!L$8*100","v":0},{"$f":"+C1.5!M18/C1.5!M$8*100","v":0},{"$f":"+C1.5!N18/C1.5!N$8*100","v":0},{"$f":"+C1.5!O18/C1.5!O$8*100","v":0},{"$f":"+C1.5!P18/C1.5!P$8*100","v":0},{"$f":"+C1.5!Q18/C1.5!Q$8*100","v":0},{"$f":"IFERROR(C1.5!R18/C1.5!R$8*100,0)","v":0}]
[{"$f":"+C1.5!A19","v":"AVANCE NACIONAL"},{"$f":"+C1.5!B19/C1.5!B$8*100","v":0},{"$f":"+C1.5!C19/C1.5!C$8*100","v":0},{"$f":"+C1.5!D19/C1.5!D$8*100","v":0},{"$f":"+C1.5!E19/C1.5!E$8*100","v":0},{"$f":"+C1.5!F19/C1.5!F$8*100","v":0},{"$f":"+C1.5!G19/C1.5!G$8*100","v":0},{"$f":"+C1.5!H19/C1.5!H$8*100","v":0},{"$f":"+C1.5!I19/C1.5!I$8*100","v":0},{"$f":"+C1.5!J19/C1.5!J$8*100","v":0},{"$f":"+C1.5!K19/C1.5!K$8*100","v":0},{"$f":"+C1.5!L19/C1.5!L$8*100","v":0},{"$f":"+C1.5!M19/C1.5!M$8*100","v":0},{"$f":"+C1.5!N19/C1.5!N$8*100","v":0},{"$f":"+C1.5!O19/C1.5!O$8*100","v":0},{"$f":"+C1.5!P19/C1.5!P$8*100","v":0},{"$f":"+C1.5!Q19/C1.5!Q$8*100","v":0.21347894790101735},{"$f":"IFERROR(C1.5!R19/C1.5!R$8*100,0)","v":0}]
[{"$f":"+C1.5!A20","v":"CAMBIO 2000"},{"$f":"+C1.5!B20/C1.5!B$8*100","v":0},{"$f":"+C1.5!C20/C1.5!C$8*100","v":0},{"$f":"+C1.5!D20/C1.5!D$8*100","v":0},{"$f":"+C1.5!E20/C1.5!E$8*100","v":0},{"$f":"+C1.5!F20/C1.5!F$8*100","v":0},{"$f":"+C1.5!G20/C1.5!G$8*100","v":0},{"$f":"+C1.5!H20/C1.5!H$8*100","v":0},{"$f":"+C1.5!I20/C1.5!I$8*100","v":0},{"$f":"+C1.5!J20/C1.5!J$8*100","v":0},{"$f":"+C1.5!K20/C1.5!K$8*100","v":0},{"$f":"+C1.5!L20/C1.5!L$8*100","v":0},{"$f":"+C1.5!M20/C1.5!M$8*100","v":0},{"$f":"+C1.5!N20/C1.5!N$8*100","v":0.25950341374452968},{"$f":"+C1.5!O20/C1.5!O$8*100","v":0},{"$f":"+C1.5!P20/C1.5!P$8*100","v":0},{"$f":"+C1.5!Q20/C1.5!Q$8*100","v":0},{"$f":"IFERROR(C1.5!R20/C1.5!R$8*100,0)","v":0}]
[{"$f":"+C1.5!A21","v":"COALICIÓN IZQUIERDA UNIDA"},{"$f":"+C1.5!B21/C1.5!B$8*100","v":0},{"$f":"+C1.5!C21/C1.5!C$8*100","v":0},{"$f":"+C1.5!D21/C1.5!D$8*100","v":0},{"$f":"+C1.5!E21/C1.5!E$8*100","v":0},{"$f":"+C1.5!F21/C1.5!F$8*100","v":0},{"$f":"+C1.5!G21/C1.5!G$8*100","v":0},{"$f":"+C1.5!H21/C1.5!H$8*100","v":0},{"$f":"+C1.5!I21/C1.5!I$8*100","v":0},{"$f":"+C1.5!J21/C1.5!J$8*100","v":0},{"$f":"+C1.5!K21/C1.5!K$8*100","v":0},{"$f":"+C1.5!L21/C1.5!L$8*100","v":0},{"$f":"+C1.5!M21/C1.5!M$8*100","v":0},{"$f":"+C1.5!N21/C1.5!N$8*100","v":0},{"$f":"+C1.5!O21/C1.5!O$8*100","v":0.14107212350799758},{"$f":"+C1.5!P21/C1.5!P$8*100","v":0},{"$f":"+C1.5!Q21/C1.5!Q$8*100","v":0},{"$f":"IFERROR(C1.5!R21/C1.5!R$8*100,0)","v":0}]
[{"$f":"+C1.5!A22","v":"DEL PROGRESO"},{"$f":"+C1.5!B22/C1.5!B$8*100","v":0},{"$f":"+C1.5!C22/C1.5!C$8*100","v":0},{"$f":"+C1.5!D22/C1.5!D$8*100","v":0},{"$f":"+C1.5!E22/C1.5!E$8*100","v":0},{"$f":"+C1.5!F22/C1.5!F$8*100","v":0},{"$f":"+C1.5!G22/C1.5!G$8*100","v":0},{"$f":"+C1.5!H22/C1.5!H$8*100","v":0},{"$f":"+C1.5!I22/C1.5!I$8*100","v":0},{"$f":"+C1.5!J22/C1.5!J$8*100","v":0},{"$f":"+C1.5!K22/C1.5!K$8*100","v":0.18880456392594888},{"$f":"+C1.5!L22/C1.5!L$8*100","v":0},{"$f":"+C1.5!M22/C1.5!M$8*100","v":0},{"$f":"+C1.5!N22/C1.5!N$8*100","v":0},{"$f":"+C1.5!O22/C1.5!O$8*100","v":0},{"$f":"+C1.5!P22/C1.5!P$8*100","v":0},{"$f":"+C1.5!Q22/C1.5!Q$8*100","v":0},{"$f":"IFERROR(C1.5!R22/C1.5!R$8*100,0)","v":0}]
[{"$f":"+C1.5!A23","v":"DEMÓCRATA"},{"$f":"+C1.5!B23/C1.5!B$8*100","v":35.291034135704102},{"$f":"+C1.5!C23/C1.5!C$8*100","v":0},{"$f":"+C1.5!D23/C1.5!D$8*100","v":0},{"$f":"+C1.5!E23/C1.5!E$8*100","v":0},{"$f":"+C1.5!F23/C1.5!F$8*100","v":0},{"$f":"+C1.5!G23/C1.5!G$8*100","v":2.7769380836590933},{"$f":"+C1.5!H23/C1.5!H$8*100","v":0.19407056083143534},{"$f":"+C1.5!I23/C1.5!I$8*100","v":0.18074109019880485},{"$f":"+C1.5!J23/C1.5!J$8*100","v":0},{"$f":"+C1.5!K23/C1.5!K$8*100","v":0},{"$f":"+C1.5!L23/C1.5!L$8*100","v":0},{"$f":"+C1.5!M23/C1.5!M$8*100","v":0.93267218646530781},{"$f":"+C1.5!N23/C1.5!N$8*100","v":0},{"$f":"+C1.5!O23/C1.5!O$8*100","v":0},{"$f":"+C1.5!P23/C1.5!P$8*100","v":0},{"$f":"+C1.5!Q23/C1.5!Q$8*100","v":0},{"$f":"IFERROR(C1.5!R23/C1.5!R$8*100,0)","v":0}]
[{"$f":"+C1.5!A24","v":"DEMÓCRATA CRISTIANO"},{"$f":"+C1.5!B24/C1.5!B$8*100","v":0},{"$f":"+C1.5!C24/C1.5!C$8*100","v":0},{"$f":"+C1.5!D24/C1.5!D$8*100","v":0},{"$f":"+C1.5!E24/C1.5!E$8*100","v":0},{"$f":"+C1.5!F24/C1.5!F$8*100","v":0.92862631817718888},{"$f":"+C1.5!G24/C1.5!G$8*100","v":0.51035379712957318},{"$f":"+C1.5!H24/C1.5!H$8*100","v":0},{"$f":"+C1.5!I24/C1.5!I$8*100","v":0},{"$f":"+C1.5!J24/C1.5!J$8*100","v":0},{"$f":"+C1.5!K24/C1.5!K$8*100","v":0},{"$f":"+C1.5!L24/C1.5!L$8*100","v":0},{"$f":"+C1.5!M24/C1.5!M$8*100","v":0},{"$f":"+C1.5!N24/C1.5!N$8*100","v":0},{"$f":"+C1.5!O24/C1.5!O$8*100","v":0},{"$f":"+C1.5!P24/C1.5!P$8*100","v":0},{"$f":"+C1.5!Q24/C1.5!Q$8*100","v":0},{"$f":"IFERROR(C1.5!R24/C1.5!R$8*100,0)","v":0}]
[{"$f":"+C1.5!A25","v":"DE LOS TRABAJADORES"},{"$f":"+C1.5!B25/C1.5!B$8*100","v":0},{"$f":"+C1.5!C25/C1.5!C$8*100","v":0},{"$f":"+C1.5!D25/C1.5!D$8*100","v":0},{"$f":"+C1.5!E25/C1.5!E$8*100","v":0},{"$f":"+C1.5!F25/C1.5!F$8*100","v":0},{"$f":"+C1.5!G25/C1.5!G$8*100","v":0},{"$f":"+C1.5!H25/C1.5!H$8*100","v":0},{"$f":"+C1.5!I25/C1.5!I$8*100","v":0},{"$f":"+C1.5!J25/C1.5!J$8*100","v":0},{"$f":"+C1.5!K25/C1.5!K$8*100","v":0},{"$f":"+C1.5!L25/C1.5!L$8*100","v":0},{"$f":"+C1.5!M25/C1.5!M$8*100","v":0},{"$f":"+C1.5!N25/C1.5!N$8*100","v":0},{"$f":"+C1.5!O25/C1.5!O$8*100","v":0},{"$f":"+C1.5!P25/C1.5!P$8*100","v":0},{"$f":"+C1.5!Q25/C1.5!Q$8*100","v":0.23824211665252559},{"$f":"IFERROR(C1.5!R25/C1.5!R$8*100,0)","v":0.20193094435087627}]
[{"$f":"+C1.5!A26","v":"FRENTE AMPLIO"},{"$f":"+C1.5!B26/C1.5!B$8*100","v":0},{"$f":"+C1.5!C26/C1.5!C$8*100","v":0},{"$f":"+C1.5!D26/C1.5!D$8*100","v":0},{"$f":"+C1.5!E26/C1.5!E$8*100","v":0},{"$f":"+C1.5!F26/C1.5!F$8*100","v":0},{"$f":"+C1.5!G26/C1.5!G$8*100","v":0},{"$f":"+C1.5!H26/C1.5!H$8*100","v":0},{"$f":"+C1.5!I26/C1.5!I$8*100","v":0},{"$f":"+C1.5!J26/C1.5!J$8*100","v":0},{"$f":"+C1.5!K26/C1.5!K$8*100","v":0},{"$f":"+C1.5!L26/C1.5!L$8*100","v":0},{"$f":"+C1.5!M26/C1.5!M$8*100","v":0},{"$f":"+C1.5!N26/C1.5!N$8*100","v":0},{"$f":"+C1.5!O26/C1.5!O$8*100","v":0},{"$f":"+C1.5!P26/C1.5!P$8*100","v":0.35483089550591124},{"$f":"+C1.5!Q26/C1.5!Q$8*100","v":17.245625335689311},{"$f":"IFERROR(C1.5!R26/C1.5!R$8*100,0)","v":0.78256942855538392}]
[{"$f":"+C1.5!A27","v":"FRENTE NACIONAL"},{"$f":"+C1.5!B27/C1.5!B$8*100","v":0},{"$f":"+C1.5!C27/C1.5!C$8*100","v":0},{"$f":"+C1.5!D27/C1.5!D$8*100","v":0},{"$f":"+C1.5!E27/C1.5!E$8*100","v":0},{"$f":"+C1.5!F27/C1.5!F$8*100","v":1.7691118332731532},{"$f":"+C1.5!G27/C1.5!G$8*100","v":0},{"$f":"+C1.5!H27/C1.5!H$8*100","v":0},{"$f":"+C1.5!I27/C1.5!I$8*100","v":0},{"$f":"+C1.5!J27/C1.5!J$8*100","v":0},{"$f":"+C1.5!K27/C1.5!K$8*100","v":0},{"$f":"+C1.5!L27/C1.5!L$8*100","v":0},{"$f":"+C1.5!M27/C1.5!M$8*100","v":0},{"$f":"+C1.5!N27/C1.5!N$8*100","v":0},{"$f":"+C1.5!O27/C1.5!O$8*100","v":0},{"$f":"+C1.5!P27/C1.5!P$8*100","v":0},{"$f":"+C1.5!Q27/C1.5!Q$8*100","v":0},{"$f":"IFERROR(C1.5!R27/C1.5!R$8*100,0)","v":0}]
[{"$f":"+C1.5!A28","v":"FUERZA DEMOCRÁTICA"},{"$f":"+C1.5!B28/C1.5!B$8*100","v":0},{"$f":"+C1.5!C28/C1.5!C$8*100","v":0},{"$f":"+C1.5!D28/C1.5!D$8*100","v":0},{"$f":"+C1.5!E28/C1.5!E$8*100","v":0},{"$f":"+C1.5!F28/C1.5!F$8*100","v":0},{"$f":"+C1.5!G28/C1.5!G$8*100","v":0},{"$f":"+C1.5!H28/C1.5!H$8*100","v":0},{"$f":"+C1.5!I28/C1.5!I$8*100","v":0},{"$f":"+C1.5!J28/C1.5!J$8*100","v":0},{"$f":"+C1.5!K28/C1.5!K$8*100","v":0},{"$f":"+C1.5!L28/C1.5!L$8*100","v":1.8974603666741159},{"$f":"+C1.5!M28/C1.5!M$8*100","v":3.0035328055487946},{"$f":"+C1.5!N28/C1.5!N$8*100","v":0.26937369472070699},{"$f":"+C1.5!O28/C1.5!O$8*100","v":0.18596150719954285},{"$f":"+C1.5!P28/C1.5!P$8*100","v":0},{"$f":"+C1.5!Q28/C1.5!Q$8*100","v":0},{"$f":"IFERROR(C1.5!R28/C1.5!R$8*100,0)","v":0}]
[{"$f":"+C1.5!A29","v":"INDEPENDIENTE"},{"$f":"+C1.5!B29/C1.5!B$8*100","v":0},{"$f":"+C1.5!C29/C1.5!C$8*100","v":10.792194954615006},{"$f":"+C1.5!D29/C1.5!D$8*100","v":0},{"$f":"+C1.5!E29/C1.5!E$8*100","v":0},{"$f":"+C1.5!F29/C1.5!F$8*100","v":0},{"$f":"+C1.5!G29/C1.5!G$8*100","v":0},{"$f":"+C1.5!H29/C1.5!H$8*100","v":0.45984977278223554},{"$f":"+C1.5!I29/C1.5!I$8*100","v":0.20226034993626987},{"$f":"+C1.5!J29/C1.5!J$8*100","v":9.5256416097574972E-2},{"$f":"+C1.5!K29/C1.5!K$8*100","v":5.5299648484003872E-2},{"$f":"+C1.5!L29/C1.5!L$8*100","v":0.10737556011454288},{"$f":"+C1.5!M29/C1.5!M$8*100","v":9.9157628224423158E-2},{"$f":"+C1.5!N29/C1.5!N$8*100","v":0},{"$f":"+C1.5!O29/C1.5!O$8*100","v":0},{"$f":"+C1.5!P29/C1.5!P$8*100","v":0},{"$f":"+C1.5!Q29/C1.5!Q$8*100","v":0},{"$f":"IFERROR(C1.5!R29/C1.5!R$8*100,0)","v":0}]
[{"$f":"+C1.5!A30","v":"INDEPENDIENTE OBRERO"},{"$f":"+C1.5!B30/C1.5!B$8*100","v":0},{"$f":"+C1.5!C30/C1.5!C$8*100","v":0},{"$f":"+C1.5!D30/C1.5!D$8*100","v":0},{"$f":"+C1.5!E30/C1.5!E$8*100","v":0},{"$f":"+C1.5!F30/C1.5!F$8*100","v":0},{"$f":"+C1.5!G30/C1.5!G$8*100","v":0},{"$f":"+C1.5!H30/C1.5!H$8*100","v":0},{"$f":"+C1.5!I30/C1.5!I$8*100","v":0},{"$f":"+C1.5!J30/C1.5!J$8*100","v":0},{"$f":"+C1.5!K30/C1.5!K$8*100","v":0},{"$f":"+C1.5!L30/C1.5!L$8*100","v":0},{"$f":"+C1.5!M30/C1.5!M$8*100","v":0},{"$f":"+C1.5!N30/C1.5!N$8*100","v":5.2358245443165807E-2},{"$f":"+C1.5!O30/C1.5!O$8*100","v":0},{"$f":"+C1.5!P30/C1.5!P$8*100","v":0},{"$f":"+C1.5!Q30/C1.5!Q$8*100","v":0},{"$f":"IFERROR(C1.5!R30/C1.5!R$8*100,0)","v":0}]
[{"$f":"+C1.5!A31","v":"INTEGRACIÓN NACIONAL"},{"$f":"+C1.5!B31/C1.5!B$8*100","v":0},{"$f":"+C1.5!C31/C1.5!C$8*100","v":0},{"$f":"+C1.5!D31/C1.5!D$8*100","v":0},{"$f":"+C1.5!E31/C1.5!E$8*100","v":0},{"$f":"+C1.5!F31/C1.5!F$8*100","v":0},{"$f":"+C1.5!G31/C1.5!G$8*100","v":0},{"$f":"+C1.5!H31/C1.5!H$8*100","v":0},{"$f":"+C1.5!I31/C1.5!I$8*100","v":0},{"$f":"+C1.5!J31/C1.5!J$8*100","v":0},{"$f":"+C1.5!K31/C1.5!K$8*100","v":0},{"$f":"+C1.5!L31/C1.5!L$8*100","v":0},{"$f":"+C1.5!M31/C1.5!M$8*100","v":1.4354452876003276},{"$f":"+C1.5!N31/C1.5!N$8*100","v":0.40755762838718956},{"$f":"+C1.5!O31/C1.5!O$8*100","v":0.31625771555524901},{"$f":"+C1.5!P31/C1.5!P$8*100","v":0.10720266955051784},{"$f":"+C1.5!Q31/C1.5!Q$8*100","v":0.14799520499427879},{"$f":"IFERROR(C1.5!R31/C1.5!R$8*100,0)","v":9.5420376971796959}]
[{"$f":"+C1.5!A32","v":"LIBERACIÓN NACIONAL"},{"$f":"+C1.5!B32/C1.5!B$8*100","v":64.708965864295891},{"$f":"+C1.5!C32/C1.5!C$8*100","v":42.784214778671988},{"$f":"+C1.5!D32/C1.5!D$8*100","v":44.655365243144239},{"$f":"+C1.5!E32/C1.5!E$8*100","v":49.521975532396915},{"$f":"+C1.5!F32/C1.5!F$8*100","v":54.788582432945397},{"$f":"+C1.5!G32/C1.5!G$8*100","v":43.442595151270282},{"$f":"+C1.5!H32/C1.5!H$8*100","v":43.829506666137277},{"$f":"+C1.5!I32/C1.5!I$8*100","v":58.802825644336295},{"$f":"+C1.5!J32/C1.5!J$8*100","v":52.337368020505856},{"$f":"+C1.5!K32/C1.5!K$8*100","v":47.197508698946045},{"$f":"+C1.5!L32/C1.5!L$8*100","v":49.616837024703756},{"$f":"+C1.5!M32/C1.5!M$8*100","v":44.56217262500558},{"$f":"+C1.5!N32/C1.5!N$8*100","v":31.050858093466989},{"$f":"+C1.5!O32/C1.5!O$8*100","v":40.920829659259404},{"$f":"+C1.5!P32/C1.5!P$8*100","v":46.905275009639901},{"$f":"+C1.5!Q32/C1.5!Q$8*100","v":29.707726497855479},{"$f":"IFERROR(C1.5!R32/C1.5!R$8*100,0)","v":18.633942498643659}]
[{"$f":"+C1.5!A33","v":"MOVIMIENTO LIBERTARIO"},{"$f":"+C1.5!B33/C1.5!B$8*100","v":0},{"$f":"+C1.5!C33/C1.5!C$8*100","v":0},{"$f":"+C1.5!D33/C1.5!D$8*100","v":0},{"$f":"+C1.5!E33/C1.5!E$8*100","v":0},{"$f":"+C1.5!F33/C1.5!F$8*100","v":0},{"$f":"+C1.5!G33/C1.5!G$8*100","v":0},{"$f":"+C1.5!H33/C1.5!H$8*100","v":0},{"$f":"+C1.5!I33/C1.5!I$8*100","v":0},{"$f":"+C1.5!J33/C1.5!J$8*100","v":0},{"$f":"+C1.5!K33/C1.5!K$8*100","v":0},{"$f":"+C1.5!L33/C1.5!L$8*100","v":0},{"$f":"+C1.5!M33/C1.5!M$8*100","v":0.42298613521442385},{"$f":"+C1.5!N33/C1.5!N$8*100","v":1.6874258503312427},{"$f":"+C1.5!O33/C1.5!O$8*100","v":8.4797215749831274},{"$f":"+C1.5!P33/C1.5!P$8*100","v":20.916711007448711},{"$f":"+C1.5!Q33/C1.5!Q$8*100","v":11.338709551869345},{"$f":"IFERROR(C1.5!R33/C1.5!R$8*100,0)","v":1.0159201038475478}]
[{"$f":"+C1.5!A34","v":"MOVIMIENTO NACIONAL"},{"$f":"+C1.5!B34/C1.5!B$8*100","v":0},{"$f":"+C1.5!C34/C1.5!C$8*100","v":0},{"$f":"+C1.5!D34/C1.5!D$8*100","v":0},{"$f":"+C1.5!E34/C1.5!E$8*100","v":0},{"$f":"+C1.5!F34/C1.5!F$8*100","v":0},{"$f":"+C1.5!G34/C1.5!G$8*100","v":0},{"$f":"+C1.5!H34/C1.5!H$8*100","v":0},{"$f":"+C1.5!I34/C1.5!I$8*100","v":3.8410844051580009},{"$f":"+C1.5!J34/C1.5!J$8*100","v":0},{"$f":"+C1.5!K34/C1.5!K$8*100","v":0},{"$f":"+C1.5!L34/C1.5!L$8*100","v":0},{"$f":"+C1.5!M34/C1.5!M$8*100","v":0},{"$f":"+C1.5!N34/C1.5!N$8*100","v":0},{"$f":"+C1.5!O34/C1.5!O$8*100","v":0},{"$f":"+C1.5!P34/C1.5!P$8*100","v":0},{"$f":"+C1.5!Q34/C1.5!Q$8*100","v":0},{"$f":"IFERROR(C1.5!R34/C1.5!R$8*100,0)","v":0}]
[{"$f":"+C1.5!A35","v":"NACIONAL INDEPENDIENTE"},{"$f":"+C1.5!B35/C1.5!B$8*100","v":0},{"$f":"+C1.5!C35/C1.5!C$8*100","v":0},{"$f":"+C1.5!D35/C1.5!D$8*100","v":0},{"$f":"+C1.5!E35/C1.5!E$8*100","v":0},{"$f":"+C1.5!F35/C1.5!F$8*100","v":0},{"$f":"+C1.5!G35/C1.5!G$8*100","v":10.880666276393224},{"$f":"+C1.5!H35/C1.5!H$8*100","v":0.39981182494907608},{"$f":"+C1.5!I35/C1.5!I$8*100","v":0},{"$f":"+C1.5!J35/C1.5!J$8*100","v":0},{"$f":"+C1.5!K35/C1.5!K$8*100","v":0},{"$f":"+C1.5!L35/C1.5!L$8*100","v":0.16280819302367563},{"$f":"+C1.5!M35/C1.5!M$8*100","v":0.30373774571577117},{"$f":"+C1.5!N35/C1.5!N$8*100","v":0},{"$f":"+C1.5!O35/C1.5!O$8*100","v":0},{"$f":"+C1.5!P35/C1.5!P$8*100","v":0},{"$f":"+C1.5!Q35/C1.5!Q$8*100","v":0},{"$f":"IFERROR(C1.5!R35/C1.5!R$8*100,0)","v":0}]
[{"$f":"+C1.5!A36","v":"NUEVA GENERACIÓN"},{"$f":"+C1.5!B36/C1.5!B$8*100","v":0},{"$f":"+C1.5!C36/C1.5!C$8*100","v":0},{"$f":"+C1.5!D36/C1.5!D$8*100","v":0},{"$f":"+C1.5!E36/C1.5!E$8*100","v":0},{"$f":"+C1.5!F36/C1.5!F$8*100","v":0},{"$f":"+C1.5!G36/C1.5!G$8*100","v":0},{"$f":"+C1.5!H36/C1.5!H$8*100","v":0},{"$f":"+C1.5!I36/C1.5!I$8*100","v":0},{"$f":"+C1.5!J36/C1.5!J$8*100","v":0},{"$f":"+C1.5!K36/C1.5!K$8*100","v":0},{"$f":"+C1.5!L36/C1.5!L$8*100","v":0},{"$f":"+C1.5!M36/C1.5!M$8*100","v":0},{"$f":"+C1.5!N36/C1.5!N$8*100","v":0},{"$f":"+C1.5!O36/C1.5!O$8*100","v":0},{"$f":"+C1.5!P36/C1.5!P$8*100","v":0},{"$f":"+C1.5!Q36/C1.5!Q$8*100","v":0.28616298348992342},{"$f":"IFERROR(C1.5!R36/C1.5!R$8*100,0)","v":0.7578327718468072}]
[{"$f":"+C1.5!A37","v":"NUEVO PARTIDO DEMOCRÁTICO"},{"$f":"+C1.5!B37/C1.5!B$8*100","v":0},{"$f":"+C1.5!C37/C1.5!C$8*100","v":0},{"$f":"+C1.5!D37/C1.5!D$8*100","v":0},{"$f":"+C1.5!E37/C1.5!E$8*100","v":0},{"$f":"+C1.5!F37/C1.5!F$8*100","v":0},{"$f":"+C1.5!G37/C1.5!G$8*100","v":0},{"$f":"+C1.5!H37/C1.5!H$8*100","v":0},{"$f":"+C1.5!I37/C1.5!I$8*100","v":0},{"$f":"+C1.5!J37/C1.5!J$8*100","v":0},{"$f":"+C1.5!K37/C1.5!K$8*100","v":0},{"$f":"+C1.5!L37/C1.5!L$8*100","v":0},{"$f":"+C1.5!M37/C1.5!M$8*100","v":0.21782993854675389},{"$f":"+C1.5!N37/C1.5!N$8*100","v":0},{"$f":"+C1.5!O37/C1.5!O$8*100","v":0},{"$f":"+C1.5!P37/C1.5!P$8*100","v":0},{"$f":"+C1.5!Q37/C1.5!Q$8*100","v":0},{"$f":"IFERROR(C1.5!R37/C1.5!R$8*100,0)","v":0}]
[{"$f":"+C1.5!A38","v":"ORGANIZACIÓN SOCIALISTA DE LOS TRABAJADORES"},{"$f":"+C1.5!B38/C1.5!B$8*100","v":0},{"$f":"+C1.5!C38/C1.5!C$8*100","v":0},{"$f":"+C1.5!D38/C1.5!D$8*100","v":0},{"$f":"+C1.5!E38/C1.5!E$8*100","v":0},{"$f":"+C1.5!F38/C1.5!F$8*100","v":0},{"$f":"+C1.5!G38/C1.5!G$8*100","v":0},{"$f":"+C1.5!H38/C1.5!H$8*100","v":0.22475127565599581},{"$f":"+C1.5!I38/C1.5!I$8*100","v":0},{"$f":"+C1.5!J38/C1.5!J$8*100","v":0},{"$f":"+C1.5!K38/C1.5!K$8*100","v":0},{"$f":"+C1.5!L38/C1.5!L$8*100","v":0},{"$f":"+C1.5!M38/C1.5!M$8*100","v":0},{"$f":"+C1.5!N38/C1.5!N$8*100","v":0},{"$f":"+C1.5!O38/C1.5!O$8*100","v":0},{"$f":"+C1.5!P38/C1.5!P$8*100","v":0},{"$f":"+C1.5!Q38/C1.5!Q$8*100","v":0},{"$f":"IFERROR(C1.5!R38/C1.5!R$8*100,0)","v":0}]
[{"$f":"+C1.5!A39","v":"PATRIA NUEVA"},{"$f":"+C1.5!B39/C1.5!B$8*100","v":0},{"$f":"+C1.5!C39/C1.5!C$8*100","v":0},{"$f":"+C1.5!D39/C1.5!D$8*100","v":0},{"$f":"+C1.5!E39/C1.5!E$8*100","v":0},{"$f":"+C1.5!F39/C1.5!F$8*100","v":0},{"$f":"+C1.5!G39/C1.5!G$8*100","v":0},{"$f":"+C1.5!H39/C1.5!H$8*100","v":0},{"$f":"+C1.5!I39/C1.5!I$8*100","v":0},{"$f":"+C1.5!J39/C1.5!J$8*100","v":0},{"$f":"+C1.5!K39/C1.5!K$8*100","v":0},{"$f":"+C1.5!L39/C1.5!L$8*100","v":0},{"$f":"+C1.5!M39/C1.5!M$8*100","v":0},{"$f":"+C1.5!N39/C1.5!N$8*100","v":0},{"$f":"+C1.5!O39/C1.5!O$8*100","v":0},{"$f":"+C1.5!P39/C1.5!P$8*100","v":0},{"$f":"+C1.5!Q39/C1.5!Q$8*100","v":1.4992176979302072},{"$f":"IFERROR(C1.5!R39/C1.5!R$8*100,0)","v":0}]
[{"$f":"+C1.5!A40","v":"PATRIA PRIMERO"},{"$f":"+C1.5!B40/C1.5!B$8*100","v":0},{"$f":"+C1.5!C40/C1.5!C$8*100","v":0},{"$f":"+C1.5!D40/C1.5!D$8*100","v":0},{"$f":"+C1.5!E40/C1.5!E$8*100","v":0},{"$f":"+C1.5!F40/C1.5!F$8*100","v":0},{"$f":"+C1.5!G40/C1.5!G$8*100","v":0},{"$f":"+C1.5!H40/C1.5!H$8*100","v":0},{"$f":"+C1.5!I40/C1.5!I$8*100","v":0},{"$f":"+C1.5!J40/C1.5!J$8*100","v":0},{"$f":"+C1.5!K40/C1.5!K$8*100","v":0},{"$f":"+C1.5!L40/C1.5!L$8*100","v":0},{"$f":"+C1.5!M40/C1.5!M$8*100","v":0},{"$f":"+C1.5!N40/C1.5!N$8*100","v":0},{"$f":"+C1.5!O40/C1.5!O$8*100","v":1.0833797210823697},{"$f":"+C1.5!P40/C1.5!P$8*100","v":0},{"$f":"+C1.5!Q40/C1.5!Q$8*100","v":0},{"$f":"IFERROR(C1.5!R40/C1.5!R$8*100,0)","v":0}]
[{"$f":"+C1.5!A41","v":"PATRIÓTICO NACIONAL"},{"$f":"+C1.5!B41/C1.5!B$8*100","v":0},{"$f":"+C1.5!C41/C1.5!C$8*100","v":0},{"$f":"+C1.5!D41/C1.5!D$8*100","v":0},{"$f":"+C1.5!E41/C1.5!E$8*100","v":0},{"$f":"+C1.5!F41/C1.5!F$8*100","v":0},{"$f":"+C1.5!G41/C1.5!G$8*100","v":0},{"$f":"+C1.5!H41/C1.5!H$8*100","v":0},{"$f":"+C1.5!I41/C1.5!I$8*100","v":0},{"$f":"+C1.5!J41/C1.5!J$8*100","v":0},{"$f":"+C1.5!K41/C1.5!K$8*100","v":0},{"$f":"+C1.5!L41/C1.5!L$8*100","v":0},{"$f":"+C1.5!M41/C1.5!M$8*100","v":0},{"$f":"+C1.5!N41/C1.5!N$8*100","v":0.10981504662237024},{"$f":"+C1.5!O41/C1.5!O$8*100","v":0},{"$f":"+C1.5!P41/C1.5!P$8*100","v":0},{"$f":"+C1.5!Q41/C1.5!Q$8*100","v":0},{"$f":"IFERROR(C1.5!R41/C1.5!R$8*100,0)","v":0}]
[{"$f":"+C1.5!A42","v":"PUEBLO UNIDO"},{"$f":"+C1.5!B42/C1.5!B$8*100","v":0},{"$f":"+C1.5!C42/C1.5!C$8*100","v":0},{"$f":"+C1.5!D42/C1.5!D$8*100","v":0},{"$f":"+C1.5!E42/C1.5!E$8*100","v":0},{"$f":"+C1.5!F42/C1.5!F$8*100","v":0},{"$f":"+C1.5!G42/C1.5!G$8*100","v":0},{"$f":"+C1.5!H42/C1.5!H$8*100","v":2.7359978631784498},{"$f":"+C1.5!I42/C1.5!I$8*100","v":3.3298985284136995},{"$f":"+C1.5!J42/C1.5!J$8*100","v":0.55677333022842979},{"$f":"+C1.5!K42/C1.5!K$8*100","v":0.68323975881643928},{"$f":"+C1.5!L42/C1.5!L$8*100","v":0},{"$f":"+C1.5!M42/C1.5!M$8*100","v":0.22143043339876634},{"$f":"+C1.5!N42/C1.5!N$8*100","v":0},{"$f":"+C1.5!O42/C1.5!O$8*100","v":0},{"$f":"+C1.5!P42/C1.5!P$8*100","v":0},{"$f":"+C1.5!Q42/C1.5!Q$8*100","v":0},{"$f":"IFERROR(C1.5!R42/C1.5!R$8*100,0)","v":0}]
[{"$f":"+C1.5!A43","v":"RENOVACIÓN COSTARICENSE"},{"$f":"+C1.5!B43/C1.5!B$8*100","v":0},{"$f":"+C1.5!C43/C1.5!C$8*100","v":0},{"$f":"+C1.5!D43/C1.5!D$8*100","v":0},{"$f":"+C1.5!E43/C1.5!E$8*100","v":0},{"$f":"+C1.5!F43/C1.5!F$8*100","v":0},{"$f":"+C1.5!G43/C1.5!G$8*100","v":0},{"$f":"+C1.5!H43/C1.5!H$8*100","v":0},{"$f":"+C1.5!I43/C1.5!I$8*100","v":0},{"$f":"+C1.5!J43/C1.5!J$8*100","v":0},{"$f":"+C1.5!K43/C1.5!K$8*100","v":0},{"$f":"+C1.5!L43/C1.5!L$8*100","v":0},{"$f":"+C1.5!M43/C1.5!M$8*100","v":1.3907271415383331},{"$f":"+C1.5!N43/C1.5!N$8*100","v":1.0722654909484293},{"$f":"+C1.5!O43/C1.5!O$8*100","v":0.95683968886546233},{"$f":"+C1.5!P43/C1.5!P$8*100","v":0.72959552312443698},{"$f":"+C1.5!Q43/C1.5!Q$8*100","v":0.8134871212062238},{"$f":"IFERROR(C1.5!R43/C1.5!R$8*100,0)","v":0.5712636161836212}]
[{"$f":"+C1.5!A44","v":"RENOVACIÓN DEMOCRÁTICA"},{"$f":"+C1.5!B44/C1.5!B$8*100","v":0},{"$f":"+C1.5!C44/C1.5!C$8*100","v":0},{"$f":"+C1.5!D44/C1.5!D$8*100","v":0},{"$f":"+C1.5!E44/C1.5!E$8*100","v":0},{"$f":"+C1.5!F44/C1.5!F$8*100","v":0},{"$f":"+C1.5!G44/C1.5!G$8*100","v":9.1158831951893138},{"$f":"+C1.5!H44/C1.5!H$8*100","v":0},{"$f":"+C1.5!I44/C1.5!I$8*100","v":0},{"$f":"+C1.5!J44/C1.5!J$8*100","v":0},{"$f":"+C1.5!K44/C1.5!K$8*100","v":0},{"$f":"+C1.5!L44/C1.5!L$8*100","v":0},{"$f":"+C1.5!M44/C1.5!M$8*100","v":0},{"$f":"+C1.5!N44/C1.5!N$8*100","v":0},{"$f":"+C1.5!O44/C1.5!O$8*100","v":0},{"$f":"+C1.5!P44/C1.5!P$8*100","v":0},{"$f":"+C1.5!Q44/C1.5!Q$8*100","v":0},{"$f":"IFERROR(C1.5!R44/C1.5!R$8*100,0)","v":0}]
[{"$f":"+C1.5!A45","v":"REPUBLICANO"},{"$f":"+C1.5!B45/C1.5!B$8*100","v":0},{"$f":"+C1.5!C45/C1.5!C$8*100","v":0},{"$f":"+C1.5!D45/C1.5!D$8*100","v":31.383332214151249},{"$f":"+C1.5!E45/C1.5!E$8*100","v":0},{"$f":"+C1.5!F45/C1.5!F$8*100","v":0},{"$f":"+C1.5!G45/C1.5!G$8*100","v":0},{"$f":"+C1.5!H45/C1.5!H$8*100","v":0},{"$f":"+C1.5!I45/C1.5!I$8*100","v":0},{"$f":"+C1.5!J45/C1.5!J$8*100","v":0},{"$f":"+C1.5!K45/C1.5!K$8*100","v":0},{"$f":"+C1.5!L45/C1.5!L$8*100","v":0},{"$f":"+C1.5!M45/C1.5!M$8*100","v":0},{"$f":"+C1.5!N45/C1.5!N$8*100","v":0},{"$f":"+C1.5!O45/C1.5!O$8*100","v":0},{"$f":"+C1.5!P45/C1.5!P$8*100","v":0},{"$f":"+C1.5!Q45/C1.5!Q$8*100","v":0},{"$f":"IFERROR(C1.5!R45/C1.5!R$8*100,0)","v":0}]
["RECUPLICANO SOCIAL CRSITIANO",{"$f":"+C1.5!B46/C1.5!B$8*100","v":0},{"$f":"+C1.5!C46/C1.5!C$8*100","v":0},{"$f":"+C1.5!D46/C1.5!D$8*100","v":0},{"$f":"+C1.5!E46/C1.5!E$8*100","v":0},{"$f":"+C1.5!F46/C1.5!F$8*100","v":0},{"$f":"+C1.5!G46/C1.5!G$8*100","v":0},{"$f":"+C1.5!H46/C1.5!H$8*100","v":0},{"$f":"+C1.5!I46/C1.5!I$8*100","v":0},{"$f":"+C1.5!J46/C1.5!J$8*100","v":0},{"$f":"+C1.5!K46/C1.5!K$8*100","v":0},{"$f":"+C1.5!L46/C1.5!L$8*100","v":0},{"$f":"+C1.5!M46/C1.5!M$8*100","v":0},{"$f":"+C1.5!N46/C1.5!N$8*100","v":0},{"$f":"+C1.5!O46/C1.5!O$8*100","v":0},{"$f":"+C1.5!P46/C1.5!P$8*100","v":0},{"$f":"+C1.5!Q46/C1.5!Q$8*100","v":0},{"$f":"IFERROR(C1.5!R46/C1.5!R$8*100,0)","v":4.9400913446298951}]
[{"$f":"+C1.5!A47","v":"RESCATE NACIONAL"},{"$f":"+C1.5!B47/C1.5!B$8*100","v":0},{"$f":"+C1.5!C47/C1.5!C$8*100","v":0},{"$f":"+C1.5!D47/C1.5!D$8*100","v":0},{"$f":"+C1.5!E47/C1.5!E$8*100","v":0},{"$f":"+C1.5!F47/C1.5!F$8*100","v":0},{"$f":"+C1.5!G47/C1.5!G$8*100","v":0},{"$f":"+C1.5!H47/C1.5!H$8*100","v":0},{"$f":"+C1.5!I47/C1.5!I$8*100","v":0},{"$f":"+C1.5!J47/C1.5!J$8*100","v":0},{"$f":"+C1.5!K47/C1.5!K$8*100","v":0},{"$f":"+C1.5!L47/C1.5!L$8*100","v":0},{"$f":"+C1.5!M47/C1.5!M$8*100","v":0.19305853396490813},{"$f":"+C1.5!N47/C1.5!N$8*100","v":5.915631975788397E-2},{"$f":"+C1.5!O47/C1.5!O$8*100","v":0.14963127897181761},{"$f":"+C1.5!P47/C1.5!P$8*100","v":0},{"$f":"+C1.5!Q47/C1.5!Q$8*100","v":0},{"$f":"IFERROR(C1.5!R47/C1.5!R$8*100,0)","v":0}]
[{"$f":"+C1.5!A48","v":"RESTAURACIÓN NACIONAL"},{"$f":"+C1.5!B48/C1.5!B$8*100","v":0},{"$f":"+C1.5!C48/C1.5!C$8*100","v":0},{"$f":"+C1.5!D48/C1.5!D$8*100","v":0},{"$f":"+C1.5!E48/C1.5!E$8*100","v":0},{"$f":"+C1.5!F48/C1.5!F$8*100","v":0},{"$f":"+C1.5!G48/C1.5!G$8*100","v":0},{"$f":"+C1.5!H48/C1.5!H$8*100","v":0},{"$f":"+C1.5!I48/C1.5!I$8*100","v":0},{"$f":"+C1.5!J48/C1.5!J$8*100","v":0},{"$f":"+C1.5!K48/C1.5!K$8*100","v":0},{"$f":"+C1.5!L48/C1.5!L$8*100","v":0},{"$f":"+C1.5!M48/C1.5!M$8*100","v":0},{"$f":"+C1.5!N48/C1.5!N$8*100","v":0},{"$f":"+C1.5!O48/C1.5!O$8*100","v":0},{"$f":"+C1.5!P48/C1.5!P$8*100","v":0},{"$f":"+C1.5!Q48/C1.5!Q$8*100","v":1.3471844909587665},{"$f":"IFERROR(C1.5!R48/C1.5!R$8*100,0)","v":24.992098657026951}]
[{"$f":"+C1.5!A49","v":"REVOLUCIONARIO DE LOS TRABAJADORES EN LUCHA"},{"$f":"+C1.5!B49/C1.5!B$8*100","v":0},{"$f":"+C1.5!C49/C1.5!C$8*100","v":0},{"$f":"+C1.5!D49/C1.5!D$8*100","v":0},{"$f":"+C1.5!E49/C1.5!E$8*100","v":0},{"$f":"+C1.5!F49/C1.5!F$8*100","v":0},{"$f":"+C1.5!G49/C1.5!G$8*100","v":0},{"$f":"+C1.5!H49/C1.5!H$8*100","v":0},{"$f":"+C1.5!I49/C1.5!I$8*100","v":0},{"$f":"+C1.5!J49/C1.5!J$8*100","v":0},{"$f":"+C1.5!K49/C1.5!K$8*100","v":7.4498856201640609E-2},{"$f":"+C1.5!L49/C1.5!L$8*100","v":0},{"$f":"+C1.5!M49/C1.5!M$8*100","v":0},{"$f":"+C1.5!N49/C1.5!N$8*100","v":0},{"$f":"+C1.5!O49/C1.5!O$8*100","v":0},{"$f":"+C1.5!P49/C1.5!P$8*100","v":0},{"$f":"+C1.5!Q49/C1.5!Q$8*100","v":0},{"$f":"IFERROR(C1.5!R49/C1.5!R$8*100,0)","v":0}]
[{"$f":"+C1.5!A50","v":"SOCIALISTA COSTARRICENSE"},{"$f":"+C1.5!B50/C1.5!B$8*100","v":0},{"$f":"+C1.5!C50/C1.5!C$8*100","v":0},{"$f":"+C1.5!D50/C1.5!D$8*100","v":0},{"$f":"+C1.5!E50/C1.5!E$8*100","v":0},{"$f":"+C1.5!F50/C1.5!F$8*100","v":0},{"$f":"+C1.5!G50/C1.5!G$8*100","v":0.50386562403691182},{"$f":"+C1.5!H50/C1.5!H$8*100","v":0},{"$f":"+C1.5!I50/C1.5!I$8*100","v":0},{"$f":"+C1.5!J50/C1.5!J$8*100","v":0},{"$f":"+C1.5!K50/C1.5!K$8*100","v":0},{"$f":"+C1.5!L50/C1.5!L$8*100","v":0},{"$f":"+C1.5!M50/C1.5!M$8*100","v":0},{"$f":"+C1.5!N50/C1.5!N$8*100","v":0},{"$f":"+C1.5!O50/C1.5!O$8*100","v":0},{"$f":"+C1.5!P50/C1.5!P$8*100","v":0},{"$f":"+C1.5!Q50/C1.5!Q$8*100","v":0},{"$f":"IFERROR(C1.5!R50/C1.5!R$8*100,0)","v":0}]
[{"$f":"+C1.5!A51","v":"UNIDAD (COALICIÓN)"},{"$f":"+C1.5!B51/C1.5!B$8*100","v":0},{"$f":"+C1.5!C51/C1.5!C$8*100","v":0},{"$f":"+C1.5!D51/C1.5!D$8*100","v":0},{"$f":"+C1.5!E51/C1.5!E$8*100","v":0},{"$f":"+C1.5!F51/C1.5!F$8*100","v":0},{"$f":"+C1.5!G51/C1.5!G$8*100","v":0},{"$f":"+C1.5!H51/C1.5!H$8*100","v":50.511766354926543},{"$f":"+C1.5!I51/C1.5!I$8*100","v":33.64318998195693},{"$f":"+C1.5!J51/C1.5!J$8*100","v":0},{"$f":"+C1.5!K51/C1.5!K$8*100","v":0},{"$f":"+C1.5!L51/C1.5!L$8*100","v":0},{"$f":"+C1.5!M51/C1.5!M$8*100","v":0},{"$f":"+C1.5!N51/C1.5!N$8*100","v":0},{"$f":"+C1.5!O51/C1.5!O$8*100","v":0},{"$f":"+C1.5!P51/C1.5!P$8*100","v":0},{"$f":"+C1.5!Q51/C1.5!Q$8*100","v":0},{"$f":"IFERROR(C1.5!R51/C1.5!R$8*100,0)","v":0}]
[{"$f":"+C1.5!A52","v":"UNIDAD SOCIAL CRISTIANA"},{"$f":"+C1.5!B52/C1.5!B$8*100","v":0},{"$f":"+C1.5!C52/C1.5!C$8*100","v":0},{"$f":"+C1.5!D52/C1.5!D$8*100","v":0},{"$f":"+C1.5!E52/C1.5!E$8*100","v":0},{"$f":"+C1.5!F52/C1.5!F$8*100","v":0},{"$f":"+C1.5!G52/C1.5!G$8*100","v":0},{"$f":"+C1.5!H52/C1.5!H$8*100","v":0},{"$f":"+C1.5!I52/C1.5!I$8*100","v":0},{"$f":"+C1.5!J52/C1.5!J$8*100","v":45.766447129736029},{"$f":"+C1.5!K52/C1.5!K$8*100","v":51.488642816160549},{"$f":"+C1.5!L52/C1.5!L$8*100","v":47.737026515723471},{"$f":"+C1.5!M52/C1.5!M$8*100","v":46.961974453768931},{"$f":"+C1.5!N52/C1.5!N$8*100","v":38.584104925662402},{"$f":"+C1.5!O52/C1.5!O$8*100","v":3.5502022177449146},{"$f":"+C1.5!P52/C1.5!P$8*100","v":3.8776079312186824},{"$f":"+C1.5!Q52/C1.5!Q$8*100","v":6.0157958853246338},{"$f":"IFERROR(C1.5!R52/C1.5!R$8*100,0)","v":15.992735869590947}]
[{"$f":"+C1.5!A53","v":"UNIFICACIÓN NACIONAL"},{"$f":"+C1.5!B53/C1.5!B$8*100","v":0},{"$f":"+C1.5!C53/C1.5!C$8*100","v":0},{"$f":"+C1.5!D53/C1.5!D$8*100","v":0},{"$f":"+C1.5!E53/C1.5!E$8*100","v":50.478024467603078},{"$f":"+C1.5!F53/C1.5!F$8*100","v":41.176568619281731},{"$f":"+C1.5!G53/C1.5!G$8*100","v":30.398418065433226},{"$f":"+C1.5!H53/C1.5!H$8*100","v":1.6442456815389928},{"$f":"+C1.5!I53/C1.5!I$8*100","v":0},{"$f":"+C1.5!J53/C1.5!J$8*100","v":0},{"$f":"+C1.5!K53/C1.5!K$8*100","v":0},{"$f":"+C1.5!L53/C1.5!L$8*100","v":0},{"$f":"+C1.5!M53/C1.5!M$8*100","v":0},{"$f":"+C1.5!N53/C1.5!N$8*100","v":0},{"$f":"+C1.5!O53/C1.5!O$8*100","v":0},{"$f":"+C1.5!P53/C1.5!P$8*100","v":0},{"$f":"+C1.5!Q53/C1.5!Q$8*100","v":0},{"$f":"IFERROR(C1.5!R53/C1.5!R$8*100,0)","v":0}]
[{"$f":"+C1.5!A54","v":"UNIÓN GENERAL"},{"$f":"+C1.5!B54/C1.5!B$8*100","v":0},{"$f":"+C1.5!C54/C1.5!C$8*100","v":0},{"$f":"+C1.5!D54/C1.5!D$8*100","v":0},{"$f":"+C1.5!E54/C1.5!E$8*100","v":0},{"$f":"+C1.5!F54/C1.5!F$8*100","v":0},{"$f":"+C1.5!G54/C1.5!G$8*100","v":0},{"$f":"+C1.5!H54/C1.5!H$8*100","v":0},{"$f":"+C1.5!I54/C1.5!I$8*100","v":0},{"$f":"+C1.5!J54/C1.5!J$8*100","v":0},{"$f":"+C1.5!K54/C1.5!K$8*100","v":0},{"$f":"+C1.5!L54/C1.5!L$8*100","v":0},{"$f":"+C1.5!M54/C1.5!M$8*100","v":0},{"$f":"+C1.5!N54/C1.5!N$8*100","v":0.17354699332285298},{"$f":"+C1.5!O54/C1.5!O$8*100","v":0},{"$f":"+C1.5!P54/C1.5!P$8*100","v":0},{"$f":"+C1.5!Q54/C1.5!Q$8*100","v":0},{"$f":"IFERROR(C1.5!R54/C1.5!R$8*100,0)","v":0}]
[{"$f":"+C1.5!A55","v":"UNIÓN GENERALEÑA"},{"$f":"+C1.5!B55/C1.5!B$8*100","v":0},{"$f":"+C1.5!C55/C1.5!C$8*100","v":0},{"$f":"+C1.5!D55/C1.5!D$8*100","v":0},{"$f":"+C1.5!E55/C1.5!E$8*100","v":0},{"$f":"+C1.5!F55/C1.5!F$8*100","v":0},{"$f":"+C1.5!G55/C1.5!G$8*100","v":0},{"$f":"+C1.5!H55/C1.5!H$8*100","v":0},{"$f":"+C1.5!I55/C1.5!I$8*100","v":0},{"$f":"+C1.5!J55/C1.5!J$8*100","v":0},{"$f":"+C1.5!K55/C1.5!K$8*100","v":0},{"$f":"+C1.5!L55/C1.5!L$8*100","v":0.14428590890391702},{"$f":"+C1.5!M55/C1.5!M$8*100","v":0},{"$f":"+C1.5!N55/C1.5!N$8*100","v":0},{"$f":"+C1.5!O55/C1.5!O$8*100","v":0},{"$f":"+C1.5!P55/C1.5!P$8*100","v":0},{"$f":"+C1.5!Q55/C1.5!Q$8*100","v":0},{"$f":"IFERROR(C1.5!R55/C1.5!R$8*100,0)","v":0}]
[{"$f":"+C1.5!A56","v":"UNIÓN NACIONAL"},{"$f":"+C1.5!B56/C1.5!B$8*100","v":0},{"$f":"+C1.5!C56/C1.5!C$8*100","v":46.423590266713006},{"$f":"+C1.5!D56/C1.5!D$8*100","v":11.980651271352258},{"$f":"+C1.5!E56/C1.5!E$8*100","v":0},{"$f":"+C1.5!F56/C1.5!F$8*100","v":0},{"$f":"+C1.5!G56/C1.5!G$8*100","v":0},{"$f":"+C1.5!H56/C1.5!H$8*100","v":0},{"$f":"+C1.5!I56/C1.5!I$8*100","v":0},{"$f":"+C1.5!J56/C1.5!J$8*100","v":0},{"$f":"+C1.5!K56/C1.5!K$8*100","v":0},{"$f":"+C1.5!L56/C1.5!L$8*100","v":0},{"$f":"+C1.5!M56/C1.5!M$8*100","v":0},{"$f":"+C1.5!N56/C1.5!N$8*100","v":0},{"$f":"+C1.5!O56/C1.5!O$8*100","v":1.6375080665421995},{"$f":"+C1.5!P56/C1.5!P$8*100","v":0},{"$f":"+C1.5!Q56/C1.5!Q$8*100","v":0},{"$f":"IFERROR(C1.5!R56/C1.5!R$8*100,0)","v":0}]
[{"$f":"+C1.5!A57","v":"UNIÓN PARA EL CAMBIO"},{"$f":"+C1.5!B57/C1.5!B$8*100","v":0},{"$f":"+C1.5!C57/C1.5!C$8*100","v":0},{"$f":"+C1.5!D57/C1.5!D$8*100","v":0},{"$f":"+C1.5!E57/C1.5!E$8*100","v":0},{"$f":"+C1.5!F57/C1.5!F$8*100","v":0},{"$f":"+C1.5!G57/C1.5!G$8*100","v":0},{"$f":"+C1.5!H57/C1.5!H$8*100","v":0},{"$f":"+C1.5!I57/C1.5!I$8*100","v":0},{"$f":"+C1.5!J57/C1.5!J$8*100","v":0},{"$f":"+C1.5!K57/C1.5!K$8*100","v":0},{"$f":"+C1.5!L57/C1.5!L$8*100","v":0},{"$f":"+C1.5!M57/C1.5!M$8*100","v":0},{"$f":"+C1.5!N57/C1.5!N$8*100","v":0},{"$f":"+C1.5!O57/C1.5!O$8*100","v":2.4357878610239458},{"$f":"+C1.5!P57/C1.5!P$8*100","v":0},{"$f":"+C1.5!Q57/C1.5!Q$8*100","v":0},{"$f":"IFERROR(C1.5!R57/C1.5!R$8*100,0)","v":0}]
[{"$f":"+C1.5!A58","v":"UNIÓN PATRIÓTICA"},{"$f":"+C1.5!B58/C1.5!B$8*100","v":0},{"$f":"+C1.5!C58/C1.5!C$8*100","v":0},{"$f":"+C1.5!D58/C1.5!D$8*100","v":0},{"$f":"+C1.5!E58/C1.5!E$8*100","v":0},{"$f":"+C1.5!F58/C1.5!F$8*100","v":0},{"$f":"+C1.5!G58/C1.5!G$8*100","v":0},{"$f":"+C1.5!H58/C1.5!H$8*100","v":0},{"$f":"+C1.5!I58/C1.5!I$8*100","v":0},{"$f":"+C1.5!J58/C1.5!J$8*100","v":0},{"$f":"+C1.5!K58/C1.5!K$8*100","v":0},{"$f":"+C1.5!L58/C1.5!L$8*100","v":0},{"$f":"+C1.5!M58/C1.5!M$8*100","v":0},{"$f":"+C1.5!N58/C1.5!N$8*100","v":0},{"$f":"+C1.5!O58/C1.5!O$8*100","v":0.11477889053640659},{"$f":"+C1.5!P58/C1.5!P$8*100","v":0},{"$f":"+C1.5!Q58/C1.5!Q$8*100","v":0},{"$f":"IFERROR(C1.5!R58/C1.5!R$8*100,0)","v":0}]
[]
["1/ Ver detalle de coaliciones en los cuadros 3.4, 3.7, 3.8, 3.9, 3.10, 3.13 y 3.15."]
[]
["FUENTE: Tribunal Supremo de Elecciones."]

{"sheet":"G2.1","index":12,"n_rows":37,"n_cols":1,"rows_kept":37,"cut":false,"hidden":false,"merged":[[2,0,2,10],[3,0,3,10],[4,0,4,10],[5,0,5,10]]}
[]
[]
[]
["GRÁFICO 2.1 PARTIDO ACCESIBILIDAD SIN EXCLUSIÓN: PORCENTAJE DE VOTOS VÁLIDOS RECIBIDOS"]
["PARA PRESIDENCIA Y VICEPRESIDENCIAS DE LA REPÚBLICA, POR AÑO ELECTORAL"]
["2010 - 2018"]
[]
[]
[]
[]
[]
[]
[]
[]
[]
[]
[]
[]
[]
[]
[]
[]
[]
[]
[]
[]
[]
[]
[]
[]
[]
[]
[]
[]
[]
[]
["FUENTE: Cuadro 1.6"]

{"sheet":"G2.2","index":13,"n_rows":36,"n_cols":1,"rows_kept":36,"cut":false,"hidden":false,"merged":[[2,0,2,10],[3,0,3,10],[4,0,4,10],[5,0,5,10]]}
[]
[]
[]
["GRÁFICO 2.2 PARTIDO ACCIÓN CIUDADANA: PORCENTAJE DE VOTOS VÁLIDOS RECIBIDOS"]
["PARA PRESIDENCIA Y VICEPRESIDENCIAS DE LA REPÚBLICA, POR AÑO ELECTORAL"]
["2002 - 2018"]
[]
[]
[]
[]
[]
[]
[]
[]
[]
[]
[]
[]
[]
[]
[]
[]
[]
[]
[]
[]
[]
[]
[]
[]
[]
[]
[]
[]
[]
["FUENTE: Cuadro 1.6"]

{"sheet":"G2.3","index":14,"n_rows":37,"n_cols":1,"rows_kept":37,"cut":false,"hidden":false,"merged":[[2,0,2,10],[3,0,3,10],[4,0,4,10],[5,0,5,10]]}
[]
[]
[]
["GRÁFICO 2.3 PARTIDO DE LOS TRABAJADORES: PORCENTAJE DE VOTOS VÁLIDOS RECIBIDOS"]
["PARA PRESIDENCIA Y VICEPRESIDENCIAS DE LA REPÚBLICA, POR AÑO ELECTORAL"]
["2014 - 2018"]
[]
[]
[]
[]
[]
[]
[]
[]
[]
[]
[]
[]
[]
[]
[]
[]
[]
[]
[]
[]
[]
[]
[]
[]
[]
[]
[]
[]
[]
[]
["FUENTE: Cuadro 1.6"]

{"sheet":"G2.4","index":15,"n_rows":37,"n_cols":1,"rows_kept":37,"cut":false,"hidden":false,"merged":[[2,0,2,10],[3,0,3,10],[4,0,4,10],[5,0,5,10]]}
[]
[]
[]
["GRÁFICO 2.4 PARTIDO FRENTE AMPLIO: PORCENTAJE DE VOTOS VÁLIDOS RECIBIDOS"]
["PARA PRESIDENCIA Y VICEPRESIDENCIAS DE LA REPÚBLICA, POR AÑO ELECTORAL"]
["2010 - 2018"]
[]
[]
[]
[]
[]
[]
[]
[]
[]
[]
[]
[]
[]
[]
[]
[]
[]
[]
[]
[]
[]
[]
[]
[]
[]
[]
[]
[]
[]
[]
["FUENTE: Cuadro 1.6"]

{"sheet":"G2.5","index":16,"n_rows":36,"n_cols":1,"rows_kept":36,"cut":false,"hidden":false,"merged":[[2,0,2,10],[3,0,3,10],[4,0,4,10],[5,0,5,10]]}
[]
[]
[]
["GRÁFICO 2.5 PARTIDO INTEGRACIÓN NACIONAL: PORCENTAJE DE VOTOS VÁLIDOS RECIBIDOS"]
["PARA PRESIDENCIA Y VICEPRESIDENCIAS DE LA REPÚBLICA, POR AÑO ELECTORAL"]
["1998 - 2018"]
[]
[]
[]
[]
[]
[]
[]
[]
[]
[]
[]
[]
[]
[]
[]
[]
[]
[]
[]
[]
[]
[]
[]
[]
[]
[]
[]
[]
[]
["FUENTE: Cuadro 1.6"]

{"sheet":"G2.6","index":17,"n_rows":36,"n_cols":1,"rows_kept":36,"cut":false,"hidden":false,"merged":[[2,0,2,10],[3,0,3,10],[4,0,4,10],[5,0,5,10]]}
[]
[]
[]
["GRÁFICO 2.6 PARTIDO LIBERACIÓN NACIONAL: PORCENTAJE DE VOTOS VÁLIDOS RECIBIDOS"]
["PARA PRESIDENCIA Y VICEPRESIDENCIAS DE LA REPÚBLICA, POR AÑO ELECTORAL"]
["1953 - 2018"]
[]
[]
[]
[]
[]
[]
[]
[]
[]
[]
[]
[]
[]
[]
[]
[]
[]
[]
[]
[]
[]
[]
[]
[]
[]
[]
[]
[]
[]
["FUENTE: Cuadro 1.6"]

{"sheet":"G2.7","index":18,"n_rows":36,"n_cols":1,"rows_kept":36,"cut":false,"hidden":false,"merged":[[2,0,2,10],[3,0,3,10],[4,0,4,10],[5,0,5,10]]}
[]
[]
[]
["GRÁFICO 2.7 PARTIDO MOVIMIENTO LIBERTARIO: PORCENTAJE DE VOTOS VÁLIDOS RECIBIDOS"]
["PARA PRESIDENCIA Y VICEPRESIDENCIAS DE LA REPÚBLICA, POR AÑO ELECTORAL"]
["1998 - 2018"]
[]
[]
[]
[]
[]
[]
[]
[]
[]
[]
[]
[]
[]
[]
[]
[]
[]
[]
[]
[]
[]
[]
[]
[]
[]
[]
[]
[]
[]
["FUENTE: Cuadro 1.6"]

{"sheet":"G2.8","index":19,"n_rows":36,"n_cols":1,"rows_kept":36,"cut":false,"hidden":false,"merged":[[2,0,2,10],[3,0,3,10],[4,0,4,10],[5,0,5,10]]}
[]
[]
[]
["GRÁFICO 2.8 PARTIDO NUEVA GENERACIÓN: PORCENTAJE DE VOTOS VÁLIDOS RECIBIDOS"]
["PARA PRESIDENCIA Y VICEPRESIDENCIAS DE LA REPÚBLICA, POR AÑO ELECTORAL"]
["2014 - 2018"]
[]
[]
[]
[]
[]
[]
[]
[]
[]
[]
[]
[]
[]
[]
[]
[]
[]
[]
[]
[]
[]
[]
[]
[]
[]
[]
[]
[]
[]
["FUENTE: Cuadro 1.6"]

{"sheet":"G2.9","index":20,"n_rows":36,"n_cols":1,"rows_kept":36,"cut":false,"hidden":false,"merged":[[2,0,2,10],[3,0,3,10],[4,0,4,10],[5,0,5,10]]}
[]
[]
[]
["GRÁFICO 2.9 PARTIDO RENOVACIÓN COSTARRICENSE: PORCENTAJE DE VOTOS VÁLIDOS RECIBIDOS"]
["PARA PRESIDENCIA Y VICEPRESIDENCIAS DE LA REPÚBLICA, POR AÑO ELECTORAL"]
["1998 - 2018"]
[]
[]
[]
[]
[]
[]
[]
[]
[]
[]
[]
[]
[]
[]
[]
[]
[]
[]
[]
[]
[]
[]
[]
[]
[]
[]
[]
[]
[]
["FUENTE: Cuadro 1.6"]

{"sheet":"G2.10","index":21,"n_rows":36,"n_cols":1,"rows_kept":36,"cut":false,"hidden":false,"merged":[[2,0,2,10],[3,0,3,10],[4,0,4,10],[5,0,5,10]]}
[]
[]
[]
["GRÁFICO 2.10 PARTIDO RESTAURACIÓN NACIONAL: PORCENTAJE DE VOTOS VÁLIDOS RECIBIDOS"]
["PARA PRESIDENCIA Y VICEPRESIDENCIAS DE LA REPÚBLICA, POR AÑO ELECTORAL"]
["2014 - 2018"]
[]
[]
[]
[]
[]
[]
[]
[]
[]
[]
[]
[]
[]
[]
[]
[]
[]
[]
[]
[]
[]
[]
[]
[]
[]
[]
[]
[]
[]
["FUENTE: Cuadro 1.6"]

{"sheet":"G2.11","index":22,"n_rows":36,"n_cols":1,"rows_kept":36,"cut":false,"hidden":false,"merged":[[2,0,2,10],[3,0,3,10],[4,0,4,10],[5,0,5,10]]}
[]
[]
[]
["GRÁFICO 2.11 PARTIDO UNIDAD SOCIAL CRISTIANA: PORCENTAJE DE VOTOS VÁLIDOS RECIBIDOS"]
["PARA PRESIDENCIA Y VICEPRESIDENCIAS DE LA REPÚBLICA, POR AÑO ELECTORAL"]
["1986 - 2018"]
[]
[]
[]
[]
[]
[]
[]
[]
[]
[]
[]
[]
[]
[]
[]
[]
[]
[]
[]
[]
[]
[]
[]
[]
[]
[]
[]
[]
[]
["FUENTE: Cuadro 1.6"]

{"sheet":"C3.1","index":23,"n_rows":35,"n_cols":9,"rows_kept":35,"cut":false,"hidden":false,"merged":[[24,0,25,0],[6,8,7,8],[6,4,7,4],[6,5,7,5],[6,6,7,6],[6,7,7,7],[5,0,7,0],[5,1,7,1],[6,2,7,2],[6,3,7,3]]}
[]
["CUADRO 3.1 COSTA RICA: JUNTAS, ELECTORADO, VOTOS VÁLIDOS POR PARTIDO"]
["NULOS, BLANCOS Y ABSTENCIONISMO, POR PROVINCIA"]
["ELECCIONES PRESIDENCIALES 1953"]
[]
["JUNTAS, ELECTORADO, VOTOS VÁLIDOS POR PARTIDO, NULOS, BLANCOS Y ABSTENCIONISMO","COSTA RICA","PROVINCIA"]
[null,null,"SAN JOSÉ","ALAJUELA","CARTAGO","HEREDIA","GUANACASTE","PUNTARENAS","LIMÓN"]
[]
[]
["JUNTAS",{"$f":"SUM(C10:I10)","v":1729},639,339,224,113,172,176,66]
[]
["ELECTORADO",{"$f":"SUM(C12:I12)","v":294016},115548,55335,34979,19657,26792,30419,11286]
[]
["VOTOS RECIBIDOS",197489,{"$f":"C17+C21+C23","v":81559},{"$f":"D17+D21+D23","v":37841},24397,14605,17118,14912,7057]
["PARTICIPACIÓN 1/",{"$f":"B14/B12*100","v":67.169473770134957},{"$f":"C14/C12*100","v":70.584518987779958},68.385289599710859,69.74756282340833,74.299231825812683,63.892206628844427,49.021992833426474,62.528796739323056]
[]
["VOTOS VÁLIDOS",190768,{"$f":"SUM(C18:C19)","v":79078},{"$f":"SUM(D18:D19)","v":36315},23628,14099,16455,14398,6795]
["DEMÓCRATA",{"$f":"SUM(C18:I18)","v":67324},28426,11692,5904,5288,6925,5991,3098]
["LIBERACIÓN NACIONAL",{"$f":"SUM(C19:I19)","v":123444},50652,24623,17724,8811,9530,8407,3697]
[]
["VOTOS NULOS",2330,741,513,309,164,320,208,75]
[]
["VOTOS BLANCOS",4391,1740,1013,460,342,343,306,187]
[]
["ABSTENCIONISMO",96527,33989,17494,10582,5052,9674,15507,4229]
[null,{"$f":"B25/B12*100","v":32.830526229865043},{"$f":"C25/C12*100","v":29.415481012220031},31.614710400289148,30.252437176591666,25.70076817418731,36.107793371155566,50.978007166573526,37.471203260676944]
[]
[]
["1/ El porcentaje de participación se calcula dividiendo la cantidad de votos recibidos entre el electorado inscrito."]
[]
["Presidente: José Figueres Ferrer."]
["Primer Vicepresidente: Raúl Blanco Cervantes."]
["Segundo Vicepresidente: Fernando Esquivel Bonilla."]
[]
["FUENTE: Tribunal Supremo de Elecciones."]

{"sheet":"G3.1","index":24,"n_rows":36,"n_cols":2,"rows_kept":36,"cut":false,"hidden":false,"merged":[]}
[]
["GRÁFICO 3.1 COSTA RICA:  PORCENTAJE DE VOTOS VÁLIDOS POR PARTIDO"]
["ELECCIONES PRESIDENCIALES 1953"]
[]
[]
[]
[]
[]
["LIBERACIÓN NACIONAL",123444]
["DEMÓCRATA",67324]
[]
[]
[]
[]
[]
[]
[]
[]
[]
[]
[]
[]
[]
[]
[]
[]
[]
[]
[]
[]
[]
[]
[]
[]
[]
["FUENTE: Cuadro 3.1"]

{"sheet":"C3.2","index":25,"n_rows":36,"n_cols":9,"rows_kept":36,"cut":false,"hidden":false,"merged":[[25,0,26,0],[6,8,7,8],[6,5,7,5],[6,4,7,4],[6,3,7,3],[6,7,7,7],[5,0,7,0],[5,1,7,1],[6,2,7,2],[6,6,7,6]]}
[]
["CUADRO 3.2 COSTA RICA: JUNTAS, ELECTORADO, VOTOS VÁLIDOS POR PARTIDO"]
["NULOS, BLANCOS Y ABSTENCIONISMO, POR PROVINCIA"]
["ELECCIONES PRESIDENCIALES 1958"]
[]
["JUNTAS, ELECTORADO, VOTOS VÁLIDOS POR PARTIDO, NULOS, BLANCOS Y ABSTENCIONISMO","COSTA RICA","PROVINCIA"]
[null,null,"SAN JOSÉ","ALAJUELA","CARTAGO","HEREDIA","GUANACASTE","PUNTARENAS","LIMÓN"]
[]
[]
["JUNTAS",{"$f":"SUM(C10:I10)","v":1985},764,364,234,131,195,214,83]
[]
["ELECTORADO",{"$f":"SUM(C12:I12)","v":354779},142338,64212,40607,23842,32300,36785,14695]
[]
["VOTOS RECIBIDOS",{"$f":"SUM(C14:I14)","v":229543},{"$f":"+C17+C22+C24","v":93193},43744,27227,16762,21138,18418,9061]
["PARTICIPACIÓN 1/",{"$f":"B14/B12*100","v":64.700278201359154},{"$f":"C14/C12*100","v":65.473028987340001},68.124338129944562,67.050016007092367,70.304504655649694,65.442724458204339,50.069321734402607,61.660428717250767]
[]
["VOTOS VÁLIDOS",{"$f":"SUM(C17:I17)","v":221549},{"$f":"SUM(C18:C20)","v":90586},42131,26189,16177,20127,17610,8729]
["INDEPENDIENTE",{"$f":"SUM(C18:I18)","v":23910},10381,2651,5859,1540,1707,1159,613]
["LIBERACIÓN NACIONAL",{"$f":"SUM(C19:I19)","v":94788},35831,21381,10610,7264,9400,6906,3396]
["UNIÓN NACIONAL",{"$f":"SUM(C20:I20)","v":102851},44374,18099,9720,7373,9020,9545,4720]
[]
["VOTOS NULOS",{"$f":"SUM(C22:I22)","v":3981},1346,725,464,390,532,397,127]
[]
["VOTOS BLANCOS",{"$f":"SUM(C24:I24)","v":4013},1261,888,574,195,479,411,205]
[]
["ABSTENCIONISMO",{"$f":"SUM(C26:I26)","v":125236},{"$f":"+C12-C14","v":49145},20468,13380,7080,11162,18367,5634]
[null,{"$f":"B26/B12*100","v":35.299721798640846},{"$f":"C26/C12*100","v":34.526971012660006},31.875661870055445,32.949983992907626,29.695495344350309,34.557275541795669,49.930678265597386,38.339571282749233]
[]
[]
["1/ El porcentaje de participación se calcula dividiendo la cantidad de votos recibidos entre el electorado inscrito."]
[]
["Presidente: Mario Echandi Jiménez."]
["Primer Vicepresidente: José Joaquín Peralta Esquivel."]
["Segundo Vicepresidente: Abelardo Bonilla Baldares."]
[]
["FUENTE: Tribunal Supremo de Elecciones."]

{"sheet":"G3.2","index":26,"n_rows":36,"n_cols":2,"rows_kept":36,"cut":false,"hidden":false,"merged":[]}
[]
["GRÁFICO 3.2 COSTA RICA:  PORCENTAJE DE VOTOS VÁLIDOS POR PARTIDO"]
["ELECCIONES PRESIDENCIALES 1958"]
[]
[]
[]
[]
[]
["UNIÓN NACIONAL",102851]
["LIBERACIÓN NACIONAL",94788]
["INDEPENDIENTE",23910]
[]
[]
[]
[]
[]
[]
[]
[]
[]
[]
[]
[]
[]
[]
[]
[]
[]
[]
[]
[]
[]
[]
[]
[]
["FUENTE: Cuadro 3.2."]

{"sheet":"C3.3","index":27,"n_rows":37,"n_cols":9,"rows_kept":37,"cut":false,"hidden":false,"merged":[[6,8,7,8],[6,5,7,5],[6,4,7,4],[26,0,27,0],[5,0,7,0],[5,1,7,1],[6,2,7,2],[6,3,7,3],[6,7,7,7],[6,6,7,6]]}
[]
["CUADRO 3.3 COSTA RICA: JUNTAS, ELECTORADO, VOTOS VÁLIDOS POR PARTIDO"]
["NULOS, BLANCOS Y ABSTENCIONISMO, POR PROVINCIA"]
["ELECCIONES PRESIDENCIALES 1962"]
[]
["JUNTAS, ELECTORADO, VOTOS VÁLIDOS POR PARTIDO, NULOS, BLANCOS Y ABSTENCIONISMO","COSTA RICA","PROVINCIA"]
[null,null,"SAN JOSÉ","ALAJUELA","CARTAGO","HEREDIA","GUANACASTE","PUNTARENAS","LIMÓN"]
[]
[]
["JUNTAS",{"$f":"SUM(C10:I10)","v":2645},1026,483,311,179,260,272,114]
[]
["ELECTORADO",{"$f":"SUM(C12:I12)","v":483980},194296,86155,56670,33789,43842,48447,20781]
[]
["VOTOS RECIBIDOS",{"$f":"SUM(C14:I14)","v":391406},{"$f":"+C17+C23+C25","v":160152},72392,48174,28932,34067,32199,15490]
["PARTICIPACIÓN 1/",{"$f":"B14/B12*100","v":80.87235009711145},{"$f":"C14/C12*100","v":82.426812698151281},84.025303232545994,85.007940709370033,85.625499422889106,77.704028100907806,66.462319648275439,74.539242577354315]
[]
["VOTOS VÁLIDOS",{"$f":"SUM(C17:I17)","v":383462},{"$f":"SUM(C18:C21)","v":157378},70993,47217,28396,33045,31307,15126]
["ACCIÓN DEMOCRÁTICA POPULAR",{"$f":"SUM(C18:I18)","v":3339},1427,399,229,318,184,624,158]
["LIBERACIÓN NACIONAL",{"$f":"SUM(C19:I19)","v":192850},77222,36821,26764,13524,17962,13756,6801]
["REPUBLICANO",{"$f":"SUM(C20:I20)","v":135533},57772,20937,14534,11016,11018,13196,7060]
["UNIÓN NACIONAL",{"$f":"SUM(C21:I21)","v":51740},20957,12836,5690,3538,3881,3731,1107]
[]
["VOTOS NULOS",{"$f":"SUM(C23:I23)","v":5020},1727,852,613,322,658,592,256]
[]
["VOTOS BLANCOS",{"$f":"SUM(C25:I25)","v":2924},1047,547,344,214,364,300,108]
[]
["ABSTENCIONISMO",{"$f":"SUM(C27:I27)","v":92574},{"$f":"+C12-C14","v":34144},13763,8496,4857,9775,16248,5291]
[null,{"$f":"B27/B12*100","v":19.12764990288855},{"$f":"C27/C12*100","v":17.573187301848726},15.974696767454008,14.992059290629964,14.374500577110894,22.295971899092194,33.537680351724561,25.460757422645685]
[]
[]
["1/ El porcentaje de participación se calcula dividiendo la cantidad de votos recibidos entre el electorado inscrito."]
[]
["Presidente: Francisco José Orlich Bolmarcich."]
["Primer Vicepresidente: Raúl Blanco Cervantes."]
["Segundo Vicepresidente: Carlos Sáenz Herrera."]
[]
["FUENTE: Tribunal Supremo de Elecciones."]

{"sheet":"G3.3","index":28,"n_rows":36,"n_cols":2,"rows_kept":36,"cut":false,"hidden":false,"merged":[]}
[]
["GRÁFICO 3.3 COSTA RICA:  PORCENTAJE DE VOTOS VÁLIDOS POR PARTIDO"]
["ELECCIONES PRESIDENCIALES 1962"]
[]
[]
[]
[]
[]
["LIBERACIÓN NACIONAL",192850]
["REPUBLICANO",135533]
["UNIÓN NACIONAL",51740]
["ACCIÓN DEMOCRÁTICA POPULAR",3339]
[]
[]
[]
[]
[]
[]
[]
[]
[]
[]
[]
[]
[]
[]
[]
[]
[]
[]
[]
[]
[]
[]
[]
["FUENTE: Cuadro 3.3."]

{"sheet":"C3.4","index":29,"n_rows":36,"n_cols":9,"rows_kept":36,"cut":false,"hidden":false,"merged":[[24,0,25,0],[6,8,7,8],[6,5,7,5],[6,4,7,4],[6,3,7,3],[6,7,7,7],[5,0,7,0],[5,1,7,1],[6,2,7,2],[6,6,7,6]]}
[]
["CUADRO 3.4 COSTA RICA: JUNTAS, ELECTORADO, VOTOS VÁLIDOS POR PARTIDO"]
["NULOS, BLANCOS Y ABSTENCIONISMO, POR PROVINCIA"]
["ELECCIONES PRESIDENCIALES 1966"]
[]
["JUNTAS, ELECTORADO, VOTOS VÁLIDOS POR PARTIDO, NULOS, BLANCOS Y ABSTENCIONISMO","COSTA RICA","PROVINCIA"]
[null,null,"SAN JOSÉ","ALAJUELA","CARTAGO","HEREDIA","GUANACASTE","PUNTARENAS","LIMÓN"]
[]
[]
["JUNTAS",{"$f":"SUM(C10:I10)","v":3015},1156,543,349,205,312,319,131]
[]
["ELECTORADO",{"$f":"SUM(C12:I12)","v":554627},221032,98569,63937,39310,52337,55421,24021]
[]
["VOTOS RECIBIDOS",{"$f":"SUM(C14:I14)","v":451490},{"$f":"+C17+C21+C23","v":180883},83901,52953,33714,43198,39881,16960]
["PARTICIPACIÓN 1/",{"$f":"B14/B12*100","v":81.404259078624008},{"$f":"C14/C12*100","v":81.835661804625573},85.11905365784375,82.820589017313921,85.764436530145005,82.53816611574986,71.960087331516931,70.604887390200247]
[]
["VOTOS VÁLIDOS",{"$f":"SUM(C17:I17)","v":441400},{"$f":"SUM(C18:C19)","v":177570},81894,51581,33117,41957,38762,16519]
["LIBERACIÓN NACIONAL",{"$f":"SUM(C18:I18)","v":218590},89386,40059,26532,16167,21801,17160,7485]
["UNIFICACIÓN NACIONAL 2/",{"$f":"SUM(C19:I19)","v":222810},88184,41835,25049,16950,20156,21602,9034]
[]
["VOTOS NULOS",{"$f":"SUM(C21:I21)","v":6265},2147,1206,842,345,756,687,282]
[]
["VOTOS BLANCOS",{"$f":"SUM(C23:I23)","v":3825},1166,801,530,252,485,432,159]
[]
["ABSTENCIONISMO",{"$f":"SUM(C25:I25)","v":103137},{"$f":"+C12-C14","v":40149},14668,10984,5596,9139,15540,7061]
[null,{"$f":"B25/B12*100","v":18.595740921375988},{"$f":"C25/C12*100","v":18.164338195374423},14.880946342156257,17.179410982686079,14.235563469854998,17.461833884250147,28.039912668483062,29.395112609799757]
[]
[]
["1/ El porcentaje de participación se calcula dividiendo la cantidad de votos recibidos entre el electorado inscrito."]
["2/ Coalición de los partidos Republicano y Unión Nacional."]
[]
["Presidente:José Joaquín Trejos Fernández."]
["Primer Vicepresidente: Jorge Vega Rodríguez."]
["Segundo Vicepresidente: Virgilio Calvo Sánchez."]
[]
["FUENTE: Tribunal Supremo de Elecciones."]

{"sheet":"G3.4","index":30,"n_rows":36,"n_cols":2,"rows_kept":36,"cut":false,"hidden":false,"merged":[]}
[]
["GRÁFICO 3.4 COSTA RICA:  PORCENTAJE DE VOTOS VÁLIDOS POR PARTIDO"]
["ELECCIONES PRESIDENCIALES 1966"]
[]
[]
[]
[]
[]
["UNIFICACIÓN NACIONAL",222810]
["LIBERACIÓN NACIONAL",218590]
[]
[]
[]
[]
[]
[]
[]
[]
[]
[]
[]
[]
[]
[]
[]
[]
[]
[]
[]
[]
[]
[]
[]
[]
[]
["FUENTE: Cuadro 3.4."]

{"sheet":"C3.5","index":31,"n_rows":38,"n_cols":9,"rows_kept":38,"cut":false,"hidden":false,"merged":[[6,8,7,8],[6,5,7,5],[6,4,7,4],[27,0,28,0],[5,0,7,0],[5,1,7,1],[6,2,7,2],[6,3,7,3],[6,7,7,7],[6,6,7,6]]}
[]
["CUADRO 3.5 COSTA RICA: JUNTAS, ELECTORADO, VOTOS VÁLIDOS POR PARTIDO"]
["NULOS, BLANCOS Y ABSTENCIONISMO, POR PROVINCIA"]
["ELECCIONES PRESIDENCIALES 1970"]
[]
["JUNTAS, ELECTORADO, VOTOS VÁLIDOS POR PARTIDO, NULOS, BLANCOS Y ABSTENCIONISMO","COSTA RICA","PROVINCIA"]
[null,null,"SAN JOSÉ","ALAJUELA","CARTAGO","HEREDIA","GUANACASTE","PUNTARENAS","LIMÓN"]
[]
[]
["JUNTAS",{"$f":"SUM(C10:I10)","v":3638},1421,651,404,248,359,389,166]
[]
["ELECTORADO",{"$f":"SUM(C12:I12)","v":675285},272017,117552,75458,46907,62587,68885,31879]
[]
["VOTOS RECIBIDOS",{"$f":"SUM(C14:I14)","v":562766},{"$f":"+C17+C24+C26","v":228021},101094,64903,40646,52362,52925,22815]
["PARTICIPACIÓN 1/",{"$f":"B14/B12*100","v":83.337553773591893},{"$f":"C14/C12*100","v":83.82601087432036},85.999387505104124,86.012086193644137,86.652312021659881,83.66274146388227,76.830950134281778,71.567489569936328]
[]
["VOTOS VÁLIDOS",{"$f":"SUM(C17:I17)","v":540045},{"$f":"SUM(C18:C22)","v":220165},97404,61975,39291,49995,49994,21221]
["LIBERACIÓN NACIONAL",295883,121285,53141,36908,20558,28513,25272,10206]
["DEMÓCRATA CRISTIANO",5015,2881,560,512,603,196,199,64]
["FRENTE NACIONAL",9554,3891,1992,938,789,697,876,371]
["ACCIÓN SOCIALISTA",7221,3464,649,552,501,330,1219,506]
["UNIFICACIÓN NACIONAL",222372,88644,41062,23065,16840,20259,22428,10074]
[]
["VOTOS NULOS",{"$f":"SUM(C24:I24)","v":18153},6337,2771,2355,994,1921,2421,1354]
[null,null,null,919,573,361,446,510,240]
["VOTOS BLANCOS",{"$f":"SUM(C26:I26)","v":4568},1519,919,573,361,446,510,240]
[]
["ABSTENCIONISMO",{"$f":"SUM(C28:I28)","v":112519},{"$f":"+C12-C14","v":43996},16458,10555,6261,10225,15960,9064]
[null,{"$f":"B28/B12*100","v":16.662446226408107},{"$f":"C28/C12*100","v":16.173989125679643},14.000612494895876,13.987913806355854,13.347687978340121,16.337258536117723,23.169049865718225,28.43251043006368]
[]
[]
["1/ El porcentaje de participación se calcula dividiendo la cantidad de votos recibidos entre el electorado inscrito."]
[]
["Presidente: José Figueres Ferrer."]
["Primer Vicepresidente: Manuel Aguilar Bonilla."]
["Segundo Vicepresidente: Jorge Rossi Chavarria."]
[]
["FUENTE: Tribunal Supremo de Elecciones."]

{"sheet":"G3.5","index":32,"n_rows":36,"n_cols":2,"rows_kept":36,"cut":false,"hidden":false,"merged":[]}
[]
["GRÁFICO 3.5 COSTA RICA: PORCENTAJE DE VOTOS VÁLIDOS POR PARTIDO"]
["ELECCIONES PRESIDENCIALES 1970"]
[]
[]
[]
[]
[]
["LIBERACIÓN NACIONAL",295883]
["UNIFICACIÓN NACIONAL",222372]
["FRENTE NACIONAL",9554]
["ACCIÓN SOCIALISTA",7221]
["DEMÓCRATA CRISTIANO",5015]
[]
[]
[]
[]
[]
[]
[]
[]
[]
[]
[]
[]
[]
[]
[]
[]
[]
[]
[]
[]
[]
[]
["FUENTE: Cuadro 3.5."]

{"sheet":"C3.6","index":33,"n_rows":41,"n_cols":9,"rows_kept":41,"cut":false,"hidden":false,"merged":[[30,0,31,0],[6,8,7,8],[6,5,7,5],[6,4,7,4],[6,3,7,3],[6,7,7,7],[5,0,7,0],[5,1,7,1],[6,2,7,2],[6,6,7,6]]}
[]
["CUADRO 3.6 COSTA RICA: JUNTAS, ELECTORADO, VOTOS VÁLIDOS POR PARTIDO"]
["NULOS, BLANCOS Y ABSTENCIONISMO, POR PROVINCIA"]
["ELECCIONES PRESIDENCIALES 1974"]
[]
["JUNTAS, ELECTORADO, VOTOS VÁLIDOS POR PARTIDO, NULOS, BLANCOS Y ABSTENCIONISMO","COSTA RICA","PROVINCIA"]
[null,null,"SAN JOSÉ","ALAJUELA","CARTAGO","HEREDIA","GUANACASTE","PUNTARENAS","LIMÓN"]
[]
[]
["JUNTAS",{"$f":"SUM(C10:I10)","v":4815},1868,846,507,339,459,538,258]
[]
["ELECTORADO",{"$f":"SUM(C12:I12)","v":875041},355065,149605,93728,64421,76597,88496,47129]
[]
["VOTOS RECIBIDOS",{"$f":"SUM(C14:I14)","v":699340},{"$f":"+C17+C27+C29","v":285558},122917,77446,52561,62596,65414,32848]
["PARTICIPACIÓN 1/",{"$f":"B14/B12*100","v":79.92082656698372},{"$f":"C14/C12*100","v":80.424147691267805},82.161024029945523,82.628456811198362,81.589854240077003,81.721216235622805,73.917465196167058,69.698062763903337]
[]
["VOTOS VÁLIDOS",{"$f":"SUM(C17:I17)","v":678157},{"$f":"SUM(C18:C25)","v":279454},119222,74831,51359,59273,62660,31358]
["ACCIÓN SOCIALISTA",{"$f":"SUM(C18:I18)","v":16081},5487,1352,1114,1285,1168,3443,2232]
["DEMÓCRATA",18832,10633,2014,2027,1561,450,1394,753]
["DEMÓCRATA CRISTIANO",3461,1264,418,468,371,463,323,154]
["LIBERACIÓN NACIONAL",294609,119222,54385,32652,22055,29390,24737,12168]
["NACIONAL INDEPENDIENTE",73788,25122,14953,11873,5671,6826,6913,2430]
["RENOVACIÓN DEMOCRÁTICA",61820,34127,11657,4380,4880,2877,2822,1077]
["SOCIALISTA COSTARRICENSE",3417,1467,596,352,202,322,302,176]
["UNIFICACIÓN NACIONAL",206149,82132,33847,21965,15334,17777,22726,12368]
[]
["VOTOS NULOS",{"$f":"SUM(C27:I27)","v":16160},4694,2703,2024,839,2610,2140,1150]
[]
["VOTOS BLANCOS",{"$f":"SUM(C29:I29)","v":5023},1410,992,591,363,713,614,340]
[]
["ABSTENCIONISMO",{"$f":"SUM(C31:I31)","v":175701},{"$f":"+C12-C14","v":69507},26688,16282,11860,14001,23082,14281]
[null,{"$f":"B31/B12*100","v":20.07917343301628},{"$f":"C31/C12*100","v":19.575852308732202},17.838975970054477,17.371543188801638,18.410145759923008,18.278783764377195,26.082534803832942,30.30193723609667]
[]
[]
["1/ El porcentaje de participación se calcula dividiendo la cantidad de votos recibidos entre el electorado inscrito."]
[]
["Presidente: Daniel Oduber Quiros."]
["Primer Vicepresidente: Carlos Manuel Castillo Morales."]
["Segundo Vicepresidente: Fernando Guzmán Mata."]
[]
["FUENTE: Tribunal Supremo de Elecciones."]

{"sheet":"G3.6","index":34,"n_rows":40,"n_cols":3,"rows_kept":40,"cut":false,"hidden":false,"merged":[[1,0,1,10],[2,0,2,10]]}
[]
["GRÁFICO 3.6 COSTA RICA: PORCENTAJE DE VOTOS VÁLIDOS, POR PARTIDO"]
["ELECCIONES PRESIDENCIALES 1974"]
[]
[]
[]
[]
["SOCIALISTA COSTARRICENSE",3417,{"$f":"+B8/$B$22","v":5.0386562403691177E-3}]
["DEMÓCRATA CRISTIANO",3461,{"$f":"+B9/$B$22","v":5.1035379712957322E-3}]
["ACCIÓN SOCIALISTA",16081,2.3712798068883753E-2]
["DEMÓCRATA",18832,2.7769380836590935E-2]
["RENOVACIÓN DEMOCRÁTICA",61820,9.1158831951893143E-2]
["NACIONAL INDEPENDIENTE",73788,0.10880666276393225]
["UNIFICACIÓN NACIONAL",206149,0.30398418065433225]
["LIBERACIÓN NACIONAL",294609,0.4344259515127028]
[]
[]
[]
[]
[]
[]
[null,{"$f":"SUM(B8:B21)","v":678157}]
[]
[]
[]
[]
[]
[]
[]
[]
[]
[]
[]
[]
[]
[]
[]
[]
[]
["FUENTE: Cuadro 3.6."]

{"sheet":"C3.7","index":35,"n_rows":43,"n_cols":9,"rows_kept":43,"cut":false,"hidden":false,"merged":[[6,8,7,8],[6,5,7,5],[6,4,7,4],[30,0,31,0],[5,0,7,0],[5,1,7,1],[6,2,7,2],[6,3,7,3],[6,7,7,7],[6,6,7,6]]}
[]
["CUADRO 3.7 COSTA RICA: JUNTAS, ELECTORADO, VOTOS VÁLIDOS POR PARTIDO"]
["NULOS, BLANCOS Y ABSTENCIONISMO, POR PROVINCIA"]
["ELECCIONES PRESIDENCIALES 1978"]
[]
["JUNTAS, ELECTORADO, VOTOS VÁLIDOS POR PARTIDO, NULOS, BLANCOS Y ABSTENCIONISMO","COSTA RICA","PROVINCIA"]
[null,null,"SAN JOSÉ","ALAJUELA","CARTAGO","HEREDIA","GUANACASTE","PUNTARENAS","LIMÓN"]
[]
[]
["JUNTAS",{"$f":"SUM(C10:I10)","v":5097},1969,892,532,378,478,571,277]
[]
["ELECTORADO",{"$f":"SUM(C12:I12)","v":1058455},430399,180198,112242,82020,88451,106703,58442]
[]
["VOTOS RECIBIDOS",{"$f":"SUM(C14:I14)","v":860206},{"$f":"+C17+C27+C29","v":350089},152756,92435,69152,74080,80909,40785]
["PARTICIPACIÓN 1/",{"$f":"B14/B12*100","v":81.269964240331433},{"$f":"C14/C12*100","v":81.340570029205466},84.771196128702869,82.353308030861882,84.311143623506453,83.75258617765769,75.826359146415754,69.787139386057973]
[]
["VOTOS VÁLIDOS",{"$f":"SUM(C17:I17)","v":831141},{"$f":"SUM(C18:C25)","v":341021},148238,88627,67438,70696,76741,38380]
["DEMOCRÁTA",{"$f":"SUM(C18:I18)","v":1613},498,217,263,73,183,244,135]
["INDEPENDIENTE",3822,1403,547,542,264,327,467,272]
["LIBERACIÓN NACIONAL",364285,144627,67708,41933,29789,32650,32874,14704]
["NACIONAL INDEPENDIENTE",3323,1240,436,489,186,266,443,263]
["ORGANIZACIÓN SOCIALISTA DE LOS TRABAJADORES",1868,764,216,177,111,191,238,171]
["PUEBLO UNIDO 2/",22740,9869,2316,1797,1939,1012,3544,2263]
["UNIDAD 3/",419824,177688,75074,41772,34476,34852,36801,19161]
["UNIFICACIÓN NACIONAL",13666,4932,1724,1654,600,1215,2130,1411]
[]
["VOTOS NULOS",{"$f":"SUM(C27:I27)","v":23691},7411,3493,3216,1350,2731,3457,2033]
[]
["VOTOS BLANCOS",{"$f":"SUM(C29:I29)","v":5374},1657,1025,592,364,653,711,372]
[]
["ABSTENCIONISMO",{"$f":"SUM(C31:I31)","v":198249},{"$f":"+C12-C14","v":80310},27442,19807,12868,14371,25794,17657]
[null,{"$f":"B31/B12*100","v":18.730035759668574},{"$f":"C31/C12*100","v":18.659429970794541},15.228803871297128,17.646691969138111,15.688856376493538,16.247413822342313,24.173640853584246,30.212860613942027]
[]
[]
["1/ El porcentaje de participación se calcula dividiendo la cantidad de votos recibidos entre el electorado inscrito."]
["2/ Coalición de los partidos Vanguardia Popular, Socialista Costarricense y de los Trabajadores."]
["3/ Coalición de los partidos Renovación, Republicano Calderonista, Unión Popular y Demócrata Cristiano."]
[]
["Presidente: Rodrigo Carazo Odio. "]
["Primer Vicepresidente: Rodrigo Altmann Ortíz."]
["Segundo Vicepresidente: José Miguel Alfaro Rodríguez."]
[]
["FUENTE: Tribunal Supremo de Elecciones."]

{"sheet":"G3.7","index":36,"n_rows":40,"n_cols":3,"rows_kept":40,"cut":false,"hidden":false,"merged":[[1,0,1,10],[2,0,2,10]]}
[]
["GRÁFICO 3.7 COSTA RICA:  PORCENTAJE DE VOTOS VÁLIDOS, POR PARTIDO"]
["ELECCIONES PRESIDENCIALES 1978"]
[]
[]
[]
[]
["DEMOCRÁTA",1613,{"$f":"+B8/$B$22","v":1.9407056083143534E-3}]
["ORGANIZACIÓN SOCIALISTA DE LOS TRABAJADORES",1868,{"$f":"+B9/$B$22","v":2.247512756559958E-3}]
["NACIONAL INDEPENDIENTE",3323,3.9981182494907607E-3]
["INDEPENDIENTE",3822,4.5984977278223553E-3]
["UNIFICACIÓN NACIONAL",13666,1.6442456815389927E-2]
["PUEBLO UNIDO",22740,2.73599786317845E-2]
["LIBERACIÓN NACIONAL",364285,0.43829506666137275]
["UNIDAD",419824,0.50511766354926546]
[]
[]
[]
[]
[]
[]
[null,{"$f":"SUM(B8:B21)","v":831141}]
[]
[]
[]
[]
[]
[]
[]
[]
[]
[]
[]
[]
[]
[]
[]
[]
[]
["FUENTE: Cuadro 3.7."]

{"sheet":"C3.8","index":37,"n_rows":41,"n_cols":9,"rows_kept":41,"cut":false,"hidden":false,"merged":[[6,8,7,8],[6,4,7,4],[6,5,7,5],[6,6,7,6],[6,7,7,7],[28,0,29,0],[5,0,7,0],[5,1,7,1],[6,2,7,2],[6,3,7,3]]}
[]
["CUADRO 3.8 COSTA RICA: JUNTAS, ELECTORADO, VOTOS VÁLIDOS POR PARTIDO"]
["NULOS, BLANCOS Y ABSTENCIONISMO, POR PROVINCIA"]
["ELECCIONES PRESIDENCIALES 1982"]
[]
["JUNTAS, ELECTORADO, VOTOS VÁLIDOS POR PARTIDO, NULOS, BLANCOS Y ABSTENCIONISMO","COSTA RICA","PROVINCIA"]
[null,null,"SAN JOSÉ","ALAJUELA","CARTAGO","HEREDIA","GUANACASTE","PUNTARENAS","LIMÓN"]
[]
[]
["JUNTAS",{"$f":"SUM(C10:I10)","v":5638},2174,988,586,438,513,614,325]
[]
["ELECTORADO",{"$f":"SUM(C12:I12)","v":1261127},510151,216916,133742,101399,100840,124387,73692]
[]
["VOTOS RECIBIDOS",{"$f":"SUM(C14:I14)","v":991679},{"$f":"C17+C25+C27","v":403394},176392,108814,82253,81327,89652,49847]
["PARTICIPACIÓN 1/",{"$f":"B14/B12*100","v":78.634348483538929},{"$f":"C14/C12*100","v":79.073450801821423},81.318113924284049,81.361128142244027,81.11815698379668,80.649543831812778,72.075056074991764,67.642349237366346]
[]
["VOTOS VÁLIDOS",{"$f":"SUM(C17:I17)","v":966576},{"$f":"SUM(C18:C23)","v":395778},172080,106076,80624,78531,86096,47391]
["DEMÓCRATA",1747,572,264,203,121,146,270,171]
["INDEPENDIENTE",1955,622,280,274,120,149,245,265]
["LIBERACIÓN NACIONAL",568374,230958,102324,65676,45976,47699,50215,25526]
["MOVIMIENTO NACIONAL",37127,20973,4745,2858,2120,1899,2835,1697]
["PUEBLO UNIDO 3/",32186,14030,3441,2259,2999,1436,4323,3698]
["UNIDAD 2/",325187,128623,61026,34806,29288,27202,28208,16034]
[]
["VOTOS NULOS",{"$f":"SUM(C25:I25)","v":20241},6144,3367,2205,1310,2317,2908,1990]
[]
["VOTOS BLANCOS",{"$f":"SUM(C27:I27)","v":4862},1472,945,533,319,479,648,466]
[]
["ABSTENCIONISMO",{"$f":"SUM(C29:I29)","v":269448},{"$f":"C12-C14","v":106757},40524,24928,19146,19513,34735,23845]
[null,{"$f":"B29/B12*100","v":21.365651516461071},{"$f":"C29/C12*100","v":20.926549198178577},18.681886075715944,18.63887185775598,18.881843016203316,19.350456168187229,27.92494392500824,32.357650762633668]
[]
[]
["1/ El porcentaje de participación se calcula dividiendo la cantidad de votos recibidos entre el electorado inscrito."]
["2/ Coalición de los partidos Renovación Democrática, Republicano Calderonista, Unión Popular y Demócrata Cristiano."]
["3/ Coalición de los partidos Vanguardia Popular, Socialista Costarricense y De los Trabajadores."]
[]
["Presidente: Luis Alberto Monge Alvárez. "]
["Primer Vicepresidente: Alberto Fait Lizano."]
["Segundo Vicepresidente: Armando Arauz Aguilar."]
[]
["FUENTE: Tribunal Supremo de Elecciones."]

{"sheet":"G3.8","index":38,"n_rows":40,"n_cols":3,"rows_kept":40,"cut":false,"hidden":false,"merged":[[1,0,1,10],[2,0,2,10]]}
[]
["GRÁFICO 3.8 COSTA RICA:  PORCENTAJE DE VOTOS VÁLIDOS, POR PARTIDO"]
["ELECCIONES PRESIDENCIALES 1982"]
[]
[]
[]
[]
["DEMÓCRATA",1747,{"$f":"+B8/$B$22","v":1.8074109019880485E-3}]
["INDEPENDIENTE",1955,{"$f":"+B9/$B$22","v":2.0226034993626987E-3}]
["PUEBLO UNIDO",32186,3.3298985284136995E-2]
["MOVIMIENTO NACIONAL",37127,3.8410844051580011E-2]
["UNIDAD",325187,0.33643189981956928]
["LIBERACIÓN NACIONAL",568374,0.58802825644336298]
[]
[]
[]
[]
[]
[]
[]
[]
[null,{"$f":"SUM(B8:B21)","v":966576}]
[]
[]
[]
[]
[]
[]
[]
[]
[]
[]
[]
[]
[]
[]
[]
[]
[]
["FUENTE: Cuadro 3.8."]

{"sheet":"C3.9","index":39,"n_rows":41,"n_cols":9,"rows_kept":41,"cut":false,"hidden":false,"merged":[[6,8,7,8],[6,4,7,4],[6,5,7,5],[6,6,7,6],[6,7,7,7],[28,0,29,0],[5,0,7,0],[5,1,7,1],[6,2,7,2],[6,3,7,3]]}
[]
["CUADRO 3.9 COSTA RICA: JUNTAS, ELECTORADO, VOTOS VÁLIDOS POR PARTIDO"]
["NULOS, BLANCOS Y ABSTENCIONISMO, POR PROVINCIA"]
["ELECCIONES PRESIDENCIALES 1986"]
[]
["JUNTAS, ELECTORADO, VOTOS VÁLIDOS POR PARTIDO, NULOS, BLANCOS Y ABSTENCIONISMO","COSTA RICA","PROVINCIA"]
[null,null,"SAN JOSÉ","ALAJUELA","CARTAGO","HEREDIA","GUANACASTE","PUNTARENAS","LIMÓN"]
[]
[]
["JUNTAS",{"$f":"SUM(C10:I10)","v":6751},2544,1199,719,534,581,739,435]
[]
["ELECTORADO",{"$f":"SUM(C12:I12)","v":1486474},590640,257699,161467,122123,114457,145609,94479]
[]
["VOTOS RECIBIDOS",{"$f":"SUM(C14:I14)","v":1216300},{"$f":"C17+C25+C27","v":482934},218340,136783,103697,95733,110692,68121]
["PARTICIPACIÓN 1/",{"$f":"B14/B12*100","v":81.824505507664441},{"$f":"C14/C12*100","v":81.76452661519707},84.726754857411166,84.712665745941891,84.911933051104214,83.641018024236175,76.020026234642089,72.101736893912943]
[]
["VOTOS VÁLIDOS",{"$f":"SUM(C17:I17)","v":1185222},{"$f":"SUM(C18:C23)","v":473863},213226,132986,101658,92462,106278,64749]
["ALIANZA NACIONAL CRISTIANA",{"$f":"SUM(C18:I18)","v":5647},2407,721,695,503,289,583,449]
["ALIANZA POPULAR 2/",9099,3943,1044,667,778,304,1294,1069]
["INDEPENDIENTE",1129,477,123,140,74,117,125,73]
["LIBERACIÓN NACIONAL",620314,256781,112928,71977,53687,46301,51200,27440]
["PUEBLO UNIDO 3/",6599,2640,850,538,644,440,757,730]
["UNIDAD SOCIAL CRISTIANA",542434,207615,97560,58969,45972,45011,52319,34988]
[]
["VOTOS NULOS",{"$f":"SUM(C25:I25)","v":26029},7633,4074,3236,1722,2746,3768,2850]
[]
["VOTOS BLANCOS",{"$f":"SUM(C27:I27)","v":5049},1438,1040,561,317,525,646,522]
[]
["ABSTENCIONISMO",{"$f":"SUM(C29:I29)","v":270174},{"$f":"C12-C14","v":107706},39359,24684,18426,18724,34917,26358]
[null,{"$f":"B29/B12*100","v":18.175494492335552},{"$f":"C29/C12*100","v":18.235473384802926},15.273245142588834,15.287334254058106,15.088066948895785,16.358981975763822,23.979973765357908,27.898263106087068]
[]
[]
["1/ El porcentaje de participación se calcula dividiendo la cantidad de votos recibidos entre el electorado inscrito."]
["2/ Coalición de los partidos Frente Amplio Democrático y Vanguardia Popular."]
["3/ Coalición de los partidos Socialista Costarricense y de los Trabajadores"]
[]
["Presidente: Oscar Arias Sánchez."]
["Primer Vicepresidente: Jorge Manuel Dengo Obregón."]
["Segunda Vicepresidenta: Victoria Garrón Orozco."]
[]
["FUENTE: Tribunal Supremo de Elecciones."]

{"sheet":"G3.9","index":40,"n_rows":40,"n_cols":3,"rows_kept":40,"cut":false,"hidden":false,"merged":[[1,0,1,10],[2,0,2,10]]}
[]
["GRÁFICO 3.9 COSTA RICA:  PORCENTAJE DE VOTOS VÁLIDOS, POR PARTIDO"]
["ELECCIONES PRESIDENCIALES 1986"]
[]
[]
[]
[]
["INDEPENDIENTE",1129,{"$f":"+B8/$B$22","v":9.5256416097574969E-4}]
["ALIANZA NACIONAL CRISTIANA",5647,{"$f":"+B9/$B$22","v":4.7645082524624075E-3}]
["PUEBLO UNIDO",6599,5.5677333022842975E-3]
["ALIANZA POPULAR",9099,7.6770427818585885E-3]
["UNIDAD SOCIAL CRISTIANA",542434,0.45766447129736032]
["LIBERACIÓN NACIONAL",620314,0.52337368020505859]
[]
[]
[]
[]
[]
[]
[]
[]
[null,{"$f":"SUM(B8:B21)","v":1185222}]
[]
[]
[]
[]
[]
[]
[]
[]
[]
[]
[]
[]
[]
[]
[]
[]
[]
["FUENTE: Cuadro 3.9."]

{"sheet":"C3.10","index":41,"n_rows":41,"n_cols":9,"rows_kept":41,"cut":false,"hidden":false,"merged":[[6,8,7,8],[6,4,7,4],[6,5,7,5],[6,6,7,6],[6,7,7,7],[29,0,30,0],[5,0,7,0],[5,1,7,1],[6,2,7,2],[6,3,7,3]]}
[]
["CUADRO 3.10 COSTA RICA: JUNTAS, ELECTORADO, VOTOS VÁLIDOS POR PARTIDO"]
["NULOS, BLANCOS Y ABSTENCIONISMO, POR PROVINCIA"]
["ELECCIONES PRESIDENCIALES 1990"]
[]
["JUNTAS, ELECTORADO, VOTOS VÁLIDOS POR PARTIDO, NULOS, BLANCOS Y ABSTENCIONISMO","COSTA RICA","PROVINCIA"]
[null,null,"SAN JOSÉ","ALAJUELA","CARTAGO","HEREDIA","GUANACASTE","PUNTARENAS","LIMÓN"]
[]
[]
["JUNTAS",{"$f":"SUM(C10:I10)","v":7597},2858,1360,823,613,620,804,519]
[]
["ELECTORADO",{"$f":"SUM(C12:I12)","v":1692050},665920,296419,186969,141210,123981,163027,114524]
[]
["VOTOS RECIBIDOS",{"$f":"SUM(C14:I14)","v":1384326},{"$f":"C17+C26+C28","v":542718},251794,158967,120252,103500,124642,82453]
["PARTICIPACIÓN 1/",{"$f":"B14/B12*100","v":81.813539789013319},{"$f":"C14/C12*100","v":81.498978856319084},84.945297028867913,85.023185661794201,85.158274909708936,83.480533307522933,76.454820367178442,71.996262792078511]
[]
["VOTOS VÁLIDOS",{"$f":"SUM(C17:I17)","v":1349014},{"$f":"SUM(C18:C24)","v":531998},245876,154765,117697,100565,119721,78392]
["DEL PROGRESO",{"$f":"SUM(C18:I18)","v":2547},1193,367,289,296,95,182,125]
["INDEPENDIENTE",{"$f":"SUM(C19:I19)","v":746},260,115,100,54,46,87,84]
["ALIANZA NACIONAL CRISTIANA",4209,1497,798,314,428,239,478,455]
["UNIDAD SOCIAL CRISTIANA",694589,262760,126260,77948,59747,53017,67179,47678]
["PUEBLO UNIDO 2/",9217,3986,1188,819,858,446,1092,828]
["REVOLUCIONARIO DE LOS TRABAJADORES EN LUCHA",1005,305,145,125,64,69,132,165]
["LIBERACIÓN NACIONAL",636701,261997,117003,75170,56250,46653,50571,29057]
[]
["VOTOS NULOS",{"$f":"SUM(C26:I26)","v":29919},9062,4855,3579,2157,2510,4272,3484]
[]
["VOTOS BLANCOS",{"$f":"SUM(C28:I28)","v":5393},1658,1063,623,398,425,649,577]
[]
["ABSTENCIONISMO",{"$f":"SUM(C30:I30)","v":307724},{"$f":"C12-C14","v":123202},44625,28002,20958,20481,38385,32071]
[null,{"$f":"B30/B12*100","v":18.186460210986674},{"$f":"C30/C12*100","v":18.501021143680923},15.05470297113208,14.976814338205799,14.841725090291055,16.519466692477071,23.545179632821558,28.003737207921485]
[]
[]
["1/ El porcentaje de participación se calcula dividiendo la cantidad de votos recibidos entre el electorado inscrito."]
["2/ Coalición de los partidos Demócratico Popular y del Pueblo Civilista."]
[]
["Presidente: Rafael Angel Calderón Fournier."]
["Primer Vicepresidente: Germán Serrano Pinto."]
["Segundo Vicepresidente: Arnoldo López Echandi."]
[]
["FUENTE: Tribunal Supremo de Elecciones."]

{"sheet":"G3.10","index":42,"n_rows":40,"n_cols":3,"rows_kept":40,"cut":false,"hidden":false,"merged":[[1,0,1,10],[2,0,2,10]]}
[]
["GRÁFICO 3.10 COSTA RICA:  PORCENTAJE DE VOTOS VÁLIDOS, POR PARTIDO"]
["ELECCIONES PRESIDENCIALES 1990"]
[]
[]
[]
[]
["INDEPENDIENTE",746,{"$f":"+B8/$B$22","v":5.5299648484003871E-4}]
["REVOLUCIONARIO DE LOS\n TRABAJADORES EN LUCHA",1005,{"$f":"+B9/$B$22","v":7.449885620164061E-4}]
["DEL PROGRESO",2547,1.8880456392594887E-3]
["ALIANZA NACIONAL CRISTIANA",4209,3.1200565746537842E-3]
["PUEBLO UNIDO",9217,6.8323975881643927E-3]
["LIBERACIÓN NACIONAL",636701,0.47197508698946045]
["UNIDAD SOCIAL CRISTIANA",694589,0.51488642816160546]
[]
[]
[]
[]
[]
[]
[]
[null,{"$f":"SUM(B8:B21)","v":1349014}]
[]
[]
[]
[]
[]
[]
[]
[]
[]
[]
[]
[]
[]
[]
[]
[]
[]
["FUENTE: Cuadro 3.10."]

{"sheet":"C3.11","index":43,"n_rows":40,"n_cols":9,"rows_kept":40,"cut":false,"hidden":false,"merged":[[6,8,7,8],[6,4,7,4],[6,5,7,5],[6,6,7,6],[6,7,7,7],[29,0,30,0],[5,0,7,0],[5,1,7,1],[6,2,7,2],[6,3,7,3]]}
[]
["CUADRO 3.11 COSTA RICA: JUNTAS, ELECTORADO, VOTOS VÁLIDOS POR PARTIDO"]
["NULOS, BLANCOS Y ABSTENCIONISMO, POR PROVINCIA"]
["ELECCIONES PRESIDENCIALES 1994"]
[]
["JUNTAS, ELECTORADO, VOTOS VÁLIDOS POR PARTIDO, NULOS, BLANCOS Y ABSTENCIONISMO","COSTA RICA","PROVINCIA"]
[null,null,"SAN JOSÉ","ALAJUELA","CARTAGO","HEREDIA","GUANACASTE","PUNTARENAS","LIMÓN"]
[]
[]
["JUNTAS",{"$f":"SUM(C10:I10)","v":8365},3120,1495,930,702,653,849,616]
[]
["ELECTORADO",{"$f":"SUM(C12:I12)","v":1881348},733725,329553,211307,163219,131677,174200,137667]
[]
["VOTOS RECIBIDOS",{"$f":"SUM(C14:I14)","v":1525979},{"$f":"C17+C26+C28","v":587145},278332,176916,137236,110809,134459,101082]
["PARTICIPACIÓN 1/",{"$f":"B14/B12*100","v":81.110937476745391},{"$f":"C14/C12*100","v":80.022487989369324},84.457431733287208,83.724628147671396,84.080897444537712,84.152129832848573,77.18656716417911,73.425003813550092]
[]
["VOTOS VÁLIDOS",{"$f":"SUM(C17:I17)","v":1490097},{"$f":"SUM(C18:C25)","v":576718},272228,172753,134748,107214,129282,97154]
["ALIANZA NACIONAL CRISTIANA",4980,1616,794,606,369,284,765,546]
["FUERZA DEMOCRÁTICA",28274,13796,4648,3514,3464,663,966,1223]
["INDEPENDIENTE",1600,437,233,211,106,218,155,240]
["LIBERACIÓN NACIONAL",739339,286227,136933,86946,67221,53644,63421,44947]
["NACIONAL INDEPENDIENTE",2426,919,357,339,194,152,242,223]
["UNIDAD SOCIAL CRISTIANA",711328,272754,129050,80865,63215,52165,63466,49813]
["UNIÓN GENERALEÑA",2150,969,213,272,179,88,267,162]
[]
["VOTOS NULOS",{"$f":"SUM(C26:I26)","v":30663},9006,5006,3616,2036,3134,4593,3272]
[]
["VOTOS BLANCOS",{"$f":"SUM(C28:I28)","v":5219},1421,1098,547,452,461,584,656]
[]
["ABSTENCIONISMO",{"$f":"SUM(C30:I30)","v":355369},146580,51221,34391,25983,20868,39741,36585]
[null,{"$f":"B30/B12*100","v":18.889062523254601},{"$f":"C30/C12*100","v":19.977512010630686},15.54256826671279,16.2753718523286,15.919102555462292,15.84787016715144,22.813432835820898,26.574996186449912]
[]
[]
["1/ El porcentaje de participación se calcula dividiendo la cantidad de votos recibidos entre el electorado inscrito."]
[]
["Presidente: José María Figueres Olsen."]
["Primer Vicepresidente: Rodrigo Oreamuno Blanco."]
["Segunda Vicepresidenta: Rebeca Grynspan Mayufis."]
[]
["FUENTE: Tribunal Supremo de Elecciones."]

{"sheet":"G3.11","index":44,"n_rows":40,"n_cols":3,"rows_kept":40,"cut":false,"hidden":false,"merged":[[1,0,1,10],[2,0,2,10]]}
[]
["GRÁFICO 3.11 COSTA RICA:  PORCENTAJE DE VOTOS VÁLIDOS, POR PARTIDO"]
["ELECCIONES PRESIDENCIALES 1994"]
[]
[]
[]
[]
["INDEPENDIENTE",1600,{"$f":"+B8/$B$22","v":1.0737556011454288E-3}]
["UNIÓN GENERALEÑA",2150,{"$f":"+B9/$B$22","v":1.44285908903917E-3}]
["NACIONAL INDEPENDIENTE",2426,1.6280819302367563E-3]
["ALIANZA NACIONAL CRISTIANA",4980,3.342064308565147E-3]
["FUERZA DEMOCRÁTICA",28274,1.8974603666741158E-2]
["UNIDAD SOCIAL CRISTIANA",711328,0.47737026515723474]
["LIBERACIÓN NACIONAL",739339,0.49616837024703758]
[]
[]
[]
[]
[]
[]
[]
[null,{"$f":"SUM(B8:B21)","v":1490097}]
[]
[]
[]
[]
[]
[]
[]
[]
[]
[]
[]
[]
[]
[]
[]
[]
[]
["FUENTE: Cuadro 3.11."]

{"sheet":"C3.12","index":45,"n_rows":46,"n_cols":9,"rows_kept":46,"cut":false,"hidden":false,"merged":[[6,8,7,8],[6,4,7,4],[6,5,7,5],[6,6,7,6],[6,7,7,7],[35,0,36,0],[5,0,7,0],[5,1,7,1],[6,2,7,2],[6,3,7,3]]}
[]
["CUADRO 3.12 COSTA RICA: JUNTAS, ELECTORADO, VOTOS VÁLIDOS POR PARTIDO"]
["NULOS, BLANCOS Y ABSTENCIONISMO, POR PROVINCIA"]
["ELECCIONES PRESIDENCIALES 1998"]
[]
["JUNTAS, ELECTORADO, VOTOS VÁLIDOS POR PARTIDO, NULOS, BLANCOS Y ABSTENCIONISMO","COSTA RICA","PROVINCIA"]
[null,null,"SAN JOSÉ","ALAJUELA","CARTAGO","HEREDIA","GUANACASTE","PUNTARENAS","LIMÓN"]
[]
[]
["JUNTAS",{"$f":"SUM(C10:I10)","v":6080},2162,1103,668,520,507,652,468]
[]
["ELECTORADO",{"$f":"SUM(C12:I12)","v":2045980},784055,363238,231970,185965,141690,185438,153624]
[]
["VOTOS RECIBIDOS",{"$f":"SUM(C14:I14)","v":1431913},{"$f":"C17+C32+C34","v":542427},264743,172797,133824,104743,121026,92353]
["PARTICIPACIÓN 1/",{"$f":"B14/B12*100","v":69.986656761063159},{"$f":"C14/C12*100","v":69.182263999336783},72.884169607805347,74.49109798680864,71.961928319845143,73.924059566659608,65.264940303497667,60.116257876373481]
[]
["VOTOS VÁLIDOS",{"$f":"SUM(C17:I17)","v":1388698},{"$f":"SUM(C18:C31)","v":528349},257517,167977,130296,100789,115880,87890]
["ALIANZA NACIONAL CRISTIANA",3545,1298,368,587,194,107,641,350]
["DEMÓCRATA",12952,6095,2361,1669,1840,137,298,552]
["FUERZA DEMOCRÁTICA",41710,17581,8062,5306,4497,1777,2184,2303]
["INDEPENDIENTE",1377,491,221,132,119,166,105,143]
["INTEGRACIÓN NACIONAL",19934,11421,2466,2307,2119,300,550,771]
["LIBERACIÓN NACIONAL",618834,246828,117600,80109,60387,40931,44699,28280]
["MOVIMIENTO LIBERTARIO",5874,3066,764,487,461,151,467,478]
["NACIONAL INDEPENDIENTE",4218,1545,810,737,383,195,237,311]
["NUEVO PARTIDO DEMOCRÁTICO",3025,1430,327,275,242,111,431,209]
["PUEBLO UNIDO",3075,1014,329,235,368,154,310,665]
["RENOVACIÓN COSTARRICENSE",19313,9543,3126,1362,2764,584,607,1327]
["RESCATE NACIONAL",2681,1178,401,270,392,103,197,140]
["UNIDAD SOCIAL CRISTIANA",652160,226859,120682,74501,56530,56073,65154,52361]
[]
["VOTOS NULOS",{"$f":"SUM(C32:I32)","v":36318},12007,5835,4162,2979,3270,4391,3674]
[]
["VOTOS BLANCOS",{"$f":"SUM(C34:I34)","v":6897},2071,1391,658,549,684,755,789]
[]
["ABSTENCIONISMO",{"$f":"SUM(C36:I36)","v":614067},241628,98495,59173,52141,36947,64412,61271]
[null,{"$f":"B36/B12*100","v":30.013343238936841},{"$f":"C36/C12*100","v":30.817736000663221},27.115830392194653,25.50890201319136,28.038071680154868,26.075940433340389,34.735059696502333,39.883742123626511]
[]
[]
["1/ El porcentaje de participación se calcula dividiendo la cantidad de votos recibidos entre el electorado inscrito."]
[]
["Presidente: Miguel Angel Rodríguez Echeverría."]
["Primera Vicepresidenta: Astrid Fischel Volio."]
["Segunda Vicepresidenta: Elizabeth Odio Benito."]
[]
["FUENTE: Tribunal Supremo de Elecciones."]

{"sheet":"G3.12","index":46,"n_rows":40,"n_cols":3,"rows_kept":40,"cut":false,"hidden":false,"merged":[[1,0,1,10],[2,0,2,10]]}
[]
["GRÁFICO 3.12 COSTA RICA:  PORCENTAJE DE VOTOS VÁLIDOS, POR PARTIDO"]
["ELECCIONES PRESIDENCIALES 1998"]
[]
[]
[]
[]
["INDEPENDIENTE",1377,{"$f":"+B8/$B$22","v":9.9157628224423155E-4}]
["RESCATE NACIONAL",2681,{"$f":"+B9/$B$22","v":1.9305853396490813E-3}]
["NUEVO PARTIDO DEMOCRÁTICO",3025,2.1782993854675388E-3]
["PUEBLO UNIDO",3075,2.2143043339876633E-3]
["ALIANZA NACIONAL CRISTIANA",3545,2.5527508500768348E-3]
["NACIONAL INDEPENDIENTE",4218,3.0373774571577118E-3]
["MOVIMIENTO LIBERTARIO",5874,4.2298613521442388E-3]
["DEMÓCRATA",12952,9.3267218646530779E-3]
["RENOVACIÓN COSTARRICENSE",19313,1.3907271415383331E-2]
["INTEGRACIÓN NACIONAL",19934,1.4354452876003277E-2]
["FUERZA DEMOCRÁTICA",41710,3.0035328055487948E-2]
["LIBERACIÓN NACIONAL",618834,0.44562172625005581]
["UNIDAD SOCIAL CRISTIANA",652160,0.46961974453768929]
[]
[null,{"$f":"SUM(B8:B21)","v":1388698}]
[]
[]
[]
[]
[]
[]
[]
[]
[]
[]
[]
[]
[]
[]
[]
[]
[]
["FUENTE: Cuadro 3.12."]

{"sheet":"C3.13","index":47,"n_rows":46,"n_cols":9,"rows_kept":46,"cut":false,"hidden":false,"merged":[[6,6,7,6],[6,7,7,7],[35,0,36,0],[42,0,43,8],[5,0,7,0],[5,1,7,1],[6,2,7,2],[6,3,7,3],[6,8,7,8],[6,4,7,4],[6,5,7,5]]}
[]
["CUADRO 3.13 COSTA RICA: JUNTAS, ELECTORADO, VOTOS VÁLIDOS POR PARTIDO"]
["NULOS, BLANCOS Y ABSTENCIONISMO, POR PROVINCIA"]
["ELECCIONES PRESIDENCIALES, FEBRERO 2002"]
[]
["JUNTAS, ELECTORADO, VOTOS VÁLIDOS POR PARTIDO, NULOS, BLANCOS Y ABSTENCIONISMO","COSTA RICA","PROVINCIA"]
[null,null,"SAN JOSÉ","ALAJUELA","CARTAGO","HEREDIA","GUANACASTE","PUNTARENAS","LIMÓN"]
[]
[]
["JUNTAS",{"$f":"SUM(C10:I10)","v":6681},2348,1232,743,595,538,712,513]
[]
["ELECTORADO",{"$f":"SUM(C12:I12)","v":2279851},855823,410538,261642,215096,155064,206349,175339]
[]
["VOTOS RECIBIDOS",{"$f":"SUM(C14:I14)","v":1569418},{"$f":"C17+C32+C34","v":593197},{"$f":"D17+D32+D34","v":296330},189147,154244,108255,125873,102372]
["PARTICIPACIÓN 1/",{"$f":"B14/B12*100","v":68.838621471315449},{"$f":"C14/C12*100","v":69.313047207191204},72.180894338648301,72.292292521842825,71.709376278498908,69.813109425785484,61.000053307745617,58.385185269677599]
[]
["VOTOS VÁLIDOS",{"$f":"SUM(C17:I17)","v":1529845},{"$f":"SUM(C18:C30)","v":581046},289565,184097,151338,104895,120998,97906]
["ACCIÓN CIUDADANA",{"$f":"SUM(C18:I18)","v":400681},180492,71408,52195,50224,12702,19060,14600]
["ALIANZA NACIONAL CRISTIANA",1271,396,232,130,78,109,132,194]
["CAMBIO 2000 2/",3970,1268,558,692,380,167,309,596]
["FUERZA DEMOCRÁTICA",4121,1410,603,808,376,197,346,381]
["INDEPENDIENTE OBRERO",801,240,106,185,39,71,90,70]
["INTEGRACIÓN NACIONAL",6235,3279,747,916,543,172,261,317]
["LIBERACIÓN NACIONAL",475030,165637,98863,58605,40600,42589,40892,27844]
["MOVIMIENTO LIBERTARIO",25815,9143,4119,3429,2438,892,3038,2756]
["PATRIÓTICO NACIONAL",1680,742,204,217,183,57,111,166]
["RENOVACIÓN COSTARRICENSE",16404,4607,2729,1218,1591,1226,1997,3036]
["RESCATE NACIONAL",905,336,127,117,81,68,73,103]
["UNIDAD SOCIAL CRISTIANA",590277,212596,109415,65261,54592,46457,54418,47538]
["UNIÓN GENERAL",2655,900,454,324,213,188,271,305]
[]
["VOTOS NULOS",{"$f":"SUM(C32:I32)","v":32332},10120,5452,4192,2404,2661,3989,3514]
[]
["VOTOS BLANCOS",{"$f":"SUM(C34:I34)","v":7241},2031,1313,858,502,699,886,952]
[]
["ABSTENCIONISMO",{"$f":"SUM(C36:I36)","v":710433},262626,114208,72495,60852,46809,80476,72967]
[null,{"$f":"B36/B12*100","v":31.161378528684551},{"$f":"C36/C12*100","v":30.686952792808793},27.819105661351688,27.707707478157179,28.290623721501095,30.186890574214519,38.999946692254383,41.614814730322401]
[]
[]
["1/ El porcentaje de participación se calcula dividiendo la cantidad de votos recibidos entre el electorado inscrito."]
["2/ Coalición de los partidos Acción Democrática Alajuelense y Pueblo Unido."]
[]
["Nota: Dado que ninguna de las nóminas superó el 40% de los votos válidamente emitidos, se ordena una segunda votación entre las nóminas del Partido Unidad Social Cristiana y el Partido Liberación Nacional."]
[]
[]
["FUENTE: Tribunal Supremo de Elecciones."]

{"sheet":"G3.13","index":48,"n_rows":40,"n_cols":3,"rows_kept":40,"cut":false,"hidden":false,"merged":[[1,0,1,10],[2,0,2,10]]}
[]
["GRÁFICO 3.13 COSTA RICA:  PORCENTAJE DE VOTOS VÁLIDOS, POR PARTIDO"]
["ELECCIONES PRESIDENCIALES FEBRERO 2002"]
[]
[]
[]
[]
["INDEPENDIENTE OBRERO",801,{"$f":"+B8/$B$22","v":5.2358245443165808E-4}]
["RESCATE NACIONAL",905,{"$f":"+B9/$B$22","v":5.9156319757883971E-4}]
["ALIANZA NACIONAL CRISTIANA",1271,8.308031205775748E-4]
["PATRIÓTICO NACIONAL",1680,1.0981504662237024E-3]
["UNIÓN GENERAL",2655,1.7354699332285297E-3]
["CAMBIO 2000 2/",3970,2.5950341374452969E-3]
["FUERZA DEMOCRÁTICA",4121,2.6937369472070701E-3]
["INTEGRACIÓN NACIONAL",6235,4.0755762838718956E-3]
["RENOVACIÓN COSTARRICENSE",16404,1.0722654909484293E-2]
["MOVIMIENTO LIBERTARIO",25815,1.6874258503312426E-2]
["ACCIÓN CIUDADANA",400681,0.26190953985534482]
["LIBERACIÓN NACIONAL",475030,0.31050858093466988]
["UNIDAD SOCIAL CRISTIANA",590277,0.38584104925662405]
[]
[null,{"$f":"SUM(B8:B21)","v":1529845}]
[]
[]
[]
[]
[]
[]
[]
[]
[]
[]
[]
[]
[]
[]
[]
[]
[]
["FUENTE: Cuadro 3.13."]

{"sheet":"C3.14","index":49,"n_rows":31,"n_cols":9,"rows_kept":31,"cut":false,"hidden":false,"merged":[[5,0,7,0],[5,1,7,1],[6,2,7,2],[6,3,7,3],[6,8,7,8],[6,4,7,4],[6,5,7,5],[6,6,7,6],[6,7,7,7]]}
[]
["CUADRO 3.14 COSTA RICA: JUNTAS, ELECTORADO, VOTOS VÁLIDOS POR PARTIDO"]
["NULOS, BLANCOS Y ABSTENCIONISMO, POR PROVINCIA"]
["ELECCIONES PRESIDENCIALES, ABRIL 2002"]
[]
["JUNTAS, ELECTORADO, VOTOS VÁLIDOS POR PARTIDO, NULOS, BLANCOS Y ABSTENCIONISMO","COSTA RICA","PROVINCIA"]
[null,null,"SAN JOSÉ","ALAJUELA","CARTAGO","HEREDIA","GUANACASTE","PUNTARENAS","LIMÓN"]
[]
[]
["JUNTAS",{"$f":"SUM(C10:I10)","v":6681},2348,1232,743,595,538,712,513]
[]
["ELECTORADO",{"$f":"SUM(C12:I12)","v":2279851},855823,410538,261642,215096,155064,206349,175339]
[]
["VOTOS RECIBIDOS",{"$f":"SUM(C14:I14)","v":1379053},{"$f":"C16+C20+C22","v":504673},{"$f":"D16+D20+D22","v":263511},166031,131456,99367,116730,97285]
[]
["VOTOS VÁLIDOS",{"$f":"SUM(C16:I16)","v":1339480},{"$f":"SUM(C17:C18)","v":492522},256746,160981,128550,96007,111855,92819]
["LIBERACIÓN NACIONAL",{"$f":"SUM(C17:I17)","v":563202},208140,112826,71462,53837,41176,45100,30661]
["UNIDAD SOCIAL CRISTIANA",{"$f":"SUM(C18:I18)","v":776278},284382,143920,89519,74713,54831,66755,62158]
[]
["VOTOS NULOS",{"$f":"SUM(C20:I20)","v":32332},10120,5452,4192,2404,2661,3989,3514]
[]
["VOTOS BLANCOS",{"$f":"SUM(C22:I22)","v":7241},2031,1313,858,502,699,886,952]
[]
["ABSTENCIONISMO",{"$f":"SUM(C24:I24)","v":900798},351150,147027,95611,83640,55697,89619,78054]
[]
[]
["Presidente: Abel Pacheco De La Espriella."]
["Primera Vicepresidenta: María Lineth Saborío Chaverri."]
["Segundo Vicepresidente: Luis Fishman Zonzinski."]
[]
["FUENTE: Tribunal Supremo de Elecciones."]

{"sheet":"G3.14","index":50,"n_rows":36,"n_cols":2,"rows_kept":36,"cut":false,"hidden":false,"merged":[]}
[]
["GRÁFICO 3.14 COSTA RICA:  PORCENTAJE DE VOTOS VÁLIDOS, POR PARTIDO"]
["ELECCIONES ABRIL 2002"]
[]
[]
[]
[]
[]
["UNIDAD SOCIAL CRISTIANA",776278]
["LIBERACIÓN NACIONAL",563202]
[]
[]
[]
[]
[]
[]
[]
[]
[]
[]
[]
[]
[]
[]
[]
[]
[]
[]
[]
[]
[]
[]
[]
[]
[]
["FUENTE: Cuadro 3.14."]

{"sheet":"C3.15","index":51,"n_rows":49,"n_cols":9,"rows_kept":49,"cut":false,"hidden":false,"merged":[[6,8,7,8],[6,4,7,4],[6,5,7,5],[6,6,7,6],[6,7,7,7],[36,0,37,0],[5,0,7,0],[5,1,7,1],[6,2,7,2],[6,3,7,3]]}
[]
["CUADRO 3. 15 COSTA RICA: JUNTAS, ELECTORADO, VOTOS VÁLIDOS POR PARTIDO"]
["NULOS, BLANCOS Y ABSTENCIONISMO, POR PROVINCIA"]
["ELECCIONES PRESIDENCIALES 2006"]
[]
["JUNTAS, ELECTORADO, VOTOS VÁLIDOS POR PARTIDO, NULOS, BLANCOS Y ABSTENCIONISMO","COSTA RICA","PROVINCIA"]
[null,null,"SAN JOSÉ","ALAJUELA","CARTAGO","HEREDIA","GUANACASTE","PUNTARENAS","LIMÓN"]
[]
[]
["JUNTAS",{"$f":"SUM(C10:I10)","v":6163},2098,1156,685,550,515,664,495]
[]
["ELECTORADO",{"$f":"SUM(C12:I12)","v":2550613},936826,465871,295194,245993,174630,231511,200588]
[]
["VOTOS RECIBIDOS",{"$f":"SUM(C14:I14)","v":1662857},{"$f":"C17+C33+C35","v":621979},316782,206580,171679,108460,127138,110239]
["PARTICIPACIÓN 1/",{"$f":"B14/B12*100","v":65.194406207448949},{"$f":"C14/C12*100","v":66.392158202270224},67.997793380571011,69.981097176771883,69.790197282036488,62.108457882379888,54.916613033505968,54.95792370430933]
[]
["VOTOS VÁLIDOS",{"$f":"SUM(C17:I17)","v":1623992},{"$f":"SUM(C18:C31)","v":610999},{"$f":"SUM(D18:D31)","v":309580},202031,168635,104635,122604,105508]
["ACCIÓN CIUDADANA",{"$f":"SUM(C18:I18)","v":646382},258976,135750,77175,73692,32712,36886,31191]
["ALIANZA DEMOCRÁTICA NACIONALISTA",3670,1064,867,442,452,322,287,236]
["COALICIÓN IZQUIERDA UNIDA 2/",2291,878,290,248,203,94,165,413]
["FUERZA DEMOCRÁTICA",3020,1129,423,386,294,150,316,322]
["INTEGRACIÓN NACIONAL",5136,2952,512,651,446,135,168,272]
["LIBERACIÓN NACIONAL",664551,237873,125364,82504,66122,52210,57872,42606]
["MOVIMIENTO LIBERTARIO",137710,50515,20388,20908,13055,6779,11813,14252]
["PATRIA PRIMERO",17594,6873,3166,2616,1570,793,1311,1265]
["RENOVACIÓN COSTARRICENSE",15539,3886,2711,829,1175,2030,2047,2861]
["RESCATE NACIONAL",2430,1053,402,294,228,147,121,185]
["UNIDAD SOCIAL CRISTIANA",57655,16928,8425,6610,4717,6181,7987,6807]
["UNIÓN NACIONAL",26593,11874,4161,3574,2559,1194,1264,1967]
["UNIÓN PARA EL CAMBIO",39557,16422,6780,5623,3985,1677,2176,2894]
["UNIÓN PATRIÓTICA",1864,576,341,171,137,211,191,237]
[]
["VOTOS NULOS",{"$f":"SUM(C33:I33)","v":30422},8704,5651,3616,2418,2865,3519,3649]
[]
["VOTOS BLANCOS",{"$f":"SUM(C35:I35)","v":8443},2276,1551,933,626,960,1015,1082]
[]
["ABSTENCIONISMO",{"$f":"SUM(C37:I37)","v":887756},{"$f":"+C12-C14","v":314847},{"$f":"+D12-D14","v":149089},88614,74314,66170,104373,90349]
[null,{"$f":"B37/B12*100","v":34.805593792551051},{"$f":"C37/C12*100","v":33.607841797729783},32.002206619428989,30.018902823228117,30.20980271796352,37.891542117620105,45.083386966494032,45.04207629569067]
[]
[]
["1/ El porcentaje de participación se calcula dividiendo la cantidad de votos recibidos entre el electorado inscrito."]
["2/ Coalición de los partidos Vanguardia Popular y Revolucionario de los Trabajadores."]
[]
["Presidente: Oscar Arias Sánchez."]
["Primera Vicepresidenta: Laura Chinchilla Miranda."]
["Segundo Vicepresidente: Kevin Roberto Casas Zamora."]
[]
[]
["FUENTE: Tribunal Supremo de Elecciones."]

{"sheet":"G3.15","index":52,"n_rows":40,"n_cols":3,"rows_kept":40,"cut":false,"hidden":false,"merged":[[1,0,1,10],[2,0,2,10]]}
[]
["GRÁFICO 3.15 COSTA RICA:  PORCENTAJE DE VOTOS VÁLIDOS, POR PARTIDO"]
["ELECCIONES PRESIDENCIALES 2006"]
[]
[]
[]
[]
["COALICIÓN IZQUIERDA UNIDA",2291,{"$f":"+B8/$B$22","v":1.4107212350799759E-3}]
["RESCATE NACIONAL",2430,{"$f":"+B9/$B$22","v":1.4963127897181759E-3}]
["FUERZA DEMOCRÁTICA",3020,1.8596150719954285E-3]
["ALIANZA DEMOCRÁTICA NACIONALISTA",3670,2.2598633490805375E-3]
["INTEGRACIÓN NACIONAL",5136,3.1625771555524903E-3]
["RENOVACIÓN COSTARRICENSE",15539,9.5683968886546237E-3]
["PATRIA PRIMERO",17594,1.0833797210823698E-2]
["UNIÓN NACIONAL",26593,1.6375080665421995E-2]
["UNIÓN PARA EL CAMBIO",39557,2.4357878610239459E-2]
["UNIDAD SOCIAL CRISTIANA",57655,3.5502022177449147E-2]
["MOVIMIENTO LIBERTARIO",137710,8.4797215749831276E-2]
["ACCIÓN CIUDADANA",646382,0.39802043359819506]
["LIBERACIÓN NACIONAL",664551,0.40920829659259406]
["UNIÓN PATRIÓTICA",1864]
[null,{"$f":"SUM(B8:B21)","v":1623992}]
[]
[]
[]
[]
[]
[]
[]
[]
[]
[]
[]
[]
[]
[]
[]
[]
[]
["FUENTE: Cuadro 3.15."]

{"sheet":"C3.16","index":53,"n_rows":42,"n_cols":9,"rows_kept":42,"cut":false,"hidden":false,"merged":[[31,0,32,0],[6,8,7,8],[6,4,7,4],[6,5,7,5],[6,6,7,6],[6,7,7,7],[5,0,7,0],[5,1,7,1],[6,2,7,2],[6,3,7,3]]}
[]
["CUADRO 3.16 COSTA RICA: JUNTAS, ELECTORADO, VOTOS VÁLIDOS POR PARTIDO"]
["NULOS, BLANCOS Y ABSTENCIONISMO, POR PROVINCIA"]
["ELECCIONES PRESIDENCIALES 2010"]
[]
["JUNTAS, ELECTORADO, VOTOS VÁLIDOS POR PARTIDO, NULOS, BLANCOS Y ABSTENCIONISMO","COSTA RICA","PROVINCIA"]
[null,null,"SAN JOSÉ","ALAJUELA","CARTAGO","HEREDIA","GUANACASTE","PUNTARENAS","LIMÓN"]
[]
[]
["JUNTAS",{"$f":"SUM(C10:I10)","v":6617},2232,1252,746,604,550,702,531]
[]
["ELECTORADO",{"$f":"SUM(C12:I12)","v":2822491},1008177,524215,328782,278544,199237,259408,224128]
[]
["VOTOS RECIBIDOS",{"$f":"SUM(C14:I14)","v":1950847.0000000009},{"$f":"C17+C28+C30","v":704284.00000000105},374951.99999999983,243705.00000000012,203704.99999999988,131940,154540,137721]
["PARTICIPACIÓN 1/",{"$f":"B14/B12*100","v":69.117917470773193},{"$f":"C14/C12*100","v":69.857177856666141},71.526377535934643,74.12358340785083,73.132072491240123,66.222639369193473,59.574107197927582,61.447476442033121]
[]
["VOTOS VÁLIDOS",{"$f":"SUM(C17:I17)","v":1911333.0000000009},{"$f":"SUM(C18:C26)","v":692765.00000000105},367842.99999999983,239146.00000000012,200492.99999999988,128125,150167,132794]
["ACCESIBILIDAD SIN EXCLUSIÓN",36103.999999999985,14454,6759.99999999999,5026,3677,2038,1881,2268]
["ACCIÓN CIUDADANA",478877.00000000012,200382,97399,56095.000000000116,55425,20341,26014,23221]
["ALIANZA PATRIÓTICA",3158.0000000000005,870,659.00000000000057,388,288,305,303,345]
["FRENTE AMPLIO",6782.0000000000045,2536.0000000000055,829.99999999999886,937,905.00000000000057,373,519,681.99999999999943]
["INTEGRACIÓN NACIONAL",2049.0000000000009,970.00000000000091,275,240,165,97,134,168]
["LIBERACIÓN NACIONAL",896516.00000000093,322976.00000000105,166655,118926,93470.999999999869,65843,73431,55214]
["MOVIMIENTO LIBERTARIO",399787.99999999983,122116,80589.999999999811,46414,39016,29841,40078,41733]
["RENOVACIÓN COSTARRICENSE",13945,3852,2788,977,1164,1510,1131,2523]
["UNIDAD SOCIAL CRISTIANA",74113.999999999985,24609,11887,10143,6382,7777,6675.99999999999,6640]
[]
["VOTOS NULOS",{"$f":"SUM(C28:I28)","v":32554.999999999993},9674,5798,3763,2644,3063,3567.9999999999923,4045]
[]
["VOTOS BLANCOS",{"$f":"SUM(C30:I30)","v":6959},1845,1311,796,568,752,805,882]
[]
["ABSTENCIONISMO",{"$f":"SUM(C32:I32)","v":871643.99999999919},{"$f":"+C12-C14","v":303892.99999999895},{"$f":"+D12-D14","v":149263.00000000017},85076.999999999884,74839.000000000116,67297,104868,86407]
[null,{"$f":"B32/B12*100","v":30.88208252922681},{"$f":"C32/C12*100","v":30.142822143333852},28.47362246406535,25.87641659214917,26.86792750875988,33.777360630806527,40.425892802072411,38.552523557966879]
[]
[]
["1/ El porcentaje de participación se calcula dividiendo la cantidad de votos recibidos entre el electorado inscrito."]
[]
["Presidenta: Laura Chinchilla Miranda."]
["Primer Vicepresidente: Alfio Piva Mesén."]
["Segundo Vicepresidente: Luis Liberman Ginsburg."]
[]
["FUENTE: Tribunal Supremo de Elecciones."]

{"sheet":"G3.16","index":54,"n_rows":40,"n_cols":3,"rows_kept":40,"cut":false,"hidden":false,"merged":[[1,0,1,10],[2,0,2,10]]}
[]
["GRÁFICO 3.16 COSTA RICA:  PORCENTAJE DE VOTOS VÁLIDOS, POR PARTIDO"]
["ELECCIONES PRESIDENCIALES 2010"]
[]
[]
[]
[]
["INTEGRACIÓN NACIONAL",2049.0000000000009,{"$f":"+B8/$B$22","v":1.0720266955051789E-3}]
["ALIANZA PATRIÓTICA",3158.0000000000005,{"$f":"+B9/$B$22","v":1.6522500265521492E-3}]
["FRENTE AMPLIO",6782.0000000000045,3.5483089550591138E-3]
["RENOVACIÓN COSTARRICENSE",13945,7.2959552312443689E-3]
["ACCESIBILIDAD SIN EXCLUSIÓN",36103.999999999985,1.8889434755743749E-2]
["UNIDAD SOCIAL CRISTIANA",74113.999999999985,3.8776079312186809E-2]
["MOVIMIENTO LIBERTARIO",399787.99999999983,0.2091671100744871]
["ACCIÓN CIUDADANA",478877.00000000012,0.25054608485282254]
["LIBERACIÓN NACIONAL",896516.00000000093,0.46905275009639896]
[]
[]
[]
[]
[]
[null,{"$f":"SUM(B8:B21)","v":1911333.0000000009},{"$f":"SUM(C8:C21)","v":1}]
[]
[]
[]
[]
[]
[]
[]
[]
[]
[]
[]
[]
[]
[]
[]
[]
[]
["FUENTE: Cuadro 3.16."]

{"sheet":"C3.17","index":55,"n_rows":42,"n_cols":10,"rows_kept":42,"cut":false,"hidden":false,"merged":[[38,0,39,9],[5,8,6,8],[32,0,33,0],[0,0,0,9],[4,0,6,0],[4,1,6,1],[4,9,6,9],[5,2,6,2],[5,3,6,3],[5,4,6,4],[5,5,6,5],[5,6,6,6],[5,7,6,7]]}
[]
["CUADRO 3. 17 COSTA RICA: JUNTAS, ELECTORADO, VOTOS POR PARTIDO, NULOS, BLANCOS Y ABSTENCIONISMO, PARA PRESIDENCIA Y "]
["VICEPRESIDENCIAS DE LA REPÚBLICA, POR PROVINCIA Y EXTRANJERO, ELECCIONES 2 DE FEBRERO 2014"]
[]
["JUNTAS, ELECTORADO, VOTOS POR PARTIDO, NULOS, BLANCOS Y ABSTENCIONISMO","COSTA RICA","PROVINCIA",null,null,null,null,null,null,"EXTRANJERO"]
[null,null,"SAN JOSÉ","ALAJUELA","CARTAGO","HEREDIA","GUANACASTE","PUNTARENAS","LIMÓN"]
[]
[]
["JUNTAS",{"$f":"SUM(C9:J9)","v":6515},2104,1259,743,602,542,692,512,61]
[]
["ELECTORADO",{"$f":"SUM(C11:J11)","v":3078320.9999999991},1063060.9999999998,577492.99999999988,359985.00000000012,306900.99999999977,221688.00000000006,287254,249284.99999999997,12654.000000000002]
[]
["VOTOS RECIBIDOS",{"$f":"SUM(C13:J13)","v":2099219},{"$f":"C16+C30+C31","v":745771.00000000035},407822.99999999953,264532.00000000017,223952.00000000009,140137.99999999997,167515,146716.99999999994,2771]
["PARTICIPACIÓN 1/",{"$f":"B13/B11*100","v":68.193635426584848},{"$f":"C13/C11*100","v":70.153170890475764},70.619557293335092,73.484172951650777,72.972065910505421,63.214066616145182,58.315985155994341,58.855125659385834,21.898214003477161]
[]
["VOTOS VÁLIDOS",{"$f":"SUM(B17:B29)","v":2055472.0000000005},{"$f":"SUM(C17:C29)","v":733256.00000000035},399845.99999999953,258493.00000000015,220575.00000000009,136324.99999999997,162771,141488.99999999994,2717]
["ACCESIBILIDAD SIN EXCLUSIÓN",{"$f":"SUM(C17:J17)","v":10338.999999999996},3470.9999999999995,1729.0000000000005,1594.9999999999968,926,494.99999999999949,962.99999999999955,1157.0000000000005,2.9999999999999996]
["ACCIÓN CIUDADANA",{"$f":"SUM(C18:J18)","v":629866.00000000023},265637.00000000017,124171.99999999994,89965.000000000058,85093.000000000116,20277.000000000022,22956.000000000011,20618.999999999996,1147.0000000000002]
["AVANCE NACIONAL",4388,1767.0000000000005,639.00000000000011,513.99999999999989,341,271.00000000000023,344.99999999999989,505.99999999999943,5.0000000000000009]
["DE LOS TRABAJADORES",4897.0000000000018,1452.0000000000014,1059.0000000000014,743,476.99999999999989,283.9999999999996,356.99999999999977,518.99999999999989,6.0000000000000009]
["FRENTE AMPLIO",354478.99999999994,111108.99999999991,73332.999999999956,37968.999999999985,36437.000000000022,26099.000000000011,37761.999999999978,31367.000000000007,403]
["INTEGRACIÓN NACIONAL",3042.0000000000027,1333.0000000000027,458.00000000000017,440.00000000000011,210.00000000000003,152.99999999999989,245.99999999999974,200,2]
["LIBERACIÓN NACIONAL",610634.00000000012,209006.0000000002,119080.99999999984,71981.000000000044,56899.999999999956,55597.999999999978,55963.000000000029,41367.999999999978,737]
["MOVIMIENTO LIBERTARIO",233063.99999999991,73552.000000000131,41388.999999999854,29391.000000000018,21698.999999999982,17412.999999999975,23734.999999999967,25639.999999999989,245.00000000000009]
["NUEVA GENERACIÓN",5882,2221.0000000000009,863.00000000000057,892.99999999999943,700.99999999999886,247.00000000000011,449.00000000000023,504.00000000000006,4.0000000000000009]
["PATRIA NUEVA",30815.999999999993,10621.000000000005,8510.9999999999927,5491.9999999999927,2667.9999999999982,1212.0000000000002,1169.0000000000002,1112.0000000000011,31]
["RENOVACIÓN COSTARRICENSE",16720.999999999996,3856.9999999999945,2592.0000000000005,867.00000000000114,847,1853.9999999999995,1796.9999999999998,4902.0000000000027,5.0000000000000009]
["RESTAURACIÓN NACIONAL",27690.999999999985,10415.999999999987,4577,2286.0000000000009,2737.9999999999973,1732,3259.9999999999995,2666.0000000000009,16.000000000000007]
["UNIDAD SOCIAL CRISTIANA",123652.99999999999,38813.999999999935,21443.000000000029,16357.000000000005,11537.999999999993,10690.000000000005,13769.000000000016,10929,113.00000000000004]
["VOTOS NULOS",{"$f":"SUM(C30:J30)","v":38021.000000000036},11097.000000000033,7029.00000000001,5277.0000000000018,2982.0000000000023,3173.9999999999991,4007.9999999999955,4401.9999999999955,52]
["VOTOS BLANCOS",{"$f":"SUM(C31:J31)","v":5726.0000000000045},1418.0000000000005,948.00000000000205,762.00000000000057,395.0000000000004,639.00000000000091,735.99999999999989,826.00000000000023,2]
[]
["ABSTENCIONISMO",{"$f":"SUM(C33:J33)","v":979101.99999999953},{"$f":"C11-C13","v":317289.99999999942},{"$f":"D11-D13","v":169670.00000000035},95452.999999999942,82948.99999999968,81550.000000000087,119739,102568.00000000003,{"$f":"J11-J13","v":9883.0000000000018}]
[null,{"$f":"B33/B11*100","v":31.806364573415181},29.846829109524244,29.380442706664912,26.515827048349212,27.027934089494575,36.785933383854818,41.684014844005652,41.144874340614173,78.10178599652285]
[]
[]
["1/ Porcentaje de participación: se calcula dividiendo la cantidad de votos recibidos entre el electorado inscrito."]
[]
["Nota: Dado que ninguna de las nóminas superó el 40% de los votos válidamente emitidos, se ordena una segunda votación entre las nóminas del Partido Acción Ciudadana y el Partido Liberación Nacional."]
[]
[]
["FUENTE: Tribunal Supremo de Elecciones."]

{"sheet":"G3.17","index":56,"n_rows":40,"n_cols":3,"rows_kept":40,"cut":false,"hidden":false,"merged":[[1,0,1,10],[2,0,2,10]]}
[]
["GRÁFICO 3.17 COSTA RICA:  PORCENTAJE DE VOTOS VÁLIDOS, POR PARTIDO"]
["ELECCIONES PRESIDENCIALES FEBRERO 2014"]
[]
[]
[]
[]
["INTEGRACIÓN NACIONAL",3042.0000000000027,{"$f":"+B8/$B$22","v":1.4799520499427881E-3}]
["AVANCE NACIONAL",4388,{"$f":"+B9/$B$22","v":2.1347894790101738E-3}]
["DE LOS TRABAJADORES",4897.0000000000018,2.3824211665252563E-3]
["NUEVA GENERACIÓN",5882,2.8616298348992345E-3]
["ACCESIBILIDAD SIN EXCLUSIÓN",10338.999999999996,5.0299882460087004E-3]
["RENOVACIÓN COSTARRICENSE",16720.999999999996,8.1348712120622394E-3]
["RESTAURACIÓN NACIONAL",27690.999999999985,1.3471844909587668E-2]
["PATRIA NUEVA",30815.999999999993,1.4992176979302073E-2]
["UNIDAD SOCIAL CRISTIANA",123652.99999999999,6.0157958853246346E-2]
["MOVIMIENTO LIBERTARIO",233063.99999999991,0.11338709551869346]
["FRENTE AMPLIO",354478.99999999994,0.17245625335689316]
["LIBERACIÓN NACIONAL",610634.00000000012,0.2970772649785548]
["ACCIÓN CIUDADANA",629866.00000000023,0.30643375341527401]
[]
[null,{"$f":"SUM(B8:B21)","v":2055472.0000000002}]
[]
[]
[]
[]
[]
[]
[]
[]
[]
[]
[]
[]
[]
[]
[]
[]
[]
["FUENTE: Cuadro 3.17."]

{"sheet":"C3.18","index":57,"n_rows":35,"n_cols":10,"rows_kept":35,"cut":false,"hidden":false,"merged":[[1,0,1,9],[2,0,2,9],[24,0,25,0],[5,0,7,0],[5,1,7,1],[5,9,7,9],[6,2,7,2],[6,3,7,3],[6,4,7,4],[6,5,7,5],[6,6,7,6],[6,7,7,7],[6,8,7,8]]}
[]
["CUADRO 3.18 COSTA RICA: JUNTAS, ELECTORADO, VOTOS POR PARTIDO, NULOS, BLANCOS Y ABSTENCIONISMO, PARA PRESIDENCIA Y "]
["VICEPRESIDENCIAS DE LA REPÚBLICA, POR PROVINCIA Y EXTRANJERO, ELECCIONES 6 DE ABRIL 2014"]
[]
[]
["JUNTAS, ELECTORADO, VOTOS VÁLIDOS POR PARTIDO, NULOS, BLANCOS Y ABSTENCIONISMO","COSTA RICA","PROVINCIA",null,null,null,null,null,null,"EXTRANJERO"]
[null,null,"SAN JOSÉ","ALAJUELA","CARTAGO","HEREDIA","GUANACASTE","PUNTARENAS","LIMÓN"]
[]
[]
["JUNTAS",{"$f":"SUM(C10:J10)","v":6515},2104,1259,743,602,542,692,512,61]
[]
["ELECTORADO",{"$f":"SUM(C12:J12)","v":3078320.9999999991},1063060.9999999998,577492.99999999988,359985.00000000012,306900.99999999977,221688.00000000006,287254,249284.99999999997,12654.000000000002]
[]
["VOTOS RECIBIDOS",{"$f":"SUM(C14:J14)","v":1739235},{"$f":"C17+C21+C23","v":623428.00000000012},340420.99999999994,227285.00000000012,190608.99999999988,108848.99999999997,132008.00000000012,114687.99999999997,1946.9999999999998]
["PARTICIPACIÓN 1/",{"$f":"B14/B12*100","v":56.49946837902872},{"$f":"C14/C12*100","v":58.64461211539134},58.948073829466331,63.137352945261618,62.107650349787072,49.100086608206098,45.955147708996257,46.006779389052681,{"$f":"J14/J12*100","v":15.386439070649594}]
[]
["VOTOS VÁLIDOS",{"$f":"SUM(C17:J17)","v":1720921},{"$f":"SUM(C18:C19)","v":616149.00000000012},337561.99999999994,224882.00000000012,188508.99999999988,107810.99999999997,130819.00000000012,113273.99999999997,1914.9999999999998]
["ACCIÓN CIUDADANA",{"$f":"SUM(C18:J18)","v":1338321.0000000005},478669.00000000035,266437,180650.00000000009,152335.99999999988,75195.999999999971,95640.000000000087,87851.999999999956,1540.9999999999998]
["LIBERACIÓN NACIONAL",{"$f":"SUM(C19:J19)","v":382599.99999999988},137479.9999999998,71124.999999999956,44232.000000000044,36172.999999999993,32614.999999999993,35179.000000000029,25422.000000000015,374.00000000000006]
[]
["VOTOS NULOS",{"$f":"SUM(C21:J21)","v":15468.000000000005},6195.0000000000055,2401.9999999999977,2029.0000000000016,1796.0000000000002,864,991.00000000000011,1169.9999999999995,20.999999999999996]
[]
["VOTOS BLANCOS",{"$f":"SUM(C23:J23)","v":2846.0000000000009},1084.0000000000002,457.00000000000011,374.00000000000017,304,174,198,243.99999999999994,11.000000000000002]
[]
["ABSTENCIONISMO",{"$f":"SUM(C25:J25)","v":1339085.9999999995},{"$f":"+C12-C14","v":439632.99999999965},{"$f":"+D12-D14","v":237071.99999999994},132700,116291.99999999988,112839.00000000009,155245.99999999988,134597,{"$f":"+J12-J14","v":10707.000000000002}]
[null,{"$f":"B25/B12*100","v":43.500531620971302},41.355387884608668,41.051926170533662,36.862647054738382,37.892349650212928,50.899913391793895,54.044852291003743,53.993220610947311,84.613560929350413]
[]
[]
["1/ El porcentaje de participación se calcula dividiendo la cantidad de votos recibidos entre el electorado inscrito."]
[]
["Presidente: Luis Guillermo Solís Rivera"]
["Primer Vicepresidente: Helio Fallas Venegas"]
["Segunda Vicepresidenta: Ana Helena Chancón Echeverria"]
[]
["FUENTE: Tribunal Supremo de Elecciones."]

{"sheet":"G3.18","index":58,"n_rows":36,"n_cols":2,"rows_kept":36,"cut":false,"hidden":false,"merged":[]}
[]
["GRÁFICO 3.18 COSTA RICA:  PORCENTAJE DE VOTOS VÁLIDOS, POR PARTIDO"]
["ELECCIONES PRESIDENCIALES ABRIL 2014"]
[]
[]
[]
[]
[]
["ACCIÓN CIUDADANA",1338321.0000000005]
["LIBERACIÓN NACIONAL",382599.99999999988]
[]
[]
[]
[]
[]
[]
[]
[]
[]
[]
[]
[]
[]
[]
[]
[]
[]
[]
[]
[]
[]
[]
[]
[]
[]
["FUENTE: Cuadro 3.18."]

{"sheet":"C3.19","index":59,"n_rows":42,"n_cols":10,"rows_kept":42,"cut":false,"hidden":false,"merged":[[1,0,1,9],[32,0,33,0],[5,2,5,8],[38,0,39,9],[5,0,6,0],[5,1,6,1],[5,9,6,9]]}
[]
[]
["CUADRO 3.19 COSTA RICA: JUNTAS, ELECTORADO, VOTOS POR PARTIDO, NULOS, BLANCOS Y ABSTENCIONISMO, PARA PRESIDENCIA Y "]
["VICEPRESIDENCIAS DE LA REPÚBLICA, POR PROVINCIA Y EXTRANJERO, ELECCIONES 4 DE FEBRERO 2018"]
[]
["JUNTAS, ELECTORADO, VOTOS POR PARTIDO, NULOS, BLANCOS Y ABSTENCIONISMO","COSTA RICA","PROVINCIA",null,null,null,null,null,null,"EXTRANJERO"]
[null,null,"SAN JOSÉ","ALAJUELA","CARTAGO","HEREDIA","GUANACASTE","PUNTARENAS","LIMÓN"]
[]
["",{"$f":"SUM(C9:J9)","v":6612},2092,1266,740,613,565,716,550,70]
[]
["ELECTORADO",{"$f":"SUM(C11:J11)","v":3322329},1114778.9999999988,630990.00000000035,387905.00000000041,332859.00000000047,240637,310661.99999999977,272633.00000000012,31863.999999999993]
[]
["VOTOS RECIBIDOS",{"$f":"SUM(C13:J13)","v":2182764},{"$f":"C16+C30+C31","v":762421.99999999977},428247.00000000012,278545.00000000017,238376.99999999997,142829.99999999994,172337.99999999991,155574,4431]
["PARTICIPACIÓN 1/",{"$f":"B13/B11*100","v":65.699814798594602},{"$f":"C13/C11*100","v":68.392210474004315},67.869062901155303,71.807530194248557,71.615008156606734,59.354962038256765,55.474438457230058,57.063524958460619,13.905975395430584]
[]
["VOTOS VÁLIDOS",{"$f":"SUM(B17:B29)","v":2154697},755615.99999999977,423114.00000000012,274459.00000000017,236245.99999999997,139807.99999999994,169075.99999999991,151987,4391]
["ACCESIBILIDAD SIN EXCLUSIÓN",{"$f":"SUM(C17:J17)","v":7538.9999999999936},2338.9999999999923,1381.0000000000005,1060.9999999999995,579.99999999999966,527.99999999999966,654.99999999999977,989.0000000000008,6.0000000000000027]
["ACCIÓN CIUDADANA",{"$f":"SUM(C18:J18)","v":466129.00000000012},177642.99999999991,92385.000000000116,72528.000000000087,64448.999999999971,21088.999999999993,20329.999999999996,16049.999999999996,1654.9999999999998]
["ALIANZA DEMÓCRATA CRISTIANA",12638.000000000002,2659.0000000000009,1313.0000000000011,5920,681.99999999999966,438,607.00000000000011,1002.9999999999995,16.000000000000007]
["DE LOS TRABAJADORES",4350.9999999999991,1496.9999999999982,888.00000000000114,527.00000000000045,400.99999999999949,255.00000000000017,324.00000000000011,452.99999999999972,6.0000000000000009]
["FRENTE AMPLIO",16861.999999999985,5888.9999999999927,3176.9999999999955,2096.9999999999977,1895.9999999999984,941.99999999999955,1346.9999999999993,1433.9999999999993,80.000000000000014]
["INTEGRACIÓN NACIONAL",205602.00000000009,68058.000000000044,37462.000000000015,29839.000000000007,19075.000000000029,15653.000000000011,19462,15810.000000000002,243.00000000000003]
["LIBERACIÓN NACIONAL",401504.99999999983,135882.99999999965,76848.000000000073,55345.000000000065,41780.000000000036,32936.999999999978,31279.999999999993,26683.999999999996,748.00000000000034]
["MOVIMIENTO LIBERTARIO",21889.999999999985,7673.9999999999964,3846.9999999999959,2813.9999999999986,2410.0000000000014,1345.9999999999975,1804.9999999999975,1963.0000000000002,31.000000000000004]
["NUEVA GENERACIÓN",16329.000000000002,6395.0000000000018,3038.9999999999995,2360.9999999999986,2207.0000000000018,690.99999999999977,946.99999999999932,657.00000000000023,32]
["RENOVACIÓN COSTARRICENSE",12309,4048.0000000000023,2058.0000000000018,1954.9999999999968,1236,822.00000000000023,954.0000000000008,1215.0000000000002,21.000000000000007]
["REPUBLICANO SOCIAL CRISTIANO",106443.99999999988,34675.999999999935,23022.999999999949,17464.000000000015,8792.0000000000018,7265.9999999999955,8201.9999999999891,6978.0000000000073,43.000000000000007]
["RESTAURACIÓN NACIONAL",538503.99999999977,172974.99999999994,113233.99999999994,41211.000000000022,50033.000000000036,35732.999999999978,60095.999999999905,64710,512]
["UNIDAD SOCIAL CRISTIANA",344595.00000000012,135880.0000000002,64459.000000000073,41336.999999999956,42704.999999999913,22108.000000000011,23067.000000000018,14041.000000000009,998.00000000000023]
["VOTOS NULOS",{"$f":"SUM(C30:J30)","v":22974.000000000011},5643.0000000000073,4244,3401.0000000000064,1779.9999999999995,2392,2658.9999999999968,2817.9999999999995,37.000000000000007]
["VOTOS BLANCOS",{"$f":"SUM(C31:J31)","v":5093.0000000000027},1163.0000000000005,889.00000000000102,684.99999999999955,350.99999999999989,630.00000000000034,603.00000000000034,769.00000000000091,3.0000000000000004]
[]
["ABSTENCIONISMO",{"$f":"SUM(C33:J33)","v":1139565},{"$f":"C11-C13","v":352356.99999999907},{"$f":"D11-D13","v":202743.00000000023},109360.00000000023,94482.000000000495,97807.000000000058,138323.99999999985,117059.00000000012,27432.999999999993]
[null,34.300224751838321,31.592693980348741,32.158891089108998,28.199318454820581,28.382625102148669,40.641831238779211,44.531275145319789,42.923495162728237,86.096206344723683]
[]
[]
["1/ Porcentaje de participación: se calcula dividiendo la cantidad de votos recibidos entre el electorado inscrito."]
[]
["Nota: Dado que ninguna de las nóminas superó el 40% de los votos válidamente emitidos, se ordena una segunda votación entre las nóminas del Partido Acción Ciudadana y el Partido Restauración Nacional."]
[]
[]
["FUENTE: Tribunal Supremo de Elecciones."]

{"sheet":"G3.19","index":60,"n_rows":40,"n_cols":3,"rows_kept":40,"cut":false,"hidden":false,"merged":[[1,0,1,10],[2,0,2,10]]}
[]
["GRÁFICO 3.19 COSTA RICA:  PORCENTAJE DE VOTOS VÁLIDOS, POR PARTIDO"]
["ELECCIONES PRESIDENCIALES FEBRERO 2018"]
[]
[]
[]
[]
["DE LOS TRABAJADORES",4350.9999999999991,{"$f":"+B8/$B$22","v":2.0193094435087622E-3}]
["ACCESIBILIDAD SIN EXCLUSIÓN",7538.9999999999936,{"$f":"+B9/$B$22","v":3.4988678222506431E-3}]
["RENOVACIÓN COSTARRICENSE",12309,5.7126361618362121E-3]
["ALIANZA DEMÓCRATA CRISTIANA",12638.000000000002,5.8653258439585717E-3]
["NUEVA GENERACIÓN",16329.000000000002,7.5783277184680734E-3]
["FRENTE AMPLIO",16861.999999999985,7.8256942855538317E-3]
["MOVIMIENTO LIBERTARIO",21889.999999999985,1.0159201038475472E-2]
["REPUBLICANO SOCIAL CRISTIANO",106443.99999999988,4.9400913446298891E-2]
["INTEGRACIÓN NACIONAL",205602.00000000009,9.5420376971797005E-2]
["UNIDAD SOCIAL CRISTIANA",344595.00000000012,0.15992735869590949]
["LIBERACIÓN NACIONAL",401504.99999999983,0.18633942498643652]
["ACCIÓN CIUDADANA",466129.00000000012,0.216331577015237]
["RESTAURACIÓN NACIONAL",538503.99999999977,0.2499209865702694]
[]
[null,{"$f":"SUM(B8:B21)","v":2154697}]
[]
[]
[]
[]
[]
[]
[]
[]
[]
[]
[]
[]
[]
[]
[]
[]
[]
["FUENTE: Cuadro 3.19."]

{"sheet":"C3.20","index":61,"n_rows":33,"n_cols":10,"rows_kept":33,"cut":false,"hidden":false,"merged":[[22,0,23,0],[4,0,6,0],[4,1,6,1],[1,0,1,9],[2,0,2,9],[4,9,6,9],[5,2,6,2],[5,3,6,3],[5,4,6,4],[5,5,6,5],[5,6,6,6],[5,7,6,7],[5,8,6,8]]}
[]
["CUADRO 3.20 COSTA RICA: JUNTAS, ELECTORADO, VOTOS POR PARTIDO, NULOS, BLANCOS Y ABSTENCIONISMO, PARA PRESIDENCIA Y "]
["VICEPRESIDENCIAS DE LA REPÚBLICA, POR PROVINCIA Y EXTRANJERO, ELECCIONES 1 DE ABRIL 2018"]
[]
["JUNTAS, ELECTORADO, VOTOS POR PARTIDO, NULOS, BLANCOS Y ABSTENCIONISMO","COSTA RICA","PROVINCIA",null,null,null,null,null,null,"EXTRANJERO"]
[null,null,"SAN JOSÉ","ALAJUELA","CARTAGO","HEREDIA","GUANACASTE","PUNTARENAS","LIMÓN"]
[]
[]
["JUNTAS",6612,2092,1266,740,613,565,716,550,70]
[]
["ELECTORADO",3322329.0000000009,1114778.9999999988,630990.00000000035,387905.00000000041,332859.00000000047,240637,310661.99999999977,272633.00000000012,31863.999999999993]
[]
["VOTOS RECIBIDOS",2207556.0000000005,769440.99999999942,433414.00000000052,286482,243160.00000000006,142530.0000000002,174764.00000000006,152946.00000000006,4819]
["PARTICIPACIÓN 1/",{"$f":"B13/B11*100","v":66.446038306260462},{"$f":"C13/C11*100","v":69.021841997382467},68.68793483256475,73.853649733826501,73.051952929017901,59.230292930846126,56.255351475236814,56.09959175888465,15.123650514687426]
[]
["VOTOS VÁLIDOS",2183296.0000000061,761096.99999999907,428799.00000000017,283264.99999999994,240860.00000000006,140998.99999999997,172623.99999999991,150876,4775.9999999999982]
["ACCIÓN CIUDADANA",1322907.9999999944,473863.99999999977,256282.00000000006,211385.99999999971,162040.99999999983,82595.999999999971,77754.999999999913,55276.999999999964,3707.0000000000009]
["RESTAURACIÓN NACIONAL",860388.0000000014,287233,172517.00000000023,71879.000000000015,78819.000000000015,58403.000000000044,94868.999999999927,95598.999999999898,1069]
[]
["BLANCOS",4536.0000000000018,1580.9999999999984,935.99999999999955,606.99999999999955,459.00000000000057,224.99999999999994,401.99999999999937,316,10.000000000000007]
["NULOS",19724.000000000004,6762.9999999999955,3678.9999999999977,2610.0000000000027,1841.0000000000023,1306.0000000000002,1737.9999999999993,1754.0000000000007,32.999999999999993]
[]
["ABSTENCIONISMO",{"$f":"B11-B13","v":1114773.0000000005},{"$f":"C11-C13","v":345337.99999999942},197575.99999999983,101423.00000000041,89699.000000000407,98106.999999999796,135897.99999999971,119687.00000000006,27044.999999999993]
[null,33.554001693389338,30.962923484544667,31.340356435643642,26.153394064061118,26.945632841417076,40.766507081587896,43.750442557629029,43.887647622087449,84.878722269289838]
[]
[]
["1/ El porcentaje de participación se calcula dividiendo la cantidad de votos recibidos entre el electorado inscrito."]
[]
["Presidente: Carlos Andrés Alvarado Quesada"]
["Primera Vicepresidenta: Epsy Alejandra Campbell Barr"]
["Segundo Vicepresidente: Marvin Rafael Rodríguez Cordero"]
[]
["FUENTE: Tribunal Supremo de Elecciones."]

{"sheet":"G3.20","index":62,"n_rows":36,"n_cols":2,"rows_kept":36,"cut":false,"hidden":false,"merged":[]}
[]
["GRÁFICO 3.20 COSTA RICA:  PORCENTAJE DE VOTOS VÁLIDOS, POR PARTIDO"]
["ELECCIONES ABRIL 2018"]
[]
[]
[]
[]
[]
["ACCIÓN CIUDADANA",1322908]
["RESTAURACIÓN NACIONAL",860388]
[]
[]
[]
[]
[]
[]
[]
[]
[]
[]
[]
[]
[]
[]
[]
[]
[]
[]
[]
[]
[]
[]
[]
[]
[]
["FUENTE: Cuadro 3.20."]