{"text_format":"1","workbook":"xlsx","n_sheets":99,"sheets":["C1","G1","C2","G2","C3","G3","C4","C5","C6","C7","C8","C9","C10","C11","G4","G5","G6","G7","C12","C13","C14","C15","C16","C17","C18","C19","C20","C21","C22","C23","C24","C25","C26","C27","C28","C29","C30","C31","C32","C33","C34","C35","C36","C37","C38","C39","C40","C41","C42","C43","C44","C45","C46","C47","C48","C49","C50","C51","C52","C53","C54","C55","C56","C57","C58","C59","C60","C61","C62","C63","C64","C65","C66","C67","C68","C69","C70","C71","C72","C73","C74","C75","C76","C77","C78","C79","C80","C81","C82","C83","C84","C85","C86","C87","C88","C89","C90","C91","C92"],"not_rendered":{"charts":7,"images":22,"macros":1,"external_links":0,"defined_names":283,"comments":0,"pivot_tables":0},"unopened":[],"bounds":{"document_bytes":16777216,"sheet_cells":100000,"rows_first":2000,"rows_last":500,"rows_between":2000,"halvings":0,"cell_chars":16384,"cell_head_chars":4096},"cells_cut":0,"cells_raw":0,"read":"whole","date_system":"1900"}

{"sheet":"C1","index":0,"n_rows":30,"n_cols":5,"rows_kept":30,"cut":false,"hidden":false,"merged":[[23,0,23,4],[5,0,6,0],[5,1,5,4],[21,0,22,4],[24,0,24,4]]}
[]
["CUADRO 1 COSTA RICA: JUNTAS, ELECTORADO,VOTOS RECIBIDOS, NULOS, BLANCOS"]
["ABSTENCIONISMO, DENSIDAD ELECTORAL POR KM2 Y RELACIÓN CON POBLACIÓN"]
["TOTAL DEL PAÍS, ELECCIONES MUNICIPALES 2002 - 2016"]
[]
["INDICADORES","AÑO ELECTORAL"]
[null,2002,2006,2010,2016]
[]
["JUNTAS",6819,4852,5250,5630]
["ELECTORADO",2331459,2603770,2865509,3178364]
["VOTOS RECIBIDOS",{"$f":"+B10-B16","v":531659},{"$f":"+C10-C16","v":620614},{"$f":"+D10-D16","v":799171},1125556]
["VOTOS VÁLIDOS",{"$f":"+B11-B13-B14","v":513691},{"$f":"+C11-C13-C14","v":605195},{"$f":"+D11-D13-D14","v":782354},1096563]
["VOTOS NULOS",12940,11064,13281,21886]
["VOTOS BLANCOS",5028,4355,3536,7107]
["ABSTENCIONISMO"]
["ABSOLUTO",1799800,1983156,2066338,{"$f":"+E10-E11","v":2052808}]
["RELATIVO",{"$f":"+B16/B10*100","v":77.196296396376681},{"$f":"+C16/C10*100","v":76.164791821090176},{"$f":"+D16/D10*100","v":72.110679114949562},{"$f":"+E16/E10*100","v":64.586938437510625}]
["DENSIDAD ELECTORAL POR KM2  1/",{"$f":"+B10/$B$30","v":45.625420743639921},{"$f":"+C10/$B$30","v":50.954403131115463},{"$f":"+D10/$B$30","v":56.076497064579257},{"$f":"+E10/$B$30","v":62.198904109589044}]
["RELACIÓN CON LA POBLACIÓN 2/",{"$f":"+B10/B28*100","v":57.961441725165699},{"$f":"+C10/C28*100","v":60.85485722619439},{"$f":"+D10/D28*100","v":63.201940759973652},{"$f":"+E10/E28*100","v":64.992175577696997}]
[]
[]
["1/ El área de Costa Rica es de 51.100 Km2 de acuerdo con información del Instituto Geográfico Nacional."]
[]
["2/ Estimaciones y proyecciones de población distritales por sexo y grupos de edades 2000 – 2025,  Instituto Nacional de Estadística y Censos (INEC) Setiembre 2014."]
["Fuente: Cómputo de Votos Elecciones Municipales  2002, 2006, 2010 y 2016."]
[]
[]
["POBLACIÓN",4022431,4278656,4533894,4890379.4522162471]
[]
["TERRITORIO",51100]

{"sheet":"G1","index":1,"n_rows":30,"n_cols":1,"rows_kept":30,"cut":false,"hidden":false,"merged":[]}
[]
["GRÁFICO 1"]
["COSTA RICA: ELECTORADO, VOTOS RECIBIDOS Y ABSTENCIONISMO"]
["ELECCIONES MUNICIPALES 2002 - 2016"]
[]
[]
[]
[]
[]
[]
[]
[]
[]
[]
[]
[]
[]
[]
[]
[]
[]
[]
[]
[]
[]
[]
[]
[]
[]
["FUENTE: Cuadro 1."]

{"sheet":"C2","index":2,"n_rows":19,"n_cols":5,"rows_kept":19,"cut":false,"hidden":false,"merged":[[4,0,5,0],[4,1,4,4],[1,0,1,4],[2,0,2,4],[18,0,18,4]]}
[]
["CUADRO 2 COSTA RICA: PORCENTAJE DE ABSTENCIONISMO, SEGÚN PROVINCIA"]
["ELECCIONES MUNICIPALES 2002 - 2016"]
[]
["PROVINCIA","AÑO ELECTORAL"]
[null,2002,2006,2010,2016]
[]
["COSTA RICA",{"$f":"'C1'!B16/'C1'!B10*100","v":77.196296396376681},{"$f":"'C1'!C16/'C1'!C10*100","v":76.164791821090176},{"$f":"'C1'!D16/'C1'!D10*100","v":72.110679114949562},64.586938437510625]
[]
["SAN JOSÉ",{"$f":"713319/871949*100","v":81.807422223088736},{"$f":"769006/952561*100","v":80.730367923943973},{"$f":"780835/1016678*100","v":76.802586462970581},69.718880960887262]
["ALAJUELA",{"$f":"307916/421540*100","v":73.045499833942202},{"$f":"351569/476942*100","v":73.713155897362782},{"$f":"371959/533285*100","v":69.748633469908199},61.979112349339246]
["CARTAGO",{"$f":"211556/268172*100","v":78.888176245096432},{"$f":"230890/301688*100","v":76.532709289066844},{"$f":"242239/334473*100","v":72.424082063425161},63.380635506026351]
["HEREDIA",{"$f":"178412/220983*100","v":80.735622197182593},{"$f":"193718/251999*100","v":76.87252727193362},{"$f":"208512/283771*100","v":73.478967195379369},65.211434148538828]
["GUANACASTE",{"$f":"99930/158595*100","v":63.009552634067909},{"$f":"116358/178788*100","v":65.08154909725485},{"$f":"122101/203614*100","v":59.966898150421876},55.934176251179139]
["PUNTARENAS",{"$f":"150389/210252*100","v":71.527975952666324},{"$f":"167528/236660*100","v":70.788472914729994},{"$f":"176372/265197*100","v":66.506031365362347},61.235913751386903]
[" LIMÓN",{"$f":"138278/179968*100","v":76.83477062588905},{"$f":"154087/205132*100","v":75.116022853577221},{"$f":"164320/228491*100","v":71.915305198016554},61.684414401310605]
[]
[]
["Fuente: Cómputo de Votos Elecciones Municipales  2002, 2006, 2010 y 2016."]

{"sheet":"G2","index":3,"n_rows":25,"n_cols":1,"rows_kept":25,"cut":false,"hidden":false,"merged":[]}
[]
["GRÁFICO 2"]
["COSTA RICA: PORCENTAJE DE ABSTENCIONISMO"]
["ELECCIONES MUNICIPALES 2002 - 2016"]
[]
[]
[]
[]
[]
[]
[]
[]
[]
[]
[]
[]
[]
[]
[]
[]
[]
[]
[]
[]
["FUENTE: Cuadro 2."]

{"sheet":"C3","index":4,"n_rows":29,"n_cols":10,"rows_kept":29,"cut":false,"hidden":false,"merged":[[20,0,20,4],[19,0,19,4],[5,0,6,0],[5,1,5,4],[1,0,1,4],[2,0,2,4],[3,0,3,4]]}
[]
["CUADRO 3 COSTA RICA: PROPORCIÓN DEL ELECTORADO INSCRITO"]
["RESPECTO A LA POBLACIÓN DEL PAÍS1/, SEGÚN PROVINCIA"]
["ELECCIONES MUNICIPALES 2002 - 2016"]
[]
["PROVINCIA","AÑO ELECTORAL"]
[null,2002,2006,2010,2016,"POBLACIÓN",2002,2006,2010,2016]
[]
["COSTA RICA",{"$f":"+G21/G9*100","v":57.961513773031506},{"$f":"+H21/H9*100","v":60.854899894896832},{"$f":"+I21/I9*100","v":63.201940759973652},{"$f":"+J21/J9*100","v":64.992274616327762},null,{"$f":"SUM(G11:G17)","v":4022426},{"$f":"SUM(H11:H17)","v":4278653},{"$f":"SUM(I11:I17)","v":4533894},{"$f":"SUM(J11:J17)","v":4890372}]
[]
["SAN JOSÉ",{"$f":"+G23/G11*100","v":62.169810513586896},65.301915468741754,67.155154419904832,67.748091365568058,"SAN JOSÉ",1402528,1458703,1513924,1607170]
["ALAJUELA",55.196777809203567,57.707208591555094,59.991922855394364,61.956384618619254,"ALAJUELA",763704,826486,888928,975023]
["CARTAGO",59.151325860342418,63.407272895412724,67.224808258164103,71.17613044106794,"CARTAGO",453366,475794,497544,525724]
["HEREDIA",57.999569562843824,60.350657872678767,62.512060905922731,64.216711362883061,"HEREDIA",381008,417558,453946,497805]
["GUANACASTE",55.950087843701709,57.605351084361423,60.37282697969821,62.228744530461121,"GUANACASTE",283458,310367,337261,371375]
["PUNTARENAS",55.457317394836515,58.174291810467736,60.793209055814842,63.093395633637108,"PUNTARENAS",379124,406812,436228,474262]
[" LIMÓN",50.097150078777851,53.568639944846751,56.269839901690133,59.509399493864649," LIMÓN",359238,382933,406063,439013]
[]
[]
["1/ Estimaciones y proyecciones de población distritales por sexo y grupos de edades 2000 – 2025,  Instituto Nacional de Estadística y Censos (INEC) Setiembre 2014."]
["Fuente: Cómputo de Votos Elecciones Municipales  2002, 2006, 2010 y 2016.",null,null,null,null,"ELECTORES/AS",{"$f":"SUM(G23:G29)","v":2331459},{"$f":"SUM(H23:H29)","v":2603770},{"$f":"SUM(I23:I29)","v":2865509},{"$f":"SUM(J23:J29)","v":3178364}]
[]
[null,null,null,null,null,"SAN JOSÉ",871949,952561,1016678,1088827]
[null,null,null,null,null,"ALAJUELA",421540,476942,533285,604089]
[null,null,null,null,null,"CARTAGO",268172,301688,334473,374190]
[null,null,null,null,null,"HEREDIA",220983,251999,283771,319674]
[null,null,null,null,null,"GUANACASTE",158595,178788,203614,231102]
[null,null,null,null,null,"PUNTARENAS",210252,236660,265197,299228]
[null,null,null,null,null," LIMÓN",179968,205132,228491,261254]

{"sheet":"G3","index":5,"n_rows":29,"n_cols":1,"rows_kept":29,"cut":false,"hidden":false,"merged":[[2,0,2,6],[3,0,3,6]]}
[]
["GRÁFICO 3"]
["COSTA RICA: PROPORCIÓN DEL ELECTORADO INSCRITO, RESPECTO A LA "]
["POBLACIÓN DEL PAÍS, ELECCIONES MUNICIPALES 2002 - 2016"]
[]
[]
[]
[]
[]
[]
[]
[]
[]
[]
[]
[]
[]
[]
[]
[]
[]
[]
[]
[]
[]
[]
[]
[]
["FUENTE: Cuadro 3."]

{"sheet":"C4","index":6,"n_rows":99,"n_cols":5,"rows_kept":99,"cut":false,"hidden":false,"merged":[[98,0,98,4],[4,0,6,0],[4,1,4,4],[5,1,6,1],[5,2,6,2],[5,3,6,3],[5,4,6,4]]}
[]
["CUADRO 4 COSTA RICA: PORCENTAJE DE PARTICIPACIÓN, SEGÚN PROVINCIA Y"]
["CANTÓN, ELECCIONES MUNICIPALES 2002 - 2016 "]
[]
["PROVINCIA Y CANTÓN ","PARTCIPACIÓN"]
[null,2002,2006,2010,2016]
[null,"%","%","%"]
[]
["COSTA RICA",22.803703603623308,23.835208178909813,27.889320885050438,35.413061562489382]
["SAN JOSÉ",18.192577776911264,19.26963207605602,23.197413537029423,30.281119039112731]
["SAN JOSÉ",17.120942081051069,11.880913875213324,18.353566076384887,26.392641638107406]
["ESCAZÚ",20.826582704123741,22.435512897420516,27.226965404925235,38.895558223289314]
["DESAMPARADOS",12.593170892057362,15.077067347409628,15.708656254960282,24.340080454632528]
["PURISCAL",29.210895253354696,39.604319811235136,31.731743907878197,38.087254437438496]
["TARRAZÚ",28.130138595254873,34.08223823654091,36.218914845516203,39.086380140167186]
["ASERRÍ",22.475592040809435,23.09828365484033,29.242875372182048,28.274492920015309]
["MORA",28.073227929495424,31.092161364381766,35.335668753230344,40.699797660760993]
["GOICOECHEA",12.293580382612337,15.211236933797908,18.716272130727184,24.265170670037929]
["SANTA ANA",27.383298879861545,35.626759397251199,30.492824165205253,42.78672062806195]
["ALAJUELITA",13.203615501190736,16.783030303030301,19.373371634711738,30.47386120452461]
["VÁZQUEZ DE CORONADO",24.791752820936967,25.750493663608871,26.146058344788464,30.355896720167479]
["ACOSTA",33.888086949138149,33.150197322603105,34.589661418419951,40.510356875467927]
["TIBÁS",13.930144040600045,12.721440285461982,18.051161529422398,24.356926169918687]
["MORAVIA",14.553934820712398,17.405242315670375,20.773915626856805,28.964200257684521]
["MONTES DE OCA",16.230996676871548,19.074152384269048,20.187188525586482,31.20167987019185]
["TURRUBARES",62.325719371106494,77.653927813163477,67.327442082636736,64.317573595004461]
["DOTA",24.94974874371859,34.333408526956916,43.362282878411911,55.338541666666664]
["CURRIDABAT",17.990174908227168,18.157384987893462,23.047915819897934,32.612863131728076]
["PÉREZ ZELEDÓN",23.62273315207349,28.117560039756835,36.277233364878754,37.463406550917824]
["LEÓN CORTÉS CASTRO",40.596968759665948,52.429316497392264,50.914222604000493,42.834994462901435]
["ALAJUELA",26.954500166057787,26.286844102637218,30.25136653009179,38.020887650660747]
["ALAJUELA",20.039954337899545,16.857883166823989,21.143639293325403,29.399487518598118]
["SAN RAMÓN",25.873257584631602,27.122287145242069,26.26320773987484,37.177841414041673]
["GRECIA",22.184558357313563,29.169753758988886,28.822536979636677,37.678139990896042]
["SAN MATEO",38.65336658354115,48.221343873517789,54.107796964939823,61.924398625429554]
["ATENAS",29.6243798724309,34.851534977352792,47.151432778344095,49.061594018615537]
["NARANJO",29.871147483893434,26.630456019694428,34.94951657212173,42.417453978766922]
["PALMARES",38.988605425027728,35.039247860215532,34.445980643887026,45.117402578949239]
["POÁS",40.028198801550936,29.987058606026988,21.680469478418253,43.34951689660145]
["OROTINA",26.357860217257635,28.207178393745558,37.103373735814102,43.788104592873594]
["SAN CARLOS",28.04492487428864,28.568084885051491,36.027293575390594,41.608846908829413]
["ZARCERO",37.845346504090138,39.508242525845212,57.481500062711653,54.260395364689842]
["VALVERDE VEGA",40.730114760585671,47.186222492824214,46.080037444418444,47.649211711711715]
["UPALA",40.862546681122758,29.174156709315852,35.647107400100928,41.661022051629416]
["LOS CHILES",33.685234060286149,44.736193293885599,45.915828194309206,43.346414555833036]
["GUATUSO",39.988256018790366,39.347911483566847,42.648044692737429,45.873412851096575]
["CARTAGO",21.111823754903568,23.467290710933149,27.57591793657485,36.619364493973649]
["CARTAGO",15.2333728328022,21.591189790037053,23.181119296690028,35.834089040689541]
["PARAÍSO",25.849491265118061,23.119878774273207,35.616025705392104,42.727577348374844]
["LA UNIÓN",17.953118550542026,20.722592945662534,21.769340005409791,28.549444370459153]
["JIMÉNEZ",44.690821808206657,37.066473988439306,52.575471698113205,55.89418714151185]
["TURRIALBA",24.478717121700814,24.455674090710584,31.059263255240445,36.45544731432657]
["ALVARADO",38.729689807976364,25.367886443547338,41.520064390019549,48.372558838257383]
["OREAMUNO",19.674206617150574,28.20380474856216,26.550488599348533,34.641794460975049]
["EL GUARCO",24.419782870928831,24.149346295675496,25.889521598781329,39.827420901246398]
["HEREDIA",19.26437780281741,23.12747272806638,26.521032804620624,34.788565851461179]
["HEREDIA",11.097463436928702,14.881157863782235,18.04676882703032,27.473526580382927]
["BARVA",27.348764831744798,33.208753789294462,36.356707317073173,35.752201137916785]
["SANTO DOMINGO",20.04150728412143,23.26923076923077,31.908729900397109,36.108784107228338]
["SANTA BÁRBARA",17.76288960093213,24.816416859470877,26.575390556433209,36.963118580765638]
["SAN RAFAEL",16.749385007120971,17.366809089877869,19.964114022614936,32.480696419521209]
["SAN ISIDRO",20.046221864951768,25.052502625131257,35.051860890787069,44.421933206979936]
["BELÉN",28.857460670586367,32.261663993304971,36.722562883243647,44.74546161105868]
["FLORES",26.804324534917694,30.881979157841226,36.421771673570234,44.460467740924194]
["SAN PABLO",22.551134250650801,27.402522568666367,31.04181431608788,36.930228145899541]
["SARAPIQUÍ",30.717663565972043,32.222565961020024,25.964609084419731,38.093736201349905]
["GUANACASTE",36.990447365932091,34.91845090274515,40.033101849578124,44.065823748820861]
["LIBERIA",17.774639727713808,24.341392440330619,28.806519035902323,31.183519903386131]
["NICOYA",40.447588694708088,35.547355473554738,36.266786285009388,45.302903935097426]
["SANTA CRUZ",43.531702103294272,39.394345437491623,38.186709867792985,45.896733617366607]
["BAGACES",24.991514877248559,33.296179957442497,35.669186305024454,37.965868217647511]
["CARRILLO",40.969976905311775,35.02407152682256,44.049875311720697,46.005949045135146]
["CAÑAS",35.129325289508358,24.504856818468525,35.897140221402211,37.094151586677157]
["ABANGARES",35.81964640652788,45.486241990199773,55.104990223582419,55.458185389438697]
["TILARÁN",42.339683391467666,39.05106487953293,45.037192877000528,56.750102585145669]
["NANDAYURE",54.177088544272131,61.012620192307686,65.188943784216846,57.767576709350088]
["LA CRUZ",44.555916199468868,44.623655913978496,47.959404016411142,47.357723577235774]
["HOJANCHA",67.302769373981846,25.055383252104562,70.71693690173862,63.576503205683586]
["PUNTARENAS",28.472024047333676,29.211527085270006,33.493968634637646,38.764086248613097]
["PUNTARENAS",20.926227454909821,26.163873370577278,28.857557160982939,35.358421664176802]
["ESPARZA",39.850673365431582,39.164331830917284,43.213811420982736,48.41595572976712]
["BUENOS AIRES",30.760443053692942,26.371022342586325,31.51285046728972,34.218098347935729]
["MONTES DE ORO",49.919999999999995,57.077334692317493,48.491428571428571,65.335479328035404]
["OSA",28.400783289817234,26.319599445014173,38.185812258894124,44.415657826558011]
["QUEPOS",29.803593815294612,32.735519888346126,40.933325345953392,43.472709862751358]
["GOLFITO",23.228774985157333,23.148065807025343,30.472840641112754,33.749606464476862]
["COTO BRUS",28.984497474307613,27.743741631841601,32.904383687184968,36.253660577325334]
["PARRITA",45.109157924581801,49.184749295083982,57.82528641571195,47.691626052281791]
["CORREDORES",26.01260543145797,21.297275315168768,22.42983963344788,32.317779810917962]
["GARABITO",52.08473436449227,43.705898955687275,39.077558513079396,45.326761591821835]
["LIMÓN",23.165229374110954,24.883977146422794,28.084694801983446,38.315585598689403]
["LIMÓN",14.978838601441263,18.050964187327821,23.972858464685164,39.753557063096594]
["POCOCÍ",20.356816921067232,23.632590315142199,24.480110909672604,33.381103490633635]
["SIQUIRRES",24.328172922447788,21.841937539834287,27.26956924502084,38.169075552589014]
["TALAMANCA",47.807255008121281,53.689855729284687,46.66839177125113,47.988520740933993]
["MATINA",37.125787815126046,37.33897900763359,42.85480259924644,50.875263057202979]
["GUÁCIMO",27.000948184505553,24.084404559786563,27.834613915184448,34.549658585931574]
[]
["Fuente: Cómputo de Votos Elecciones Municipales  2002, 2006, 2010 y 2016."]

{"sheet":"C5","index":7,"n_rows":99,"n_cols":5,"rows_kept":99,"cut":false,"hidden":false,"merged":[[98,0,98,4],[4,0,6,0],[5,2,6,2],[5,1,6,1],[5,4,6,4],[5,3,6,3]]}
[]
["CUADRO 5 COSTA RICA: PORCENTAJE DE ABSTENCIONISMO, SEGÚN PROVINCIA Y "]
["CANTÓN, ELECCIONES MUNICIPALES 2002 - 2016 "]
[]
["PROVINCIA Y CANTÓN ","ABSTENCIONISMO"]
[null,2002,2006,2010,2016]
[null,"%","%","%","%"]
[]
["COSTA RICA",77.196296396376681,76.164791821090176,72.110679114949562,64.586938437510625]
["SAN JOSÉ",81.807422223088736,80.730367923943973,76.802586462970581,69.718880960887262]
["SAN JOSÉ",82.879057918948931,88.119086124786676,81.64643392361512,73.607358361892594]
["ESCAZÚ",79.173417295876263,77.564487102579477,72.773034595074776,61.104441776710686]
["DESAMPARADOS",87.406829107942642,84.922932652590362,84.291343745039711,75.659919545367472]
["PURISCAL",70.789104746645307,60.395680188764857,68.268256092121803,61.912745562561497]
["TARRAZÚ",71.869861404745123,65.917761763459097,63.781085154483797,60.913619859832814]
["ASERRÍ",77.524407959190569,76.90171634515967,70.757124627817944,71.725507079984695]
["MORA",71.926772070504569,68.907838635618234,64.664331246769663,59.300202339239007]
["GOICOECHEA",87.706419617387667,84.788763066202094,81.283727869272809,75.734829329962068]
["SANTA ANA",72.616701120138444,64.373240602748808,69.507175834794737,57.213279371938043]
["ALAJUELITA",86.79638449880926,83.216969696969699,80.626628365288269,69.52613879547539]
["VÁZQUEZ DE CORONADO",75.208247179063036,74.249506336391136,73.853941655211543,69.644103279832521]
["ACOSTA",66.111913050861844,66.84980267739688,65.410338581580049,59.489643124532066]
["TIBÁS",86.069855959399959,87.278559714538019,81.948838470577599,75.64307383008132]
["MORAVIA",85.446065179287601,82.594757684329622,79.226084373143209,71.035799742315476]
["MONTES DE OCA",83.769003323128459,80.925847615730945,79.812811474413508,68.798320129808161]
["TURRUBARES",37.674280628893506,22.346072186836519,32.672557917363264,35.682426404995539]
["DOTA",75.050251256281413,65.666591473043084,56.637717121588096,44.661458333333329]
["CURRIDABAT",82.009825091772839,81.842615012106535,76.952084180102062,67.387136868271924]
["PÉREZ ZELEDÓN",76.377266847926506,71.882439960243161,63.722766635121239,62.536593449082169]
["LEÓN CORTÉS CASTRO",59.403031240334059,47.570683502607743,49.085777395999507,57.165005537098558]
["ALAJUELA",73.045499833942202,73.713155897362782,69.748633469908199,61.979112349339246]
["ALAJUELA",79.960045662100455,83.142116833176004,78.856360706674593,70.600512481401893]
["SAN RAMÓN",74.126742415368398,72.877712854757931,73.736792260125156,62.822158585958334]
["GRECIA",77.815441642686437,70.830246241011125,71.177463020363319,62.321860009103958]
["SAN MATEO",61.34663341645885,51.778656126482211,45.892203035060177,38.075601374570446]
["ATENAS",70.375620127569107,65.148465022647201,52.848567221655905,50.93840598138447]
["NARANJO",70.128852516106562,73.369543980305579,65.050483427878277,57.582546021233071]
["PALMARES",61.011394574972265,64.960752139784475,65.554019356112974,54.882597421050761]
["POÁS",59.971801198449072,70.012941393973009,78.319530521581754,56.65048310339855]
["OROTINA",73.642139782742362,71.792821606254449,62.896626264185905,56.211895407126413]
["SAN CARLOS",71.95507512571136,71.431915114948509,63.972706424609406,58.39115309117058]
["ZARCERO",62.154653495909862,60.491757474154795,42.518499937288347,45.739604635310158]
["VALVERDE VEGA",59.269885239414322,52.813777507175786,53.919962555581556,52.350788288288285]
["UPALA",59.137453318877242,70.825843290684148,64.352892599899064,58.338977948370584]
["LOS CHILES",66.314765939713851,55.263806706114394,54.084171805690794,56.653585444166964]
["GUATUSO",60.011743981209634,60.652088516433153,57.351955307262571,54.126587148903425]
["CARTAGO",78.888176245096432,76.532709289066844,72.424082063425161,63.380635506026351]
["CARTAGO",84.766627167197811,78.408810209962937,76.818880703309972,64.165910959310452]
["PARAÍSO",74.150508734881939,76.880121225726796,64.383974294607896,57.272422651625156]
["LA UNIÓN",82.04688144945797,79.277407054337473,78.230659994590212,71.450555629540844]
["JIMÉNEZ",55.30917819179335,62.933526011560694,47.424528301886795,44.105812858488143]
["TURRIALBA",75.521282878299189,75.544325909289412,68.940736744759562,63.54455268567343]
["ALVARADO",61.270310192023636,74.632113556452666,58.479935609980451,51.627441161742617]
["OREAMUNO",80.325793382849426,71.796195251437851,73.449511400651474,65.358205539024951]
["EL GUARCO",75.580217129071173,75.850653704324515,74.110478401218671,60.172579098753602]
["HEREDIA",80.735622197182593,76.87252727193362,73.478967195379369,65.211434148538828]
["HEREDIA",88.902536563071294,85.118842136217765,81.95323117296968,72.526473419617076]
["BARVA",72.651235168255198,66.791246210705538,63.643292682926834,64.247798862083215]
["SANTO DOMINGO",79.958492715878577,76.730769230769241,68.09127009960288,63.891215892771655]
["SANTA BÁRBARA",82.237110399067873,75.183583140529123,73.424609443566794,63.036881419234362]
["SAN RAFAEL",83.250614992879036,82.633190910122138,80.035885977385064,67.519303580478791]
["SAN ISIDRO",79.953778135048239,74.947497374868746,64.948139109212931,55.578066793020064]
["BELÉN",71.142539329413637,67.738336006695036,63.277437116756353,55.25453838894132]
["FLORES",73.195675465082303,69.118020842158785,63.578228326429766,55.539532259075806]
["SAN PABLO",77.44886574934921,72.59747743133363,68.95818568391212,63.069771854100466]
["SARAPIQUÍ",69.282336434027954,67.777434038979976,74.035390915580265,61.906263798650095]
["GUANACASTE",63.009552634067909,65.08154909725485,59.966898150421876,55.934176251179139]
["LIBERIA",82.225360272286181,75.658607559669377,71.193480964097674,68.816480096613873]
["NICOYA",59.552411305291905,64.452644526445269,63.733213714990612,54.697096064902574]
["SANTA CRUZ",56.468297896705735,60.60565456250837,61.813290132207023,54.1032663826334]
["BAGACES",75.008485122751438,66.70382004255751,64.330813694975546,62.034131782352489]
["CARRILLO",59.030023094688225,64.975928473177447,55.950124688279303,53.994050954864861]
["CAÑAS",64.870674710491656,75.495143181531475,64.102859778597789,62.905848413322843]
["ABANGARES",64.18035359347212,54.513758009800227,44.895009776417581,44.541814610561303]
["TILARÁN",57.660316608532334,60.948935120467063,54.962807122999472,43.249897414854324]
["NANDAYURE",45.822911455727869,38.987379807692307,34.811056215783147,42.232423290649919]
["LA CRUZ",55.444083800531132,55.376344086021504,52.040595983588858,52.642276422764226]
["HOJANCHA",32.697230626018154,74.944616747895438,29.28306309826138,36.423496794316414]
["PUNTARENAS",71.527975952666324,70.788472914729994,66.506031365362347,61.235913751386903]
["PUNTARENAS",79.073772545090179,73.836126629422722,71.142442839017065,64.641578335823198]
["ESPARZA",60.149326634568425,60.835668169082716,56.786188579017264,51.584044270232873]
["BUENOS AIRES",69.239556946307061,73.628977657413671,68.487149532710276,65.781901652064263]
["MONTES DE ORO",50.080000000000005,42.922665307682507,51.508571428571429,34.664520671964596]
["OSA",71.599216710182773,73.680400554985823,61.814187741105876,55.584342173441989]
["QUEPOS",70.196406184705396,67.264480111653867,59.066674654046601,56.527290137248642]
["GOLFITO",76.77122501484267,76.851934192974653,69.527159358887246,66.250393535523145]
["COTO BRUS",71.015502525692384,72.256258368158399,67.095616312815025,63.746339422674659]
["PARRITA",54.890842075418199,50.815250704916025,42.174713584288057,52.308373947718209]
["CORREDORES",73.98739456854203,78.702724684831225,77.570160366552116,67.682220189082031]
["GARABITO",47.91526563550773,56.294101044312725,60.922441486920611,54.673238408178172]
["LIMÓN",76.83477062588905,75.116022853577221,71.915305198016554,61.684414401310605]
["LIMÓN",85.021161398558746,81.949035812672179,76.02714153531484,60.246442936903399]
["POCOCÍ",79.643183078932765,76.367409684857805,75.519889090327396,66.618896509366365]
["SIQUIRRES",75.671827077552209,78.158062460165709,72.730430754979153,61.830924447410986]
["TALAMANCA",52.192744991878726,46.310144270715305,53.33160822874887,52.011479259066007]
["MATINA",62.874212184873947,62.66102099236641,57.145197400753567,49.124736942797014]
["GUÁCIMO",72.999051815494454,75.915595440213437,72.165386084815552,65.450341414068419]
[]
["Fuente: Cómputo de Votos Elecciones Municipales  2002, 2006, 2010 y 2016."]

{"sheet":"C6","index":8,"n_rows":132,"n_cols":5,"rows_kept":132,"cut":false,"hidden":false,"merged":[[4,0,5,0],[4,1,4,4],[1,0,1,4],[2,0,2,4],[131,0,131,4]]}
[]
["CUADRO 6 COSTA RICA: VOTOS VÁLIDOS PARA ALCALDÍAS, SEGÚN PARTIDO POLÍTICO "]
["ELECCIONES MUNICIPALES  2002 - 2016"]
[]
["PARTIDO POLÍTICO","AÑO ELECTORAL"]
[null,2002,2006,2010,2016]
[]
["TOTAL DE VOTOS VÁLIDOS",{"$f":"SUM(B10:B130)","v":513691},{"$f":"SUM(C10:C130)","v":605195},{"$f":"SUM(D10:D130)","v":782354},{"$f":"SUM(E10:E130)","v":1096563}]
[]
["ACCESIBILIDAD SIN EXCLUSIÓN",0,0,26163,18624]
["ACCIÓN CANTONAL SIQUIRRES INDEPENDIENTE",1658,1997,773,363]
["ACCIÓN CIUDADANA",65968,88630,98719,127466]
["ACCIÓN LABORISTA AGRÍCOLA",569,79,0,0]
["ACCIÓN NARANJEÑA",0,0,987,0]
["ACCIÓN QUEPEÑA",889,612,278,0]
["ACUERDO CANTONAL DESAMPARADEÑO",0,0,1687,0]
["ACUERDO DE ALIANZA DE QUEPOS",0,0,0,404]
["ALAJUELITA NUEVA",0,664,0,0]
["ALIANZA CRISTIANA SANTANEÑA",0,0,0,365]
["ALIANZA DEMÓCRATA CRISTIANA",0,0,0,12389]
["ALIANZA DEMOCRÁTICA NACIONALISTA",0,1132,0,0]
["ALIANZA PATRIÓTICA",0,0,2277,0]
["ALIANZA PARA AVANZAR",5692,0,0,0]
["ALIANZA POR PALMARES",0,0,0,2349]
["ALIANZA POR SAN JOSÉ",4939,1309,0,23925]
["ALIANZA SANCARLEÑA",0,0,0,702]
["ALIANZA SOCIAL POR LA UNIÓN",0,0,0,3107]
["AUTÉNTICO LABRADOR DE CORONADO",0,0,0,2686]
["AUTÉNTICO LIMONENSE",0,0,0,13612]
["AUTÉNTICO PARAISEÑO",3696,0,0,0]
["AUTÉNTICO PILARICO",0,454,0,0]
["AUTÉNTICO SANTANEÑO",0,541,0,0]
["AUTÉNTICO SARAPIQUEÑO",799,0,0,0]
["AUTÉNTICO SIQUIRREÑO",0,0,0,2774]
["AUTÉNTICO TURRIALBEÑO CARTAGINÉS",0,592,0,0]
["AUTÓNOMO OROMONTANO",0,369,835,185]
["AVANCE MONTES DE OCA",0,0,0,1953]
["CAMBIO YA",822,0,0,0]
["CÍVICO DE TIBÁS FUENTEOVEJUNA",0,0,2080,0]
["COALICIÓN ALIANZA POR BELEN",0,0,0,1242]
["COALICIÓN BARVA UNIDA",0,0,811,628]
["COALICIÓN CAMBIO 2000",4272,0,0,0]
["COALICIÓN CARTAGO UNIDO",0,0,11353,0]
["COALICIÓN GENTE MONTES DE OCA",0,0,0,3707]
["COALICIÓN MONTES DE OCA UNIDA",0,0,1248,0]
["COALICIÓN PARTIDO ALIANZA ZARCEREÑA",0,0,570,0]
["COALICIÓN RAMONENSE",0,0,4804,0]
["COALICIÓN SOMOS TIBÁS",0,0,0,2510]
["COALICIÓN UNIDOS POR GUATUSO",0,0,0,458]
["COALICIÓN UNIDOS POR SAN CARLOS",0,0,13097,0]
["COALICIÓN UNIÓN LIBERIANA",0,0,1234,0]
["COMUNAL PRO-CURRI",0,953,0,0]
["CONCIENCIA LIMONENSE",219,0,0,0]
["CURRIDABAT SIGLO XXI",1560,3414,7412,7713]
["DE LOS TRABAJADORES",0,0,0,1048]
["DEL PUEBLO Y PARA EL PUEBLO",0,378,0,0]
["DEL SOL",1662,1942,2334,1903]
["DEMÓCRATA",0,0,0,286]
["DESAMPARADOS UNIDO",0,0,0,1413]
["EL PUENTE Y LOS CAMINOS DE MORA",0,1478,1315,0]
["ECOLÓGICO COMUNAL COSTARRICENSE",0,0,0,3663]
["FRENTE AMPLIO",0,502,5354,51778]
["FUERZA COMUNAL DESAMPARADEÑA",0,414,0,0]
["FUERZA DEMOCRÁTICA",6606,2827,0,0]
["FUERZA DEMOCRÁTICA DESAMPARADEÑA",0,0,0,1115]
["FUERZAS UNIDAS PARA EL CAMBIO",0,0,0,523]
["GARABITO ECOLÓGICO",795,0,884,273]
["GOICOECHEA EN ACCIÓN",0,1696,2047,0]
["GUANACASTE INDEPENDIENTE",1259,6925,0,0]
["HUMANISTA DE HEREDIA",81,0,0,0]
["HUMANISTA DE MONTES DE OCA",269,0,0,0]
["INDEPENDIENTE BELEMITA",546,721,740,0]
["INDEPENDIENTE ESCAZUCEÑO",0,0,0,880]
["INDEPENDIENTE OBRERO",4904,0,0,0]
["INTEGRACIÓN BARBAREÑA",0,1878,873,0]
["INTEGRACIÓN NACIONAL",3119,8516,9434,13366]
["INTEGRACIÓN PROVINCIAL TRES",0,37,0,0]
["JUSTICIA GENERALEÑA",0,0,0,2128]
["LIBERACIÓN NACIONAL",168410,277589,342563,350594]
["LIGA RAMONENSE",0,0,0,1675]
["LIMÓN INDEPENDIENTE",0,0,0,486]
["MORAVIA PROGRESISTA",0,528,0,0]
["MOVIMIENTO AVANCE SANTO DOMINGO",0,0,2164,3127]
["MOVIMIENTO CURRIDABAT",673,0,0,0]
["MOVIMIENTO DE TRABAJADORES Y CAMPESINOS",0,0,1208,0]
["MOVIMIENTO LIBERTARIO",20655,34073,75441,37317]
["MOVIMIENTO OPCIÓN CANTONAL AUTÉNTICA",867,0,0,0]
["NUEVA GENERACIÓN",0,0,0,40919]
["NUEVA MAYORÍA GRIEGA",0,0,0,4985]
["NUEVO CORREDORES",279,0,0,0]
["ORGANIZACIÓN LABORISTA DE QUEPOS",0,1485,52,0]
["ORGANIZACIÓN SOCIAL ACTIVA",0,0,960,0]
["PATRIA PRIMERO",0,297,0,0]
["PARRITA INDEPENDIENTE",0,0,0,1026]
["PROGRESO COMUNAL DESAMPARADEÑO",0,0,0,1000]
["PUEBLO GARABITO",0,0,0,753]
["PURISCALEÑOS DE CORAZON",0,0,0,300]
["RECUPERANDO VALORES",0,0,0,1744]
["RENACER SANTACRUCEÑO",666,0,0,0]
["RENOVACIÓN CARTAGO",0,0,0,2944]
["RENOVACIÓN COSTARICENSE",15497,9883,20512,28923]
["RENOVEMOS ALAJUELA",0,0,8504,5351]
["REPUBLICANO SOCIAL CRISTIANO",0,0,0,66538]
["RESCATE CANTONAL LA UNIÓN",0,0,0,2797]
["RESCATE NACIONAL",3488,1609,0,0]
["RESTAURACIÓN HEREDIANA",0,0,625,0]
["RESTAURACIÓN NACIONAL",0,0,0,11467]
["RESTAURACIÓN PARRITEÑA",0,0,0,422]
["SAN JOSÉ SOMOS TODOS",981,0,0,0]
["SOLIDARIDAD",0,0,0,1609]
["SOLIDARIDAD RAMONENSE",0,4131,0,0]
["TALAMANCA UNIDA",0,0,219,0]
["TARRAZÚ PRIMERO",0,0,906,0]
["TODO POR FLORES",0,0,1732,1349]
["TRANSPARENCIA CARTAGINÉS",0,0,976,0]
["ÚNICO ABANGAREÑO",0,0,1090,0]
["UNIDAD SOCIAL CRISTIANA",188612,107007,113394,201620]
["UNIÓN AGRÍCOLA CARTIGINÉS",532,0,3498,0]
["UNIÓN ATENIENSE",0,0,1838,0]
["UNIÓN GENERAL",96,0,0,0]
["UNIÓN GUARQUEÑO",0,0,0,2485]
["UNIÓN NACIONAL",0,16101,0,0]
["UNIÓN PALMAREÑA",0,2035,2170,0]
["UNIÓN PARA EL CAMBIO",0,15107,0,0]
["UNIÓN POASEÑA",0,265,1634,0]
["VANGUARDIA POPULAR",0,245,0,0]
["VERDE",0,0,0,4786]
["VERDE ECOLOGISTA",0,3265,612,0]
["VIVA PUNTARENAS",0,0,0,6134]
["YUNTA PROGRESISTA ESCAZUCEÑA",2611,3515,4947,10674]
[]
["Fuente: Cómputo de Votos Elecciones Municipales  2002, 2006, 2010 y 2016."]

{"sheet":"C7","index":9,"n_rows":134,"n_cols":5,"rows_kept":134,"cut":false,"hidden":false,"merged":[[133,0,133,4],[1,0,1,4],[2,0,2,4],[5,0,6,0],[5,1,5,4],[3,0,3,4]]}
[]
["CUADRO 7 COSTA RICA: VOTOS PARA ALCALDÍAS, SEGÚN PARTIDO POLÍTICO "]
["ELECCIONES MUNICIPALES 2002 - 2016"]
["(CIFRAS RELATIVAS)"]
[]
["PARTIDO POLÍTICO","AÑO ELECTORAL"]
[null,2002,2006,2010,2016]
[]
["TOTAL DE VOTOS VÁLIDOS",{"$f":"SUM(B11:B131)","v":100.00000000000003},{"$f":"SUM(C11:C131)","v":100},{"$f":"SUM(D11:D131)","v":99.999999999999972},{"$f":"SUM(E11:E131)","v":100.00000000000003}]
[]
["ACCESIBILIDAD SIN EXCLUSIÓN",{"$f":"+'C6'!B10/'C6'!B$8*100","v":0},{"$f":"+'C6'!C10/'C6'!C$8*100","v":0},{"$f":"+'C6'!D10/'C6'!D$8*100","v":3.3441383312413566},{"$f":"+'C6'!E10/'C6'!E$8*100","v":1.6983976296847514}]
["ACCIÓN CANTONAL SIQUIRRES INDEPENDIENTE",{"$f":"+'C6'!B11/'C6'!B$8*100","v":0.32276212742679938},{"$f":"+'C6'!C11/'C6'!C$8*100","v":0.32997628863424189},{"$f":"+'C6'!D11/'C6'!D$8*100","v":9.8804377557985254E-2},{"$f":"+'C6'!E11/'C6'!E$8*100","v":3.3103433181677661E-2}]
["ACCIÓN CIUDADANA",{"$f":"+'C6'!B12/'C6'!B$8*100","v":12.841961412600181},{"$f":"+'C6'!C12/'C6'!C$8*100","v":14.644866530622361},{"$f":"+'C6'!D12/'C6'!D$8*100","v":12.618200967848313},{"$f":"+'C6'!E12/'C6'!E$8*100","v":11.624138330401445}]
["ACCIÓN LABORISTA AGRÍCOLA",{"$f":"+'C6'!B13/'C6'!B$8*100","v":0.1107669785921887},{"$f":"+'C6'!C13/'C6'!C$8*100","v":1.3053643866852831E-2},{"$f":"+'C6'!D13/'C6'!D$8*100","v":0},{"$f":"+'C6'!E13/'C6'!E$8*100","v":0}]
["ACCIÓN NARANJEÑA",{"$f":"+'C6'!B14/'C6'!B$8*100","v":0},{"$f":"+'C6'!C14/'C6'!C$8*100","v":0},{"$f":"+'C6'!D14/'C6'!D$8*100","v":0.12615772399706529},{"$f":"+'C6'!E14/'C6'!E$8*100","v":0}]
["ACCIÓN QUEPEÑA",{"$f":"+'C6'!B15/'C6'!B$8*100","v":0.17306123720290992},{"$f":"+'C6'!C15/'C6'!C$8*100","v":0.10112443096853081},{"$f":"+'C6'!D15/'C6'!D$8*100","v":3.5533786495627301E-2},{"$f":"+'C6'!E15/'C6'!E$8*100","v":0}]
["ACUERDO CANTONAL DESAMPARADEÑO",{"$f":"+'C6'!B16/'C6'!B$8*100","v":0},{"$f":"+'C6'!C16/'C6'!C$8*100","v":0},{"$f":"+'C6'!D16/'C6'!D$8*100","v":0.2156312871155513},{"$f":"+'C6'!E16/'C6'!E$8*100","v":0}]
["ACUERDO DE ALIANZA DE QUEPOS",{"$f":"+'C6'!B17/'C6'!B$8*100","v":0},{"$f":"+'C6'!C17/'C6'!C$8*100","v":0},{"$f":"+'C6'!D17/'C6'!D$8*100","v":0},{"$f":"+'C6'!E17/'C6'!E$8*100","v":3.6842388444621968E-2}]
["ALAJUELITA NUEVA",{"$f":"+'C6'!B18/'C6'!B$8*100","v":0},{"$f":"+'C6'!C18/'C6'!C$8*100","v":0.10971670288088962},{"$f":"+'C6'!D18/'C6'!D$8*100","v":0},{"$f":"+'C6'!E18/'C6'!E$8*100","v":0}]
["ALIANZA CRISTIANA SANTANEÑA",{"$f":"+'C6'!B19/'C6'!B$8*100","v":0},{"$f":"+'C6'!C19/'C6'!C$8*100","v":0},{"$f":"+'C6'!D19/'C6'!D$8*100","v":0},{"$f":"+'C6'!E19/'C6'!E$8*100","v":3.3285821243284698E-2}]
["ALIANZA DEMÓCRATA CRISTIANA",{"$f":"+'C6'!B20/'C6'!B$8*100","v":0},{"$f":"+'C6'!C20/'C6'!C$8*100","v":0},{"$f":"+'C6'!D20/'C6'!D$8*100","v":0},{"$f":"+'C6'!E20/'C6'!E$8*100","v":1.1298028476248059}]
["ALIANZA DEMOCRÁTICA NACIONALISTA",{"$f":"+'C6'!B21/'C6'!B$8*100","v":0},{"$f":"+'C6'!C21/'C6'!C$8*100","v":0.18704715009211906},{"$f":"+'C6'!D21/'C6'!D$8*100","v":0},{"$f":"+'C6'!E21/'C6'!E$8*100","v":0}]
["ALIANZA PATRIÓTICA",{"$f":"+'C6'!B22/'C6'!B$8*100","v":0},{"$f":"+'C6'!C22/'C6'!C$8*100","v":0},{"$f":"+'C6'!D22/'C6'!D$8*100","v":0.29104471888684658},{"$f":"+'C6'!E22/'C6'!E$8*100","v":0}]
["ALIANZA PARA AVANZAR",{"$f":"+'C6'!B23/'C6'!B$8*100","v":1.1080591250382039},{"$f":"+'C6'!C23/'C6'!C$8*100","v":0},{"$f":"+'C6'!D23/'C6'!D$8*100","v":0},{"$f":"+'C6'!E23/'C6'!E$8*100","v":0}]
["ALIANZA POR PALMARES",{"$f":"+'C6'!B24/'C6'!B$8*100","v":0},{"$f":"+'C6'!C24/'C6'!C$8*100","v":0},{"$f":"+'C6'!D24/'C6'!D$8*100","v":0},{"$f":"+'C6'!E24/'C6'!E$8*100","v":0.21421477835746783}]
["ALIANZA POR SAN JOSÉ",{"$f":"+'C6'!B25/'C6'!B$8*100","v":0.96147294774485048},{"$f":"+'C6'!C25/'C6'!C$8*100","v":0.216293921793802},{"$f":"+'C6'!D25/'C6'!D$8*100","v":0},{"$f":"+'C6'!E25/'C6'!E$8*100","v":2.1818171869742096}]
["ALIANZA SANCARLEÑA",{"$f":"+'C6'!B26/'C6'!B$8*100","v":0},{"$f":"+'C6'!C26/'C6'!C$8*100","v":0},{"$f":"+'C6'!D26/'C6'!D$8*100","v":0},{"$f":"+'C6'!E26/'C6'!E$8*100","v":6.4018209624070843E-2}]
["ALIANZA SOCIAL POR LA UNIÓN",{"$f":"+'C6'!B27/'C6'!B$8*100","v":0},{"$f":"+'C6'!C27/'C6'!C$8*100","v":0},{"$f":"+'C6'!D27/'C6'!D$8*100","v":0},{"$f":"+'C6'!E27/'C6'!E$8*100","v":0.2833398537065358}]
["AUTÉNTICO LABRADOR DE CORONADO",{"$f":"+'C6'!B28/'C6'!B$8*100","v":0},{"$f":"+'C6'!C28/'C6'!C$8*100","v":0},{"$f":"+'C6'!D28/'C6'!D$8*100","v":0},{"$f":"+'C6'!E28/'C6'!E$8*100","v":0.24494716673825398}]
["AUTÉNTICO LIMONENSE",{"$f":"+'C6'!B29/'C6'!B$8*100","v":0},{"$f":"+'C6'!C29/'C6'!C$8*100","v":0},{"$f":"+'C6'!D29/'C6'!D$8*100","v":0},{"$f":"+'C6'!E29/'C6'!E$8*100","v":1.2413331472975104}]
["AUTÉNTICO PARAISEÑO",{"$f":"+'C6'!B30/'C6'!B$8*100","v":0.71949868695383024},{"$f":"+'C6'!C30/'C6'!C$8*100","v":0},{"$f":"+'C6'!D30/'C6'!D$8*100","v":0},{"$f":"+'C6'!E30/'C6'!E$8*100","v":0}]
["AUTÉNTICO PILARICO",{"$f":"+'C6'!B31/'C6'!B$8*100","v":0},{"$f":"+'C6'!C31/'C6'!C$8*100","v":7.501714323482514E-2},{"$f":"+'C6'!D31/'C6'!D$8*100","v":0},{"$f":"+'C6'!E31/'C6'!E$8*100","v":0}]
["AUTÉNTICO SANTANEÑO",{"$f":"+'C6'!B32/'C6'!B$8*100","v":0},{"$f":"+'C6'!C32/'C6'!C$8*100","v":8.939267508819472E-2},{"$f":"+'C6'!D32/'C6'!D$8*100","v":0},{"$f":"+'C6'!E32/'C6'!E$8*100","v":0}]
["AUTÉNTICO SARAPIQUEÑO",{"$f":"+'C6'!B33/'C6'!B$8*100","v":0.15554097696864458},{"$f":"+'C6'!C33/'C6'!C$8*100","v":0},{"$f":"+'C6'!D33/'C6'!D$8*100","v":0},{"$f":"+'C6'!E33/'C6'!E$8*100","v":0}]
["AUTÉNTICO SIQUIRREÑO",{"$f":"+'C6'!B34/'C6'!B$8*100","v":0},{"$f":"+'C6'!C34/'C6'!C$8*100","v":0},{"$f":"+'C6'!D34/'C6'!D$8*100","v":0},{"$f":"+'C6'!E34/'C6'!E$8*100","v":0.25297224144896374}]
["AUTÉNTICO TURRIALBEÑO CARTAGINÉS",{"$f":"+'C6'!B35/'C6'!B$8*100","v":0},{"$f":"+'C6'!C35/'C6'!C$8*100","v":9.7819711002238949E-2},{"$f":"+'C6'!D35/'C6'!D$8*100","v":0},{"$f":"+'C6'!E35/'C6'!E$8*100","v":0}]
["AUTÓNOMO OROMONTANO",{"$f":"+'C6'!B36/'C6'!B$8*100","v":0},{"$f":"+'C6'!C36/'C6'!C$8*100","v":6.0972083378084754E-2},{"$f":"+'C6'!D36/'C6'!D$8*100","v":0.10672917886276545},{"$f":"+'C6'!E36/'C6'!E$8*100","v":1.6870895698651148E-2}]
["AVANCE MONTES DE OCA",{"$f":"+'C6'!B37/'C6'!B$8*100","v":0},{"$f":"+'C6'!C37/'C6'!C$8*100","v":0},{"$f":"+'C6'!D37/'C6'!D$8*100","v":0},{"$f":"+'C6'!E37/'C6'!E$8*100","v":0.17810194215927402}]
["CAMBIO YA",{"$f":"+'C6'!B38/'C6'!B$8*100","v":0.16001837680629016},{"$f":"+'C6'!C38/'C6'!C$8*100","v":0},{"$f":"+'C6'!D38/'C6'!D$8*100","v":0},{"$f":"+'C6'!E38/'C6'!E$8*100","v":0}]
["CÍVICO DE TIBÁS FUENTEOVEJUNA",{"$f":"+'C6'!B39/'C6'!B$8*100","v":0},{"$f":"+'C6'!C39/'C6'!C$8*100","v":0},{"$f":"+'C6'!D39/'C6'!D$8*100","v":0.26586430183778698},{"$f":"+'C6'!E39/'C6'!E$8*100","v":0}]
["COALICIÓN ALIANZA POR BELEN",{"$f":"+'C6'!B40/'C6'!B$8*100","v":0},{"$f":"+'C6'!C40/'C6'!C$8*100","v":0},{"$f":"+'C6'!D40/'C6'!D$8*100","v":0},{"$f":"+'C6'!E40/'C6'!E$8*100","v":0.11326298625797149}]
["COALICIÓN BARVA UNIDA",{"$f":"+'C6'!B41/'C6'!B$8*100","v":0},{"$f":"+'C6'!C41/'C6'!C$8*100","v":0},{"$f":"+'C6'!D41/'C6'!D$8*100","v":0.10366151384156022},{"$f":"+'C6'!E41/'C6'!E$8*100","v":5.7269851344610385E-2}]
["COALICIÓN CAMBIO 2000",{"$f":"+'C6'!B42/'C6'!B$8*100","v":0.83162835245312838},{"$f":"+'C6'!C42/'C6'!C$8*100","v":0},{"$f":"+'C6'!D42/'C6'!D$8*100","v":0},{"$f":"+'C6'!E42/'C6'!E$8*100","v":0}]
["COALICIÓN CARTAGO UNIDO",{"$f":"+'C6'!B43/'C6'!B$8*100","v":0},{"$f":"+'C6'!C43/'C6'!C$8*100","v":0},{"$f":"+'C6'!D43/'C6'!D$8*100","v":1.4511333744059596},{"$f":"+'C6'!E43/'C6'!E$8*100","v":0}]
["COALICIÓN GENTE MONTES DE OCA",{"$f":"+'C6'!B44/'C6'!B$8*100","v":0},{"$f":"+'C6'!C44/'C6'!C$8*100","v":0},{"$f":"+'C6'!D44/'C6'!D$8*100","v":0},{"$f":"+'C6'!E44/'C6'!E$8*100","v":0.33805627218864759}]
["COALICIÓN MONTES DE OCA UNIDA",{"$f":"+'C6'!B45/'C6'!B$8*100","v":0},{"$f":"+'C6'!C45/'C6'!C$8*100","v":0},{"$f":"+'C6'!D45/'C6'!D$8*100","v":0.1595185811026722},{"$f":"+'C6'!E45/'C6'!E$8*100","v":0}]
["COALICIÓN PARTIDO ALIANZA ZARCEREÑA",{"$f":"+'C6'!B46/'C6'!B$8*100","v":0},{"$f":"+'C6'!C46/'C6'!C$8*100","v":0},{"$f":"+'C6'!D46/'C6'!D$8*100","v":7.2857044253624326E-2},{"$f":"+'C6'!E46/'C6'!E$8*100","v":0}]
["COALICIÓN RAMONENSE",{"$f":"+'C6'!B47/'C6'!B$8*100","v":0},{"$f":"+'C6'!C47/'C6'!C$8*100","v":0},{"$f":"+'C6'!D47/'C6'!D$8*100","v":0.61404428174458114},{"$f":"+'C6'!E47/'C6'!E$8*100","v":0}]
["COALICIÓN SOMOS TIBÁS",{"$f":"+'C6'!B48/'C6'!B$8*100","v":0},{"$f":"+'C6'!C48/'C6'!C$8*100","v":0},{"$f":"+'C6'!D48/'C6'!D$8*100","v":0},{"$f":"+'C6'!E48/'C6'!E$8*100","v":0.22889701731683451}]
["COALICIÓN UNIDOS POR GUATUSO",{"$f":"+'C6'!B49/'C6'!B$8*100","v":0},{"$f":"+'C6'!C49/'C6'!C$8*100","v":0},{"$f":"+'C6'!D49/'C6'!D$8*100","v":0},{"$f":"+'C6'!E49/'C6'!E$8*100","v":4.1766866108012037E-2}]
["COALICIÓN UNIDOS POR SAN CARLOS",{"$f":"+'C6'!B50/'C6'!B$8*100","v":0},{"$f":"+'C6'!C50/'C6'!C$8*100","v":0},{"$f":"+'C6'!D50/'C6'!D$8*100","v":1.6740503659468731},{"$f":"+'C6'!E50/'C6'!E$8*100","v":0}]
["COALICIÓN UNIÓN LIBERIANA",{"$f":"+'C6'!B51/'C6'!B$8*100","v":0},{"$f":"+'C6'!C51/'C6'!C$8*100","v":0},{"$f":"+'C6'!D51/'C6'!D$8*100","v":0.15772910984030247},{"$f":"+'C6'!E51/'C6'!E$8*100","v":0}]
["COMUNAL PRO-CURRI",{"$f":"+'C6'!B52/'C6'!B$8*100","v":0},{"$f":"+'C6'!C52/'C6'!C$8*100","v":0.15746990639380695},{"$f":"+'C6'!D52/'C6'!D$8*100","v":0},{"$f":"+'C6'!E52/'C6'!E$8*100","v":0}]
["CONCIENCIA LIMONENSE",{"$f":"+'C6'!B53/'C6'!B$8*100","v":4.2632633236712347E-2},{"$f":"+'C6'!C53/'C6'!C$8*100","v":0},{"$f":"+'C6'!D53/'C6'!D$8*100","v":0},{"$f":"+'C6'!E53/'C6'!E$8*100","v":0}]
["CURRIDABAT SIGLO XXI",{"$f":"+'C6'!B54/'C6'!B$8*100","v":0.30368451072726604},{"$f":"+'C6'!C54/'C6'!C$8*100","v":0.56411569824601993},{"$f":"+'C6'!D54/'C6'!D$8*100","v":0.94739721404888333},{"$f":"+'C6'!E54/'C6'!E$8*100","v":0.70337955958754761}]
["DE LOS TRABAJADORES",{"$f":"+'C6'!B55/'C6'!B$8*100","v":0},{"$f":"+'C6'!C55/'C6'!C$8*100","v":0},{"$f":"+'C6'!D55/'C6'!D$8*100","v":0},{"$f":"+'C6'!E55/'C6'!E$8*100","v":9.5571344282088674E-2}]
["DEL PUEBLO Y PARA EL PUEBLO",{"$f":"+'C6'!B56/'C6'!B$8*100","v":0},{"$f":"+'C6'!C56/'C6'!C$8*100","v":6.2459207362916082E-2},{"$f":"+'C6'!D56/'C6'!D$8*100","v":0},{"$f":"+'C6'!E56/'C6'!E$8*100","v":0}]
["DEL SOL",{"$f":"+'C6'!B57/'C6'!B$8*100","v":0.32354080565943338},{"$f":"+'C6'!C57/'C6'!C$8*100","v":0.3208883087269393},{"$f":"+'C6'!D57/'C6'!D$8*100","v":0.29833042331220905},{"$f":"+'C6'!E57/'C6'!E$8*100","v":0.17354224061909804}]
["DEMÓCRATA",{"$f":"+'C6'!B58/'C6'!B$8*100","v":0},{"$f":"+'C6'!C58/'C6'!C$8*100","v":0},{"$f":"+'C6'!D58/'C6'!D$8*100","v":0},{"$f":"+'C6'!E58/'C6'!E$8*100","v":2.608149280980664E-2}]
["DESAMPARADOS UNIDO",{"$f":"+'C6'!B59/'C6'!B$8*100","v":0},{"$f":"+'C6'!C59/'C6'!C$8*100","v":0},{"$f":"+'C6'!D59/'C6'!D$8*100","v":0},{"$f":"+'C6'!E59/'C6'!E$8*100","v":0.12885716552537338}]
["EL PUENTE Y LOS CAMINOS DE MORA",{"$f":"+'C6'!B60/'C6'!B$8*100","v":0},{"$f":"+'C6'!C60/'C6'!C$8*100","v":0.24421880550896821},{"$f":"+'C6'!D60/'C6'!D$8*100","v":0.16808247928687012},{"$f":"+'C6'!E60/'C6'!E$8*100","v":0}]
["ECOLÓGICO COMUNAL COSTARRICENSE",{"$f":"+'C6'!B61/'C6'!B$8*100","v":0},{"$f":"+'C6'!C61/'C6'!C$8*100","v":0},{"$f":"+'C6'!D61/'C6'!D$8*100","v":0},{"$f":"+'C6'!E61/'C6'!E$8*100","v":0.33404373483329275}]
["FRENTE AMPLIO",{"$f":"+'C6'!B62/'C6'!B$8*100","v":0},{"$f":"+'C6'!C62/'C6'!C$8*100","v":8.294847115392559E-2},{"$f":"+'C6'!D62/'C6'!D$8*100","v":0.68434493848053435},{"$f":"+'C6'!E62/'C6'!E$8*100","v":4.7218445269446443}]
["FUERZA COMUNAL DESAMPARADEÑA",{"$f":"+'C6'!B63/'C6'!B$8*100","v":0},{"$f":"+'C6'!C63/'C6'!C$8*100","v":6.8407703302241427E-2},{"$f":"+'C6'!D63/'C6'!D$8*100","v":0},{"$f":"+'C6'!E63/'C6'!E$8*100","v":0}]
["FUERZA DEMOCRÁTICA",{"$f":"+'C6'!B64/'C6'!B$8*100","v":1.2859871011950763},{"$f":"+'C6'!C64/'C6'!C$8*100","v":0.46712216723535388},{"$f":"+'C6'!D64/'C6'!D$8*100","v":0},{"$f":"+'C6'!E64/'C6'!E$8*100","v":0}]
["FUERZA DEMOCRÁTICA DESAMPARADEÑA",{"$f":"+'C6'!B65/'C6'!B$8*100","v":0},{"$f":"+'C6'!C65/'C6'!C$8*100","v":0},{"$f":"+'C6'!D65/'C6'!D$8*100","v":0},{"$f":"+'C6'!E65/'C6'!E$8*100","v":0.10168134434592449}]
["FUERZAS UNIDAS PARA EL CAMBIO",{"$f":"+'C6'!B66/'C6'!B$8*100","v":0},{"$f":"+'C6'!C66/'C6'!C$8*100","v":0},{"$f":"+'C6'!D66/'C6'!D$8*100","v":0},{"$f":"+'C6'!E66/'C6'!E$8*100","v":4.7694478110240815E-2}]
["GARABITO ECOLÓGICO",{"$f":"+'C6'!B67/'C6'!B$8*100","v":0.15476229873601055},{"$f":"+'C6'!C67/'C6'!C$8*100","v":0},{"$f":"+'C6'!D67/'C6'!D$8*100","v":0.11299232828105947},{"$f":"+'C6'!E67/'C6'!E$8*100","v":2.4895970409360885E-2}]
["GOICOECHEA EN ACCIÓN",{"$f":"+'C6'!B68/'C6'!B$8*100","v":0},{"$f":"+'C6'!C68/'C6'!C$8*100","v":0.28024025314154943},{"$f":"+'C6'!D68/'C6'!D$8*100","v":0.26164626243362976},{"$f":"+'C6'!E68/'C6'!E$8*100","v":0}]
["GUANACASTE INDEPENDIENTE",{"$f":"+'C6'!B69/'C6'!B$8*100","v":0.24508897372155633},{"$f":"+'C6'!C69/'C6'!C$8*100","v":1.1442592883285552},{"$f":"+'C6'!D69/'C6'!D$8*100","v":0},{"$f":"+'C6'!E69/'C6'!E$8*100","v":0}]
["HUMANISTA DE HEREDIA",{"$f":"+'C6'!B70/'C6'!B$8*100","v":1.5768234210838811E-2},{"$f":"+'C6'!C70/'C6'!C$8*100","v":0},{"$f":"+'C6'!D70/'C6'!D$8*100","v":0},{"$f":"+'C6'!E70/'C6'!E$8*100","v":0}]
["HUMANISTA DE MONTES DE OCA",{"$f":"+'C6'!B71/'C6'!B$8*100","v":5.2366111144637538E-2},{"$f":"+'C6'!C71/'C6'!C$8*100","v":0},{"$f":"+'C6'!D71/'C6'!D$8*100","v":0},{"$f":"+'C6'!E71/'C6'!E$8*100","v":0}]
["INDEPENDIENTE BELEMITA",{"$f":"+'C6'!B72/'C6'!B$8*100","v":0.10628957875454312},{"$f":"+'C6'!C72/'C6'!C$8*100","v":0.11913515478482142},{"$f":"+'C6'!D72/'C6'!D$8*100","v":9.4586338153828053E-2},{"$f":"+'C6'!E72/'C6'!E$8*100","v":0}]
["INDEPENDIENTE ESCAZUCEÑO",{"$f":"+'C6'!B73/'C6'!B$8*100","v":0},{"$f":"+'C6'!C73/'C6'!C$8*100","v":0},{"$f":"+'C6'!D73/'C6'!D$8*100","v":0},{"$f":"+'C6'!E73/'C6'!E$8*100","v":8.0250747107097356E-2}]
["INDEPENDIENTE OBRERO",{"$f":"+'C6'!B74/'C6'!B$8*100","v":0.95465951320930287},{"$f":"+'C6'!C74/'C6'!C$8*100","v":0},{"$f":"+'C6'!D74/'C6'!D$8*100","v":0},{"$f":"+'C6'!E74/'C6'!E$8*100","v":0}]
["INTEGRACIÓN BARBAREÑA",{"$f":"+'C6'!B75/'C6'!B$8*100","v":0},{"$f":"+'C6'!C75/'C6'!C$8*100","v":0.31031320483480535},{"$f":"+'C6'!D75/'C6'!D$8*100","v":0.1115863151463404},{"$f":"+'C6'!E75/'C6'!E$8*100","v":0}]
["INTEGRACIÓN NACIONAL",{"$f":"+'C6'!B76/'C6'!B$8*100","v":0.60717435189637348},{"$f":"+'C6'!C76/'C6'!C$8*100","v":1.4071497616470725},{"$f":"+'C6'!D76/'C6'!D$8*100","v":1.2058479920854241},{"$f":"+'C6'!E76/'C6'!E$8*100","v":1.2188994157198447}]
["INTEGRACIÓN PROVINCIAL TRES",{"$f":"+'C6'!B77/'C6'!B$8*100","v":0},{"$f":"+'C6'!C77/'C6'!C$8*100","v":6.1137319376399343E-3},{"$f":"+'C6'!D77/'C6'!D$8*100","v":0},{"$f":"+'C6'!E77/'C6'!E$8*100","v":0}]
["JUSTICIA GENERALEÑA",{"$f":"+'C6'!B78/'C6'!B$8*100","v":0},{"$f":"+'C6'!C78/'C6'!C$8*100","v":0},{"$f":"+'C6'!D78/'C6'!D$8*100","v":0},{"$f":"+'C6'!E78/'C6'!E$8*100","v":0.19406089754988998}]
["LIBERACIÓN NACIONAL",{"$f":"+'C6'!B79/'C6'!B$8*100","v":32.784300289473634},{"$f":"+'C6'!C79/'C6'!C$8*100","v":45.867695536149505},{"$f":"+'C6'!D79/'C6'!D$8*100","v":43.786188860797033},{"$f":"+'C6'!E79/'C6'!E$8*100","v":31.972080035529192}]
["LIGA RAMONENSE",{"$f":"+'C6'!B80/'C6'!B$8*100","v":0},{"$f":"+'C6'!C80/'C6'!C$8*100","v":0},{"$f":"+'C6'!D80/'C6'!D$8*100","v":0},{"$f":"+'C6'!E80/'C6'!E$8*100","v":0.15275000159589552}]
["LIMÓN INDEPENDIENTE",{"$f":"+'C6'!B81/'C6'!B$8*100","v":0},{"$f":"+'C6'!C81/'C6'!C$8*100","v":0},{"$f":"+'C6'!D81/'C6'!D$8*100","v":0},{"$f":"+'C6'!E81/'C6'!E$8*100","v":4.432029897051059E-2}]
["MORAVIA PROGRESISTA",{"$f":"+'C6'!B82/'C6'!B$8*100","v":0},{"$f":"+'C6'!C82/'C6'!C$8*100","v":8.724460711010501E-2},{"$f":"+'C6'!D82/'C6'!D$8*100","v":0},{"$f":"+'C6'!E82/'C6'!E$8*100","v":0}]
["MOVIMIENTO AVANCE SANTO DOMINGO",{"$f":"+'C6'!B83/'C6'!B$8*100","v":0},{"$f":"+'C6'!C83/'C6'!C$8*100","v":0},{"$f":"+'C6'!D83/'C6'!D$8*100","v":0.27660112941200532},{"$f":"+'C6'!E83/'C6'!E$8*100","v":0.28516373432260617}]
["MOVIMIENTO CURRIDABAT",{"$f":"+'C6'!B84/'C6'!B$8*100","v":0.1310126126406731},{"$f":"+'C6'!C84/'C6'!C$8*100","v":0},{"$f":"+'C6'!D84/'C6'!D$8*100","v":0},{"$f":"+'C6'!E84/'C6'!E$8*100","v":0}]
["MOVIMIENTO DE TRABAJADORES Y CAMPESINOS",{"$f":"+'C6'!B85/'C6'!B$8*100","v":0},{"$f":"+'C6'!C85/'C6'!C$8*100","v":0},{"$f":"+'C6'!D85/'C6'!D$8*100","v":0.15440580606733012},{"$f":"+'C6'!E85/'C6'!E$8*100","v":0}]
["MOVIMIENTO LIBERTARIO",{"$f":"+'C6'!B86/'C6'!B$8*100","v":4.0208997237638968},{"$f":"+'C6'!C86/'C6'!C$8*100","v":5.6300861705731213},{"$f":"+'C6'!D86/'C6'!D$8*100","v":9.6428215360310041},{"$f":"+'C6'!E86/'C6'!E$8*100","v":3.4030876474949459}]
["MOVIMIENTO OPCIÓN CANTONAL AUTÉNTICA",{"$f":"+'C6'!B87/'C6'!B$8*100","v":0.16877850692342283},{"$f":"+'C6'!C87/'C6'!C$8*100","v":0},{"$f":"+'C6'!D87/'C6'!D$8*100","v":0},{"$f":"+'C6'!E87/'C6'!E$8*100","v":0}]
["NUEVA GENERACIÓN",{"$f":"+'C6'!B88/'C6'!B$8*100","v":0},{"$f":"+'C6'!C88/'C6'!C$8*100","v":0},{"$f":"+'C6'!D88/'C6'!D$8*100","v":0},{"$f":"+'C6'!E88/'C6'!E$8*100","v":3.7315685464492239}]
["NUEVA MAYORÍA GRIEGA",{"$f":"+'C6'!B89/'C6'!B$8*100","v":0},{"$f":"+'C6'!C89/'C6'!C$8*100","v":0},{"$f":"+'C6'!D89/'C6'!D$8*100","v":0},{"$f":"+'C6'!E89/'C6'!E$8*100","v":0.45460224355554585}]
["NUEVO CORREDORES",{"$f":"+'C6'!B90/'C6'!B$8*100","v":5.431280672622258E-2},{"$f":"+'C6'!C90/'C6'!C$8*100","v":0},{"$f":"+'C6'!D90/'C6'!D$8*100","v":0},{"$f":"+'C6'!E90/'C6'!E$8*100","v":0}]
["ORGANIZACIÓN LABORISTA DE QUEPOS",{"$f":"+'C6'!B91/'C6'!B$8*100","v":0},{"$f":"+'C6'!C91/'C6'!C$8*100","v":0.24537545749717032},{"$f":"+'C6'!D91/'C6'!D$8*100","v":6.6466075459446754E-3},{"$f":"+'C6'!E91/'C6'!E$8*100","v":0}]
["ORGANIZACIÓN SOCIAL ACTIVA",{"$f":"+'C6'!B92/'C6'!B$8*100","v":0},{"$f":"+'C6'!C92/'C6'!C$8*100","v":0},{"$f":"+'C6'!D92/'C6'!D$8*100","v":0.12270660084820936},{"$f":"+'C6'!E92/'C6'!E$8*100","v":0}]
["PATRIA PRIMERO",{"$f":"+'C6'!B93/'C6'!B$8*100","v":0},{"$f":"+'C6'!C93/'C6'!C$8*100","v":4.9075091499434072E-2},{"$f":"+'C6'!D93/'C6'!D$8*100","v":0},{"$f":"+'C6'!E93/'C6'!E$8*100","v":0}]
["PARRITA INDEPENDIENTE",{"$f":"+'C6'!B94/'C6'!B$8*100","v":0},{"$f":"+'C6'!C94/'C6'!C$8*100","v":0},{"$f":"+'C6'!D94/'C6'!D$8*100","v":0},{"$f":"+'C6'!E94/'C6'!E$8*100","v":9.3565075604411241E-2}]
["PROGRESO COMUNAL DESAMPARADEÑO",{"$f":"+'C6'!B95/'C6'!B$8*100","v":0},{"$f":"+'C6'!C95/'C6'!C$8*100","v":0},{"$f":"+'C6'!D95/'C6'!D$8*100","v":0},{"$f":"+'C6'!E95/'C6'!E$8*100","v":9.1194030803519732E-2}]
["PUEBLO GARABITO",{"$f":"+'C6'!B96/'C6'!B$8*100","v":0},{"$f":"+'C6'!C96/'C6'!C$8*100","v":0},{"$f":"+'C6'!D96/'C6'!D$8*100","v":0},{"$f":"+'C6'!E96/'C6'!E$8*100","v":6.8669105195050345E-2}]
["PURISCALEÑOS DE CORAZON",{"$f":"+'C6'!B97/'C6'!B$8*100","v":0},{"$f":"+'C6'!C97/'C6'!C$8*100","v":0},{"$f":"+'C6'!D97/'C6'!D$8*100","v":0},{"$f":"+'C6'!E97/'C6'!E$8*100","v":2.7358209241055916E-2}]
["RECUPERANDO VALORES",{"$f":"+'C6'!B98/'C6'!B$8*100","v":0},{"$f":"+'C6'!C98/'C6'!C$8*100","v":0},{"$f":"+'C6'!D98/'C6'!D$8*100","v":0},{"$f":"+'C6'!E98/'C6'!E$8*100","v":0.15904238972133838}]
["RENACER SANTACRUCEÑO",{"$f":"+'C6'!B99/'C6'!B$8*100","v":0.12964992573356357},{"$f":"+'C6'!C99/'C6'!C$8*100","v":0},{"$f":"+'C6'!D99/'C6'!D$8*100","v":0},{"$f":"+'C6'!E99/'C6'!E$8*100","v":0}]
["RENOVACIÓN CARTAGO",{"$f":"+'C6'!B100/'C6'!B$8*100","v":0},{"$f":"+'C6'!C100/'C6'!C$8*100","v":0},{"$f":"+'C6'!D100/'C6'!D$8*100","v":0},{"$f":"+'C6'!E100/'C6'!E$8*100","v":0.26847522668556206}]
["RENOVACIÓN COSTARICENSE",{"$f":"+'C6'!B101/'C6'!B$8*100","v":3.0167941427823344},{"$f":"+'C6'!C101/'C6'!C$8*100","v":1.6330273713431209},{"$f":"+'C6'!D101/'C6'!D$8*100","v":2.6218310381234069},{"$f":"+'C6'!E101/'C6'!E$8*100","v":2.637604952930201}]
["RENOVEMOS ALAJUELA",{"$f":"+'C6'!B102/'C6'!B$8*100","v":0},{"$f":"+'C6'!C102/'C6'!C$8*100","v":0},{"$f":"+'C6'!D102/'C6'!D$8*100","v":1.0869759725137214},{"$f":"+'C6'!E102/'C6'!E$8*100","v":0.48797925882963405}]
["REPUBLICANO SOCIAL CRISTIANO",{"$f":"+'C6'!B103/'C6'!B$8*100","v":0},{"$f":"+'C6'!C103/'C6'!C$8*100","v":0},{"$f":"+'C6'!D103/'C6'!D$8*100","v":0},{"$f":"+'C6'!E103/'C6'!E$8*100","v":6.0678684216045955}]
["RESCATE CANTONAL LA UNIÓN",{"$f":"+'C6'!B104/'C6'!B$8*100","v":0},{"$f":"+'C6'!C104/'C6'!C$8*100","v":0},{"$f":"+'C6'!D104/'C6'!D$8*100","v":0},{"$f":"+'C6'!E104/'C6'!E$8*100","v":0.25506970415744468}]
["RESCATE NACIONAL",{"$f":"+'C6'!B105/'C6'!B$8*100","v":0.67900741885686144},{"$f":"+'C6'!C105/'C6'!C$8*100","v":0.26586472128817984},{"$f":"+'C6'!D105/'C6'!D$8*100","v":0},{"$f":"+'C6'!E105/'C6'!E$8*100","v":0}]
["RESTAURACIÓN HEREDIANA",{"$f":"+'C6'!B106/'C6'!B$8*100","v":0},{"$f":"+'C6'!C106/'C6'!C$8*100","v":0},{"$f":"+'C6'!D106/'C6'!D$8*100","v":7.9887109927219646E-2},{"$f":"+'C6'!E106/'C6'!E$8*100","v":0}]
["RESTAURACIÓN NACIONAL",{"$f":"+'C6'!B107/'C6'!B$8*100","v":0},{"$f":"+'C6'!C107/'C6'!C$8*100","v":0},{"$f":"+'C6'!D107/'C6'!D$8*100","v":0},{"$f":"+'C6'!E107/'C6'!E$8*100","v":1.0457219512239606}]
["RESTAURACIÓN PARRITEÑA",{"$f":"+'C6'!B108/'C6'!B$8*100","v":0},{"$f":"+'C6'!C108/'C6'!C$8*100","v":0},{"$f":"+'C6'!D108/'C6'!D$8*100","v":0},{"$f":"+'C6'!E108/'C6'!E$8*100","v":3.8483880999085326E-2}]
["SAN JOSÉ SOMOS TODOS",{"$f":"+'C6'!B109/'C6'!B$8*100","v":0.19097083655349228},{"$f":"+'C6'!C109/'C6'!C$8*100","v":0},{"$f":"+'C6'!D109/'C6'!D$8*100","v":0},{"$f":"+'C6'!E109/'C6'!E$8*100","v":0}]
["SOLIDARIDAD",{"$f":"+'C6'!B110/'C6'!B$8*100","v":0},{"$f":"+'C6'!C110/'C6'!C$8*100","v":0},{"$f":"+'C6'!D110/'C6'!D$8*100","v":0},{"$f":"+'C6'!E110/'C6'!E$8*100","v":0.14673119556286324}]
["SOLIDARIDAD RAMONENSE",{"$f":"+'C6'!B111/'C6'!B$8*100","v":0},{"$f":"+'C6'!C111/'C6'!C$8*100","v":0.68258990903758288},{"$f":"+'C6'!D111/'C6'!D$8*100","v":0},{"$f":"+'C6'!E111/'C6'!E$8*100","v":0}]
["TALAMANCA UNIDA",{"$f":"+'C6'!B112/'C6'!B$8*100","v":0},{"$f":"+'C6'!C112/'C6'!C$8*100","v":0},{"$f":"+'C6'!D112/'C6'!D$8*100","v":2.7992443318497765E-2},{"$f":"+'C6'!E112/'C6'!E$8*100","v":0}]
["TARRAZÚ PRIMERO",{"$f":"+'C6'!B113/'C6'!B$8*100","v":0},{"$f":"+'C6'!C113/'C6'!C$8*100","v":0},{"$f":"+'C6'!D113/'C6'!D$8*100","v":0.11580435455049759},{"$f":"+'C6'!E113/'C6'!E$8*100","v":0}]
["TODO POR FLORES",{"$f":"+'C6'!B114/'C6'!B$8*100","v":0},{"$f":"+'C6'!C114/'C6'!C$8*100","v":0},{"$f":"+'C6'!D114/'C6'!D$8*100","v":0.22138315903031108},{"$f":"+'C6'!E114/'C6'!E$8*100","v":0.12302074755394811}]
["TRANSPARENCIA CARTAGINÉS",{"$f":"+'C6'!B115/'C6'!B$8*100","v":0},{"$f":"+'C6'!C115/'C6'!C$8*100","v":0},{"$f":"+'C6'!D115/'C6'!D$8*100","v":0.12475171086234621},{"$f":"+'C6'!E115/'C6'!E$8*100","v":0}]
["ÚNICO ABANGAREÑO",{"$f":"+'C6'!B116/'C6'!B$8*100","v":0},{"$f":"+'C6'!C116/'C6'!C$8*100","v":0},{"$f":"+'C6'!D116/'C6'!D$8*100","v":0.13932311971307107},{"$f":"+'C6'!E116/'C6'!E$8*100","v":0}]
["UNIDAD SOCIAL CRISTIANA",{"$f":"+'C6'!B117/'C6'!B$8*100","v":36.717014703391726},{"$f":"+'C6'!C117/'C6'!C$8*100","v":17.681408471649636},{"$f":"+'C6'!D117/'C6'!D$8*100","v":14.493950308939432},{"$f":"+'C6'!E117/'C6'!E$8*100","v":18.386540490605647}]
["UNIÓN AGRÍCOLA CARTIGINÉS",{"$f":"+'C6'!B118/'C6'!B$8*100","v":0.10356420494032405},{"$f":"+'C6'!C118/'C6'!C$8*100","v":0},{"$f":"+'C6'!D118/'C6'!D$8*100","v":0.4471121768406629},{"$f":"+'C6'!E118/'C6'!E$8*100","v":0}]
["UNIÓN ATENIENSE",{"$f":"+'C6'!B119/'C6'!B$8*100","v":0},{"$f":"+'C6'!C119/'C6'!C$8*100","v":0},{"$f":"+'C6'!D119/'C6'!D$8*100","v":0.23493201287396753},{"$f":"+'C6'!E119/'C6'!E$8*100","v":0}]
["UNIÓN GENERAL",{"$f":"+'C6'!B120/'C6'!B$8*100","v":1.8688277583216367E-2},{"$f":"+'C6'!C120/'C6'!C$8*100","v":0},{"$f":"+'C6'!D120/'C6'!D$8*100","v":0},{"$f":"+'C6'!E120/'C6'!E$8*100","v":0}]
["UNIÓN GUARQUEÑO",{"$f":"+'C6'!B121/'C6'!B$8*100","v":0},{"$f":"+'C6'!C121/'C6'!C$8*100","v":0},{"$f":"+'C6'!D121/'C6'!D$8*100","v":0},{"$f":"+'C6'!E121/'C6'!E$8*100","v":0.22661716654674649}]
["UNIÓN NACIONAL",{"$f":"+'C6'!B122/'C6'!B$8*100","v":0},{"$f":"+'C6'!C122/'C6'!C$8*100","v":2.6604648088632588},{"$f":"+'C6'!D122/'C6'!D$8*100","v":0},{"$f":"+'C6'!E122/'C6'!E$8*100","v":0}]
["UNIÓN PALMAREÑA",{"$f":"+'C6'!B123/'C6'!B$8*100","v":0},{"$f":"+'C6'!C123/'C6'!C$8*100","v":0.33625525657019639},{"$f":"+'C6'!D123/'C6'!D$8*100","v":0.27736804566730661},{"$f":"+'C6'!E123/'C6'!E$8*100","v":0}]
["UNIÓN PARA EL CAMBIO",{"$f":"+'C6'!B124/'C6'!B$8*100","v":0},{"$f":"+'C6'!C124/'C6'!C$8*100","v":2.4962202265385534},{"$f":"+'C6'!D124/'C6'!D$8*100","v":0},{"$f":"+'C6'!E124/'C6'!E$8*100","v":0}]
["UNIÓN POASEÑA",{"$f":"+'C6'!B125/'C6'!B$8*100","v":0},{"$f":"+'C6'!C125/'C6'!C$8*100","v":4.3787539553367096E-2},{"$f":"+'C6'!D125/'C6'!D$8*100","v":0.20885686019372304},{"$f":"+'C6'!E125/'C6'!E$8*100","v":0}]
["VANGUARDIA POPULAR",{"$f":"+'C6'!B126/'C6'!B$8*100","v":0},{"$f":"+'C6'!C126/'C6'!C$8*100","v":4.0482819587075239E-2},{"$f":"+'C6'!D126/'C6'!D$8*100","v":0},{"$f":"+'C6'!E126/'C6'!E$8*100","v":0}]
["VERDE",{"$f":"+'C6'!B127/'C6'!B$8*100","v":0},{"$f":"+'C6'!C127/'C6'!C$8*100","v":0},{"$f":"+'C6'!D127/'C6'!D$8*100","v":0},{"$f":"+'C6'!E127/'C6'!E$8*100","v":0.43645463142564539}]
["VERDE ECOLOGISTA",{"$f":"+'C6'!B128/'C6'!B$8*100","v":0},{"$f":"+'C6'!C128/'C6'!C$8*100","v":0.5394955344971456},{"$f":"+'C6'!D128/'C6'!D$8*100","v":7.822545804073347E-2},{"$f":"+'C6'!E128/'C6'!E$8*100","v":0}]
["VIVA PUNTARENAS",{"$f":"+'C6'!B129/'C6'!B$8*100","v":0},{"$f":"+'C6'!C129/'C6'!C$8*100","v":0},{"$f":"+'C6'!D129/'C6'!D$8*100","v":0},{"$f":"+'C6'!E129/'C6'!E$8*100","v":0.55938418494878994}]
["YUNTA PROGRESISTA ESCAZUCEÑA",{"$f":"+'C6'!B130/'C6'!B$8*100","v":0.50828221635185356},{"$f":"+'C6'!C130/'C6'!C$8*100","v":0.5808045340757938},{"$f":"+'C6'!D130/'C6'!D$8*100","v":0.63232245249592889},{"$f":"+'C6'!E130/'C6'!E$8*100","v":0.97340508479676957}]
[]
[]
["Fuente: Cómputo de Votos Elecciones Municipales  2002, 2006, 2010 y 2016."]

{"sheet":"C8","index":10,"n_rows":30,"n_cols":5,"rows_kept":30,"cut":false,"hidden":false,"merged":[[29,0,29,4]]}
[]
["CUADRO 8 COSTA RICA: PUESTOS ELECTOS, SEGÚN TIPO DE CANDIDATURA Y CARGO"]
["ELECCIONES MUNICIPALES 2002 - 2016"]
[]
["TIPO DE CANDIDATURA Y CARGO",2002,2006,2010,2016]
[]
["REGIDORES/AS 1/",{"$f":"+B8+B9","v":1002},{"$f":"+C8+C9","v":1006},{"$f":"+D8+D9","v":990},{"$f":"+E8+E9","v":1010}]
["PROPIETARIO/A",501,503,495,505]
["SUPLENTE",501,503,495,505]
["SÍNDICOS/AS",{"$f":"+B11+B12","v":899},{"$f":"+C11+C12","v":924},{"$f":"+D11+D12","v":927},{"$f":"+E11+E12","v":951}]
["PROPIETARIO/A",453,469,470,480]
["SUPLENTE",446,455,457,471]
["ALCALDÍAS",{"$f":"+B14+B15","v":243},{"$f":"+C14+C15","v":242},{"$f":"+D14+D16+D17","v":243},{"$f":"+E14+E16+E17","v":243}]
["PROPIETARIO/A",81,81,81,81]
["SUPLENTE",{"$f":"81*2","v":162},161,"NA","NA"]
["VICEALCALDÍA PRIMERA","NA","NA",81,81]
["VICEALCALDÍA SEGUNDA","NA","NA",81,81]
["CONCEJAL DE DISTRITO",{"$f":"+B19+B20","v":3469},{"$f":"+C19+C20","v":3628},{"$f":"+D19+D20","v":3662},{"$f":"+E19+E20","v":3736}]
["PROPIETARIO/A",1755,1844,1856,1888]
["SUPLENTE",1714,1784,1806,1848]
["CONCEJAL MUNICIPAL DE DISTRITO",{"$f":"+B22+B23","v":61},{"$f":"+C22+C23","v":64},{"$f":"+D22+D23","v":64},{"$f":"+E22+E23","v":64}]
["PROPIETARIO/A",32,32,32,32]
["SUPLENTE",29,32,32,32]
["INTENDENCIA",8,8,8,8]
["VICEINTENDECIA","NA","NA",8,8]
[]
[]
["1/ Para los años 2002, 2006 y 2010 se eligieron en la elecciones generales."]
["NA: No Aplica."]
["Fuente: Cómputo de votos y declaratorias de elección 2002, 2006, 2010 y 2016."]

{"sheet":"C9","index":11,"n_rows":32,"n_cols":9,"rows_kept":32,"cut":false,"hidden":false,"merged":[[5,0,6,0],[31,0,31,6],[5,5,5,6],[5,7,5,8]]}
[]
["CUADRO 9 COSTA RICA: CANDIDATOS/AS ELECTOS/AS"]
["POR SEXO, SEGÚN TIPO DE CANDIDATURA Y CARGO"]
["ELECCIONES MUNICIPALES 2002 - 2016"]
[]
["TIPO DE CANDIDATURA Y CARGO",2002,null,2006,null,2010,null,2016]
[null,"HOMBRE","MUJER","HOMBRE","MUJER","HOMBRE","MUJER","HOMBRE","MUJER"]
[]
["REGIDORES/AS 1/",{"$f":"+B10+B11","v":500},502,569,437,566,424,549,461]
["PROPIETARIO/A",269,232,298,205,304,191,301,204]
["SUPLENTE",231,270,271,232,262,233,248,257]
["SÍNDICO/A",{"$f":"'C8'!B10-'C9'!C12","v":434},{"$f":"+C13+C14","v":465},{"$f":"'C8'!C10-'C9'!E12","v":445},{"$f":"+E13+E14","v":479},{"$f":"'C8'!D10-'C9'!G12","v":466},{"$f":"+G13+G14","v":461},{"$f":"+H13+H14","v":476},{"$f":"+I13+I14","v":475}]
["PROPIETARIO/A",{"$f":"'C8'!B11-'C9'!C13","v":321},132,{"$f":"'C8'!C11-'C9'!E13","v":337},132,{"$f":"'C8'!D11-'C9'!G13","v":342},128,306,174]
["SUPLENTE",{"$f":"'C8'!B12-'C9'!C14","v":113},333,{"$f":"'C8'!C12-'C9'!E14","v":108},347,{"$f":"'C8'!D12-'C9'!G14","v":124},333,170,301]
["ALCALDES/AS Y VICEALCALDES/AS",{"$f":"'C8'!B13-'C9'!C15","v":151},{"$f":"+C16+C17","v":92},{"$f":"'C8'!C13-'C9'!E15","v":149},{"$f":"+E16+E17","v":93},{"$f":"'C8'!D13-'C9'!G15","v":148},{"$f":"+G16+G18+G19","v":95},{"$f":"+H16+H18+H19","v":143},{"$f":"+I16+I18+I19","v":99}]
["PROPIETARIO/A",{"$f":"'C8'!B14-'C9'!C16","v":74},7,{"$f":"'C8'!C14-'C9'!E16","v":72},9,{"$f":"'C8'!D14-'C9'!G16","v":71},10,69,12]
["SUPLENTE",{"$f":"'C8'!B15-'C9'!C17","v":77},85,{"$f":"'C8'!C15-'C9'!E17","v":77},84,"NA","NA","NA","NA"]
["VICEALCALDE/SA PRIMERO/A","NA","NA","NA","NA",{"$f":"'C8'!D16-'C9'!G18","v":10},71,12,69]
["VICEALCALDE/SA SEGUNDO/A","NA","NA","NA","NA",{"$f":"'C8'!D17-'C9'!G19","v":67},14,62,18]
["CONCEJAL/A DE DISTRITO",{"$f":"'C8'!B18-'C9'!C20","v":1827},{"$f":"+C21+C22","v":1642},{"$f":"'C8'!C18-'C9'!E20","v":1851},{"$f":"+E21+E22","v":1777},{"$f":"'C8'!D18-'C9'!G20","v":1880},{"$f":"+G21+G22","v":1782},{"$f":"+H21+H22","v":1918},{"$f":"+I21+I22","v":1818}]
["PROPIETARIO/A",{"$f":"'C8'!B19-'C9'!C21","v":916},839,{"$f":"'C8'!C19-'C9'!E21","v":983},861,{"$f":"'C8'!D19-'C9'!G21","v":962},894,976,912]
["SUPLENTE",{"$f":"'C8'!B20-'C9'!C22","v":911},803,{"$f":"'C8'!C20-'C9'!E22","v":868},916,{"$f":"'C8'!D20-'C9'!G22","v":918},888,942,906]
["CONCEJAL/A MUNICIPAL DE DISTRITO",{"$f":"'C8'!B21-'C9'!C23","v":30},{"$f":"+C24+C25","v":31},{"$f":"'C8'!C21-'C9'!E23","v":35},{"$f":"+E24+E25","v":29},{"$f":"'C8'!D21-'C9'!G23","v":37},{"$f":"+G24+G25","v":27},{"$f":"+H24+H25","v":34},{"$f":"+I24+I25","v":30}]
["PROPIETARIO/A",{"$f":"'C8'!B22-'C9'!C24","v":19},13,{"$f":"'C8'!C22-'C9'!E24","v":19},13,{"$f":"'C8'!D22-'C9'!G24","v":18},14,18,14]
["SUPLENTE",{"$f":"'C8'!B23-'C9'!C25","v":11},18,{"$f":"'C8'!C23-'C9'!E25","v":16},16,{"$f":"'C8'!D23-'C9'!G25","v":19},13,16,16]
["INTENDENTE/A",{"$f":"'C8'!B24-'C9'!C26","v":6},2,{"$f":"'C8'!C24-'C9'!E26","v":6},2,{"$f":"'C8'!D24-'C9'!G26","v":6},2,5,3]
["VICEINTENDENTE/A","NA","NA","NA","NA",{"$f":"'C8'!D25-'C9'!G27","v":2},6,3,5]
[]
[]
["1/ Para los años 2002, 2006 y 2010 se eligieron en la elecciones generales."]
["NA: No Aplica"]
["Fuente: Cómputo de votos y declaratorias de elección 2002, 2006, 2010 y 2016."]

{"sheet":"C10","index":12,"n_rows":32,"n_cols":10,"rows_kept":32,"cut":false,"hidden":false,"merged":[[5,0,6,0],[1,0,1,8],[2,0,2,8],[3,0,3,8]]}
[]
["CUADRO 10 COSTA RICA: CANDIDATOS/AS ELECTOS/AS, POR SEXO, SEGÚN TIPO"]
["DE CANDIDATURA Y CARGO, ELECCIONES MUNICIPALES 2002 - 2016"]
["(CIFRAS RELATIVAS)"]
[]
["TIPO DE CANDIDATURA Y CARGO",2002,null,2006,null,2010,null,2016]
[null,"HOMBRE","MUJER","HOMBRE","MUJER","HOMBRE","MUJER","HOMBRE","MUJER"]
[]
["REGIDORES/AS 1/",{"$f":"+'C9'!B9/'C8'!B7*100","v":49.900199600798402},{"$f":"'C9'!C9/'C8'!B7*100","v":50.099800399201598},{"$f":"'C9'!D9/'C8'!C7*100","v":56.560636182902577},{"$f":"'C9'!E9/'C8'!C7*100","v":43.439363817097416},{"$f":"100-G9","v":57.171717171717177},{"$f":"'C9'!G9/'C8'!D7*100","v":42.828282828282823},{"$f":"100-I9","v":54.356435643564353},{"$f":"'C9'!I9/'C8'!E7*100","v":45.643564356435647}]
["PROPIETARIO/A",{"$f":"+'C9'!B10/'C8'!B8*100","v":53.69261477045908},{"$f":"'C9'!C10/'C8'!B8*100","v":46.30738522954092},{"$f":"'C9'!D10/'C8'!C8*100","v":59.244532803180917},{"$f":"'C9'!E10/'C8'!C8*100","v":40.755467196819083},61.414141414141419,{"$f":"'C9'!G10/'C8'!D8*100","v":38.585858585858581},59.603960396039604,{"$f":"'C9'!I10/'C8'!E8*100","v":40.396039603960396}]
["SUPLENTE",{"$f":"+'C9'!B11/'C8'!B9*100","v":46.107784431137731},{"$f":"'C9'!C11/'C8'!B9*100","v":53.892215568862277},{"$f":"'C9'!D11/'C8'!C9*100","v":53.876739562624252},{"$f":"'C9'!E11/'C8'!C9*100","v":46.123260437375748},52.929292929292934,{"$f":"'C9'!G11/'C8'!D9*100","v":47.070707070707066},49.10891089108911,{"$f":"'C9'!I11/'C8'!E9*100","v":50.89108910891089}]
["SÍNDICOS/AS",{"$f":"100-C12","v":48.275862068965516},{"$f":"'C9'!C12/'C8'!B10*100","v":51.724137931034484},{"$f":"'C9'!D12/'C8'!C10*100","v":48.160173160173159},{"$f":"'C9'!E12/'C8'!C10*100","v":51.839826839826841},50.269687162891046,{"$f":"'C9'!G12/'C8'!D10*100","v":49.730312837108954},50.052576235541537,{"$f":"'C9'!I12/'C8'!E10*100","v":49.947423764458463}]
["PROPIETARIO/A",70.860927152317885,{"$f":"'C9'!C13/'C8'!B11*100","v":29.139072847682119},{"$f":"100-E13","v":71.85501066098081},{"$f":"'C9'!E13/'C8'!C11*100","v":28.14498933901919},72.765957446808514,{"$f":"'C9'!G13/'C8'!D11*100","v":27.23404255319149},63.75,{"$f":"'C9'!I13/'C8'!E11*100","v":36.25}]
["SUPLENTE",25.336322869955154,{"$f":"'C9'!C14/'C8'!B12*100","v":74.663677130044846},{"$f":"100-E14","v":23.736263736263737},{"$f":"'C9'!E14/'C8'!C12*100","v":76.263736263736263},27.133479212253832,{"$f":"'C9'!G14/'C8'!D12*100","v":72.866520787746168},36.093418259023359,{"$f":"'C9'!I14/'C8'!E12*100","v":63.906581740976641}]
["ALCALDES/AS Y VICEALCALDES/AS",62.139917695473251,{"$f":"'C9'!C15/'C8'!B13*100","v":37.860082304526749},{"$f":"100-E15","v":61.570247933884296},{"$f":"'C9'!E15/'C8'!C13*100","v":38.429752066115704},60.905349794238681,{"$f":"'C9'!G15/'C8'!D13*100","v":39.094650205761319},59.25925925925926,{"$f":"'C9'!I15/'C8'!E13*100","v":40.74074074074074}," "]
["PROPIETARIO/A",91.358024691358025,{"$f":"'C9'!C16/'C8'!B14*100","v":8.6419753086419746},{"$f":"100-E16","v":88.888888888888886},{"$f":"'C9'!E16/'C8'!C14*100","v":11.111111111111111},87.654320987654316,{"$f":"'C9'!G16/'C8'!D14*100","v":12.345679012345679},85.18518518518519,{"$f":"'C9'!I16/'C8'!E14*100","v":14.814814814814813}]
["SUPLENTE",47.530864197530867,{"$f":"'C9'!C17/'C8'!B15*100","v":52.469135802469133},{"$f":"100-E17","v":47.826086956521742},{"$f":"'C9'!E17/'C8'!C15*100","v":52.173913043478258},"NA","NA","NA","NA"]
["VICEALCALDE(SA) PRIMERO/A","NA","NA","NA","NA",{"$f":"100-G18","v":12.345679012345684},{"$f":"'C9'!G18/'C8'!D16*100","v":87.654320987654316},{"$f":"100-I18","v":14.81481481481481},{"$f":"'C9'!I18/'C8'!E16*100","v":85.18518518518519}]
["VICEALCALDE(SA) SEGUNDO/A","NA","NA","NA","NA",82.716049382716051,{"$f":"'C9'!G19/'C8'!D17*100","v":17.283950617283949},77.777777777777771,{"$f":"'C9'!I19/'C8'!E17*100","v":22.222222222222221}]
["CONCEJALA DE DISTRITO",{"$f":"100-C20","v":52.666474488325164},{"$f":"'C9'!C20/'C8'!B18*100","v":47.333525511674836},{"$f":"100-E20","v":51.019845644983462},{"$f":"'C9'!E20/'C8'!C18*100","v":48.980154355016538},51.338066630256691,{"$f":"'C9'!G20/'C8'!D18*100","v":48.661933369743309},51.33832976445396,{"$f":"'C9'!I20/'C8'!E18*100","v":48.66167023554604}]
["PROPIETARIO/A",52.193732193732195,{"$f":"'C9'!C21/'C8'!B19*100","v":47.806267806267805},53.308026030368765,{"$f":"'C9'!E21/'C8'!C19*100","v":46.691973969631235},51.831896551724135,{"$f":"'C9'!G21/'C8'!D19*100","v":48.168103448275865},51.694915254237287,{"$f":"'C9'!I21/'C8'!E19*100","v":48.305084745762713}]
["SUPLENTE",53.150525087514588,{"$f":"'C9'!C22/'C8'!B20*100","v":46.849474912485412},48.654708520179369,{"$f":"'C9'!E22/'C8'!C20*100","v":51.345291479820631},50.830564784053159,{"$f":"'C9'!G22/'C8'!D20*100","v":49.169435215946841},50.97402597402597,{"$f":"'C9'!I22/'C8'!E20*100","v":49.02597402597403}]
["CONCEJALA MUNICIPAL DE DISTRITO",49.180327868852459,{"$f":"'C9'!C23/'C8'!B21*100","v":50.819672131147541},54.6875,{"$f":"'C9'!E23/'C8'!C21*100","v":45.3125},57.8125,{"$f":"'C9'!G23/'C8'!D21*100","v":42.1875},53.125,{"$f":"'C9'!I23/'C8'!E21*100","v":46.875}]
["PROPIETARIO/A",59.375,{"$f":"'C9'!C24/'C8'!B22*100","v":40.625},59.375,{"$f":"'C9'!E24/'C8'!C22*100","v":40.625},56.25,{"$f":"'C9'!G24/'C8'!D22*100","v":43.75},56.25,{"$f":"'C9'!I24/'C8'!E22*100","v":43.75}]
["SUPLENTE",37.931034482758619,{"$f":"'C9'!C25/'C8'!B23*100","v":62.068965517241381},50,{"$f":"'C9'!E25/'C8'!C23*100","v":50},59.375,{"$f":"'C9'!G25/'C8'!D23*100","v":40.625},50,{"$f":"'C9'!I25/'C8'!E23*100","v":50}]
["INTENDENTE/A",75,{"$f":"'C9'!C26/'C8'!B24*100","v":25},75,{"$f":"'C9'!E26/'C8'!C24*100","v":25},75,{"$f":"'C9'!G26/'C8'!D24*100","v":25},62.5,{"$f":"'C9'!I26/'C8'!E24*100","v":37.5}]
["VICEINTENDENTE/A","NA","NA","NA","NA",25,{"$f":"'C9'!G27/'C8'!D25*100","v":75},37.5,{"$f":"'C9'!I27/'C8'!E25*100","v":62.5}]
[]
[]
["1/ Para los años 2002, 2006 y 2010 se eligieron en la elecciones generales."]
["NA: No Aplica."]
["Fuente: Cómputo de Votos Elecciones Municipales  2002, 2006, 2010 y 2016."]

{"sheet":"C11","index":13,"n_rows":56,"n_cols":13,"rows_kept":56,"cut":false,"hidden":false,"merged":[[1,0,1,12],[2,0,2,12],[3,0,3,12],[5,10,5,12],[5,0,6,0],[5,1,5,3],[5,4,5,6],[5,7,5,9]]}
[]
["CUADRO 11 COSTA RICA: ALCALDES/AS ELECTOS/AS, POR SEXO, SEGÚN PARTIDO POLÍTICO"]
["ELECCIONES MUNICIPALES 2002 - 2016"]
["(CIFRAS ABSOLUTAS Y RELATIVAS)"]
[]
["PARTIDO POLÍTICO",2002,null,null,2006,null,null,2010,null,null,2016]
[null,"TOTAL","MUJER","HOMBRE","TOTAL","MUJER","HOMBRE","TOTAL","MUJER","HOMBRE","TOTAL","MUJER","HOMBRE"]
[]
["ABSOLUTOS",{"$f":"SUM(B10:B30)","v":81},7,74,81,9,72,81,10,71,81,12,69]
["ACCESIBILIDAD SIN EXCLUSIÓN",{"$f":"+C10+D10","v":0},0,0,{"$f":"+F10+G10","v":0},0,0,{"$f":"+I10+J10","v":2},1,1,{"$f":"+L10+M10","v":1},0,1]
["ACCIÓN CANTONAL SIQUIRRES INDEPENDIENTE",0,0,0,{"$f":"+F11+G11","v":1},0,1,0,0,0,0,0,0]
["ACCIÓN CIUDADANA",{"$f":"+C12+D12","v":1},1,0,{"$f":"+F12+G12","v":5},1,4,{"$f":"+I12+J12","v":6},0,6,6,0,6]
["ALIANZA POR SAN JOSÉ",0,0,0,0,0,0,0,0,0,1,0,1]
["AUTÉNTICO LIMONENSE",0,0,0,0,0,0,0,0,0,1,0,1]
["AUTÉNTICO PARAISEÑO",{"$f":"+C15+D15","v":1},0,1,0,0,0,0,0,0,0,0,0]
["COALICIÓN GENTE MONTES DE OCA",0,0,0,0,0,0,0,0,0,1,0,1]
["CURRIDABAT SIGLO XXI",{"$f":"+C17+D17","v":1},1,0,{"$f":"+F17+G17","v":1},0,1,{"$f":"+I17+J17","v":1},0,1,1,0,1]
["FRENTE AMPLIO",0,0,0,0,0,0,0,0,0,1,0,1]
["GUANACASTE INDEPENDIENTE",{"$f":"+C19+D19","v":1},0,1,0,0,0,0,0,0,0,0,0]
["INDEPENDIENTE OBRERO",{"$f":"+C20+D20","v":1},0,1,0,0,0,0,0,0,0,0,0]
["LIBERACIÓN NACIONAL",{"$f":"+C21+D21","v":27},2,25,{"$f":"+F21+G21","v":59},6,53,{"$f":"+I21+J21","v":59},8,51,50,8,42]
["MOVIMIENTO LIBERTARIO",{"$f":"+C22+D22","v":0},0,0,{"$f":"+F22+G22","v":1},0,1,{"$f":"+I22+J22","v":2},0,2,0,0,0]
["NUEVA GENERACIÓN",0,0,0,0,0,0,0,0,0,3,0,3]
["ORGANIZACIÓN LABORISTA DE QUEPOS",0,0,0,{"$f":"+F24+G24","v":1},0,1,0,0,0,0,0,0]
["RENOVACIÓN COSTARRICENSE",{"$f":"+C25+D25","v":1},0,1,{"$f":"+F25+G25","v":0},0,0,{"$f":"+I25+J25","v":1},0,1,0,0,0]
["REPUBLICANO SOCIAL CRISTIANO",0,0,0,0,0,0,0,0,0,1,0,1]
["UNIDAD SOCIAL CRISTIANA",{"$f":"+C27+D27","v":48},3,45,{"$f":"+F27+G27","v":11},2,9,{"$f":"+I27+J27","v":9},1,8,14,4,10]
["UNIÓN NACIONAL",0,0,0,{"$f":"+F28+G28","v":1},0,1,0,0,0,0,0,0]
["UNIÓN PARA EL CAMBIO",0,0,0,{"$f":"+F29+G29","v":1},0,1,0,0,0,0,0,0]
["YUNTA PROGRESISTA ESCAZUCEÑA",{"$f":"+C30+D30","v":0},0,0,{"$f":"+F30+G30","v":0},0,0,{"$f":"+I30+J30","v":1},0,1,1,0,1]
[]
["RELATIVOS",{"$f":"SUM(C32:D32)","v":100},{"$f":"C9/B9*100","v":8.6419753086419746},{"$f":"D9/B9*100","v":91.358024691358025},{"$f":"SUM(F32:G32)","v":100},{"$f":"F9/E9*100","v":11.111111111111111},{"$f":"G9/E9*100","v":88.888888888888886},{"$f":"SUM(I32:J32)","v":100},{"$f":"I9/H9*100","v":12.345679012345679},{"$f":"J9/H9*100","v":87.654320987654316},{"$f":"SUM(L32:M32)","v":100},{"$f":"L9/K9*100","v":14.814814814814813},{"$f":"M9/K9*100","v":85.18518518518519}]
["ACCESIBILIDAD SIN EXCLUSIÓN",0,0,0,0,0,0,100,{"$f":"I10/H10*100","v":50},{"$f":"J10/H10*100","v":50},100,{"$f":"L10/K10*100","v":0},{"$f":"M10/K10*100","v":100}]
["ACCIÓN CANTONAL SIQUIRRES INDEPENDIENTE",0,0,0,100,{"$f":"F11/E11*100","v":0},{"$f":"G11/E11*100","v":100},0,0,0,0,0,0]
["ACCIÓN CIUDADANA",100,{"$f":"C12/B12*100","v":100},{"$f":"D12/B12*100","v":0},100,{"$f":"F12/E12*100","v":20},{"$f":"G12/E12*100","v":80},100,{"$f":"I12/H12*100","v":0},{"$f":"J12/H12*100","v":100},100,{"$f":"L12/K12*100","v":0},{"$f":"M12/K12*100","v":100}]
["ALIANZA POR SAN JOSÉ",0,0,0,0,0,0,0,0,0,100,{"$f":"L13/K13*100","v":0},{"$f":"M13/K13*100","v":100}]
["AUTÉNTICO LIMONENSE",0,0,0,0,0,0,0,0,0,100,{"$f":"L14/K14*100","v":0},{"$f":"M14/K14*100","v":100}]
["AUTÉNTICO PARAISEÑO",100,{"$f":"C15/B15*100","v":0},{"$f":"D15/B15*100","v":100},0,0,0,0,0,0,0,0,0]
["COALICIÓN GENTE MONTES DE OCA",0,0,0,0,0,0,0,0,0,100,{"$f":"L16/K16*100","v":0},{"$f":"M16/K16*100","v":100}]
["CURRIDABAT SIGLO XXI",100,{"$f":"C17/B17*100","v":100},{"$f":"D17/B17*100","v":0},100,{"$f":"F17/E17*100","v":0},{"$f":"G17/E17*100","v":100},100,{"$f":"I17/H17*100","v":0},{"$f":"J17/H17*100","v":100},100,{"$f":"L17/K17*100","v":0},{"$f":"M17/K17*100","v":100}]
["FRENTE AMPLIO",0,0,0,0,0,0,0,0,0,100,{"$f":"L18/K18*100","v":0},{"$f":"M18/K18*100","v":100}]
["GUANACASTE INDEPENDIENTE",100,{"$f":"C19/B19*100","v":0},{"$f":"D19/B19*100","v":100},0,0,0,0,0,0,0,0,0]
["INDEPENDIENTE OBRERO",100,{"$f":"C20/B20*100","v":0},{"$f":"D20/B20*100","v":100},0,0,0,0,0,0,0,0,0]
["LIBERACIÓN NACIONAL",100,{"$f":"C21/B21*100","v":7.4074074074074066},{"$f":"D21/B21*100","v":92.592592592592595},100,{"$f":"F21/E21*100","v":10.16949152542373},{"$f":"G21/E21*100","v":89.830508474576277},100,{"$f":"I21/H21*100","v":13.559322033898304},{"$f":"J21/H21*100","v":86.440677966101703},100,{"$f":"L21/K21*100","v":16},{"$f":"M21/K21*100","v":84}]
["MOVIMIENTO LIBERTARIO",0,0,0,100,{"$f":"F22/E22*100","v":0},{"$f":"G22/E22*100","v":100},100,{"$f":"I22/H22*100","v":0},{"$f":"J22/H22*100","v":100},0,0,0]
["NUEVA GENERACIÓN",0,0,0,0,0,0,0,0,0,100,{"$f":"L23/K23*100","v":0},{"$f":"M23/K23*100","v":100}]
["ORGANIZACIÓN LABORISTA DE QUEPOS",0,0,0,100,{"$f":"F24/E24*100","v":0},{"$f":"G24/E24*100","v":100},0,0,0,0,0,0]
["RENOVACIÓN COSTARRICENSE",100,{"$f":"C25/B25*100","v":0},{"$f":"D25/B25*100","v":100},0,0,0,100,{"$f":"I25/H25*100","v":0},{"$f":"J25/H25*100","v":100},0,0,0]
["REPUBLICANO SOCIAL CRISTIANO",0,0,0,0,0,0,0,0,0,100,{"$f":"L26/K26*100","v":0},{"$f":"M26/K26*100","v":100}]
["UNIDAD SOCIAL CRISTIANA",100,{"$f":"C27/B27*100","v":6.25},{"$f":"D27/B27*100","v":93.75},100.00000000000001,{"$f":"F27/E27*100","v":18.181818181818183},{"$f":"G27/E27*100","v":81.818181818181827},100,{"$f":"I27/H27*100","v":11.111111111111111},{"$f":"J27/H27*100","v":88.888888888888886},100,{"$f":"L27/K27*100","v":28.571428571428569},{"$f":"M27/K27*100","v":71.428571428571431}]
["UNIÓN NACIONAL",0,0,0,100,{"$f":"F28/E28*100","v":0},{"$f":"G28/E28*100","v":100},0,0,0,0,0,0]
["UNIÓN PARA EL CAMBIO",0,0,0,100,{"$f":"F29/E29*100","v":0},{"$f":"G29/E29*100","v":100},0,0,0,0,0,0]
["YUNTA PROGRESISTA ESCAZUCEÑA",0,0,0,0,0,0,100,{"$f":"I30/H30*100","v":0},{"$f":"J30/H30*100","v":100},100,{"$f":"L30/K30*100","v":0},{"$f":"M30/K30*100","v":100}]
[]
[]
["Fuente: Cómputo de Votos Elecciones Municipales  2002, 2006, 2010 y 2016."]

{"sheet":"G4","index":14,"n_rows":30,"n_cols":2,"rows_kept":30,"cut":false,"hidden":false,"merged":[]}
[]
["GRÁFICO 1.2  COSTA RICA: ALCALDÍAS GANADAS POR PARTIDO POLÍTICO,"]
["ELECCIONES  MUNICIPALES FEBRERO 2016"]
[]
[]
["TOTAL",{"$f":"SUM(B9:B16)","v":81}]
["PARTIDO POLÍTICO"]
[]
["RENOVACIÓN COSTARRICENSE",1]
["INDEPENDIENTE OBRERO",1]
["GUANACASTE INDEPENDIENTE",1]
["CURRIDABAT SIGLO XXI",1]
["AUTÉNTICO PARAISEÑO",1]
["ACCIÓN CIUDADANA",1]
["LIBERACIÓN NACIONAL",27]
["UNIDAD SOCIAL CRISTIANA",48]
[]
[]
[]
[]
[]
[]
[]
[]
[]
[]
[]
[]
[]
["Fuente: Cuadro 11."]

{"sheet":"G5","index":15,"n_rows":30,"n_cols":2,"rows_kept":30,"cut":false,"hidden":false,"merged":[]}
[]
["GRÁFICO 1.2  COSTA RICA: ALCALDÍAS GANADAS POR PARTIDO POLÍTICO,"]
["ELECCIONES  MUNICIPALES FEBRERO 2016"]
[]
[]
[]
["PARTIDO POLÍTICO"]
["TOTAL",{"$f":"SUM(B9:B17)","v":81}]
[{"$f":"+'C11'!A29","v":"UNIÓN PARA EL CAMBIO"},1]
[{"$f":"+'C11'!A28","v":"UNIÓN NACIONAL"},1]
[{"$f":"+'C11'!A24","v":"ORGANIZACIÓN LABORISTA DE QUEPOS"},1]
[{"$f":"+'C11'!A22","v":"MOVIMIENTO LIBERTARIO"},1]
[{"$f":"+'C11'!A17","v":"CURRIDABAT SIGLO XXI"},1]
[{"$f":"+'C11'!A11","v":"ACCIÓN CANTONAL SIQUIRRES INDEPENDIENTE"},1]
["ACCIÓN CIUDADANA",5]
["UNIDAD SOCIAL CRISTIANA",11]
["LIBERACIÓN NACIONAL",59]
[]
[]
[]
[]
[]
["Fuente: Tribunal Supremo de Elecciones."]
[]
[]
[]
[]
[]
[]
["Fuente: Cuadro 11."]

{"sheet":"G6","index":16,"n_rows":30,"n_cols":2,"rows_kept":30,"cut":false,"hidden":false,"merged":[]}
[]
["GRÁFICO 1.2  COSTA RICA: ALCALDÍAS GANADAS POR PARTIDO POLÍTICO,"]
["ELECCIONES  MUNICIPALES FEBRERO 2016"]
[]
[]
[]
["PARTIDO POLÍTICO"]
["TOTAL",{"$f":"SUM(B9:B18)","v":81}]
["YUNTA PROGRESISTA ESCAZUCEÑA",1]
["RENOVACIÓN COSTARRICENSE",1]
["CURRIDABAT SIGLO XXI",1]
["MOVIMIENTO LIBERTARIO",2]
["ACCESIBILIDAD SIN EXCLUSIÓN",2]
["ACCIÓN CIUDADANA",6]
["UNIDAD SOCIAL CRISTIANA",9]
["LIBERACIÓN NACIONAL",59]
[]
[]
[]
[]
[]
[]
[]
[]
[]
[]
[]
[]
[]
["Fuente: Cuadro 11."]

{"sheet":"G7","index":17,"n_rows":30,"n_cols":2,"rows_kept":30,"cut":false,"hidden":false,"merged":[]}
[]
["GRÁFICO 1.2  COSTA RICA: ALCALDÍAS GANADAS POR PARTIDO POLÍTICO,"]
["ELECCIONES  MUNICIPALES FEBRERO 2016"]
[]
[]
[]
["PARTIDO POLÍTICO"]
["TOTAL",{"$f":"SUM(B9:B20)","v":81}]
["YUNTA PROGRESISTA ESCAZUCEÑA",1]
["REPUBLICANO SOCIAL CRISTIANO",1]
["FRENTE AMPLIO",1]
["CURRIDABAT SIGLO XXI",1]
["COALICIÓN GENTE MONTES DE OCA",1]
["AUTÉNTICO LIMONENSE",1]
["ALIANZA POR SAN JOSÉ",1]
["ACCESIBILIDAD SIN EXCLUSIÓN",1]
["NUEVA GENERACIÓN",3]
["ACCIÓN CIUDADANA",6]
["UNIDAD SOCIAL CRISTIANA",14]
["LIBERACIÓN NACIONAL",50]
[]
[]
[]
[]
[]
[]
[]
[]
[]
["Fuente: Cuadro 11."]

{"sheet":"C12","index":18,"n_rows":33,"n_cols":5,"rows_kept":33,"cut":false,"hidden":false,"merged":[[2,0,2,4],[3,0,3,4]]}
[]
[]
["CUADRO 12 CANTÓN SAN JOSÉ: JUNTAS, ELECTORADO, VOTOS POR PARTIDO, NULOS Y BLANCOS"]
["PARA ALCALDÍAS, ELECCIONES MUNICIPALES 2002 - 2016"]
[]
["JUNTAS, ELECTORADO, VOTOS POR PARTIDO, NULOS Y BLANCOS",2002,2006,2010,2016]
[]
["JUNTAS",549,337,342,347]
["ELECTORADO",214334,223838,225542,231682]
["VOTOS RECIBIDOS",36696,26594,41395,61147]
["VOTOS VÁLIDOS ",35685,26177,40873,59792]
["ACCESIBILIDAD SIN EXCLUSIÓN",0,0,6277,0]
["ACCIÓN CIUDADANA",3534,5013,6610,3191]
["ALIANZA PARA AVANZAR",5692,0,0,0]
["ALIANZA POR SAN JOSÉ",4939,1309,0,23925]
["DE LOS TRABAJADORES",0,0,0,313]
["DEL PUEBLO Y PARA EL PUEBLO",0,378,0,0]
["FRENTE AMPLIO",0,0,0,3503]
["FUERZAS UNIDAS PARA EL CAMBIO",0,0,0,523]
["INDEPENDIENTE OBRERO",69,0,0,0]
["INTEGRACIÓN NACIONAL",0,142,1626,3399]
["LIBERACIÓN NACIONAL",12998,18061,25206,9536]
["MOVIMIENTO LIBERTARIO",1338,894,1154,2051]
["NUEVA GENERACIÓN",0,0,0,1032]
["SAN JOSÉ SOMOS TODOS",981,0,0,0]
["RENOVACIÓN COSTARRICENSE",0,380,0,786]
["REPUBLICANO SOCIAL CRISTIANO",0,0,0,3602]
["SOLIDARIDAD",0,0,0,1609]
["UNIDAD SOCIAL CRISTIANA",6134,0,0,6322]
["VOTOS NULOS",802,297,404,1074]
["VOTOS EN BLANCO",209,120,118,281]
[]
["Fuente: Cómputo de Votos Elecciones Municipales  2002, 2006, 2010 y 2016."]

{"sheet":"C13","index":19,"n_rows":25,"n_cols":5,"rows_kept":25,"cut":false,"hidden":false,"merged":[[2,0,2,4],[3,0,3,4]]}
[]
[]
["CUADRO 13 CANTÓN ESCAZÚ: JUNTAS, ELECTORADO, VOTOS POR PARTIDO, NULOS Y BLANCOS"]
["PARA ALCALDÍAS, ELECCIONES MUNICIPALES 2002 - 2016"]
[]
["JUNTAS, ELECTORADO, VOTOS POR PARTIDO, NULOS Y BLANCOS",2002,2006,2010,2016]
[]
["JUNTAS",85,57,61,66]
["ELECTORADO",32713,36674,40526,44982]
["VOTOS RECIBIDOS",6813,8228,11034,17496]
["VOTOS VÁLIDOS ",6641,8076,10844,17214]
["ACCESIBILIDAD SIN EXCLUSIÓN",0,0,0,176]
["ACCIÓN CIUDADANA",0,984,0,203]
["FRENTE AMPLIO",0,0,0,610]
["INDEPENDIENTE ESCAZUCEÑO",0,0,0,880]
["LIBERACIÓN NACIONAL",2708,3577,3517,1963]
["MOVIMIENTO LIBERTARIO",225,0,1534,1621]
["RENOVACIÓN COSTARRICENSE",0,0,701,158]
["REPUBLICANO SOCIAL CRISTIANO",0,0,0,423]
["UNIDAD SOCIAL CRISTIANA",1097,0,145,506]
["YUNTA PROGRESISTA ESCAZUCEÑA",2611,3515,4947,10674]
["VOTOS NULOS",122,124,164,233]
["VOTOS EN BLANCO",50,28,26,49]
[]
["Fuente: Cómputo de Votos Elecciones Municipales  2002, 2006, 2010 y 2016."]

{"sheet":"C14","index":20,"n_rows":33,"n_cols":5,"rows_kept":33,"cut":false,"hidden":false,"merged":[[2,0,2,4],[3,0,3,4]]}
[]
[]
["CUADRO 14 CANTÓN DESAMPARADOS: JUNTAS, ELECTORADO, VOTOS POR PARTIDO, NULOS Y BLANCOS"]
["PARA ALCALDÍAS, ELECCIONES MUNICIPALES 2002 - 2016"]
[]
["JUNTAS, ELECTORADO, VOTOS POR PARTIDO, NULOS Y BLANCOS",2002,2006,2010,2016]
[]
["JUNTAS",325,215,233,243]
["ELECTORADO",121685,134363,144901,156610]
["VOTOS RECIBIDOS",15324,20258,22762,38119]
["VOTOS VÁLIDOS ",14877,19813,22439,37312]
["ACCESIBILIDAD SIN EXCLUSIÓN",0,0,0,935]
["ACCIÓN CIUDADANA",2493,2209,3229,2255]
["ACUERDO CANTONAL DESAMPARADEÑO",0,0,1687,0]
["DESAMPARADOS UNIDO",0,0,0,1413]
["ECOLÓGICO COMUNAL COSTARRICENSE",0,0,0,3663]
["FRENTE AMPLIO",0,0,0,2425]
["FUERZA COMUNAL DESAMPARADEÑA",0,414,0,0]
["FUERZA DEMOCRÁTICA",1108,0,0,0]
["FUERZA DEMOCRÁTICA DESAMPARADEÑA",0,0,0,1115]
["INTEGRACIÓN NACIONAL",0,6876,0,0]
["LIBERACIÓN NACIONAL",8164,8470,11154,12113]
["MOVIMIENTO LIBERTARIO",0,1844,3067,1220]
["NUEVA GENERACIÓN",0,0,0,636]
["PROGRESO COMUNAL DESAMPARADEÑO",0,0,0,1000]
["RENOVACIÓN COSTARRICENSE",0,0,1466,677]
["REPUBLICANO SOCIAL CRISTIANO",0,0,0,3279]
["RESTAURACIÓN NACIONAL",0,0,0,2633]
["UNIDAD SOCIAL CRISTIANA",3112,0,1836,3948]
["VOTOS NULOS",337,355,258,615]
["VOTOS EN BLANCO",110,90,65,192]
[]
["Fuente: Cómputo de Votos Elecciones Municipales  2002, 2006, 2010 y 2016."]

{"sheet":"C15","index":21,"n_rows":23,"n_cols":5,"rows_kept":23,"cut":false,"hidden":false,"merged":[[2,0,2,4],[3,0,3,4]]}
[]
[]
["CUADRO 15 CANTÓN PURISCAL: JUNTAS, ELECTORADO, VOTOS POR PARTIDO, NULOS Y BLANCOS"]
["PARA ALCALDÍAS, ELECCIONES MUNICIPALES 2002 - 2016"]
[]
["JUNTAS, ELECTORADO, VOTOS POR PARTIDO, NULOS Y BLANCOS",2002,2006,2010,2016]
[]
["JUNTAS",74,56,60,63]
["ELECTORADO",19972,22038,24663,27437]
["VOTOS RECIBIDOS",5834,8728,7826,10450]
["VOTOS VÁLIDOS ",5659,8514,7678,10176]
["ACCIÓN CIUDADANA",2176,3146,580,2330]
["FRENTE AMPLIO",0,0,0,396]
["LIBERACIÓN NACIONAL",1086,4421,4169,2917]
["MOVIMIENTO LIBERTARIO",0,0,0,216]
["NUEVA GENERACIÓN",0,0,0,236]
["PURISCALEÑOS DE CORAZON",0,0,0,300]
["UNIDAD SOCIAL CRISTIANA",2397,695,2929,3781]
["UNIÓN NACIONAL",0,252,0,0]
["VOTOS NULOS",127,133,111,186]
["VOTOS EN BLANCO",48,81,37,88]
[]
["Fuente: Cómputo de Votos Elecciones Municipales  2002, 2006, 2010 y 2016."]

{"sheet":"C16","index":22,"n_rows":22,"n_cols":5,"rows_kept":22,"cut":false,"hidden":false,"merged":[[2,0,2,4],[3,0,3,4]]}
[]
[]
["CUADRO 16 CANTÓN TARRAZÚ : JUNTAS, ELECTORADO, VOTOS POR PARTIDO, NULOS Y BLANCOS"]
["PARA ALCALDÍAS, ELECCIONES MUNICIPALES 2002 - 2016"]
[]
["JUNTAS, ELECTORADO, VOTOS POR PARTIDO, NULOS Y BLANCOS",2002,2006,2010,2016]
[]
["JUNTAS",29,24,25,25]
["ELECTORADO",8514,9436,10616,11843]
["VOTOS RECIBIDOS",2395,3216,3845,4629]
["VOTOS VÁLIDOS ",2332,3158,3780,4509]
["ACCIÓN CIUDADANA",0,344,0,627]
["FRENTE AMPLIO",0,122,0,409]
["LIBERACIÓN NACIONAL",619,1924,2081,1160]
["MOVIMIENTO LIBERTARIO",49,0,0,112]
["REPUBLICANO SOCIAL CRISTIANO",0,0,0,973]
["TARRAZÚ PRIMERO",0,0,906,0]
["UNIDAD SOCIAL CRISTIANA",1664,768,793,1228]
["VOTOS NULOS",37,42,48,79]
["VOTOS EN BLANCO",26,16,17,41]
[]
["Fuente: Cómputo de Votos Elecciones Municipales  2002, 2006, 2010 y 2016."]

{"sheet":"C17","index":23,"n_rows":24,"n_cols":5,"rows_kept":24,"cut":false,"hidden":false,"merged":[[2,0,2,4],[3,0,3,4]]}
[]
[]
["CUADRO 17 CANTÓN ASERRÍ: JUNTAS, ELECTORADO, VOTOS POR PARTIDO, NULOS Y BLANCOS"]
["PARA ALCALDÍAS, ELECCIONES MUNICIPALES 2002 - 2016"]
[]
["JUNTAS, ELECTORADO, VOTOS POR PARTIDO, NULOS Y BLANCOS",2002,2006,2010,2016]
[]
["JUNTAS",87,62,66,68]
["ELECTORADO",29601,33851,37616,41808]
["VOTOS RECIBIDOS",6653,7819,11000,11821]
["VOTOS VÁLIDOS ",6474,7649,10820,11541]
["ACCIÓN CIUDADANA",933,1268,5315,2643]
["COALICIÓN CAMBIO 2000",309,0,0,0]
["FRENTE AMPLIO",0,0,828,1480]
["INTEGRACIÓN NACIONAL",0,0,235,0]
["LIBERACIÓN NACIONAL",3136,3701,4201,5048]
["MOVIMIENTO LIBERTARIO",0,276,241,233]
["NUEVA GENERACIÓN",0,0,0,474]
["UNIDAD SOCIAL CRISTIANA",2096,2150,0,1663]
["UNIÓN NACIONAL",0,254,0,0]
["VOTOS NULOS",120,108,148,199]
["VOTOS EN BLANCO",59,62,32,81]
[]
["Fuente: Cómputo de Votos Elecciones Municipales  2002, 2006, 2010 y 2016."]

{"sheet":"C18","index":24,"n_rows":22,"n_cols":5,"rows_kept":22,"cut":false,"hidden":false,"merged":[[2,0,2,4],[3,0,3,4]]}
[]
[]
["CUADRO 18 CANTÓN MORA : JUNTAS, ELECTORADO, VOTOS POR PARTIDO, NULOS Y BLANCOS"]
["PARA ALCALDÍAS, ELECCIONES MUNICIPALES 2002 - 2016"]
[]
["JUNTAS, ELECTORADO, VOTOS POR PARTIDO, NULOS Y BLANCOS",2002,2006,2010,2016]
[]
["JUNTAS",40,28,37,41]
["ELECTORADO",13219,15245,17413,20263]
["VOTOS RECIBIDOS",3711,4740,6153,8247]
["VOTOS VÁLIDOS ",3597,4625,6039,8073]
["ACCIÓN CIUDADANA",502,0,0,1357]
["EL PUENTE Y LOS CAMINOS DE MORA",0,1478,1315,0]
["FRENTE AMPLIO",0,0,0,308]
["LIBERACIÓN NACIONAL",1220,2172,3283,1433]
["MOVIMIENTO LIBERTARIO",658,448,0,125]
["NUEVA GENERACIÓN",0,0,0,3616]
["UNIDAD SOCIAL CRISTIANA",1217,527,1441,1234]
["VOTOS NULOS",84,81,88,136]
["VOTOS EN BLANCO",30,34,26,38]
[]
["Fuente: Cómputo de Votos Elecciones Municipales  2002, 2006, 2010 y 2016."]

{"sheet":"C19","index":25,"n_rows":29,"n_cols":5,"rows_kept":29,"cut":false,"hidden":false,"merged":[[2,0,2,4],[3,0,3,4]]}
[]
[]
["CUADRO 19 CANTÓN GOICOECHEA: JUNTAS, ELECTORADO, VOTOS POR PARTIDO, NULOS Y BLANCOS"]
["PARA ALCALDÍAS, ELECCIONES MUNICIPALES 2002 - 2016"]
[]
["JUNTAS, ELECTORADO, VOTOS POR PARTIDO, NULOS Y BLANCOS",2002,2006,2010,2016]
[]
["JUNTAS",197,123,129,133]
["ELECTORADO",76422,82656,85797,88592]
["VOTOS RECIBIDOS",9395,12573,16058,21497]
["VOTOS VÁLIDOS ",9064,12327,15763,21024]
["ACCESIBILIDAD SIN EXCLUSIÓN",0,0,697,3629]
["ACCIÓN CIUDADANA",1474,2757,2782,1752]
["FRENTE AMPLIO",0,0,0,2140]
["FUERZA DEMOCRÁTICA",410,0,0,0]
["GOICOECHEA EN ACCIÓN",0,1696,2047,0]
["INDEPENDIENTE OBRERO",2152,0,0,0]
["INTEGRACIÓN NACIONAL",0,59,146,0]
["LIBERACIÓN NACIONAL",1827,4029,5272,5118]
["MOVIMIENTO LIBERTARIO",295,181,1691,1647]
["NUEVA GENERACIÓN",0,0,0,586]
["RENOVACIÓN COSTARRICENSE",0,0,2490,0]
["REPUBLICANO SOCIAL CRISTIANO",0,0,0,1118]
["RESTAURACIÓN NACIONAL",0,0,0,1108]
["UNIDAD SOCIAL CRISTIANA",2906,3605,638,3926]
["VOTOS NULOS",251,186,239,381]
["VOTOS EN BLANCO",80,60,56,92]
[]
["Fuente: Cómputo de Votos Elecciones Municipales  2002, 2006, 2010 y 2016."]

{"sheet":"C20","index":26,"n_rows":27,"n_cols":5,"rows_kept":27,"cut":false,"hidden":false,"merged":[[2,0,2,4],[3,0,3,4]]}
[]
[]
["CUADRO 20 CANTÓN SANTA ANA : JUNTAS, ELECTORADO, VOTOS POR PARTIDO, NULOS Y BLANCOS"]
["PARA ALCALDÍAS, ELECCIONES MUNICIPALES 2002 - 2016"]
[]
["JUNTAS, ELECTORADO, VOTOS POR PARTIDO, NULOS Y BLANCOS",2002,2006,2010,2016]
[]
["JUNTAS",57,39,45,51]
["ELECTORADO",20801,24156,27941,32863]
["VOTOS RECIBIDOS",5696,8606,8520,14061]
["VOTOS VÁLIDOS ",5567,8393,8426,13832]
["ACCESIBILIDAD SIN EXCLUSIÓN",0,0,0,134]
["ACCIÓN CIUDADANA",0,735,0,1817]
["ALIANZA CRISTIANA SANTANEÑA",0,0,0,365]
["AUTÉNTICO SANTANEÑO",0,541,0,0]
["DEL SOL",1662,1942,2334,1903]
["FRENTE AMPLIO",0,90,0,0]
["LIBERACIÓN NACIONAL",1382,4674,4674,4992]
["MOVIMIENTO LIBERTARIO",213,0,385,1778]
["NUEVA GENERACIÓN",0,0,0,366]
["RENOVACIÓN COSTARRICENSE",0,0,385,125]
["REPUBLICANO SOCIAL CRISTIANO",0,0,0,883]
["UNIDAD SOCIAL CRISTIANA",2310,411,648,1469]
["VOTOS NULOS",93,162,73,166]
["VOTOS EN BLANCO",36,51,21,63]
[]
["Fuente: Cómputo de Votos Elecciones Municipales  2002, 2006, 2010 y 2016."]

{"sheet":"C21","index":27,"n_rows":27,"n_cols":5,"rows_kept":27,"cut":false,"hidden":false,"merged":[[2,0,2,4],[3,0,3,4]]}
[]
[]
["CUADRO 21 CANTÓN ALAJUELITA: JUNTAS, ELECTORADO, VOTOS POR PARTIDO, NULOS Y BLANCOS"]
["PARA ALCALDÍAS, ELECCIONES MUNICIPALES 2002 - 2016"]
[]
["JUNTAS, ELECTORADO, VOTOS POR PARTIDO, NULOS Y BLANCOS",2002,2006,2010,2016]
[]
["JUNTAS",96,64,69,72]
["ELECTORADO",36952,41250,44907,49065]
["VOTOS RECIBIDOS",4879,6923,8700,14952]
["VOTOS VÁLIDOS ",4670,6778,8562,14647]
["ACCIÓN CIUDADANA",0,844,2419,703]
["ALAJUELITA NUEVA",0,664,0,0]
["FRENTE AMPLIO",0,0,0,422]
["FUERZA DEMOCRÁTICA",96,0,0,0]
["INTEGRACIÓN NACIONAL",121,0,0,0]
["LIBERACIÓN NACIONAL",1724,2552,2184,1501]
["MOVIMIENTO LIBERTARIO",0,622,0,303]
["NUEVA GENERACIÓN",0,0,0,4145]
["RENOVACIÓN COSTARRICENSE",430,75,476,3399]
["REPUBLICANO SOCIAL CRISTIANO",0,0,0,837]
["UNIDAD SOCIAL CRISTIANA",2299,1950,3483,3337]
["UNIÓN PARA EL CAMBIO",0,71,0,0]
["VOTOS NULOS",168,111,118,264]
["VOTOS EN BLANCO",41,34,20,41]
[]
["Fuente: Cómputo de Votos Elecciones Municipales  2002, 2006, 2010 y 2016."]

{"sheet":"C22","index":28,"n_rows":26,"n_cols":5,"rows_kept":26,"cut":false,"hidden":false,"merged":[[2,0,2,4],[3,0,3,4]]}
[]
[]
["CUADRO 22 CANTÓN VÁZQUEZ DE CORONADO : JUNTAS, ELECTORADO, VOTOS POR PARTIDO, NULOS Y BLANCOS"]
["PARA ALCALDÍAS, ELECCIONES MUNICIPALES 2002 - 2016"]
[]
["JUNTAS, ELECTORADO, VOTOS POR PARTIDO, NULOS Y BLANCOS",2002,2006,2010,2016]
[]
["JUNTAS",88,62,68,76]
["ELECTORADO",33854,40007,45831,51588]
["VOTOS RECIBIDOS",8393,10302,11983,15660]
["VOTOS VÁLIDOS ",8203,10181,11824,15377]
["ACCIÓN CIUDADANA",923,978,1575,1792]
["AUTÉNTICO LABRADOR DE CORONADO",0,0,0,2686]
["DEMÓCRATA",0,0,0,286]
["FRENTE AMPLIO",0,0,0,807]
["FUERZA DEMOCRÁTICA",168,0,0,0]
["INTEGRACIÓN NACIONAL",0,184,0,0]
["LIBERACIÓN NACIONAL",2871,4678,5565,2509]
["MOVIMIENTO LIBERTARIO",485,0,0,216]
["RENOVACIÓN COSTARRICENSE",0,122,0,0]
["REPUBLICANO SOCIAL CRISTIANO",0,0,0,6161]
["UNIDAD SOCIAL CRISTIANA",3756,4219,4684,920]
["VOTOS NULOS",156,94,130,237]
["VOTOS EN BLANCO",34,27,29,46]
[]
["Fuente: Cómputo de Votos Elecciones Municipales  2002, 2006, 2010 y 2016."]

{"sheet":"C23","index":29,"n_rows":18,"n_cols":5,"rows_kept":18,"cut":false,"hidden":false,"merged":[[2,0,2,4],[3,0,3,4]]}
[]
[]
["CUADRO 23 CANTÓN ACOSTA: JUNTAS, ELECTORADO, VOTOS POR PARTIDO, NULOS Y BLANCOS"]
["PARA ALCALDÍAS, ELECCIONES MUNICIPALES 2002 - 2016"]
[]
["JUNTAS, ELECTORADO, VOTOS POR PARTIDO, NULOS Y BLANCOS",2002,2006,2010,2016]
[]
["JUNTAS",46,35,37,38]
["ELECTORADO",11777,12923,14354,16028]
["VOTOS RECIBIDOS",3991,4284,4965,6493]
["VOTOS VÁLIDOS ",3913,4183,4849,6338]
["ACCIÓN CIUDADANA",0,1031,1448,2674]
["LIBERACIÓN NACIONAL",2392,3152,3401,1852]
["UNIDAD SOCIAL CRISTIANA",1521,0,0,1812]
["VOTOS NULOS",44,45,82,115]
["VOTOS EN BLANCO",34,56,34,40]
[]
["Fuente: Cómputo de Votos Elecciones Municipales  2002, 2006, 2010 y 2016."]

{"sheet":"C24","index":30,"n_rows":28,"n_cols":5,"rows_kept":28,"cut":false,"hidden":false,"merged":[[2,0,2,4],[3,0,3,4]]}
[]
[]
["CUADRO 24 CANTÓN TIBÁS : JUNTAS, ELECTORADO, VOTOS POR PARTIDO, NULOS Y BLANCOS"]
["PARA ALCALDÍAS, ELECCIONES MUNICIPALES 2002 - 2016"]
[]
["JUNTAS, ELECTORADO, VOTOS POR PARTIDO, NULOS Y BLANCOS",2002,2006,2010,2016]
[]
["JUNTAS",136,83,84,79]
["ELECTORADO",53596,55489,55315,55709]
["VOTOS RECIBIDOS",7466,7059,9985,13569]
["VOTOS VÁLIDOS ",7212,6948,9863,13272]
["ACCIÓN CIUDADANA",944,2784,2159,0]
["CÍVICO DE TIBÁS FUENTEOVEJUNA",0,0,2080,0]
["COALICIÓN SOMOS TIBAS",0,0,0,2510]
["FUERZA DEMOCRÁTICA",134,0,0,0]
["INTEGRACIÓN NACIONAL",0,0,0,238]
["LIBERACIÓN NACIONAL",1485,2349,3085,4747]
["MOVIMIENTO LIBERTARIO",1713,237,1245,1472]
["NUEVA GENERACIÓN",0,0,0,469]
["RENOVACIÓN COSTARRICENSE",1025,0,451,783]
["REPUBLICANO SOCIAL CRISTIANO",0,0,0,792]
["RESCATE NACIONAL",63,0,0,0]
["UNIDAD SOCIAL CRISTIANA",1848,0,843,2261]
["UNIÓN NACIONAL",0,1578,0,0]
["VOTOS NULOS",192,88,93,238]
["VOTOS BLANCOS",62,23,29,59]
[]
["Fuente: Cómputo de Votos Elecciones Municipales  2002, 2006, 2010 y 2016."]

{"sheet":"C25","index":31,"n_rows":30,"n_cols":5,"rows_kept":30,"cut":false,"hidden":false,"merged":[[2,0,2,4],[3,0,3,4]]}
[]
[]
["CUADRO 25 CANTÓN MORAVIA: JUNTAS, ELECTORADO, VOTOS POR PARTIDO, NULOS Y BLANCOS"]
["PARA ALCALDÍAS, ELECCIONES MUNICIPALES 2002 - 2016"]
[]
["JUNTAS, ELECTORADO, VOTOS POR PARTIDO, NULOS Y BLANCOS",2002,2006,2010,2016]
[]
["JUNTAS",87,57,62,59]
["ELECTORADO",33661,37121,40392,43464]
["VOTOS RECIBIDOS",4899,6461,8391,12589]
["VOTOS VÁLIDOS ",4794,6387,8265,12428]
["ACCESIBILIDAD SIN EXCLUSIÓN",0,0,1147,0]
["ACCIÓN CIUDADANA",1144,1691,1885,4302]
["ALIANZA PATRIÓTICA",0,0,441,0]
["FRENTE AMPLIO",0,0,0,714]
["FUERZA DEMOCRÁTICA",174,0,0,0]
["INDEPENDIENTE OBRERO",36,0,0,0]
["INTEGRACIÓN NACIONAL",0,428,47,0]
["LIBERACIÓN NACIONAL",1732,1522,2125,3128]
["MORAVIA PROGRESISTA",0,528,0,0]
["MOVIMIENTO LIBERTARIO",467,267,687,551]
["NUEVA GENERACIÓN",0,0,0,1004]
["RENOVACIÓN COSTARRICENSE",169,0,590,340]
["RESTAURACIÓN NACIONAL",0,0,0,219]
["UNIDAD SOCIAL CRISTIANA",1072,1660,1343,2170]
["UNIÓN NACIONAL",0,291,0,0]
["VOTOS NULOS",64,53,107,129]
["VOTOS EN BLANCO",41,21,19,32]
[]
["Fuente: Cómputo de Votos Elecciones Municipales  2002, 2006, 2010 y 2016."]

{"sheet":"C26","index":32,"n_rows":29,"n_cols":5,"rows_kept":29,"cut":false,"hidden":false,"merged":[[2,0,2,4],[3,0,3,4]]}
[]
[]
["CUADRO 26 CANTÓN MONTES DE OCA : JUNTAS, ELECTORADO, VOTOS POR PARTIDO, NULOS Y BLANCOS"]
["PARA ALCALDÍAS, ELECCIONES MUNICIPALES 2002 - 2016"]
[]
["JUNTAS, ELECTORADO, VOTOS POR PARTIDO, NULOS Y BLANCOS",2002,2006,2010,2016]
[]
["JUNTAS",100,60,62,63]
["ELECTORADO",38217,40201,41135,41908]
["VOTOS RECIBIDOS",6203,7668,8304,13076]
["VOTOS VÁLIDOS ",6063,7574,8214,12858]
["ACCIÓN CIUDADANA",1753,1456,1660,0]
["AVANCE MONTES DE OCA",0,0,0,1953]
["COALICIÓN GENTE MONTES DE OCA",0,0,0,3707]
["COALICIÓN MONTES DE OCA UNIDA",0,0,1248,0]
["HUMANISTA DE MONTES DE OCA",269,0,0,0]
["LIBERACIÓN NACIONAL",1423,1525,2197,2365]
["MOVIMIENTO LIBERTARIO",0,551,0,462]
["MOVIMIENTO OPCIÓN CANTONAL AUTÉNTICA",867,0,0,0]
["NUEVA GENERACIÓN",0,0,0,433]
["RENOVACIÓN COSTARRICENSE",0,0,2665,0]
["RESCATE NACIONAL",321,0,0,0]
["RESTAURACIÓN NACIONAL",0,0,0,2170]
["UNIDAD SOCIAL CRISTIANA",1430,1553,444,1768]
["UNIÓN PARA EL CAMBIO",0,2489,0,0]
["VOTOS NULOS",101,69,73,183]
["VOTOS EN BLANCO",39,25,17,35]
[]
["Fuente: Cómputo de Votos Elecciones Municipales  2002, 2006, 2010 y 2016."]

{"sheet":"C27","index":33,"n_rows":21,"n_cols":5,"rows_kept":21,"cut":false,"hidden":false,"merged":[[2,0,2,4],[3,0,3,4]]}
[]
[]
["CUADRO 27 CANTÓN TURRUBARES : JUNTAS, ELECTORADO, VOTOS POR PARTIDO, NULOS Y BLANCOS"]
["PARA ALCALDÍAS, ELECCIONES MUNICIPALES 2002 - 2016"]
[]
["JUNTAS, ELECTORADO, VOTOS POR PARTIDO, NULOS Y BLANCOS",2002,2006,2010,2016]
[]
["JUNTAS",17,15,15,15]
["ELECTORADO",3371,3768,4187,4484]
["VOTOS RECIBIDOS",2101,2926,2819,2884]
["VOTOS VÁLIDOS ",2070,2893,2783,2833]
["ACCIÓN CIUDADANA",208,0,0,0]
["LIBERACIÓN NACIONAL",908,1294,1507,1199]
["MOVIMIENTO LIBERTARIO",0,0,0,16]
["NUEVA GENERACIÓN",0,0,0,1176]
["REPUBLICANO SOCIAL CRISTIANO",0,0,0,65]
["UNIDAD SOCIAL CRISTIANA",954,1599,1276,377]
["VOTOS NULOS",21,21,24,31]
["VOTOS BLANCOS",10,12,12,20]
[]
["Fuente: Cómputo de Votos Elecciones Municipales  2002, 2006, 2010 y 2016."]

{"sheet":"C28","index":34,"n_rows":21,"n_cols":5,"rows_kept":21,"cut":false,"hidden":false,"merged":[[2,0,2,4],[3,0,3,4]]}
[]
[]
["CUADRO 28 CANTÓN DOTA : JUNTAS, ELECTORADO, VOTOS POR PARTIDO, NULOS Y BLANCOS"]
["PARA ALCALDÍAS, ELECCIONES MUNICIPALES 2002 - 2016"]
[]
["JUNTAS, ELECTORADO, VOTOS POR PARTIDO, NULOS Y BLANCOS",2002,2006,2010,2016]
[]
["JUNTAS",13,12,12,13]
["ELECTORADO",3980,4433,4836,5376]
["VOTOS RECIBIDOS",993,1522,2097,2975]
["VOTOS VÁLIDOS ",956,1491,2062,2903]
["ACCIÓN CIUDADANA",0,308,630,185]
["FRENTE AMPLIO",0,0,0,203]
["LIBERACIÓN NACIONAL",541,1044,1222,2173]
["MOVIMIENTO LIBERTARIO",0,0,28,7]
["NUEVA GENERACIÓN",0,0,0,46]
["UNIDAD SOCIAL CRISTIANA",415,139,182,289]
["VOTOS NULOS",23,17,22,37]
["VOTOS EN BLANCO",14,14,13,35]
[]
["Fuente: Cómputo de Votos Elecciones Municipales  2002, 2006, 2010 y 2016."]

{"sheet":"C29","index":35,"n_rows":30,"n_cols":5,"rows_kept":30,"cut":false,"hidden":false,"merged":[[2,0,2,4],[3,0,3,4]]}
[]
[]
["CUADRO 29 CANTÓN CURRIDABAT : JUNTAS, ELECTORADO, VOTOS POR PARTIDO, NULOS Y BLANCOS"]
["PARA ALCALDÍAS, ELECCIONES MUNICIPALES 2002 - 2016"]
[]
["JUNTAS, ELECTORADO, VOTOS POR PARTIDO, NULOS Y BLANCOS",2002,2006,2010,2016]
[]
["JUNTAS",97,63,68,70]
["ELECTORADO",37048,41300,44286,47469]
["VOTOS RECIBIDOS",6665,7499,10207,15481]
["VOTOS VÁLIDOS ",6414,7377,10080,15234]
["ACCESIBILIDAD SIN EXCLUSIÓN",0,0,0,85]
["ACCIÓN CIUDADANA",994,1246,1039,1042]
["COALICIÓN CAMBIO 2000",953,0,0,0]
["COMUNAL PRO-CURRI",0,953,0,0]
["CURRIDABAT SIGLO XXI",1560,3414,7412,7713]
["DE LOS TRABAJADORES",0,0,0,41]
["FRENTE AMPLIO",0,0,0,537]
["LIBERACIÓN NACIONAL",872,1262,1629,3040]
["MOVIMIENTO CURRIDABAT",673,0,0,0]
["MOVIMIENTO LIBERTARIO",0,0,0,186]
["NUEVA GENERACIÓN",0,0,0,130]
["RENOVACIÓN COSTARRICENSE",0,0,0,162]
["REPUBLICANO SOCIAL CRISTIANO",0,0,0,579]
["RESTAURACIÓN NACIONAL",0,0,0,420]
["UNIDAD SOCIAL CRISTIANA",1362,502,0,1299]
["VOTOS NULOS",199,108,110,184]
["VOTOS EN BLANCO",52,14,17,63]
[]
["Fuente: Cómputo de Votos Elecciones Municipales  2002, 2006, 2010 y 2016."]

{"sheet":"C30","index":36,"n_rows":27,"n_cols":5,"rows_kept":27,"cut":false,"hidden":false,"merged":[[2,0,2,4],[3,0,3,4]]}
[]
[]
["CUADRO 30 CANTÓN PÉREZ ZELEDÓN : JUNTAS, ELECTORADO, VOTOS POR PARTIDO, NULOS Y BLANCOS"]
["PARA ALCALDÍAS, ELECCIONES MUNICIPALES 2002 - 2016"]
[]
["JUNTAS, ELECTORADO, VOTOS POR PARTIDO, NULOS Y BLANCOS",2002,2006,2010,2016]
[]
["JUNTAS",241,185,208,221]
["ELECTORADO",75766,86526,98271,108626]
["VOTOS RECIBIDOS",17898,24329,35650,40695]
["VOTOS VÁLIDOS ",17364,23849,35028,39739]
["ACCESIBILIDAD SIN EXCLUSIÓN",0,0,0,197]
["ACCIÓN CIUDADANA",3832,3028,7221,4348]
["FRENTE AMPLIO",0,290,0,1539]
["INTEGRACIÓN NACIONAL",359,0,0,0]
["JUSTICIA GENERALEÑA",0,0,0,2128]
["LIBERACIÓN NACIONAL",5774,9574,11778,11914]
["MOVIMIENTO LIBERTARIO",197,0,6293,644]
["NUEVA GENERACIÓN",0,0,0,2177]
["REPUBLICANO SOCIAL CRISTIANO",0,0,0,1476]
["RESTAURACIÓN NACIONAL",0,0,0,2251]
["UNIDAD SOCIAL CRISTIANA",7202,10184,9736,13065]
["UNIÓN NACIONAL",0,773,0,0]
["VOTOS NULOS",344,355,490,689]
["VOTOS EN BLANCO",190,125,132,267]
[]
["Fuente: Cómputo de Votos Elecciones Municipales  2002, 2006, 2010 y 2016."]

{"sheet":"C31","index":37,"n_rows":21,"n_cols":5,"rows_kept":21,"cut":false,"hidden":false,"merged":[[2,0,2,4],[3,0,3,4]]}
[]
[]
["CUADRO 31 CANTÓN LEÓN CORTÉS CASTRO : JUNTAS, ELECTORADO, VOTOS POR PARTIDO, NULOS Y BLANCOS"]
["PARA ALCALDÍAS, ELECCIONES MUNICIPALES 2002 - 2016"]
[]
["JUNTAS, ELECTORADO, VOTOS POR PARTIDO, NULOS Y BLANCOS",2002,2006,2010,2016]
[]
["JUNTAS",26,21,22,23]
["ELECTORADO",6466,7286,8149,9030]
["VOTOS RECIBIDOS",2625,3820,4149,3868]
["VOTOS VÁLIDOS ",2542,3702,4040,3768]
["ACCIÓN CIUDADANA",0,73,0,822]
["LIBERACIÓN NACIONAL",1257,2118,1886,2854]
["MOVIMIENTO LIBERTARIO",0,0,681,92]
["UNIDAD SOCIAL CRISTIANA",1285,0,1473,0]
["UNIÓN PARA EL CAMBIO",0,1511,0,0]
["VOTOS NULOS",48,91,79,67]
["VOTOS EN BLANCO",35,27,30,33]
["JUNTAS",381,258,282,312]
[]
["Fuente: Cómputo de Votos Elecciones Municipales  2002, 2006, 2010 y 2016."]

{"sheet":"C32","index":38,"n_rows":30,"n_cols":5,"rows_kept":30,"cut":false,"hidden":false,"merged":[[2,0,2,4],[3,0,3,4]]}
[]
[]
["CUADRO 32 CANTÓN ALAJUELA : JUNTAS, ELECTORADO, VOTOS POR PARTIDO, NULOS Y BLANCOS"]
["PARA ALCALDÍAS, ELECCIONES MUNICIPALES 2002 - 2016"]
[]
["JUNTAS, ELECTORADO, VOTOS POR PARTIDO, NULOS Y BLANCOS",2002,2006,2010,2016]
[]
["JUNTAS",381,258,282,312]
["ELECTORADO",140160,157849,173149,193568]
["VOTOS RECIBIDOS",28088,26610,36610,56908]
["VOTOS VÁLIDOS ",27092,25989,36096,55550]
["ACCESIBILIDAD SIN EXCLUSIÓN",0,0,2888,0]
["ACCIÓN CIUDADANA",5004,4638,7063,3039]
["CAMBIO YA",822,0,0,0]
["DE LOS TRABAJADORES",0,0,0,285]
["FRENTE AMPLIO",0,0,0,1696]
["LIBERACIÓN NACIONAL",11681,13116,16339,33006]
["MOVIMIENTO LIBERTARIO",574,468,1302,1016]
["NUEVA GENERACIÓN",0,0,0,466]
["RENOVACIÓN COSTARRICENSE",0,488,0,1405]
["RENOVEMOS ALAJUELA",0,0,8504,5351]
["REPUBLICANO SOCIAL CRISTIANO",0,0,0,1293]
["RESCATE NACIONAL",1059,0,0,0]
["RESTAURACIÓN NACIONAL",0,0,0,550]
["UNIDAD SOCIAL CRISTIANA",7952,2949,0,7443]
["UNIÓN PARA EL CAMBIO",0,4330,0,0]
["VOTOS NULOS",765,449,395,1015]
["VOTOS EN BLANCO",231,172,119,343]
[]
["Fuente: Cómputo de Votos Elecciones Municipales  2002, 2006, 2010 y 2016."]

{"sheet":"C33","index":39,"n_rows":27,"n_cols":5,"rows_kept":27,"cut":false,"hidden":false,"merged":[[2,0,2,4],[3,0,3,4]]}
[]
[]
["CUADRO 33 CANTÓN SAN RAMÓN : JUNTAS, ELECTORADO, VOTOS POR PARTIDO, NULOS Y BLANCOS"]
["PARA ALCALDÍAS, ELECCIONES MUNICIPALES 2002 - 2016"]
[]
["JUNTAS, ELECTORADO, VOTOS POR PARTIDO, NULOS Y BLANCOS",2002,2006,2010,2016]
[]
["JUNTAS",129,95,105,113]
["ELECTORADO",42685,47920,53851,60762]
["VOTOS RECIBIDOS",11044,12997,14143,22590]
["VOTOS VÁLIDOS ",10459,12430,13754,21880]
["ACCIÓN CIUDADANA",1553,2930,0,3023]
["COALICIÓN RAMONENSE",0,0,4804,0]
["FRENTE AMPLIO",0,0,0,1067]
["LIBERACIÓN NACIONAL",2949,5369,8950,8943]
["LIGA RAMONENSE",0,0,0,1675]
["MOVIMIENTO LIBERTARIO",180,0,0,235]
["NUEVA GENERACIÓN",0,0,0,3304]
["REPUBLICANO SOCIAL CRISTIANO",0,0,0,1697]
["RESCATE NACIONAL",1953,0,0,0]
["RESTAURACIÓN NACIONAL",0,0,0,224]
["SOLIDARIDAD RAMONENSE",0,4131,0,0]
["UNIDAD SOCIAL CRISTIANA",3824,0,0,1712]
["VOTOS NULOS",351,259,205,503]
["VOTOS EN BLANCO",234,308,184,207]
[]
["Fuente: Cómputo de Votos Elecciones Municipales  2002, 2006, 2010 y 2016."]

{"sheet":"C34","index":40,"n_rows":23,"n_cols":5,"rows_kept":23,"cut":false,"hidden":false,"merged":[[2,0,2,4],[3,0,3,4]]}
[]
[]
["CUADRO 34 CANTÓN GRECIA : JUNTAS, ELECTORADO, VOTOS POR PARTIDO, NULOS Y BLANCOS"]
["PARA ALCALDÍAS, ELECCIONES MUNICIPALES 2002 - 2016"]
[]
["JUNTAS, ELECTORADO, VOTOS POR PARTIDO, NULOS Y BLANCOS",2002,2006,2010,2016]
[]
["JUNTAS",128,88,94,104]
["ELECTORADO",41006,45890,50974,57118]
["VOTOS RECIBIDOS",9097,13386,14692,21521]
["VOTOS VÁLIDOS ",8853,13154,14442,21001]
["ACCIÓN CIUDADANA",348,1271,943,840]
["FRENTE AMPLIO",0,0,0,748]
["LIBERACIÓN NACIONAL",3963,8606,7559,6876]
["MOVIMIENTO LIBERTARIO",59,236,4958,2159]
["NUEVA MAYORÍA GRIEGA",0,0,0,4985]
["RENOVACIÓN COSTARRICENSE",0,0,982,693]
["REPUBLICANO SOCIAL CRISTIANO",0,0,0,2474]
["UNIDAD SOCIAL CRISTIANA",4483,3041,0,2226]
["VOTOS NULOS",160,155,201,397]
["VOTOS EN BLANCO",84,77,49,123]
[]
["Fuente: Cómputo de Votos Elecciones Municipales  2002, 2006, 2010 y 2016."]

{"sheet":"C35","index":41,"n_rows":23,"n_cols":5,"rows_kept":23,"cut":false,"hidden":false,"merged":[[2,0,2,4],[3,0,3,4]]}
[]
[]
["CUADRO 35 CANTÓN SAN MATEO : JUNTAS, ELECTORADO, VOTOS POR PARTIDO, NULOS Y BLANCOS"]
["PARA ALCALDÍAS, ELECCIONES MUNICIPALES 2002 - 2016"]
[]
["JUNTAS, ELECTORADO, VOTOS POR PARTIDO, NULOS Y BLANCOS",2002,2006,2010,2016]
[]
["JUNTAS",12,8,10,11]
["ELECTORADO",3208,3542,3822,4365]
["VOTOS RECIBIDOS",1240,1708,2068,2703]
["VOTOS VÁLIDOS ",1216,1677,2021,2649]
["ACCIÓN CIUDADANA",0,108,0,399]
["ACCIÓN LABORISTA AGRÍCOLA",314,79,0,0]
["ALIANZA PATRIÓTICA",0,0,256,0]
["FRENTE AMPLIO",0,0,0,178]
["LIBERACIÓN NACIONAL",312,634,1141,1697]
["MOVIMIENTO LIBERTARIO",223,72,404,79]
["REPUBLICANO SOCIAL CRISTIANO",0,0,0,101]
["UNIDAD SOCIAL CRISTIANA",367,784,220,195]
["VOTOS NULOS",18,20,41,38]
["VOTOS EN BLANCO",6,11,6,16]
[]
["Fuente: Cómputo de Votos Elecciones Municipales  2002, 2006, 2010 y 2016."]

{"sheet":"C36","index":42,"n_rows":24,"n_cols":5,"rows_kept":24,"cut":false,"hidden":false,"merged":[[2,0,2,4],[3,0,3,4]]}
[]
[]
["CUADRO 36 CANTÓN ATENAS : JUNTAS, ELECTORADO, VOTOS POR PARTIDO, NULOS Y BLANCOS"]
["PARA ALCALDÍAS, ELECCIONES MUNICIPALES 2002 - 2016"]
[]
["JUNTAS, ELECTORADO, VOTOS POR PARTIDO, NULOS Y BLANCOS",2002,2006,2010,2016]
[]
["JUNTAS",44,32,32,35]
["ELECTORADO",14110,15896,17658,19661]
["VOTOS RECIBIDOS",4180,5540,8326,9646]
["VOTOS VÁLIDOS ",4082,5428,8214,9440]
["ACCESIBILIDAD SIN EXCLUSIÓN",0,0,510,0]
["ACCIÓN CIUDADANA",505,845,1052,2521]
["ACCIÓN LABORISTA AGRÍCOLA",255,0,0,0]
["FRENTE AMPLIO",0,0,0,370]
["LIBERACIÓN NACIONAL",1161,1524,2270,2434]
["MOVIMIENTO LIBERTARIO",0,762,0,224]
["REPUBLICANO SOCIAL CRISTIANO",0,0,0,1121]
["UNIDAD SOCIAL CRISTIANA",2161,2297,2544,2770]
["UNIÓN ATENIENSE",0,0,1838,0]
["VOTOS NULOS",60,83,85,161]
["VOTOS EN BLANCO",38,29,27,45]
[]
["Fuente: Cómputo de Votos Elecciones Municipales  2002, 2006, 2010 y 2016."]

{"sheet":"C37","index":43,"n_rows":26,"n_cols":5,"rows_kept":26,"cut":false,"hidden":false,"merged":[[2,0,2,4],[3,0,3,4]]}
[]
[]
["CUADRO 37 CANTÓN NARANJO : JUNTAS, ELECTORADO, VOTOS POR PARTIDO, NULOS Y BLANCOS"]
["PARA ALCALDÍAS, ELECCIONES MUNICIPALES 2002 - 2016"]
[]
["JUNTAS, ELECTORADO, VOTOS POR PARTIDO, NULOS Y BLANCOS",2002,2006,2010,2016]
[]
["JUNTAS",69,48,53,57]
["ELECTORADO",22972,25591,28029,30801]
["VOTOS RECIBIDOS",6862,6815,9796,13065]
["VOTOS VÁLIDOS ",6678,6663,9573,12716]
["ACCESIBILIDAD SIN EXCLUSIÓN",0,0,211,0]
["ACCIÓN CIUDADANA",1075,757,923,2589]
["ACCIÓN NARANJEÑA",0,0,987,0]
["FRENTE AMPLIO",0,0,0,697]
["INTEGRACIÓN NACIONAL",0,0,858,657]
["LIBERACIÓN NACIONAL",2938,3172,4176,1772]
["MOVIMIENTO LIBERTARIO",160,416,379,568]
["RENOVACIÓN COSTARRICENSE",0,0,0,2071]
["REPUBLICANO SOCIAL CRISTIANO",0,0,0,1345]
["UNIDAD SOCIAL CRISTIANA",2505,796,2039,3017]
["UNIÓN NACIONAL",0,1522,0,0]
["VOTOS NULOS",131,109,176,279]
["VOTOS EN BLANCO",53,43,47,70]
[]
["Fuente: Cómputo de Votos Elecciones Municipales  2002, 2006, 2010 y 2016."]

{"sheet":"C38","index":44,"n_rows":28,"n_cols":5,"rows_kept":28,"cut":false,"hidden":false,"merged":[[2,0,2,4],[3,0,3,4]]}
[]
[]
["CUADRO 38 CANTÓN PALMARES : JUNTAS, ELECTORADO, VOTOS POR PARTIDO, NULOS Y BLANCOS"]
["PARA ALCALDÍAS, ELECCIONES MUNICIPALES 2002 - 2016"]
[]
["JUNTAS, ELECTORADO, VOTOS POR PARTIDO, NULOS Y BLANCOS",2002,2006,2010,2016]
[]
["JUNTAS",55,37,42,47]
["ELECTORADO",19834,22549,25315,28151]
["VOTOS RECIBIDOS",7733,7901,8720,12701]
["VOTOS VÁLIDOS ",7425,7743,8526,12405]
["ACCESIBILIDAD SIN EXCLUSIÓN",0,0,694,56]
["ACCIÓN CIUDADANA",359,907,0,3211]
["ALIANZA POR PALMARES",0,0,0,2349]
["FRENTE AMPLIO",0,0,0,276]
["INTEGRACIÓN NACIONAL",1027,0,0,0]
["LIBERACIÓN NACIONAL",2000,4610,3495,3116]
["MOVIMIENTO LIBERTARIO",425,0,1103,348]
["NUEVA GENERACIÓN",0,0,0,633]
["RENOVACIÓN COSTARRICENSE",1102,0,0,294]
["REPUBLICANO SOCIAL CRISTIANO",0,0,0,303]
["UNIDAD SOCIAL CRISTIANA",2512,0,1064,1819]
["UNIÓN NACIONAL",0,191,0,0]
["UNIÓN PALMAREÑA",0,2035,2170,0]
["VOTOS NULOS",249,108,145,216]
["VOTOS EN BLANCO",59,50,49,80]
[]
["Fuente: Cómputo de Votos Elecciones Municipales  2002, 2006, 2010 y 2016."]

{"sheet":"C39","index":45,"n_rows":27,"n_cols":5,"rows_kept":27,"cut":false,"hidden":false,"merged":[[2,0,2,4],[3,0,3,4]]}
[]
[]
["CUADRO 39 CANTÓN POÁS : JUNTAS, ELECTORADO, VOTOS POR PARTIDO, NULOS Y BLANCOS"]
["PARA ALCALDÍAS, ELECCIONES MUNICIPALES 2002 - 2016"]
[]
["JUNTAS, ELECTORADO, VOTOS POR PARTIDO, NULOS Y BLANCOS",2002,2006,2010,2016]
[]
["JUNTAS",42,27,30,36]
["ELECTORADO",14185,16227,18233,20803]
["VOTOS RECIBIDOS",5678,4866,3953,9018]
["VOTOS VÁLIDOS ",5519,4762,3864,8805]
["ACCIÓN CIUDADANA",144,1625,0,1299]
["COALICIÓN CAMBIO 2000",822,0,0,0]
["FRENTE AMPLIO",0,0,0,554]
["LIBERACIÓN NACIONAL",2007,2428,2230,2177]
["MOVIMIENTO LIBERTARIO",390,404,0,0]
["NUEVA GENERACIÓN",0,0,0,122]
["RENOVACIÓN COSTARRICENSE",324,0,0,809]
["REPUBLICANO SOCIAL CRISTIANO",0,0,0,1407]
["RESTAURACIÓN NACIONAL",0,0,0,319]
["UNIDAD SOCIAL CRISTIANA",1832,0,0,2118]
["UNIÓN PARA EL CAMBIO",0,40,0,0]
["UNIÓN POASEÑA",0,265,1634,0]
["VOTOS NULOS",121,77,70,176]
["VOTOS EN BLANCO",38,27,19,37]
[]
["Fuente: Cómputo de Votos Elecciones Municipales  2002, 2006, 2010 y 2016."]

{"sheet":"C40","index":46,"n_rows":25,"n_cols":5,"rows_kept":25,"cut":false,"hidden":false,"merged":[[2,0,2,4],[3,0,3,4]]}
[]
[]
["CUADRO 40 CANTÓN OROTINA : JUNTAS, ELECTORADO, VOTOS POR PARTIDO, NULOS Y BLANCOS"]
["PARA ALCALDÍAS, ELECCIONES MUNICIPALES 2002 - 2016"]
[]
["JUNTAS, ELECTORADO, VOTOS POR PARTIDO, NULOS Y BLANCOS",2002,2006,2010,2016]
[]
["JUNTAS",30,22,24,28]
["ELECTORADO",9758,11256,12953,14762]
["VOTOS RECIBIDOS",2572,3175,4806,6464]
["VOTOS VÁLIDOS ",2507,3133,4726,6356]
["ACCIÓN CIUDADANA",693,1005,359,0]
["ALIANZA PATRIÓTICA",0,0,285,0]
["COALICIÓN CAMBIO 2000",306,0,0,0]
["LIBERACIÓN NACIONAL",109,2128,2080,3550]
["MOVIMIENTO LIBERTARIO",0,0,118,0]
["NUEVA GENERACIÓN",0,0,0,67]
["RENOVACIÓN COSTARRICENSE",0,0,0,60]
["REPUBLICANO SOCIAL CRISTIANO",0,0,0,53]
["RESTAURACIÓN NACIONAL",0,0,0,204]
["UNIDAD SOCIAL CRISTIANA",1399,0,1884,2422]
["VOTOS NULOS",44,26,60,82]
["VOTOS EN BLANCO",21,16,20,26]
[]
["Fuente: Cómputo de Votos Elecciones Municipales  2002, 2006, 2010 y 2016."]

{"sheet":"C41","index":47,"n_rows":25,"n_cols":5,"rows_kept":25,"cut":false,"hidden":false,"merged":[[2,0,2,4],[3,0,3,4]]}
[]
[]
["CUADRO 41 CANTÓN SAN CARLOS : JUNTAS, ELECTORADO, VOTOS POR PARTIDO, NULOS Y BLANCOS"]
["PARA ALCALDÍAS, ELECCIONES MUNICIPALES 2002 - 2016"]
[]
["JUNTAS, ELECTORADO, VOTOS POR PARTIDO, NULOS Y BLANCOS",2002,2006,2010,2016]
[]
["JUNTAS",213,161,178,200]
["ELECTORADO",66422,76904,88519,102906]
["VOTOS RECIBIDOS",18628,21970,31891,42818]
["VOTOS VÁLIDOS ",18158,21515,31353,41812]
["ACCIÓN CIUDADANA",2307,3955,0,10928]
["ALIANZA SANCARLEÑA",0,0,0,702]
["COALICIÓN UNIDOS POR SAN CARLOS",0,0,13097,0]
["FRENTE AMPLIO",0,0,0,492]
["LIBERACIÓN NACIONAL",8058,15967,17117,18320]
["MOVIMIENTO LIBERTARIO",0,763,1139,0]
["NUEVA GENERACIÓN",0,0,0,2342]
["RENOVACIÓN COSTARRICENSE",0,0,0,1092]
["REPUBLICANO SOCIAL CRISTIANO",0,0,0,2820]
["UNIDAD SOCIAL CRISTIANA",7793,830,0,5116]
["VOTOS NULOS",298,359,445,805]
["VOTOS EN BLANCO",172,96,93,201]
[]
["Fuente: Cómputo de Votos Elecciones Municipales  2002, 2006, 2010 y 2016."]

{"sheet":"C42","index":48,"n_rows":21,"n_cols":5,"rows_kept":21,"cut":false,"hidden":false,"merged":[[2,0,2,4],[3,0,3,4]]}
[]
[]
["CUADRO 42 CANTÓN ZARCERO : JUNTAS, ELECTORADO, VOTOS POR PARTIDO, NULOS Y BLANCOS"]
["PARA ALCALDÍAS, ELECCIONES MUNICIPALES 2002 - 2016"]
[]
["JUNTAS, ELECTORADO, VOTOS POR PARTIDO, NULOS Y BLANCOS",2002,2006,2010,2016]
[]
["JUNTAS",22,20,20,21]
["ELECTORADO",6479,7158,7973,8802]
["VOTOS RECIBIDOS",2452,2828,4583,4776]
["VOTOS VÁLIDOS ",2418,2789,4527,4694]
["ACCIÓN CIUDADANA",154,651,0,0]
["COALICIÓN PARTIDO ALIANZA ZARCEREÑA",0,0,570,0]
["LIBERACIÓN NACIONAL",966,2138,1945,2559]
["MOVIMIENTO LIBERTARIO",0,0,0,44]
["REPUBLICANO SOCIAL CRISTIANO",0,0,0,335]
["UNIDAD SOCIAL CRISTIANA",1298,0,2012,1756]
["VOTOS NULOS",25,19,41,60]
["VOTOS EN BLANCO",9,20,15,22]
[]
["Fuente: Cómputo de Votos Elecciones Municipales  2002, 2006, 2010 y 2016."]

{"sheet":"C43","index":49,"n_rows":21,"n_cols":5,"rows_kept":21,"cut":false,"hidden":false,"merged":[[2,0,2,4],[3,0,3,4]]}
[]
[]
["CUADRO 43 CANTÓN VALVERDE VEGA : JUNTAS, ELECTORADO, VOTOS POR PARTIDO, NULOS Y BLANCOS"]
["PARA ALCALDÍAS, ELECCIONES MUNICIPALES 2002 - 2016"]
[]
["JUNTAS, ELECTORADO, VOTOS POR PARTIDO, NULOS Y BLANCOS",2002,2006,2010,2016]
[]
["JUNTAS",29,21,23,27]
["ELECTORADO",10108,11497,12819,14208]
["VOTOS RECIBIDOS",4117,5425,5907,6770]
["VOTOS VÁLIDOS ",4010,5334,5829,6662]
["ACCIÓN CIUDADANA",465,458,0,386]
["INTEGRACIÓN NACIONAL",744,0,442,0]
["LIBERACIÓN NACIONAL",735,1459,613,1717]
["MOVIMIENTO LIBERTARIO",683,1550,2875,0]
["NUEVA GENERACIÓN",0,0,0,1856]
["UNIDAD SOCIAL CRISTIANA",1383,1867,1899,2703]
["VOTOS NULOS",73,55,64,87]
["VOTOS EN BLANCO",34,36,14,21]
[]
["Fuente: Cómputo de Votos Elecciones Municipales  2002, 2006, 2010 y 2016."]

{"sheet":"C44","index":50,"n_rows":22,"n_cols":5,"rows_kept":22,"cut":false,"hidden":false,"merged":[[2,0,2,4],[3,0,3,4]]}
[]
[]
["CUADRO 44 CANTÓN UPALA : JUNTAS, ELECTORADO, VOTOS POR PARTIDO, NULOS Y BLANCOS"]
["PARA ALCALDÍAS, ELECCIONES MUNICIPALES 2002 - 2016"]
[]
["JUNTAS, ELECTORADO, VOTOS POR PARTIDO, NULOS Y BLANCOS",2002,2006,2010,2016]
[]
["JUNTAS",60,51,53,60]
["ELECTORADO",16602,18914,21797,26574]
["VOTOS RECIBIDOS",6784,5518,7770,11071]
["VOTOS VÁLIDOS ",6559,5362,7551,10810]
["ACCIÓN CIUDADANA",0,680,3481,2435]
["FRENTE AMPLIO",0,0,0,228]
["LIBERACIÓN NACIONAL",3438,4136,3675,5184]
["MOVIMIENTO LIBERTARIO",52,103,395,98]
["RENOVACIÓN COSTARRICENSE",0,219,0,0]
["REPUBLICANO SOCIAL CRISTIANO",0,0,0,2865]
["UNIDAD SOCIAL CRISTIANA",3069,224,0,0]
["VOTOS NULOS",150,113,159,172]
["VOTOS EN BLANCO",75,43,60,89]
[]
["Fuente: Cómputo de Votos Elecciones Municipales  2002, 2006, 2010 y 2016."]

{"sheet":"C45","index":51,"n_rows":25,"n_cols":5,"rows_kept":25,"cut":false,"hidden":false,"merged":[[2,0,2,4],[3,0,3,4]]}
[]
[]
["CUADRO 45 CANTÓN LOS CHILES : JUNTAS, ELECTORADO, VOTOS POR PARTIDO, NULOS Y BLANCOS"]
["PARA ALCALDÍAS, ELECCIONES MUNICIPALES 2002 - 2016"]
[]
["JUNTAS, ELECTORADO, VOTOS POR PARTIDO, NULOS Y BLANCOS",2002,2006,2010,2016]
[]
["JUNTAS",27,23,26,28]
["ELECTORADO",7199,8112,9243,11212]
["VOTOS RECIBIDOS",2425,3629,4244,4860]
["VOTOS VÁLIDOS ",2372,3532,4142,4729]
["ACCIÓN CIUDADANA",0,800,1693,762]
["DE LOS TRABAJADORES",0,0,0,256]
["FRENTE AMPLIO",0,0,0,828]
["LIBERACIÓN NACIONAL",1303,1353,1477,1715]
["MOVIMIENTO LIBERTARIO",0,852,0,103]
["RENOVACIÓN COSTARRICENSE",0,20,451,232]
["REPUBLICANO SOCIAL CRISTIANO",0,0,0,608]
["UNIDAD SOCIAL CRISTIANA",1069,300,521,225]
["UNIÓN NACIONAL",0,106,0,0]
["UNIÓN PARA EL CAMBIO",0,101,0,0]
["VOTOS NULOS",28,76,83,97]
["VOTOS EN BLANCO",25,21,19,34]
[]
["Fuente: Cómputo de Votos Elecciones Municipales  2002, 2006, 2010 y 2016."]

{"sheet":"C46","index":52,"n_rows":23,"n_cols":5,"rows_kept":23,"cut":false,"hidden":false,"merged":[[2,0,2,4],[3,0,3,4]]}
[]
[]
["CUADRO 46 CANTÓN GUATUSO : JUNTAS, ELECTORADO, VOTOS POR PARTIDO, NULOS Y BLANCOS"]
["PARA ALCALDÍAS, ELECCIONES MUNICIPALES 2002 - 2016"]
[]
["JUNTAS, ELECTORADO, VOTOS POR PARTIDO, NULOS Y BLANCOS",2002,2006,2010,2016]
[]
["JUNTAS",24,19,21,23]
["ELECTORADO",6812,7637,8950,10396]
["VOTOS RECIBIDOS",2724,3005,3817,4769]
["VOTOS VÁLIDOS ",2620,2904,3723,4609]
["ACCIÓN CIUDADANA",0,1129,1862,0]
["COALICIÓN UNIDOS POR GUATUSO",0,0,0,458]
["FRENTE AMPLIO",0,0,95,0]
["LIBERACIÓN NACIONAL",1039,1185,926,1325]
["MOVIMIENTO LIBERTARIO",298,0,661,461]
["NUEVA GENERACIÓN",0,0,0,607]
["REPUBLICANO SOCIAL CRISTIANO",0,0,0,957]
["UNIDAD SOCIAL CRISTIANA",1283,590,179,801]
["VOTOS NULOS",77,76,75,114]
["VOTOS EN BLANCO",27,25,19,46]
[]
["Fuente: Cómputo de Votos Elecciones Municipales  2002, 2006, 2010 y 2016."]

{"sheet":"C47","index":53,"n_rows":30,"n_cols":5,"rows_kept":30,"cut":false,"hidden":false,"merged":[[2,0,2,4],[3,0,3,4]]}
[]
[]
["CUADRO 47 CANTÓN CARTAGO : JUNTAS, ELECTORADO, VOTOS POR PARTIDO, NULOS Y BLANCOS"]
["PARA ALCALDÍAS, ELECCIONES MUNICIPALES 2002 - 2016"]
[]
["JUNTAS, ELECTORADO, VOTOS POR PARTIDO, NULOS Y BLANCOS",2002,2006,2010,2016]
[]
["JUNTAS",234,158,168,183]
["ELECTORADO",86921,97160,106013,117991]
["VOTOS RECIBIDOS",13241,20978,24575,42281]
["VOTOS VÁLIDOS ",12755,20533,24106,41233]
["ACCESIBILIDAD SIN EXCLUSIÓN",0,0,0,2083]
["ACCIÓN CIUDADANA",1660,1479,0,2887]
["ALIANZA DEMÓCRATA CRISTIANA",0,0,0,6463]
["AUTÉNTICO TURRIALBEÑO CARTAGINÉS",0,39,0,0]
["COALICIÓN CARTAGO UNIDO",0,0,11353,0]
["FRENTE AMPLIO",0,0,0,2112]
["FUERZA DEMOCRÁTICA",56,0,0,0]
["LIBERACIÓN NACIONAL",4034,10689,12753,15870]
["MOVIMIENTO LIBERTARIO",200,3117,0,1090]
["NUEVA GENERACIÓN",0,0,0,476]
["RENOVACIÓN CARTAGO",0,0,0,2944]
["REPUBLICANO SOCIAL CRISTIANO",0,0,0,825]
["UNIDAD SOCIAL CRISTIANA",6805,2009,0,5940]
["UNIÓN NACIONAL",0,305,0,0]
["VERDE",0,2895,0,543]
["VOTOS NULOS",357,314,356,781]
["VOTOS EN BLANCO",129,131,113,267]
[]
["Fuente: Cómputo de Votos Elecciones Municipales  2002, 2006, 2010 y 2016."]

{"sheet":"C48","index":54,"n_rows":29,"n_cols":5,"rows_kept":29,"cut":false,"hidden":false,"merged":[[2,0,2,4],[3,0,3,4]]}
[]
[]
["CUADRO 48 CANTÓN PARAÍSO : JUNTAS, ELECTORADO, VOTOS POR PARTIDO, NULOS Y BLANCOS"]
["PARA ALCALDÍAS, ELECCIONES MUNICIPALES 2002 - 2016"]
[]
["JUNTAS, ELECTORADO, VOTOS POR PARTIDO, NULOS Y BLANCOS",2002,2006,2010,2016]
[]
["JUNTAS",88,61,68,74]
["ELECTORADO",31254,35636,39836,44765]
["VOTOS RECIBIDOS",8079,8239,14188,19127]
["VOTOS VÁLIDOS ",7794,7958,13807,18383]
["ACCESIBILIDAD SIN EXCLUSIÓN",0,0,0,5431]
["ACCIÓN CIUDADANA",376,1954,0,563]
["ALIANZA DEMÓCRATA CRISTIANA",0,0,0,1008]
["AUTÉNTICO PARAÍSEÑO",3696,0,0,0]
["AUTÉNTICO TURRIALBEÑO CARTAGINÉS",0,124,0,0]
["FRENTE AMPLIO",0,0,418,436]
["INTEGRACIÓN NACIONAL",154,0,0,0]
["LIBERACIÓN NACIONAL",2432,1317,2694,3128]
["MOVIMIENTO LIBERTARIO",0,3476,2893,522]
["NUEVA GENERACIÓN",0,0,0,1825]
["RENOVACIÓN COSTARRICENSE",0,0,0,241]
["UNIDAD SOCIAL CRISTIANA",1136,1087,5327,1721]
["UNIÓN AGRÍCOLA CARTAGINÉS",0,0,1863,0]
["VERDE",0,0,612,3508]
["VOTOS NULOS",222,223,326,576]
["VOTOS EN BLANCO",63,58,55,168]
[]
["Fuente: Cómputo de Votos Elecciones Municipales  2002, 2006, 2010 y 2016."]

{"sheet":"C49","index":55,"n_rows":33,"n_cols":5,"rows_kept":33,"cut":false,"hidden":false,"merged":[[2,0,2,4],[3,0,3,4]]}
[]
[]
["CUADRO 49 CANTÓN LA UNIÓN : JUNTAS, ELECTORADO, VOTOS POR PARTIDO, NULOS Y BLANCOS"]
["PARA ALCALDÍAS, ELECCIONES MUNICIPALES 2002 - 2016"]
[]
["JUNTAS, ELECTORADO, VOTOS POR PARTIDO, NULOS Y BLANCOS",2002,2006,2010,2016]
[]
["JUNTAS",123,87,95,106]
["ELECTORADO",46031,52450,59152,67581]
["VOTOS RECIBIDOS",8264,10869,12877,19294]
["VOTOS VÁLIDOS ",7928,10586,12679,18873]
["ACCESIBILIDAD SIN EXCLUSIÓN",0,0,0,212]
["ACCIÓN CIUDADANA",876,793,1994,924]
["ALIANZA DEMÓCRATA CRISTIANA",0,0,0,1817]
["ALIANZA SOCIAL POR LA UNIÓN",0,0,0,3107]
["AUTÉNTICO PILARICO",0,454,0,0]
["FRENTE AMPLIO",0,0,0,1087]
["FUERZA DEMOCRÁTICA",319,0,0,0]
["INDEPENDIENTE OBRERO",2502,0,0,0]
["INTEGRACIÓN PROVINCIAL TRES",0,37,0,0]
["LIBERACIÓN NACIONAL",1665,3490,6575,4652]
["MOVIMIENTO LIBERTARIO",534,936,802,954]
["NUEVA GENERACIÓN",0,0,0,360]
["REPUBLICANO SOCIAL CRISTIANO",0,0,0,591]
["RESCATE CANTONAL LA UNIÓN",0,0,0,2797]
["UNIDAD SOCIAL CRISTIANA",2032,3218,3308,1637]
["UNIÓN NACIONAL",0,1294,0,0]
["UNIÓN PARA EL CAMBIO",0,364,0,0]
["VERDE",0,0,0,735]
["VOTOS NULOS",273,226,160,333]
["VOTOS EN BLANCO",63,57,38,88]
[]
["Fuente: Cómputo de Votos Elecciones Municipales  2002, 2006, 2010 y 2016."]

{"sheet":"C50","index":56,"n_rows":25,"n_cols":5,"rows_kept":25,"cut":false,"hidden":false,"merged":[[2,0,2,4],[3,0,3,4]]}
[]
[]
["CUADRO 50 CANTÓN JIMÉNEZ : JUNTAS, ELECTORADO, VOTOS POR PARTIDO, NULOS Y BLANCOS"]
["PARA ALCALDÍAS, ELECCIONES MUNICIPALES 2002 - 2016"]
[]
["JUNTAS, ELECTORADO, VOTOS POR PARTIDO, NULOS Y BLANCOS",2002,2006,2010,2016]
[]
["JUNTAS",29,20,20,22]
["ELECTORADO",8749,9688,10600,11681]
["VOTOS RECIBIDOS",3910,3591,5573,6529]
["VOTOS VÁLIDOS ",3763,3466,5440,6236]
["ACCESIBILIDAD SIN EXCLUSIÓN",0,0,0,146]
["ACCIÓN CIUDADANA",452,313,0,1435]
["ALIANZA DEMÓCRATA CRISTIANA",0,0,0,170]
["AUTÉNTICO TURRIALBEÑO CARTAGINÉS",0,10,0,0]
["FRENTE AMPLIO",0,0,0,336]
["LIBERACIÓN NACIONAL",2667,1964,2393,3080]
["MOVIMIENTO LIBERTARIO",0,0,630,0]
["UNIDAD SOCIAL CRISTIANA",644,0,2417,1069]
["UNIÓN PARA EL CAMBIO",0,1138,0,0]
["VERDE",0,41,0,0]
["VOTOS NULOS",124,90,105,100]
["VOTOS EN BLANCO",23,35,28,193]
[]
["Fuente: Cómputo de Votos Elecciones Municipales  2002, 2006, 2010 y 2016."]

{"sheet":"C51","index":57,"n_rows":26,"n_cols":5,"rows_kept":26,"cut":false,"hidden":false,"merged":[[2,0,2,4],[3,0,3,4]]}
[]
[]
["CUADRO 51 CANTÓN TURRIALBA : JUNTAS, ELECTORADO, VOTOS POR PARTIDO, NULOS Y BLANCOS"]
["PARA ALCALDÍAS, ELECCIONES MUNICIPALES 2002 - 2016"]
[]
["JUNTAS, ELECTORADO, VOTOS POR PARTIDO, NULOS Y BLANCOS",2002,2006,2010,2016]
[]
["JUNTAS",144,109,115,122]
["ELECTORADO",44026,48087,51904,55945]
["VOTOS RECIBIDOS",10777,11760,16121,20395]
["VOTOS VÁLIDOS ",10459,11323,15778,19776]
["ACCIÓN CIUDADANA",1901,0,3895,6234]
["ALIANZA DEMÓCRATA CRISTIANA",0,0,0,659]
["AUTÉNTICO TURRIALBEÑO CARTAGINÉS",0,372,0,0]
["FRENTE AMPLIO",0,0,0,1848]
["FUERZA DEMOCRÁTICA",328,0,0,0]
["LIBERACIÓN NACIONAL",2210,6758,6915,4363]
["MOVIMIENTO LIBERTARIO",63,0,2170,0]
["NUEVA GENERACIÓN",0,0,0,873]
["REPUBLICANO SOCIAL CRISTIANO",0,0,0,1512]
["UNIDAD SOCIAL CRISTIANA",5957,3906,2798,4287]
["VERDE",0,287,0,0]
["VOTOS NULOS",209,359,285,458]
["VOTOS EN BLANCO",109,78,58,161]
[]
["Fuente: Cómputo de Votos Elecciones Municipales  2002, 2006, 2010 y 2016."]

{"sheet":"C52","index":58,"n_rows":26,"n_cols":5,"rows_kept":26,"cut":false,"hidden":false,"merged":[[2,0,2,4],[3,0,3,4]]}
[]
[]
["CUADRO 52 CANTÓN ALVARADO : JUNTAS, ELECTORADO, VOTOS POR PARTIDO, NULOS Y BLANCOS"]
["PARA ALCALDÍAS, ELECCIONES MUNICIPALES 2002 - 2016"]
[]
["JUNTAS, ELECTORADO, VOTOS POR PARTIDO, NULOS Y BLANCOS",2002,2006,2010,2016]
[]
["JUNTAS",20,17,17,19]
["ELECTORADO",6770,7679,8697,9985]
["VOTOS RECIBIDOS",2622,1948,3611,4830]
["VOTOS VÁLIDOS ",2524,1781,3433,4654]
["ACCIÓN CIUDADANA",654,608,0,909]
["ALIANZA DEMÓCRATA CRISTIANA",0,0,0,136]
["AUTÉNTICO TURRIALBEÑO CARTAGINÉS",0,17,0,0]
["FUERZA DEMOCRÁTICA",382,0,0,0]
["LIBERACIÓN NACIONAL",942,1114,1798,1707]
["NUEVA GENERACIÓN",0,0,0,726]
["REPUBLICANO SOCIAL CRISTIANO",0,0,0,308]
["RESTAURACIÓN NACIONAL",0,0,0,96]
["UNIDAD SOCIAL CRISTIANA",546,0,0,772]
["UNIÓN AGRÍCOLA CARTAGINÉS",0,0,1635,0]
["VERDE",0,42,0,0]
["VOTOS NULOS",46,56,70,128]
["VOTOS EN BLANCO",52,111,108,48]
[]
["Fuente: Cómputo de Votos Elecciones Municipales  2002, 2006, 2010 y 2016."]

{"sheet":"C53","index":59,"n_rows":27,"n_cols":5,"rows_kept":27,"cut":false,"hidden":false,"merged":[[2,0,2,4],[3,0,3,4]]}
[]
[]
["CUADRO 53 CANTÓN OREAMUNO : JUNTAS, ELECTORADO, VOTOS POR PARTIDO, NULOS Y BLANCOS"]
["PARA ALCALDÍAS, ELECCIONES MUNICIPALES 2002 - 2016"]
[]
["JUNTAS, ELECTORADO, VOTOS POR PARTIDO, NULOS Y BLANCOS",2002,2006,2010,2016]
[]
["JUNTAS",65,44,51,56]
["ELECTORADO",23696,27124,30700,34952]
["VOTOS RECIBIDOS",4662,7650,8151,12108]
["VOTOS VÁLIDOS ",4507,7475,7911,11717]
["ACCESIBILIDAD SIN EXCLUSIÓN",0,0,971,0]
["ACCIÓN CIUDADANA",1019,2257,660,2649]
["ALIANZA DEMÓCRATA CRISTIANA",0,0,0,1399]
["FRENTE AMPLIO",0,0,0,860]
["FUERZA DEMOCRÁTICA",544,0,0,0]
["LIBERACIÓN NACIONAL",1155,1889,2880,3255]
["MOVIMIENTO LIBERTARIO",0,251,97,176]
["REPUBLICANO SOCIAL CRISTIANO",0,0,0,547]
["TRANSPARENCIA CARTAGINÉS",0,0,976,0]
["UNIDAD SOCIAL CRISTIANA",1257,828,2327,2831]
["UNIÓN AGRÍCOLA CARTAGINÉS",532,0,0,0]
["UNIÓN NACIONAL",0,2250,0,0]
["VOTOS NULOS",114,126,200,298]
["VOTOS EN BLANCO",41,49,40,93]
[]
["Fuente: Cómputo de Votos Elecciones Municipales  2002, 2006, 2010 y 2016."]

{"sheet":"C54","index":60,"n_rows":25,"n_cols":5,"rows_kept":25,"cut":false,"hidden":false,"merged":[[2,0,2,4],[3,0,3,4]]}
[]
[]
["CUADRO 54 CANTÓN EL GUARCO : JUNTAS, ELECTORADO, VOTOS POR PARTIDO, NULOS Y BLANCOS"]
["PARA ALCALDÍAS, ELECCIONES MUNICIPALES 2002 - 2016"]
[]
["JUNTAS, ELECTORADO, VOTOS POR PARTIDO, NULOS Y BLANCOS",2002,2006,2010,2016]
[]
["JUNTAS",58,41,47,47]
["ELECTORADO",20725,23864,27571,31290]
["VOTOS RECIBIDOS",5061,5763,7138,12462]
["VOTOS VÁLIDOS ",4868,5616,7001,12129]
["ACCIÓN CIUDADANA",939,1169,3482,760]
["ALIANZA DEMÓCRATA CRISTIANA",0,0,0,737]
["AUTÉNTICO TURRIALBEÑO CARTAGINÉS",0,30,0,0]
["FRENTE AMPLIO",0,0,0,712]
["FUERZA DEMOCRÁTICA",44,0,0,0]
["LIBERACIÓN NACIONAL",1838,3064,3519,6479]
["MOVIMIENTO LIBERTARIO",33,0,0,125]
["REPUBLICANO SOCIAL CRISTIANO",0,0,0,71]
["UNIDAD SOCIAL CRISTIANA",2014,1353,0,760]
["UNIÓN GUARQUEÑO",0,0,0,2485]
["VOTOS NULOS",135,110,111,252]
["VOTOS EN BLANCO",58,37,26,81]
[]
["Fuente: Cómputo de Votos Elecciones Municipales  2002, 2006, 2010 y 2016."]

{"sheet":"C55","index":61,"n_rows":25,"n_cols":5,"rows_kept":25,"cut":false,"hidden":false,"merged":[[2,0,2,4],[3,0,3,4]]}
[]
[]
["CUADRO 55 CANTÓN HEREDIA : JUNTAS, ELECTORADO, VOTOS POR PARTIDO, NULOS Y BLANCOS"]
["PARA ALCALDÍAS, ELECCIONES MUNICIPALES 2002 - 2016"]
[]
["JUNTAS, ELECTORADO, VOTOS POR PARTIDO, NULOS Y BLANCOS",2002,2006,2010,2016]
[]
["JUNTAS",181,117,129,137]
["ELECTORADO",70016,78213,85356,93490]
["VOTOS RECIBIDOS",7770,11639,15404,25685]
["VOTOS VÁLIDOS ",7522,11474,15227,25238]
["ACCIÓN CIUDADANA",1505,1534,1766,1903]
["FRENTE AMPLIO",0,0,0,1425]
["HUMANISTA DE HEREDIA",81,0,0,0]
["LIBERACIÓN NACIONAL",2875,6177,9990,13735]
["MOVIMIENTO LIBERTARIO",115,258,3013,583]
["NUEVA GENERACIÓN",0,0,0,1231]
["RENOVACIÓN COSTARRICENSE",0,277,0,361]
["RESTAURACIÓN HEREDIANA",0,0,458,0]
["UNIDAD SOCIAL CRISTIANA",2946,2840,0,6000]
["UNIÓN PARA EL CAMBIO",0,388,0,0]
["VOTOS NULOS",177,129,137,331]
["VOTOS EN BLANCO",71,36,40,116]
[]
["Fuente: Cómputo de Votos Elecciones Municipales  2002, 2006, 2010 y 2016."]

{"sheet":"C56","index":62,"n_rows":27,"n_cols":5,"rows_kept":27,"cut":false,"hidden":false,"merged":[[2,0,2,4],[3,0,3,4]]}
[]
[]
["CUADRO 56 CANTÓN BARVA : JUNTAS, ELECTORADO, VOTOS POR PARTIDO, NULOS Y BLANCOS"]
["PARA ALCALDÍAS, ELECCIONES MUNICIPALES 2002 - 2016"]
[]
["JUNTAS, ELECTORADO, VOTOS POR PARTIDO, NULOS Y BLANCOS",2002,2006,2010,2016]
[]
["JUNTAS",57,41,46,50]
["ELECTORADO",20564,24081,27552,31461]
["VOTOS RECIBIDOS",5624,7997,10017,11248]
["VOTOS VÁLIDOS ",5437,7857,9785,11026]
["ACCIÓN CIUDADANA",1055,1466,850,2276]
["BARVA UNIDA",0,0,0,628]
["COALICIÓN BARVA UNIDA",0,0,811,0]
["COALICIÓN CAMBIO 2000",58,0,0,0]
["FRENTE AMPLIO",0,0,0,3002]
["LIBERACIÓN NACIONAL",1006,2434,4030,2469]
["MOVIMIENTO LIBERTARIO",979,776,725,170]
["RENOVACIÓN COSTARRICENSE",868,827,658,132]
["REPUBLICANO SOCIAL CRISTIANO",0,0,0,1055]
["RESTAURACIÓN HEREDIANA",0,0,167,0]
["UNIDAD SOCIAL CRISTIANA",1471,1861,2544,1294]
["UNIÓN PARA EL CAMBIO",0,493,0,0]
["VOTOS NULOS",135,104,194,171]
["VOTOS EN BLANCO",52,36,38,51]
[]
["Fuente: Cómputo de Votos Elecciones Municipales  2002, 2006, 2010 y 2016."]

{"sheet":"C57","index":63,"n_rows":23,"n_cols":5,"rows_kept":23,"cut":false,"hidden":false,"merged":[[2,0,2,4],[3,0,3,4]]}
[]
[]
["CUADRO 57 CANTÓN SANTO DOMINGO : JUNTAS, ELECTORADO, VOTOS POR PARTIDO, NULOS Y BLANCOS"]
["PARA ALCALDÍAS, ELECCIONES MUNICIPALES 2002 - 2016"]
[]
["JUNTAS, ELECTORADO, VOTOS POR PARTIDO, NULOS Y BLANCOS",2002,2006,2010,2016]
[]
["JUNTAS",65,44,49,52]
["ELECTORADO",24574,27560,30722,33424]
["VOTOS RECIBIDOS",4925,6413,9803,12069]
["VOTOS VÁLIDOS ",4792,6316,9657,11819]
["ACCIÓN CIUDADANA",1225,1229,680,1520]
["LIBERACIÓN NACIONAL",1940,2413,3438,3572]
["MOVIMIENTO AVANCE SANTO DOMINGO",0,0,2164,3127]
["MOVIMIENTO LIBERTARIO",0,0,3375,518]
["NUEVA GENERACIÓN",0,0,0,431]
["REPUBLICANO SOCIAL CRISTIANO",0,0,0,217]
["UNIDAD SOCIAL CRISTIANA",1627,1366,0,2434]
["UNIÓN PARA EL CAMBIO",0,1308,0,0]
["VOTOS NULOS",92,77,117,209]
["VOTOS EN BLANCO",41,20,29,41]
[]
["Fuente: Cómputo de Votos Elecciones Municipales  2002, 2006, 2010 y 2016."]

{"sheet":"C58","index":64,"n_rows":25,"n_cols":5,"rows_kept":25,"cut":false,"hidden":false,"merged":[[2,0,2,4],[3,0,3,4]]}
[]
[]
["CUADRO 58 CANTÓN SANTA BÁRBARA : JUNTAS, ELECTORADO, VOTOS POR PARTIDO, NULOS Y BLANCOS"]
["PARA ALCALDÍAS, ELECCIONES MUNICIPALES 2002 - 2016"]
[]
["JUNTAS, ELECTORADO, VOTOS POR PARTIDO, NULOS Y BLANCOS",2002,2006,2010,2016]
[]
["JUNTAS",46,33,38,42]
["ELECTORADO",17165,19882,22788,25704]
["VOTOS RECIBIDOS",3049,4934,6056,9501]
["VOTOS VÁLIDOS ",2942,4830,5926,9300]
["ACCESIBILIDAD SIN EXCLUSIÓN",0,0,1624,0]
["ACCIÓN CIUDADANA",499,716,0,802]
["COALICIÓN CAMBIO 2000",92,0,0,0]
["FRENTE AMPLIO",0,0,0,1085]
["INTEGRACIÓN BARBAREÑA",0,1878,873,0]
["LIBERACIÓN NACIONAL",1081,2236,2082,3157]
["MOVIMIENTO LIBERTARIO",0,0,919,132]
["NUEVA GENERACIÓN",0,0,0,1350]
["REPUBLICANO SOCIAL CRISTIANO",0,0,0,1625]
["UNIDAD SOCIAL CRISTIANA",1270,0,428,1149]
["VOTOS NULOS",57,71,104,161]
["VOTOS EN BLANCO",50,33,26,40]
[]
["Fuente: Cómputo de Votos Elecciones Municipales  2002, 2006, 2010 y 2016."]

{"sheet":"C59","index":65,"n_rows":23,"n_cols":5,"rows_kept":23,"cut":false,"hidden":false,"merged":[[2,0,2,4],[3,0,3,4]]}
[]
[]
["CUADRO 59 CANTÓN SAN RAFAEL : JUNTAS, ELECTORADO, VOTOS POR PARTIDO, NULOS Y BLANCOS"]
["PARA ALCALDÍAS, ELECCIONES MUNICIPALES 2002 - 2016"]
[]
["JUNTAS, ELECTORADO, VOTOS POR PARTIDO, NULOS Y BLANCOS",2002,2006,2010,2016]
[]
["JUNTAS",62,43,46,51]
["ELECTORADO",23171,26447,29538,33543]
["VOTOS RECIBIDOS",3881,4593,5897,10895]
["VOTOS VÁLIDOS ",3715,4496,5772,10648]
["ACCIÓN CIUDADANA",607,2741,1122,1898]
["FRENTE AMPLIO",0,0,0,1249]
["INTEGRACIÓN NACIONAL",714,0,0,0]
["LIBERACIÓN NACIONAL",1243,1431,2826,4498]
["MOVIMIENTO LIBERTARIO",231,245,1824,588]
["REPUBLICANO SOCIAL CRISTIANO",0,0,0,790]
["UNIDAD SOCIAL CRISTIANA",920,0,0,1625]
["VANGUARDIA POPULAR",0,79,0,0]
["VOTOS NULOS",136,71,107,196]
["VOTOS EN BLANCO",30,26,18,51]
[]
["Fuente: Cómputo de Votos Elecciones Municipales  2002, 2006, 2010 y 2016."]

{"sheet":"C60","index":66,"n_rows":22,"n_cols":5,"rows_kept":22,"cut":false,"hidden":false,"merged":[[2,0,2,4],[3,0,3,4]]}
[]
[]
["CUADRO 60 CANTÓN SAN ISIDRO : JUNTAS, ELECTORADO, VOTOS POR PARTIDO, NULOS Y BLANCOS"]
["PARA ALCALDÍAS, ELECCIONES MUNICIPALES 2002 - 2016"]
[]
["JUNTAS, ELECTORADO, VOTOS POR PARTIDO, NULOS Y BLANCOS",2002,2006,2010,2016]
[]
["JUNTAS",28,18,22,26]
["ELECTORADO",9952,11428,13112,15301]
["VOTOS RECIBIDOS",1995,2863,4596,6797]
["VOTOS VÁLIDOS ",1959,2815,4515,6682]
["ACCIÓN CIUDADANA",248,651,1419,509]
["FRENTE AMPLIO",0,0,0,289]
["LIBERACIÓN NACIONAL",996,2164,1765,2179]
["MOVIMIENTO LIBERTARIO",0,0,178,56]
["REPUBLICANO SOCIAL CRISTIANO",0,0,0,49]
["UNIDAD SOCIAL CRISTIANA",619,0,1153,3600]
["UNIÓN GENERAL",96,0,0,0]
["VOTOS NULOS",26,33,64,83]
["VOTOS EN BLANCO",10,15,17,32]
[]
["Fuente: Cómputo de Votos Elecciones Municipales  2002, 2006, 2010 y 2016."]

{"sheet":"C61","index":67,"n_rows":23,"n_cols":5,"rows_kept":23,"cut":false,"hidden":false,"merged":[[2,0,2,4],[3,0,3,4]]}
[]
[]
["CUADRO 61 CANTÓN BELÉN : JUNTAS, ELECTORADO, VOTOS POR PARTIDO, NULOS Y BLANCOS"]
["PARA ALCALDÍAS, ELECCIONES MUNICIPALES 2002 - 2016"]
[]
["JUNTAS, ELECTORADO, VOTOS POR PARTIDO, NULOS Y BLANCOS",2002,2006,2010,2016]
[]
["JUNTAS",33,22,24,27]
["ELECTORADO",12586,14339,15982,18013]
["VOTOS RECIBIDOS",3632,4626,5869,8060]
["VOTOS VÁLIDOS ",3584,4550,5780,7961]
["ACCIÓN CIUDADANA",408,412,0,0]
["COALICIÓN ALIANZA POR BELEN",0,0,0,1242]
["INDEPENDIENTE BELEMITA",546,721,740,0]
["INTEGRACIÓN NACIONAL",0,261,0,0]
["LIBERACIÓN NACIONAL",1679,1423,1814,1824]
["MOVIMIENTO LIBERTARIO",0,0,0,71]
["REPUBLICANO SOCIAL CRISTIANO",0,0,0,848]
["UNIDAD SOCIAL CRISTIANA",951,1733,3226,3976]
["VOTOS NULOS",33,54,72,73]
["VOTOS EN BLANCO",15,22,17,26]
[]
["Fuente: Cómputo de Votos Elecciones Municipales  2002, 2006, 2010 y 2016."]

{"sheet":"C62","index":68,"n_rows":22,"n_cols":5,"rows_kept":22,"cut":false,"hidden":false,"merged":[[2,0,2,4],[3,0,3,4]]}
[]
[]
["CUADRO 62 CANTÓN FLORES : JUNTAS, ELECTORADO, VOTOS POR PARTIDO, NULOS Y BLANCOS"]
["PARA ALCALDÍAS, ELECCIONES MUNICIPALES 2002 - 2016"]
[]
["JUNTAS, ELECTORADO, VOTOS POR PARTIDO, NULOS Y BLANCOS",2002,2006,2010,2016]
[]
["JUNTAS",27,18,22,24]
["ELECTORADO",10267,11803,13761,15949]
["VOTOS RECIBIDOS",2752,3645,5012,7091]
["VOTOS VÁLIDOS ",2703,3585,4917,6969]
["ACCIÓN CIUDADANA",937,1297,0,1355]
["FRENTE AMPLIO",0,0,0,441]
["LIBERACIÓN NACIONAL",640,1089,1748,1968]
["REPUBLICANO SOCIAL CRISTIANO",0,0,0,131]
["RESTAURACIÓN NACIONAL",0,0,0,116]
["TODO POR FLORES",0,0,1732,1349]
["UNIDAD SOCIAL CRISTIANA",1126,1199,1437,1609]
["VOTOS NULOS",38,44,82,103]
["VOTOS EN BLANCO",11,16,13,19]
[]
["Fuente: Cómputo de Votos Elecciones Municipales  2002, 2006, 2010 y 2016."]

{"sheet":"C63","index":69,"n_rows":25,"n_cols":5,"rows_kept":25,"cut":false,"hidden":false,"merged":[[2,0,2,4],[3,0,3,4]]}
[]
[]
["CUADRO 63 CANTÓN SAN PABLO : JUNTAS, ELECTORADO, VOTOS POR PARTIDO, NULOS Y BLANCOS"]
["PARA ALCALDÍAS, ELECCIONES MUNICIPALES 2002 - 2016"]
[]
["JUNTAS, ELECTORADO, VOTOS POR PARTIDO, NULOS Y BLANCOS",2002,2006,2010,2016]
[]
["JUNTAS",36,25,28,32]
["ELECTORADO",13445,15619,18343,21083]
["VOTOS RECIBIDOS",3032,4280,5694,7786]
["VOTOS VÁLIDOS ",2969,4224,5620,7658]
["ACCIÓN CIUDADANA",458,355,582,454]
["FRENTE AMPLIO",0,0,0,441]
["INDEPENDIENTE OBRERO",77,0,0,0]
["LIBERACIÓN NACIONAL",786,1456,1631,2275]
["MOVIMIENTO LIBERTARIO",0,0,374,77]
["NUEVA GENERACIÓN",0,0,0,330]
["REPUBLICANO SOCIAL CRISTIANO",0,0,0,47]
["RESTAURACIÓN NACIONAL",0,0,0,523]
["UNIDAD SOCIAL CRISTIANA",1648,1983,3033,3511]
["UNIÓN NACIONAL",0,430,0,0]
["VOTOS NULOS",40,38,67,106]
["VOTOS EN BLANCO",23,18,7,22]
[]
["Fuente: Cómputo de Votos Elecciones Municipales  2002, 2006, 2010 y 2016."]

{"sheet":"C64","index":70,"n_rows":25,"n_cols":5,"rows_kept":25,"cut":false,"hidden":false,"merged":[[2,0,2,4],[3,0,3,4]]}
[]
[]
["CUADRO 64 CANTÓN SARAPIQUÍ : JUNTAS, ELECTORADO, VOTOS POR PARTIDO, NULOS Y BLANCOS"]
["PARA ALCALDÍAS, ELECCIONES MUNICIPALES 2002 - 2016"]
[]
["JUNTAS, ELECTORADO, VOTOS POR PARTIDO, NULOS Y BLANCOS",2002,2006,2010,2016]
[]
["JUNTAS",70,59,64,70]
["ELECTORADO",19243,22627,26617,31706]
["VOTOS RECIBIDOS",5911,7291,6911,12078]
["VOTOS VÁLIDOS ",5683,7098,6750,11714]
["ACCIÓN CIUDADANA",350,1899,0,1390]
["AUTÉNTICO SARAPIQUEÑO",799,0,0,0]
["FRENTE AMPLIO",0,0,0,825]
["INDEPENDIENTE OBRERO",68,0,0,0]
["LIBERACIÓN NACIONAL",1825,4230,5543,5027]
["MOVIMIENTO LIBERTARIO",221,0,1207,149]
["NUEVA GENERACIÓN",0,0,0,776]
["RENOVACIÓN COSTARRICENSE",819,0,0,162]
["REPUBLICANO SOCIAL CRISTIANO",0,0,0,528]
["UNIDAD SOCIAL CRISTIANA",1601,969,0,2857]
["VOTOS NULOS",175,152,110,275]
["VOTOS EN BLANCO",53,41,51,89]
[]
["Fuente: Cómputo de Votos Elecciones Municipales  2002, 2006, 2010 y 2016."]

{"sheet":"C65","index":71,"n_rows":29,"n_cols":5,"rows_kept":29,"cut":false,"hidden":false,"merged":[[2,0,2,4],[3,0,3,4]]}
[]
[]
["CUADRO 65 CANTÓN LIBERIA : JUNTAS, ELECTORADO, VOTOS POR PARTIDO, NULOS Y BLANCOS"]
["PARA ALCALDÍAS, ELECCIONES MUNICIPALES 2002 - 2016"]
[]
["JUNTAS, ELECTORADO, VOTOS POR PARTIDO, NULOS Y BLANCOS",2002,2006,2010,2016]
[]
["JUNTAS",76,60,66,69]
["ELECTORADO",27618,32303,37797,43058]
["VOTOS RECIBIDOS",4909,7863,10888,13427]
["VOTOS VÁLIDOS ",4724,7665,10694,13113]
["ACCESIBILIDAD SIN EXCLUSIÓN",0,0,4279,3046]
["ACCIÓN CIUDADANA",300,443,1522,2104]
["COALICIÓN UNIÓN LIBERIANA",0,0,1234,0]
["FRENTE AMPLIO",0,0,0,380]
["FUERZA DEMOCRÁTICA",63,0,0,0]
["GUANACASTE INDEPENDIENTE",0,1586,0,0]
["LIBERACIÓN NACIONAL",1968,3351,3659,3193]
["MOVIMIENTO LIBERTARIO",29,0,0,804]
["NUEVA GENERACIÓN",0,0,0,1177]
["RENOVACIÓN COSTARRICENSE",546,0,0,0]
["REPUBLICANO SOCIAL CRISTIANO",0,0,0,188]
["UNIDAD SOCIAL CRISTIANA",1818,867,0,2221]
["UNIÓN NACIONAL",0,18,0,0]
["UNIÓN PARA EL CAMBIO",0,1400,0,0]
["VOTOS NULOS",137,143,156,240]
["VOTOS EN BLANCO",48,55,38,74]
[]
["Fuente: Cómputo de Votos Elecciones Municipales  2002, 2006, 2010 y 2016."]

{"sheet":"C66","index":72,"n_rows":28,"n_cols":5,"rows_kept":28,"cut":false,"hidden":false,"merged":[[2,0,2,4],[3,0,3,4]]}
[]
[]
["CUADRO 66 CANTÓN NICOYA: JUNTAS, ELECTORADO, VOTOS POR PARTIDO, NULOS Y BLANCOS"]
["PARA ALCALDÍAS, ELECCIONES MUNICIPALES 2002 - 2016"]
[]
["JUNTAS, ELECTORADO, VOTOS POR PARTIDO, NULOS Y BLANCOS",2002,2006,2010,2016]
[]
["JUNTAS",108,87,92,98]
["ELECTORADO",28553,31707,35669,39567]
["VOTOS RECIBIDOS",11549,11271,12936,17925]
["VOTOS VÁLIDOS ",11131,10889,12600,17417]
["ACCESIBILIDAD SIN EXCLUSIÓN",0,0,689,0]
["ACCIÓN CIUDADANA",864,788,1166,1547]
["ALIANZA DEMOCRÁTICA NACIONALISTA",0,1132,0,0]
["COALICIÓN CAMBIO 2000",29,0,0,0]
["FRENTE AMPLIO",0,0,0,2120]
["FUERZA DEMOCRÁTICA",1109,1462,0,0]
["GUANACASTE INDEPENDIENTE",0,1094,0,0]
["LIBERACIÓN NACIONAL",4400,3586,5609,7686]
["MOVIMIENTO LIBERTARIO",23,743,2442,0]
["RENOVACIÓN COSTARRICENSE",393,0,0,0]
["REPUBLICANO SOCIAL CRISTIANO",0,0,0,552]
["UNIDAD SOCIAL CRISTIANA",4313,1989,2694,5512]
["UNIÓN NACIONAL",0,95,0,0]
["VOTOS NULOS",292,262,288,365]
["VOTOS EN BLANCO",126,120,48,143]
[]
["Fuente: Cómputo de Votos Elecciones Municipales  2002, 2006, 2010 y 2016."]

{"sheet":"C67","index":73,"n_rows":31,"n_cols":5,"rows_kept":31,"cut":false,"hidden":false,"merged":[[2,0,2,4],[3,0,3,4]]}
[]
[]
["CUADRO 67 CANTÓN SANTA CRUZ : JUNTAS, ELECTORADO, VOTOS POR PARTIDO, NULOS Y BLANCOS"]
["PARA ALCALDÍAS, ELECCIONES MUNICIPALES 2002 - 2016"]
[]
["JUNTAS, ELECTORADO, VOTOS POR PARTIDO, NULOS Y BLANCOS",2002,2006,2010,2016]
[]
["JUNTAS",88,69,72,80]
["ELECTORADO",26197,29852,34567,39432]
["VOTOS RECIBIDOS",11404,11760,13200,18098]
["VOTOS VÁLIDOS ",10830,11384,12773,17496]
["ACCESIBILIDAD SIN EXCLUSIÓN",0,0,386,0]
["ACCIÓN CIUDADANA",277,707,1985,2465]
["COALICIÓN CAMBIO 2000",89,0,0,0]
["FRENTE AMPLIO",0,0,0,931]
["GUANACASTE INDEPENDIENTE",0,1963,0,0]
["INTEGRACIÓN NACIONAL",0,0,1921,4073]
["LIBERACIÓN NACIONAL",1456,4264,4114,4229]
["MOVIMIENTO LIBERTARIO",310,819,1261,334]
["NUEVA GENERACIÓN",0,0,0,613]
["RENACER SANTACRUCEÑO",666,0,0,0]
["RENOVACIÓN COSTARRICENSE",2578,0,0,0]
["REPUBLICANO SOCIAL CRISTIANO",0,0,0,947]
["RESCATE NACIONAL",0,458,0,0]
["UNIDAD SOCIAL CRISTIANA",5454,0,3106,3904]
["UNIÓN NACIONAL",0,2129,0,0]
["UNIÓN PARA EL CAMBIO",0,1044,0,0]
["VOTOS NULOS",444,251,320,443]
["VOTOS EN BLANCO",130,125,107,159]
[]
["Fuente: Cómputo de Votos Elecciones Municipales  2002, 2006, 2010 y 2016."]

{"sheet":"C68","index":74,"n_rows":22,"n_cols":5,"rows_kept":22,"cut":false,"hidden":false,"merged":[[2,0,2,4],[3,0,3,4]]}
[]
[]
["CUADRO 68 CANTÓN BAGACES : JUNTAS, ELECTORADO, VOTOS POR PARTIDO, NULOS Y BLANCOS"]
["PARA ALCALDÍAS, ELECCIONES MUNICIPALES 2002 - 2016"]
[]
["JUNTAS, ELECTORADO, VOTOS POR PARTIDO, NULOS Y BLANCOS",2002,2006,2010,2016]
[]
["JUNTAS",33,25,27,29]
["ELECTORADO",8839,9869,11245,13067]
["VOTOS RECIBIDOS",2209,3286,4011,4961]
["VOTOS VÁLIDOS ",2106,3179,3920,4795]
["ACCIÓN CIUDADANA",980,368,1081,1364]
["LIBERACIÓN NACIONAL",0,2080,2630,1466]
["MOVIMIENTO LIBERTARIO",0,0,209,250]
["NUEVA GENERACIÓN",0,0,0,780]
["RENOVACIÓN COSTARRICENSE",0,190,0,0]
["REPUBLICANO SOCIAL CRISTIANO",0,0,0,446]
["UNIDAD SOCIAL CRISTIANA",1126,541,0,489]
["VOTOS NULOS",53,81,76,146]
["VOTOS EN BLANCO",50,26,15,20]
[]
["Fuente: Cómputo de Votos Elecciones Municipales  2002, 2006, 2010 y 2016."]

{"sheet":"C69","index":75,"n_rows":22,"n_cols":5,"rows_kept":22,"cut":false,"hidden":false,"merged":[[2,0,2,4],[3,0,3,4]]}
[]
[]
["CUADRO 69 CANTÓN CARRILLO : JUNTAS, ELECTORADO, VOTOS POR PARTIDO, NULOS Y BLANCOS"]
["PARA ALCALDÍAS, ELECCIONES MUNICIPALES 2002 - 2016"]
[]
["JUNTAS, ELECTORADO, VOTOS POR PARTIDO, NULOS Y BLANCOS",2002,2006,2010,2016]
[]
["JUNTAS",47,37,42,43]
["ELECTORADO",15155,17448,20050,23197]
["VOTOS RECIBIDOS",6209,6111,8832,10672]
["VOTOS VÁLIDOS ",6012,5960,8631,10435]
["ACCIÓN CIUDADANA",1181,427,106,1356]
["GUANACASTE INDEPENDIENTE",0,850,0,0]
["LIBERACIÓN NACIONAL",1424,2940,3496,4335]
["MOVIMIENTO LIBERTARIO",0,0,1713,283]
["REPUBLICANO SOCIAL CRISTIANO",0,0,0,2654]
["UNIDAD SOCIAL CRISTIANA",3407,1019,3316,1807]
["UNIÓN NACIONAL",0,724,0,0]
["VOTOS NULOS",140,112,160,186]
["VOTOS EN BLANCO",57,39,41,51]
[]
["Fuente: Cómputo de Votos Elecciones Municipales  2002, 2006, 2010 y 2016."]

{"sheet":"C70","index":76,"n_rows":22,"n_cols":5,"rows_kept":22,"cut":false,"hidden":false,"merged":[[2,0,2,4],[3,0,3,4]]}
[]
[]
["CUADRO 70 CANTÓN CAÑAS : JUNTAS, ELECTORADO, VOTOS POR PARTIDO, NULOS Y BLANCOS"]
["PARA ALCALDÍAS, ELECCIONES MUNICIPALES 2002 - 2016"]
[]
["JUNTAS, ELECTORADO, VOTOS POR PARTIDO, NULOS Y BLANCOS",2002,2006,2010,2016]
[]
["JUNTAS",43,32,34,37]
["ELECTORADO",14421,15854,17344,19065]
["VOTOS RECIBIDOS",5066,3885,6226,7072]
["VOTOS VÁLIDOS ",4903,3802,6132,6960]
["ACCIÓN CIUDADANA",858,918,3631,405]
["COALICIÓN CAMBIO 2000",86,0,0,0]
["FRENTE AMPLIO",0,0,0,70]
["LIBERACIÓN NACIONAL",2252,2313,2501,4848]
["MOVIMIENTO LIBERTARIO",320,0,0,0]
["RESCATE NACIONAL",92,0,0,0]
["UNIDAD SOCIAL CRISTIANA",1295,571,0,1637]
["VOTOS NULOS",119,59,69,84]
["VOTOS EN BLANCO",44,24,25,28]
[]
["Fuente: Cómputo de Votos Elecciones Municipales  2002, 2006, 2010 y 2016."]

{"sheet":"C71","index":77,"n_rows":25,"n_cols":5,"rows_kept":25,"cut":false,"hidden":false,"merged":[[2,0,2,4],[3,0,3,4]]}
[]
[]
["CUADRO 71 CANTÓN ABANGARES : JUNTAS, ELECTORADO, VOTOS POR PARTIDO, NULOS Y BLANCOS"]
["PARA ALCALDÍAS, ELECCIONES MUNICIPALES 2002 - 2016"]
[]
["JUNTAS, ELECTORADO, VOTOS POR PARTIDO, NULOS Y BLANCOS",2002,2006,2010,2016]
[]
["JUNTAS",36,31,34,35]
["ELECTORADO",9559,10612,11763,13237]
["VOTOS RECIBIDOS",3424,4827,6482,7341]
["VOTOS VÁLIDOS ",3315,4655,6308,7117]
["ACCIÓN CIUDADANA",1025,603,2136,604]
["FRENTE AMPLIO",0,0,0,612]
["GUANACASTE INDEPENDIENTE",0,1392,0,0]
["INTEGRACIÓN NACIONAL",0,0,0,1720]
["LIBERACIÓN NACIONAL",964,1652,3082,2371]
["MOVIMIENTO LIBERTARIO",0,70,0,200]
["RENOVACIÓN COSTARRICENSE",0,242,0,0]
["REPUBLICANO SOCIAL CRISTIANO",0,0,0,354]
["ÚNICO ABANGAREÑO",0,0,1090,0]
["UNIDAD SOCIAL CRISTIANA",1326,696,0,1256]
["VOTOS NULOS",80,134,137,170]
["VOTOS EN BLANCO",29,38,37,54]
[]
["Fuente: Cómputo de Votos Elecciones Municipales  2002, 2006, 2010 y 2016."]

{"sheet":"C72","index":78,"n_rows":21,"n_cols":5,"rows_kept":21,"cut":false,"hidden":false,"merged":[[2,0,2,4],[3,0,3,4]]}
[]
[]
["CUADRO 72 CANTÓN TILARÁN : JUNTAS, ELECTORADO, VOTOS POR PARTIDO, NULOS Y BLANCOS"]
["PARA ALCALDÍAS, ELECCIONES MUNICIPALES 2002 - 2016"]
[]
["JUNTAS, ELECTORADO, VOTOS POR PARTIDO, NULOS Y BLANCOS",2002,2006,2010,2016]
[]
["JUNTAS",44,33,35,36]
["ELECTORADO",11181,12161,13309,14622]
["VOTOS RECIBIDOS",4734,4749,5994,8298]
["VOTOS VÁLIDOS ",4600,4637,5861,8115]
["ACCESIBILIDAD SIN EXCLUSIÓN",0,0,359,0]
["ACCIÓN CIUDADANA",261,1171,799,1074]
["LIBERACIÓN NACIONAL",747,1152,2237,2452]
["MOVIMIENTO LIBERTARIO",1014,176,0,2045]
["REPUBLICANO SOCIAL CRISTIANO",0,0,0,491]
["UNIDAD SOCIAL CRISTIANA",2578,2138,2466,2053]
["VOTOS NULOS",104,83,114,153]
["VOTOS EN BLANCO",30,29,19,30]
[]
["Fuente: Cómputo de Votos Elecciones Municipales  2002, 2006, 2010 y 2016."]

{"sheet":"C73","index":79,"n_rows":25,"n_cols":5,"rows_kept":25,"cut":false,"hidden":false,"merged":[[2,0,2,4],[3,0,3,4]]}
[]
[]
["CUADRO 73 CANTÓN NANDAYURE : JUNTAS, ELECTORADO, VOTOS POR PARTIDO, NULOS Y BLANCOS"]
["PARA ALCALDÍAS, ELECCIONES MUNICIPALES 2002 - 2016"]
[]
["JUNTAS, ELECTORADO, VOTOS POR PARTIDO, NULOS Y BLANCOS",2002,2006,2010,2016]
[]
["JUNTAS",29,26,28,29]
["ELECTORADO",5997,6656,7489,8278]
["VOTOS RECIBIDOS",3249,4061,4882,4782]
["VOTOS VÁLIDOS ",3154,3952,4770,4610]
["ACCIÓN CIUDADANA",0,124,0,608]
["FRENTE AMPLIO",0,0,0,1080]
["GUANACASTE INDEPENDIENTE",1259,40,0,0]
["INTEGRACIÓN NACIONAL",0,0,1471,0]
["LIBERACIÓN NACIONAL",934,1655,1033,1316]
["MOVIMIENTO LIBERTARIO",0,0,2266,0]
["NUEVA GENERACIÓN",0,0,0,1316]
["REPUBLICANO SOCIAL CRISTIANO",0,0,0,155]
["UNIDAD SOCIAL CRISTIANA",961,0,0,135]
["UNIÓN NACIONAL",0,2133,0,0]
["VOTOS NULOS",63,86,91,137]
["VOTOS EN BLANCO",32,23,21,35]
[]
["Fuente: Cómputo de Votos Elecciones Municipales  2002, 2006, 2010 y 2016."]

{"sheet":"C74","index":80,"n_rows":19,"n_cols":5,"rows_kept":19,"cut":false,"hidden":false,"merged":[[2,0,2,4],[3,0,3,4]]}
[]
[]
["CUADRO 74 CANTÓN LA CRUZ : JUNTAS, ELECTORADO, VOTOS POR PARTIDO, NULOS Y BLANCOS"]
["PARA ALCALDÍAS, ELECCIONES MUNICIPALES 2002 - 2016"]
[]
["JUNTAS, ELECTORADO, VOTOS POR PARTIDO, NULOS Y BLANCOS",2002,2006,2010,2016]
[]
["JUNTAS",27,22,24,28]
["ELECTORADO",6778,7812,9262,11808]
["VOTOS RECIBIDOS",3020,3486,4442,5592]
["VOTOS VÁLIDOS ",2943,3417,4382,5477]
["ACCIÓN CIUDADANA",95,233,0,363]
["LIBERACIÓN NACIONAL",958,2098,2393,2485]
["RENOVACIÓN COSTARRICENSE",476,0,0,0]
["UNIDAD SOCIAL CRISTIANA",1414,1086,1989,2629]
["VOTOS NULOS",53,48,44,77]
["VOTOS EN BLANCO",24,21,16,38]
[]
["Fuente: Cómputo de Votos Elecciones Municipales  2002, 2006, 2010 y 2016."]

{"sheet":"C75","index":81,"n_rows":20,"n_cols":5,"rows_kept":20,"cut":false,"hidden":false,"merged":[[2,0,2,4],[3,0,3,4]]}
[]
[]
["CUADRO 75 CANTÓN HOJANCHA : JUNTAS, ELECTORADO, VOTOS POR PARTIDO, NULOS Y BLANCOS"]
["PARA ALCALDÍAS, ELECCIONES MUNICIPALES 2002 - 2016"]
[]
["JUNTAS, ELECTORADO, VOTOS POR PARTIDO, NULOS Y BLANCOS",2002,2006,2010,2016]
[]
["JUNTAS",20,17,17,18]
["ELECTORADO",4297,4514,5119,5771]
["VOTOS RECIBIDOS",2892,1131,3620,3669]
["VOTOS VÁLIDOS ",2819,1099,3555,3568]
["ACCIÓN CIUDADANA",927,0,2014,2210]
["LIBERACIÓN NACIONAL",1366,1099,1408,929]
["MOVIMIENTO LIBERTARIO",0,0,133,0]
["REPUBLICANO SOCIAL CRISTIANO",0,0,0,80]
["UNIDAD SOCIAL CRISTIANA",526,0,0,349]
["VOTOS NULOS",47,8,52,74]
["VOTOS EN BLANCO",26,24,13,27]
[]
["Fuente: Cómputo de Votos Elecciones Municipales  2002, 2006, 2010 y 2016."]

{"sheet":"C76","index":82,"n_rows":28,"n_cols":5,"rows_kept":28,"cut":false,"hidden":false,"merged":[[2,0,2,4],[3,0,3,4]]}
[]
[]
["CUADRO 76 CANTÓN PUNTARENAS : JUNTAS, ELECTORADO, VOTOS POR PARTIDO, NULOS Y BLANCOS"]
["PARA ALCALDÍAS, ELECCIONES MUNICIPALES 2002 - 2016"]
[]
["JUNTAS, ELECTORADO, VOTOS POR PARTIDO, NULOS Y BLANCOS",2002,2006,2010,2016]
[]
["JUNTAS",205,156,163,174]
["ELECTORADO",63872,70884,77238,84342]
["VOTOS RECIBIDOS",13366,18546,22289,29822]
["VOTOS VÁLIDOS ",12759,17875,21564,28681]
["ACCESIBILIDAD SIN EXCLUSIÓN",0,0,1202,428]
["ACCIÓN CIUDADANA",1014,1339,0,3600]
["DE LOS TRABAJADORES",0,0,0,153]
["FRENTE AMPLIO",0,0,0,1476]
["INTEGRACIÓN NACIONAL",0,0,0,1300]
["LIBERACIÓN NACIONAL",3892,6854,9752,7533]
["MOVIMIENTO LIBERTARIO",1041,820,3743,757]
["NUEVA GENERACIÓN",0,0,0,741]
["RENOVACIÓN COSTARRICENSE",0,3102,749,0]
["REPUBLICANO SOCIAL CRISTIANO",0,0,0,2828]
["UNIDAD SOCIAL CRISTIANA",6812,4912,6118,8039]
["UNIÓN NACIONAL",0,848,0,0]
["VIVA PUNTARENAS",0,0,0,1826]
["VOTOS NULOS",325,447,489,730]
["VOTOS EN BLANCO",282,224,236,411]
[]
["Fuente: Cómputo de Votos Elecciones Municipales  2002, 2006, 2010 y 2016."]

{"sheet":"C77","index":83,"n_rows":26,"n_cols":5,"rows_kept":26,"cut":false,"hidden":false,"merged":[[2,0,2,4],[3,0,3,4]]}
[]
[]
["CUADRO 77 CANTÓN ESPARZA : JUNTAS, ELECTORADO, VOTOS POR PARTIDO, NULOS Y BLANCOS"]
["PARA ALCALDÍAS, ELECCIONES MUNICIPALES 2002 - 2016"]
[]
["JUNTAS, ELECTORADO, VOTOS POR PARTIDO, NULOS Y BLANCOS",2002,2006,2010,2016]
[]
["JUNTAS",48,34,38,43]
["ELECTORADO",14331,16418,18825,21685]
["VOTOS RECIBIDOS",5711,6430,8135,10499]
["VOTOS VÁLIDOS ",5585,6300,8049,10285]
["ACCESIBILIDAD SIN EXCLUSIÓN",0,0,0,28]
["ACCIÓN CIUDADANA",608,570,544,643]
["FRENTE AMPLIO",0,0,0,292]
["FUERZA DEMOCRÁTICA",796,0,0,0]
["INTEGRACIÓN NACIONAL",0,419,0,0]
["LIBERACIÓN NACIONAL",1522,2329,3566,3725]
["MOVIMIENTO LIBERTARIO",151,158,306,262]
["PATRIA PRIMERO",0,297,0,0]
["RENOVACIÓN COSTARRICENSE",0,0,609,0]
["REPUBLICANO SOCIAL CRISTIANO",0,0,0,2834]
["UNIDAD SOCIAL CRISTIANA",2508,2527,3024,2501]
["VOTOS NULOS",87,88,70,176]
["VOTOS EN BLANCO",39,42,16,38]
[]
["Fuente: Cómputo de Votos Elecciones Municipales  2002, 2006, 2010 y 2016."]

{"sheet":"C78","index":84,"n_rows":23,"n_cols":5,"rows_kept":23,"cut":false,"hidden":false,"merged":[[2,0,2,4],[3,0,3,4]]}
[]
[]
["CUADRO 78 CANTÓN BUENOS AIRES : JUNTAS, ELECTORADO, VOTOS POR PARTIDO, NULOS Y BLANCOS"]
["PARA ALCALDÍAS, ELECCIONES MUNICIPALES 2002 - 2016"]
[]
["JUNTAS, ELECTORADO, VOTOS POR PARTIDO, NULOS Y BLANCOS",2002,2006,2010,2016]
[]
["JUNTAS",76,65,70,75]
["ELECTORADO",20133,23632,27392,30931]
["VOTOS RECIBIDOS",6193,6232,8632,10584]
["VOTOS VÁLIDOS ",6013,6018,8395,10172]
["ACCIÓN CIUDADANA",935,1033,0,2370]
["FRENTE AMPLIO",0,0,0,206]
["LIBERACIÓN NACIONAL",2197,2879,4384,3072]
["MOVIMIENTO LIBERTARIO",0,557,2126,144]
["NUEVA GENERACIÓN",0,0,0,472]
["REPUBLICANO SOCIAL CRISTIANO",0,0,0,573]
["UNIDAD SOCIAL CRISTIANA",2881,1549,1885,2900]
["VIVA PUNTARENAS",0,0,0,435]
["VOTOS NULOS",109,159,190,282]
["VOTOS EN BLANCO",71,55,47,130]
[]
["Fuente: Cómputo de Votos Elecciones Municipales  2002, 2006, 2010 y 2016."]

{"sheet":"C79","index":85,"n_rows":21,"n_cols":5,"rows_kept":21,"cut":false,"hidden":false,"merged":[[2,0,2,4],[3,0,3,4]]}
[]
[]
["CUADRO 79 CANTÓN MONTES DE ORO : JUNTAS, ELECTORADO, VOTOS POR PARTIDO, NULOS Y BLANCOS"]
["PARA ALCALDÍAS, ELECCIONES MUNICIPALES 2002 - 2016"]
[]
["JUNTAS, ELECTORADO, VOTOS POR PARTIDO, NULOS Y BLANCOS",2002,2006,2010,2016]
[]
["JUNTAS",25,20,22,22]
["ELECTORADO",6875,7849,8750,9941]
["VOTOS RECIBIDOS",3432,4480,4243,6495]
["VOTOS VÁLIDOS ",3369,4384,4150,6326]
["ACCIÓN CIUDADANA",822,1472,940,3116]
["AUTÓNOMO OROMONTANO",0,369,835,185]
["FRENTE AMPLIO",0,0,0,124]
["LIBERACIÓN NACIONAL",1377,2152,2375,2330]
["MOVIMIENTO LIBERTARIO",174,47,0,44]
["UNIDAD SOCIAL CRISTIANA",996,344,0,527]
["VOTOS NULOS",44,65,72,140]
["VOTOS EN BLANCO",19,31,21,29]
[]
["Fuente: Cómputo de Votos Elecciones Municipales  2002, 2006, 2010 y 2016."]

{"sheet":"C80","index":86,"n_rows":25,"n_cols":5,"rows_kept":25,"cut":false,"hidden":false,"merged":[[2,0,2,4],[3,0,3,4]]}
[]
[]
["CUADRO 80 CANTÓN OSA : JUNTAS, ELECTORADO, VOTOS POR PARTIDO, NULOS Y BLANCOS"]
["PARA ALCALDÍAS, ELECCIONES MUNICIPALES 2002 - 2016"]
[]
["JUNTAS, ELECTORADO, VOTOS POR PARTIDO, NULOS Y BLANCOS",2002,2006,2010,2016]
[]
["JUNTAS",54,44,47,52]
["ELECTORADO",15320,16577,18664,21229]
["VOTOS RECIBIDOS",4351,4363,7127,9429]
["VOTOS VÁLIDOS ",4063,4175,6887,9131]
["ACCIÓN CIUDADANA",170,320,0,1376]
["ALIANZA PATRIÓTICA",0,0,1172,0]
["FRENTE AMPLIO",0,0,0,231]
["INTEGRACIÓN NACIONAL",0,0,0,906]
["LIBERACIÓN NACIONAL",594,2641,4032,2694]
["MOVIMIENTO LIBERTARIO",1240,1029,723,45]
["ORGANIZACIÓN SOCIAL ACTIVA",0,0,960,0]
["RENOVACIÓN COSTARRICENSE",398,0,0,939]
["UNIDAD SOCIAL CRISTIANA",1661,185,0,1954]
["VIVA PUNTARENAS",0,0,0,986]
["VOTOS NULOS",235,149,191,218]
["VOTOS EN BLANCO",53,39,49,80]
[]
["Fuente: Cómputo de Votos Elecciones Municipales  2002, 2006, 2010 y 2016."]

{"sheet":"C81","index":87,"n_rows":29,"n_cols":5,"rows_kept":29,"cut":false,"hidden":false,"merged":[[2,0,2,4],[3,0,3,4]]}
[]
[]
["CUADRO 81 CANTÓN QUEPOS : JUNTAS, ELECTORADO, VOTOS POR PARTIDO, NULOS Y BLANCOS"]
["PARA ALCALDÍAS, ELECCIONES MUNICIPALES 2002 - 2016"]
[]
["JUNTAS, ELECTORADO, VOTOS POR PARTIDO, NULOS Y BLANCOS",2002,2006,2010,2016]
[]
["JUNTAS",43,34,37,40]
["ELECTORADO",11965,14330,16693,18798]
["VOTOS RECIBIDOS",3566,4691,6833,8172]
["VOTOS VÁLIDOS ",3411,4534,6561,7903]
["ACCESIBILIDAD SIN EXCLUSIÓN",0,0,1291,305]
["ACCIÓN CIUDADANA",0,0,0,241]
["ACCIÓN QUEPEÑA",889,612,278,0]
["ACUERDO DE ALIANZA DE QUEPOS",0,0,0,404]
["COALICIÓN CAMBIO 2000",184,0,0,0]
["INTEGRACIÓN NACIONAL",0,0,789,1073]
["LIBERACIÓN NACIONAL",512,838,2079,1666]
["MOVIMIENTO LIBERTARIO",485,141,516,227]
["NUEVA GENERACIÓN",0,0,0,626]
["ORGANIZACIÓN LABORISTA DE AGUIRRE",0,1485,52,0]
["RENOVACIÓN COSTARRICENSE",0,585,695,1190]
["REPUBLICANO SOCIAL CRISTIANO",0,0,0,228]
["UNIDAD SOCIAL CRISTIANA",1341,873,861,1674]
["VIVA PUNTARENAS",0,0,0,269]
["VOTOS NULOS",127,107,232,191]
["VOTOS EN BLANCO",28,50,40,78]
[]
["Fuente: Cómputo de Votos Elecciones Municipales  2002, 2006, 2010 y 2016."]

{"sheet":"C82","index":88,"n_rows":24,"n_cols":5,"rows_kept":24,"cut":false,"hidden":false,"merged":[[2,0,2,4],[3,0,3,4]]}
[]
[]
["CUADRO 82 CANTÓN GOLFITO : JUNTAS, ELECTORADO, VOTOS POR PARTIDO, NULOS Y BLANCOS"]
["PARA ALCALDÍAS, ELECCIONES MUNICIPALES 2002 - 2016"]
[]
["JUNTAS, ELECTORADO, VOTOS POR PARTIDO, NULOS Y BLANCOS",2002,2006,2010,2016]
[]
["JUNTAS",70,51,57,61]
["ELECTORADO",20212,22490,25019,28587]
["VOTOS RECIBIDOS",4695,5206,7624,9648]
["VOTOS VÁLIDOS ",4474,4936,7382,9175]
["ACCIÓN CIUDADANA",894,443,2197,1398]
["FRENTE AMPLIO",0,0,0,500]
["LIBERACIÓN NACIONAL",1612,2836,2838,2834]
["MOVIMIENTO LIBERTARIO",290,668,2347,226]
["RENOVACIÓN COSTARRICENSE",0,0,0,258]
["RESTAURACIÓN NACIONAL",0,0,0,634]
["UNIDAD SOCIAL CRISTIANA",1678,833,0,994]
["UNIÓN NACIONAL",0,156,0,0]
["VIVA PUNTARENAS",0,0,0,2331]
["VOTOS NULOS",164,216,199,382]
["VOTOS EN BLANCO",57,54,43,91]
[]
["Fuente: Cómputo de Votos Elecciones Municipales  2002, 2006, 2010 y 2016."]

{"sheet":"C83","index":89,"n_rows":21,"n_cols":5,"rows_kept":21,"cut":false,"hidden":false,"merged":[[2,0,2,4],[3,0,3,4]]}
[]
[]
["CUADRO 83 CANTÓN COTO BRUS : JUNTAS, ELECTORADO, VOTOS POR PARTIDO, NULOS Y BLANCOS"]
["PARA ALCALDÍAS, ELECCIONES MUNICIPALES 2002 - 2016"]
[]
["JUNTAS, ELECTORADO, VOTOS POR PARTIDO, NULOS Y BLANCOS",2002,2006,2010,2016]
[]
["JUNTAS",80,60,64,66]
["ELECTORADO",22964,24647,26188,28684]
["VOTOS RECIBIDOS",6656,6838,8617,10399]
["VOTOS VÁLIDOS ",6443,6609,8339,10134]
["ACCIÓN CIUDADANA",1828,245,1386,1707]
["LIBERACIÓN NACIONAL",1386,2634,2056,2724]
["MOVIMIENTO LIBERTARIO",0,0,272,507]
["RENOVACIÓN COSTARRICENSE",0,71,0,0]
["UNIDAD SOCIAL CRISTIANA",3229,3659,4625,4909]
["VIVA PUNTARENAS",0,0,0,287]
["VOTOS NULOS",165,181,220,190]
["VOTOS EN BLANCO",48,48,58,75]
[]
["Fuente: Cómputo de Votos Elecciones Municipales  2002, 2006, 2010 y 2016."]

{"sheet":"C84","index":90,"n_rows":26,"n_cols":5,"rows_kept":26,"cut":false,"hidden":false,"merged":[[2,0,2,4],[3,0,3,4]]}
[]
[]
["CUADRO 84 CANTÓN PARRITA : JUNTAS, ELECTORADO, VOTOS POR PARTIDO, NULOS Y BLANCOS"]
["PARA ALCALDÍAS, ELECCIONES MUNICIPALES 2002 - 2016"]
[]
["JUNTAS, ELECTORADO, VOTOS POR PARTIDO, NULOS Y BLANCOS",2002,2006,2010,2016]
[]
["JUNTAS",33,30,30,31]
["ELECTORADO",7054,8157,9776,11285]
["VOTOS RECIBIDOS",3182,4012,5653,5382]
["VOTOS VÁLIDOS ",3063,3891,5499,5235]
["ACCIÓN CIUDADANA",291,99,0,386]
["COALICIÓN CAMBIO 2000",264,0,0,0]
["FUERZA DEMOCRÁTICA",24,0,0,0]
["INTEGRACIÓN NACIONAL",0,0,980,0]
["LIBERACIÓN NACIONAL",126,1282,1521,1851]
["MOVIMIENTO LIBERTARIO",1100,371,782,336]
["PARRITA INDEPENDIENTE",0,0,0,1026]
["RENOVACIÓN COSTARRICENSE",0,1155,1099,179]
["REPUBLICANO SOCIAL CRISTIANO",0,0,0,60]
["RESTAURACIÓN PARRITEÑA",0,0,0,422]
["UNIDAD SOCIAL CRISTIANA",1258,984,1117,975]
["VOTOS NULOS",95,87,125,117]
["VOTOS EN BLANCO",24,34,29,30]
[]
["Fuente: Cómputo de Votos Elecciones Municipales  2002, 2006, 2010 y 2016."]

{"sheet":"C85","index":91,"n_rows":25,"n_cols":5,"rows_kept":25,"cut":false,"hidden":false,"merged":[[2,0,2,4],[3,0,3,4]]}
[]
[]
["CUADRO 85 CANTÓN CORREDORES : JUNTAS, ELECTORADO, VOTOS POR PARTIDO, NULOS Y BLANCOS"]
["PARA ALCALDÍAS, ELECCIONES MUNICIPALES 2002 - 2016"]
[]
["JUNTAS, ELECTORADO, VOTOS POR PARTIDO, NULOS Y BLANCOS",2002,2006,2010,2016]
[]
["JUNTAS",68,53,56,64]
["ELECTORADO",21578,24590,27936,32790]
["VOTOS RECIBIDOS",5613,5237,6266,10597]
["VOTOS VÁLIDOS ",5269,5083,6057,10231]
["ACCIÓN CIUDADANA",301,130,0,911]
["ALIANZA PATRIÓTICA",0,0,123,0]
["FRENTE AMPLIO",0,0,0,660]
["INTEGRACIÓN NACIONAL",0,0,835,0]
["LIBERACIÓN NACIONAL",766,2726,2352,3395]
["MOVIMIENTO LIBERTARIO",480,347,221,482]
["NUEVO CORREDORES",279,0,0,0]
["RENOVACIÓN COSTARRICENSE",1181,736,1608,1311]
["REPUBLICANO SOCIAL CRISTIANO",0,0,0,237]
["UNIDAD SOCIAL CRISTIANA",2262,1144,918,3235]
["VOTOS NULOS",264,116,169,263]
["VOTOS EN BLANCO",80,38,40,103]
[]
["Fuente: Cómputo de Votos Elecciones Municipales  2002, 2006, 2010 y 2016."]

{"sheet":"C86","index":92,"n_rows":24,"n_cols":5,"rows_kept":24,"cut":false,"hidden":false,"merged":[[2,0,2,4],[3,0,3,4]]}
[]
[]
["CUADRO 86 CANTÓN GARABITO : JUNTAS, ELECTORADO, VOTOS POR PARTIDO, NULOS Y BLANCOS"]
["PARA ALCALDÍAS, ELECCIONES MUNICIPALES 2002 - 2016"]
[]
["JUNTAS, ELECTORADO, VOTOS POR PARTIDO, NULOS Y BLANCOS",2002,2006,2010,2016]
[]
["JUNTAS",18,15,18,20]
["ELECTORADO",5948,7086,8716,10956]
["VOTOS RECIBIDOS",3098,3097,3406,4966]
["VOTOS VÁLIDOS ",3012,3033,3357,4855]
["ACCIÓN CIUDADANA",0,206,557,257]
["FUERZA DEMOCRÁTICA",10,0,0,0]
["GARABITO ECOLÓGICO",795,0,884,273]
["LIBERACIÓN NACIONAL",360,1771,1916,1903]
["MOVIMIENTO LIBERTARIO",0,0,0,114]
["PUEBLO GARABITO",0,0,0,753]
["RENOVACIÓN COSTARRICENSE",0,0,0,29]
["REPUBLICANO SOCIAL CRISTIANO",0,0,0,393]
["UNIDAD SOCIAL CRISTIANA",1847,1056,0,1133]
["VOTOS NULOS",63,42,38,86]
["VOTOS EN BLANCO",23,22,11,25]
[]
["Fuente: Cómputo de Votos Elecciones Municipales  2002, 2006, 2010 y 2016."]

{"sheet":"C87","index":93,"n_rows":30,"n_cols":5,"rows_kept":30,"cut":false,"hidden":false,"merged":[[2,0,2,4],[3,0,3,4]]}
[]
[]
["CUADRO 87 CANTÓN LIMÓN : JUNTAS, ELECTORADO, VOTOS POR PARTIDO, NULOS Y BLANCOS"]
["PARA ALCALDÍAS, ELECCIONES MUNICIPALES 2002 - 2016"]
[]
["JUNTAS, ELECTORADO, VOTOS POR PARTIDO, NULOS Y BLANCOS",2002,2006,2010,2016]
[]
["JUNTAS",151,106,114,120]
["ELECTORADO",52454,58080,61603,66628]
["VOTOS RECIBIDOS",7857,10484,14768,26487]
["VOTOS VÁLIDOS ",7483,10125,14122,25472]
["ACCESIBILIDAD SIN EXCLUSIÓN",0,0,287,0]
["ACCIÓN CIUDADANA",686,956,1211,437]
["AUTÉNTICO LIMONENSE",0,0,0,13612]
["CONCIENCIA LIMONENSE",219,0,0,0]
["FRENTE AMPLIO",0,0,1154,462]
["FUERZA DEMOCRÁTICA",71,0,0,0]
["INTEGRACIÓN NACIONAL",0,101,84,0]
["LIBERACIÓN NACIONAL",2568,3312,4195,1740]
["LIMÓN INDEPENDIENTE",0,0,0,486]
["MOVIMIENTO LIBERTARIO",385,1504,1683,612]
["RECUPERANDO VALORES",0,0,0,326]
["RENOVACIÓN COSTARRICENSE",617,260,1563,1356]
["REPUBLICANO SOCIAL CRISTIANO",0,0,0,1171]
["RESCATE NACIONAL",0,1151,0,0]
["UNIDAD SOCIAL CRISTIANA",2937,2841,3945,5270]
["VOTOS NULOS",268,246,556,772]
["VOTOS EN BLANCO",106,113,90,243]
[]
["Fuente: Cómputo de Votos Elecciones Municipales  2002, 2006, 2010 y 2016."]

{"sheet":"C88","index":94,"n_rows":28,"n_cols":5,"rows_kept":28,"cut":false,"hidden":false,"merged":[[2,0,2,4],[3,0,3,4]]}
[]
[]
["CUADRO 88 CANTÓN POCOCÍ : JUNTAS, ELECTORADO, VOTOS POR PARTIDO, NULOS Y BLANCOS"]
["PARA ALCALDÍAS, ELECCIONES MUNICIPALES 2002 - 2016"]
[]
["JUNTAS, ELECTORADO, VOTOS POR PARTIDO, NULOS Y BLANCOS",2002,2006,2010,2016]
[]
["JUNTAS",156,118,133,150]
["ELECTORADO",55883,65050,75016,87921]
["VOTOS RECIBIDOS",11376,15373,18364,29349]
["VOTOS VÁLIDOS ",10910,14861,17822,28223]
["ACCESIBILIDAD SIN EXCLUSIÓN",0,0,0,558]
["ACCIÓN CIUDADANA",1226,1412,0,1789]
["COALICIÓN CAMBIO 2000",171,0,0,0]
["FRENTE AMPLIO",0,0,852,1832]
["FUERZA DEMOCRÁTICA",0,505,0,0]
["LIBERACIÓN NACIONAL",2631,5740,10212,7078]
["MOVIMIENTO DE TRABAJADORES Y CAMPESINOS",0,0,1208,0]
["MOVIMIENTO LIBERTARIO",0,4380,5550,3630]
["NUEVA GENERACIÓN",0,0,0,410]
["RENOVACIÓN COSTARRICENSE",2515,0,0,6640]
["REPUBLICANO SOCIAL CRISTIANO",0,0,0,2379]
["UNIDAD SOCIAL CRISTIANA",4367,2658,0,3907]
["VANGUARDIA POPULAR",0,166,0,0]
["VOTOS NULOS",340,382,451,913]
["VOTOS EN BLANCO",126,130,91,213]
[]
["Fuente: Cómputo de Votos Elecciones Municipales  2002, 2006, 2010 y 2016."]

{"sheet":"C89","index":95,"n_rows":31,"n_cols":5,"rows_kept":31,"cut":false,"hidden":false,"merged":[[2,0,2,4],[3,0,3,4]]}
[]
[]
["CUADRO 89 CANTÓN SIQUIRRES : JUNTAS, ELECTORADO, VOTOS POR PARTIDO, NULOS Y BLANCOS"]
["PARA ALCALDÍAS, ELECCIONES MUNICIPALES 2002 - 2016"]
[]
["JUNTAS, ELECTORADO, VOTOS POR PARTIDO, NULOS Y BLANCOS",2002,2006,2010,2016]
[]
["JUNTAS",83,63,69,76]
["ELECTORADO",27388,31380,34544,38953]
["VOTOS RECIBIDOS",6663,6854,9420,14868]
["VOTOS VÁLIDOS ",6334,6603,9007,14344]
["ACCESIBILIDAD SIN EXCLUSIÓN",0,0,2651,1084]
["ACCIÓN CANTONAL SIQUIRRES INDEPENDIENTE",1658,1997,773,363]
["ACCIÓN CIUDADANA",0,436,615,690]
["AUTÉNTICO SIQUIRREÑO",0,0,0,2774]
["COALICIÓN CAMBIO 2000",804,0,0,0]
["FRENTE AMPLIO",0,0,877,677]
["FUERZA DEMOCRÁTICA",78,0,0,0]
["LIBERACIÓN NACIONAL",1290,1954,2233,4497]
["MOVIMIENTO LIBERTARIO",43,178,412,383]
["NUEVA GENERACIÓN",0,0,0,483]
["RECUPERANDO VALORES",0,0,0,482]
["RENOVACIÓN COSTARRICENSE",236,0,0,1085]
["REPUBLICANO SOCIAL CRISTIANO",0,0,0,205]
["UNIDAD SOCIAL CRISTIANA",2225,1398,1446,1621]
["UNIÓN NACIONAL",0,210,0,0]
["UNIÓN PARA EL CAMBIO",0,430,0,0]
["VOTOS NULOS",249,197,358,417]
["VOTOS EN BLANCO",80,54,55,107]
[]
["Fuente: Cómputo de Votos Elecciones Municipales  2002, 2006, 2010 y 2016."]

{"sheet":"C90","index":96,"n_rows":24,"n_cols":5,"rows_kept":24,"cut":false,"hidden":false,"merged":[[2,0,2,4],[3,0,3,4]]}
[]
[]
["CUADRO 90 CANTÓN TALAMANCA : JUNTAS, ELECTORADO, VOTOS POR PARTIDO, NULOS Y BLANCOS"]
["PARA ALCALDÍAS, ELECCIONES MUNICIPALES 2002 - 2016"]
[]
["JUNTAS, ELECTORADO, VOTOS POR PARTIDO, NULOS Y BLANCOS",2002,2006,2010,2016]
[]
["JUNTAS",37,30,36,38]
["ELECTORADO",11082,13239,15458,19165]
["VOTOS RECIBIDOS",5298,7108,7214,9197]
["VOTOS VÁLIDOS ",5022,6879,6919,8838]
["ACCIÓN CIUDADANA",162,536,387,138]
["FRENTE AMPLIO",0,0,0,597]
["FUERZA DEMOCRÁTICA",26,0,0,0]
["LIBERACIÓN NACIONAL",812,1959,4185,2292]
["MOVIMIENTO LIBERTARIO",1631,471,151,1834]
["RENOVACIÓN COSTARRICENSE",390,0,0,256]
["REPUBLICANO SOCIAL CRISTIANO",0,0,0,662]
["TALAMANCA UNIDA",0,0,219,0]
["UNIDAD SOCIAL CRISTIANA",2001,3913,1977,3059]
["VOTOS NULOS",195,142,249,249]
["VOTOS EN BLANCO",81,87,46,110]
[]
["Fuente: Cómputo de Votos Elecciones Municipales  2002, 2006, 2010 y 2016."]

{"sheet":"C91","index":97,"n_rows":26,"n_cols":5,"rows_kept":26,"cut":false,"hidden":false,"merged":[[2,0,2,4],[3,0,3,4]]}
[]
[]
["CUADRO 91 CANTÓN MATINA : JUNTAS, ELECTORADO, VOTOS POR PARTIDO, NULOS Y BLANCOS"]
["PARA ALCALDÍAS, ELECCIONES MUNICIPALES 2002 - 2016"]
[]
["JUNTAS, ELECTORADO, VOTOS POR PARTIDO, NULOS Y BLANCOS",2002,2006,2010,2016]
[]
["JUNTAS",48,32,35,39]
["ELECTORADO",15232,16768,18313,20908]
["VOTOS RECIBIDOS",5655,6261,7848,10637]
["VOTOS VÁLIDOS ",5344,5921,7570,10181]
["ACCESIBILIDAD SIN EXCLUSIÓN",0,0,0,91]
["ACCIÓN CIUDADANA",934,77,2503,696]
["FRENTE AMPLIO",0,0,438,88]
["FUERZA DEMOCRÁTICA",666,860,0,0]
["INTEGRACIÓN NACIONAL",0,46,0,0]
["LIBERACIÓN NACIONAL",739,1491,1336,3263]
["MOVIMIENTO LIBERTARIO",171,539,38,196]
["RENOVACIÓN COSTARRICENSE",1430,1134,2155,1293]
["REPUBLICANO SOCIAL CRISTIANO",0,0,0,2205]
["UNIDAD SOCIAL CRISTIANA",1404,1232,1100,2349]
["UNIÓN NACIONAL",0,542,0,0]
["VOTOS NULOS",267,279,234,372]
["VOTOS EN BLANCO",44,61,44,84]
[]
["Fuente: Cómputo de Votos Elecciones Municipales  2002, 2006, 2010 y 2016."]

{"sheet":"C92","index":98,"n_rows":24,"n_cols":5,"rows_kept":24,"cut":false,"hidden":false,"merged":[[2,0,2,4],[3,0,3,4]]}
[]
[]
["CUADRO 92 CANTÓN GUÁCIMO : JUNTAS, ELECTORADO, VOTOS POR PARTIDO, NULOS Y BLANCOS"]
["PARA ALCALDÍAS, ELECCIONES MUNICIPALES 2002 - 2016"]
[]
["JUNTAS, ELECTORADO, VOTOS POR PARTIDO, NULOS Y BLANCOS",2002,2006,2010,2016]
[]
["JUNTAS",52,37,43,49]
["ELECTORADO",17929,20615,23557,27679]
["VOTOS RECIBIDOS",4841,4965,6557,9563]
["VOTOS VÁLIDOS ",4631,4836,6371,9270]
["ACCIÓN CIUDADANA",643,1047,1561,1668]
["COALICIÓN CAMBIO 2000",105,0,0,0]
["FRENTE AMPLIO",0,0,692,665]
["LIBERACIÓN NACIONAL",1765,2739,2846,3496]
["MOVIMIENTO LIBERTARIO",708,1050,0,104]
["RECUPERANDO VALORES",0,0,0,936]
["RENOVACIÓN COSTARRICENSE",0,0,719,405]
["REPUBLICANO SOCIAL CRISTIANO",0,0,0,185]
["UNIDAD SOCIAL CRISTIANA",1410,0,553,1811]
["VOTOS NULOS",139,93,158,234]
["VOTOS EN BLANCO",71,36,28,59]
[]
["Fuente: Cómputo de Votos Elecciones Municipales  2002, 2006, 2010 y 2016."]